{"text_format":"1","workbook":"xlsx","n_sheets":15,"sheets":["Contents","Input","Model Calcs","Non-CO2 RF Calcs","Pathways","Notes","Feedbacks","CCS Costs","CDR Costs","SLR 2100","SLR Cost","Disasters","AF Problem","Validation","Validation (2)"],"not_rendered":{"charts":18,"images":5,"macros":1,"external_links":1,"defined_names":3,"comments":0,"pivot_tables":0},"unopened":[],"bounds":{"document_bytes":16777216,"sheet_cells":100000,"rows_first":2000,"rows_last":500,"rows_between":2000,"halvings":0,"cell_chars":16384,"cell_head_chars":4096},"cells_cut":0,"cells_raw":0,"read":"whole","date_system":"1900"}

{"sheet":"Contents","index":0,"n_rows":0,"n_cols":0,"rows_kept":0,"cut":false,"hidden":false,"merged":[]}

{"sheet":"Input","index":1,"n_rows":61,"n_cols":40,"rows_kept":61,"cut":false,"hidden":false,"merged":[[23,26,24,35],[6,1,6,3],[7,1,7,3],[8,1,8,3],[17,25,17,27],[18,26,21,35],[8,5,8,6],[5,14,5,15],[6,14,6,15],[7,14,7,15],[8,14,8,15],[10,17,10,19],[28,25,28,31],[12,19,13,22],[11,14,11,15],[9,8,9,12],[10,8,10,12],[9,14,9,15],[10,14,10,15],[15,1,15,18],[21,1,21,18],[26,1,26,18],[13,1,13,18],[11,8,11,12],[11,17,11,19],[26,26,27,35],[22,25,22,27],[25,25,25,29],[4,1,4,22],[9,17,9,19],[5,17,5,19],[6,17,6,19],[7,17,7,19],[8,17,8,19],[5,1,5,3],[9,1,9,3],[9,5,9,6],[5,8,5,12],[6,8,6,12],[7,8,7,12],[8,8,8,12],[5,5,5,6],[6,5,6,6],[7,5,7,6]]}
[null,"Model to Calculate the Temperature Increase for a CO2 Emissions Pathway",null,null,null,null,null,null,null,null,null,null,null,null,null,null,42,42,42,{"$f":"U1+$AH$1","v":38.318181818181806},{"$f":"V1+$AH$1","v":34.636363636363626},30.954545454545446,27.272727272727266,23.590909090909086,19.909090909090907,16.227272727272727,12.545454545454545,8.8636363636363633,5.1818181818181817,1.5,0,0,null,{"$f":"(S1-AD1)/11","v":3.6818181818181817}]
[null,"2025-06-04"]
[null,"Enter  \"Parameter Values\" and \"Scenario Values\" and then click \"Run Model\""]
[]
[null,"Parameter Values (User input)",null,null,null,null,null,null,null,null,null,null,null,null,null,null,null,null,null,null,null,null,null,null,null,null,null,null,null,null,null,null,null,null,null,null,"GTCO2/PPM",null,null,7.81]
[null,"Feedback Emissions in 2025 (GTCO2)",null,null,2,"GTCO2",null,null,"Temperature Increase Goal ",null,null,null,null,1.5,"°C ",null,null,null,null,null,2025,2100,null,null,null,"CO2 PPM  in 2024",null,null,424.6,null,null,null,null,null,null,null,{"$f":"\"CDR (GtCO2) To Meet Desired \" & N6 & \"°C Temperature Increase\"","v":"CDR (GtCO2) To Meet Desired 1.5°C Temperature Increase"}]
[null,"Carbon Feedbacks per °C in 2100",null,null,5,"GTCO2",null,null,"CDR Start Year",null,null,null,null,2040,null,null,null,"SLR in 2100 per °C",null,null,null,1.5,"Feet",null,null,"CO2 PPM increase in 2025",null,null,3.6,null,"Assume same as 2024",null,null,null,null,null,{"$f":"\"SRM (W/m-2) To Meet Desired \" & Input!$N$6 & \"°C Temperature Increase\"","v":"SRM (W/m-2) To Meet Desired 1.5°C Temperature Increase"}]
[null,"Albedo Adjustment in 2023 ",null,null,0,"W/m-2",null,null,"CDR Peak Year",null,null,null,null,2070,null,null,null,"SLR Cost Per Foot",null,null,100,250,"$Billion",null,null,"Climate Factor in 2025",null,null,0.45500000000000002,null,"The average value for the \"Climate Factor\" in 2025 for the AR6 data is about 0.455.  The value used by the model can be adjusted here."]
[null,"Additional Albedo Adjustment per °C of warming",null,null,0,"W/m-2",null,null,"SRM Start Year",null,null,null,null,2035,null,null,null,"CCS Cost Per Ton",null,null,70,40,"$",null,null,null,null,null,null,null,"A value of 0.42 will result in 2025 value that aligns better with the current \"expected value\""]
[null,"Temp increase to start albedo adjustment ",null,null,0,"°C ",null,null,"RF reduction/year for SRM",null,null,null,null,0.08,"W/m-2",null,null,"CDR Cost Per Ton",null,null,400,100,"$",null,null,null,null,null,null,null,"See 'Notes' worksheet"]
[null,null,null,null,null,null,null,null,"°C cooling per airplane per year",null,null,null,null,3.0000000000000001E-3,"°C ",null,null,"Disasters Cost per °C",null,null,150,200,"$Billion"]
[null,null,null,null,null,null,null,null,"Airplanes added per year",null,null,null,null,8,null,null,null,null,null,null,null,null,null,null,null,"Temp Incr 2025",null,null,{"$f":"D48","v":1.4292450914835604}]
[null,null,null,null,null,null,null,null,null,null,null,null,null,null,null,null,null,null,null,"Select a CO2 Emissions Pathway",null,null,null,null,null,"Temp Incr 2100",null,null,{"$f":"S48","v":3.4973704517264075}]
[null,"Scenario Values (User input)",null,null,null,null,null,null,null,null,null,null,null,null,null,null,null,null,null,null,null,null,null,null,null,"CO2 in 2100",null,null,{"$f":"'Model Calcs'!S36","v":5.2667528033553461}]
[null,null,null,2025,{"$f":"D15+5","v":2030},{"$f":"E15+5","v":2035},2040,2045,2050,2055,2060,2065,2070,2075,2080,2085,2090,2095,2100,null,null,null,null,null,null,"TotalRF 2100",null,null,{"$f":"'Model Calcs'!S43","v":6.2326471102391565}]
[null,"CO2 Emissions and Removals"]
[null,"Gross Anthro. CO2","GTCO2",42,42,42,41.999999999999972,41.333333333333307,40.666666666666643,39.999999999999979,39.333333333333314,38.66666666666665,37.999999999999986,37.333333333333321,36.666666666666657,35.999999999999993,35.333333333333329,34.666666666666664,34,null,null,null,null,null,null,"Notes"]
[null,"Crb Cpt&Str (CCS)","GtCO2",0,0,0,0,0,0,0,0,0,0,0,0,0,0,0,0,null,null,null,null,null,null,"Carbon Feedbacks"]
[null,"Dir Air Capt (DAC)","GtCO2",0,0,0,0,0,0,0,0,0,0,0,0,0,0,0,0,null,null,null,null,null,null,null,"If left emissions at 0, the calculated 2025 valueis set to the parameter value, the 2100 value is set to the 'Carbon Feedbacks per °C in 2100' * 'Temperature in 2100' as calculated from cumulated anthropogenic emissions and the IPCC carbon budget, andoter values interpolated"]
[null,"Carbon Feedbacks","GtCO2",0,0,0,0,0,0,0,0,0,0,0,0,0,0,0,0]
[null,"Net CO2 Emiss & Removals","GtCO2",{"$f":"SUM(D17:D20)","v":42},{"$f":"SUM(E17:E20)","v":42},42,41.999999999999972,41.333333333333307,40.666666666666643,39.999999999999979,39.333333333333314,38.66666666666665,37.999999999999986,37.333333333333321,36.666666666666657,35.999999999999993,35.333333333333329,34.666666666666664,34]
[null,"Radiative Forcing (RF) (if left at 0, caclulated based on CO2 RF - see 'RF Calcs' worksheet)"]
[null,"CH4","W/m-2",0,0,0,0,0,0,0,0,0,0,0,0,0,0,0,0,null,null,null,null,null,null,"Albedo Adjustment in 2023 "]
[null,"N2O","W/m-2",0,0,0,0,0,0,0,0,0,0,0,0,0,0,0,0,null,null,null,null,null,null,null,"A value 0.4 results in a 0.2DC increase in temperature above that expected by the models, which is what happened"]
[null,"Total Other GHGs","W/m-2",0,0,0,0,0,0,0,0,0,0,0,0,0,0,0,0]
[null,"Aerosol","W/m-2",0,0,0,0,0,0,0,0,0,0,0,0,0,0,0,0,null,null,null,null,null,null,"Additional Albedo Adjustment per °C of warming"]
[null,"Albedo  (Calculated based on 'Albedo Adjustment in 2023' and 'Albedo Adjustment per DC of warming'",null,null,null,null,null,null,null,null,null,null,null,null,null,null,null,null,null,null,null,null,null,null,null,null,"A value of 0.15, when combined with the above albedo adjustments, results ina 0.36 DC/decate temperature increase, which Jim Hansen expects"]
[null,"Albedo","W/m-2",{"$f":"Input!$E$8","v":0},{"$f":"Input!$E$8 + ('Model Calcs'!E57-Input!$E$10)*Input!$E$9","v":0},{"$f":"Input!$E$8 + ('Model Calcs'!F57-Input!$E$10)*Input!$E$9","v":0},{"$f":"Input!$E$8 + ('Model Calcs'!G57-Input!$E$10)*Input!$E$9","v":0},{"$f":"Input!$E$8 + ('Model Calcs'!H57-Input!$E$10)*Input!$E$9","v":0},{"$f":"Input!$E$8 + ('Model Calcs'!I57-Input!$E$10)*Input!$E$9","v":0},{"$f":"Input!$E$8 + ('Model Calcs'!J57-Input!$E$10)*Input!$E$9","v":0},{"$f":"Input!$E$8 + ('Model Calcs'!K57-Input!$E$10)*Input!$E$9","v":0},{"$f":"Input!$E$8 + ('Model Calcs'!L57-Input!$E$10)*Input!$E$9","v":0},{"$f":"Input!$E$8 + ('Model Calcs'!M57-Input!$E$10)*Input!$E$9","v":0},{"$f":"Input!$E$8 + ('Model Calcs'!N57-Input!$E$10)*Input!$E$9","v":0},{"$f":"Input!$E$8 + ('Model Calcs'!O57-Input!$E$10)*Input!$E$9","v":0},{"$f":"Input!$E$8 + ('Model Calcs'!P57-Input!$E$10)*Input!$E$9","v":0},{"$f":"Input!$E$8 + ('Model Calcs'!Q57-Input!$E$10)*Input!$E$9","v":0},{"$f":"Input!$E$8 + ('Model Calcs'!R57-Input!$E$10)*Input!$E$9","v":0},{"$f":"Input!$E$8 + ('Model Calcs'!S57-Input!$E$10)*Input!$E$9","v":0}]
[null,null,null,null,null,null,null,null,null,null,null,null,null,null,null,null,null,null,null,null,null,null,null,null,null,"Degrees C Cooling per airplane per year"]
[null,null,null,null,null,null,null,null,null,null,null,null,null,null,null,null,null,null,null,null,null,null,null,null,null,null,"Assumes roughly 10 flight hour/day/plane and 25 ton payload/plane"]
[null,null,null,null,null,null,null,null,null,null,null,null,null,null,null,null,null,null,null,null,null,null,null,null,null,null,"Stratospheric aerosol injection tactics and costs in the first 15 years of deployment Temperature Incr."]
[null,null,null,null,null,null,null,null,null,null,null,null,null,null,null,null,null,null,null,null,null,null,null,null,null,null,"Wake Smith and Gernot Wagner Published 23 November 2018  DOI 10.1088/1748-9326/aae98d"]
[null,null,null,null,null,null,null,null,null,null,null,null,null,null,null,null,null,null,null,null,null,null,null,null,null,null,"https://iopscience.iop.org/article/10.1088/1748-9326/aae98d"]
[null,null,null,null,null,null,null,null,null,null,null,null,null,null,null,null,null,null,null,null,null,null,null,null,null,null,"In 2047, SO2 from 95 airplanes reduced the temperature by 0.3°C"]
[]
[]
[]
[]
[]
[]
[]
[]
[]
[]
[]
[]
[null,null,null,2025,{"$f":"D47+5","v":2030},{"$f":"E47+5","v":2035},{"$f":"F47+5","v":2040},{"$f":"G47+5","v":2045},{"$f":"H47+5","v":2050},{"$f":"I47+5","v":2055},{"$f":"J47+5","v":2060},{"$f":"K47+5","v":2065},{"$f":"L47+5","v":2070},{"$f":"M47+5","v":2075},{"$f":"N47+5","v":2080},{"$f":"O47+5","v":2085},{"$f":"P47+5","v":2090},{"$f":"Q47+5","v":2095},{"$f":"R47+5","v":2100}]
[null,"Temp Incr w/o Albedo","°C",{"$f":"'Model Calcs'!D57","v":1.4292450914835604},{"$f":"'Model Calcs'!E57","v":1.5053257546232068},{"$f":"'Model Calcs'!F57","v":1.6718848661017913},{"$f":"'Model Calcs'!G57","v":1.7594996230070916},{"$f":"'Model Calcs'!H57","v":1.8980657022835994},{"$f":"'Model Calcs'!I57","v":2.0181445180433331},{"$f":"'Model Calcs'!J57","v":2.1300367857659608},{"$f":"'Model Calcs'!K57","v":2.2744806537687912},{"$f":"'Model Calcs'!L57","v":2.3869415869668047},{"$f":"'Model Calcs'!M57","v":2.5627294140942443},{"$f":"'Model Calcs'!N57","v":2.6644180773608741},{"$f":"'Model Calcs'!O57","v":2.8590410205741921},{"$f":"'Model Calcs'!P57","v":2.982790101366116},{"$f":"'Model Calcs'!Q57","v":3.1743218389886207},{"$f":"'Model Calcs'!R57","v":3.3347625469306048},{"$f":"'Model Calcs'!S57","v":3.4973704517264075}]
[null,"Temp Incr with Albedo","°C",{"$f":"'Model Calcs'!D62","v":1.4292450914835604},{"$f":"'Model Calcs'!E62","v":1.5053257546232068},{"$f":"'Model Calcs'!F62","v":1.6718848661017913},{"$f":"'Model Calcs'!G62","v":1.7594996230070916},{"$f":"'Model Calcs'!H62","v":1.8980657022835994},{"$f":"'Model Calcs'!I62","v":2.0181445180433331},{"$f":"'Model Calcs'!J62","v":2.1300367857659608},{"$f":"'Model Calcs'!K62","v":2.2744806537687912},{"$f":"'Model Calcs'!L62","v":2.3869415869668047},{"$f":"'Model Calcs'!M62","v":2.5627294140942443},{"$f":"'Model Calcs'!N62","v":2.6644180773608741},{"$f":"'Model Calcs'!O62","v":2.8590410205741921},{"$f":"'Model Calcs'!P62","v":2.982790101366116},{"$f":"'Model Calcs'!Q62","v":3.1743218389886207},{"$f":"'Model Calcs'!R62","v":3.3347625469306048},{"$f":"'Model Calcs'!S62","v":3.4973704517264075}]
[null,"Temp Incr Per Decade","°C",null,null,{"$f":"F49-D49","v":0.24263977461823094},{"$f":"G49-E49","v":0.25417386838388478},0.22618083618180806,0.25864489503624144,0.2319710834823614,0.2563361357254581,0.25690480120084391,0.2882487603254531,0.27747649039406941,0.29631160647994781,0.31837202400524189,0.31528081841442868,0.35197244556448881,0.32304861273778673]
[null,"Temp Incr with CDR","°C",{"$f":"'Model Calcs'!D76","v":1.4292450914835604},{"$f":"'Model Calcs'!E76","v":1.5246047711746058},{"$f":"'Model Calcs'!F76","v":1.7161594029569793},{"$f":"'Model Calcs'!G76","v":1.8321859040751822},{"$f":"'Model Calcs'!H76","v":1.9743903778468437},{"$f":"'Model Calcs'!I76","v":2.0456446095309704},{"$f":"'Model Calcs'!J76","v":2.0693158623453245},{"$f":"'Model Calcs'!K76","v":2.0938349884690535},{"$f":"'Model Calcs'!L76","v":2.0457373267350478},{"$f":"'Model Calcs'!M76","v":2.022483186130942},{"$f":"'Model Calcs'!N76","v":1.8886861479352386},{"$f":"'Model Calcs'!O76","v":1.8489908364654559},{"$f":"'Model Calcs'!P76","v":1.721799237381463},{"$f":"'Model Calcs'!Q76","v":1.662879674116178},{"$f":"'Model Calcs'!R76","v":1.5613247269747454},{"$f":"'Model Calcs'!S76","v":1.4550331001670247}]
[null,"Temp Incr with SRM - W/m-2","°C",{"$f":"'Model Calcs'!D92","v":1.4292450914835604},{"$f":"'Model Calcs'!E92","v":1.5251044207343936},{"$f":"'Model Calcs'!F92","v":1.7176722229601411},{"$f":"'Model Calcs'!G92","v":1.5},{"$f":"'Model Calcs'!H92","v":1.5},{"$f":"'Model Calcs'!I92","v":1.5},{"$f":"'Model Calcs'!J92","v":1.5},{"$f":"'Model Calcs'!K92","v":1.5},{"$f":"'Model Calcs'!L92","v":1.5},{"$f":"'Model Calcs'!M92","v":1.4999999999999998},{"$f":"'Model Calcs'!N92","v":1.5},{"$f":"'Model Calcs'!O92","v":1.5},{"$f":"'Model Calcs'!P92","v":1.5},{"$f":"'Model Calcs'!Q92","v":1.5},{"$f":"'Model Calcs'!R92","v":1.5},{"$f":"'Model Calcs'!S92","v":1.5}]
[null,"Temp Incr with SRM -Planes","°C",{"$f":"'Model Calcs'!D100","v":1.4292450914835604},{"$f":"'Model Calcs'!E100","v":1.5251044207343936},{"$f":"'Model Calcs'!F100","v":1.7176722229601411},{"$f":"'Model Calcs'!G100","v":1.7147237484138218},{"$f":"'Model Calcs'!H100","v":1.7695216235025482},{"$f":"'Model Calcs'!I100","v":1.81023455553045},{"$f":"'Model Calcs'!J100","v":1.8471858983695184},{"$f":"'Model Calcs'!K100","v":1.9239510133336455},{"$f":"'Model Calcs'!L100","v":1.9711120939591262},{"$f":"'Model Calcs'!M100","v":2.092202564934619},{"$f":"'Model Calcs'!N100","v":2.1365566032384962},{"$f":"'Model Calcs'!O100","v":2.2883651040648454},{"$f":"'Model Calcs'!P100","v":2.3653708400323232},{"$f":"'Model Calcs'!Q100","v":2.5225906082240872},{"$f":"'Model Calcs'!R100","v":2.6482689287817096},{"$f":"'Model Calcs'!S100","v":2.7793555503823995}]
[null,"CDR","GtCO2",{"$f":"0-'Model Calcs'!D68","v":0},{"$f":"0-'Model Calcs'!E68","v":0},{"$f":"0-'Model Calcs'!F68","v":0},{"$f":"0-'Model Calcs'!G68","v":0},{"$f":"0-'Model Calcs'!H68","v":15.018518518518519},{"$f":"0-'Model Calcs'!I68","v":30.037037037037038},{"$f":"0-'Model Calcs'!J68","v":45.055555555555557},{"$f":"0-'Model Calcs'!K68","v":60.074074074074076},{"$f":"0-'Model Calcs'!L68","v":75.092592592592595},{"$f":"0-'Model Calcs'!M68","v":90.111111111111114},{"$f":"0-'Model Calcs'!N68","v":90.111111111111114},{"$f":"0-'Model Calcs'!O68","v":90.111111111111114},{"$f":"0-'Model Calcs'!P68","v":90.111111111111114},{"$f":"0-'Model Calcs'!Q68","v":90.111111111111114},{"$f":"0-'Model Calcs'!R68","v":90.111111111111114},{"$f":"0-'Model Calcs'!S68","v":90.111111111111114}]
[null,"SRM From W/m-2","W/m-2",{"$f":"'Model Calcs'!D90:S90","v":0},0,0,0.67865152551734687,1.0070422982903597,1.2921475954125867,1.5565056653206515,1.8816492901863615,2.1387604247886625,2.5141505076048349,2.7413578229117017,3.139392317987538,3.3976870432196704,3.7746267495776085,4.08660193462745,4.3946448853359943]
[null,"Number of Planes",null,{"$f":"'Model Calcs'!D98","v":0},{"$f":"'Model Calcs'!E98","v":0},{"$f":"'Model Calcs'!F98","v":0},{"$f":"'Model Calcs'!G98","v":40},{"$f":"'Model Calcs'!H98","v":80},{"$f":"'Model Calcs'!I98","v":120},{"$f":"'Model Calcs'!J98","v":160},{"$f":"'Model Calcs'!K98","v":200},{"$f":"'Model Calcs'!L98","v":240},{"$f":"'Model Calcs'!M98","v":280},{"$f":"'Model Calcs'!N98","v":320},{"$f":"'Model Calcs'!O98","v":360},{"$f":"'Model Calcs'!P98","v":400},{"$f":"'Model Calcs'!Q98","v":440},{"$f":"'Model Calcs'!R98","v":480},{"$f":"'Model Calcs'!S98","v":520}]
[]
[null,null,null,2025,{"$f":"D58+5","v":2030},{"$f":"E58+5","v":2035},{"$f":"F58+5","v":2040},{"$f":"G58+5","v":2045},{"$f":"H58+5","v":2050},{"$f":"I58+5","v":2055},{"$f":"J58+5","v":2060},{"$f":"K58+5","v":2065},{"$f":"L58+5","v":2070},{"$f":"M58+5","v":2075},{"$f":"N58+5","v":2080},{"$f":"O58+5","v":2085},{"$f":"P58+5","v":2090},{"$f":"Q58+5","v":2095},{"$f":"R58+5","v":2100}]
[null,"Cost w/o Albedo","$Billions",{"$f":"'Model Calcs'!D113","v":285.08676372253404},{"$f":"'Model Calcs'!E113","v":342.15742772305487},{"$f":"'Model Calcs'!F113","v":419.97166062105975},{"$f":"'Model Calcs'!G113","v":492.3265984339825},{"$f":"'Model Calcs'!H113","v":579.64909151702409},{"$f":"'Model Calcs'!I113","v":670.87555544589941},{"$f":"'Model Calcs'!J113","v":767.57223921698437},{"$f":"'Model Calcs'!K113","v":876.71855639157502},{"$f":"'Model Calcs'!L113","v":987.23892177411949},{"$f":"'Model Calcs'!M113","v":1115.9692751887337},{"$f":"'Model Calcs'!N113","v":1238.3481083131683},{"$f":"'Model Calcs'!O113","v":1384.8140056862153},{"$f":"'Model Calcs'!P113","v":1525.1727630574055},{"$f":"'Model Calcs'!Q113","v":1685.5225688579071},{"$f":"'Model Calcs'!R113","v":1847.0960913088427},{"$f":"'Model Calcs'!S113","v":2016.234065420274}]
[null,"Cost with Albedo","$Billions",{"$f":"'Model Calcs'!D120","v":285.08676372253404},{"$f":"'Model Calcs'!E120","v":342.15742772305487},{"$f":"'Model Calcs'!F120","v":419.97166062105975},{"$f":"'Model Calcs'!G120","v":492.3265984339825},{"$f":"'Model Calcs'!H120","v":579.64909151702409},{"$f":"'Model Calcs'!I120","v":670.87555544589941},{"$f":"'Model Calcs'!J120","v":767.57223921698437},{"$f":"'Model Calcs'!K120","v":876.71855639157502},{"$f":"'Model Calcs'!L120","v":987.23892177411949},{"$f":"'Model Calcs'!M120","v":1115.9692751887337},{"$f":"'Model Calcs'!N120","v":1238.3481083131683},{"$f":"'Model Calcs'!O120","v":1384.8140056862153},{"$f":"'Model Calcs'!P120","v":1525.1727630574055},{"$f":"'Model Calcs'!Q120","v":1685.5225688579071},{"$f":"'Model Calcs'!R120","v":1847.0960913088427},{"$f":"'Model Calcs'!S120","v":2016.234065420274}]
[null,"Cost with Albedo and CDR","$Billions",{"$f":"'Model Calcs'!D128","v":285.08676372253404},{"$f":"'Model Calcs'!E128","v":322.44359899196019},{"$f":"'Model Calcs'!F128","v":377.48344082063545},{"$f":"'Model Calcs'!G128","v":423.69254548859328},{"$f":"'Model Calcs'!H128","v":5282.8535544903307},{"$f":"'Model Calcs'!I128","v":9532.3735450955501},{"$f":"'Model Calcs'!J128","v":13175.515449630395},{"$f":"'Model Calcs'!K128","v":16220.198119350554},{"$f":"'Model Calcs'!L128","v":18653.451276182932},{"$f":"'Model Calcs'!M128","v":20492.091607866725},{"$f":"'Model Calcs'!N128","v":18707.843002477257},{"$f":"'Model Calcs'!O128","v":16942.244805355651},{"$f":"'Model Calcs'!P128","v":15161.73441104455},{"$f":"'Model Calcs'!Q128","v":13395.552065864842},{"$f":"'Model Calcs'!R128","v":11622.568697634722},{"$f":"'Model Calcs'!S128","v":9849.9376933574022}]

{"sheet":"Model Calcs","index":2,"n_rows":128,"n_cols":29,"rows_kept":128,"cut":false,"hidden":false,"merged":[[8,1,8,18],[16,1,16,18],[28,1,28,18],[34,1,34,18],[43,1,43,18],[92,1,92,18],[76,1,76,18],[57,1,57,18],[53,1,53,18],[63,1,63,18],[55,1,55,18],[120,1,120,18],[100,1,100,18],[101,1,101,18],[106,1,106,18],[113,1,113,18]]}
[]
[]
[null,"Calculated Paramerters"]
[null,"Cum CO2 in 2100 wo/ feedbacks",null,null,{"$f":"S24","v":2951.9999999999991}]
[null,"DC in 2100 w/o feedbacks",null,null,{"$f":"FeedbackTemp(E4,0)","v":3.3356839999999992},"(IPCC ARC 67%  of meeting goal  = Cum CO2 in 2100 w/ feedbacks *0.000667 + 1.3667)",null,null,null,null,null,null,null,null,null,null,null,null,null,null,{"$f":"\"=FeedbackTemp(F2,0)\"","v":"=FeedbackTemp(F2,0)"}]
[null,"Calculated feedbacks",null,{"$f":"Input!E6","v":2},{"$f":"D6+($S6-$D6)/15","v":2.9785613333333329},{"$f":"E6+($S6-$D6)/15","v":3.9571226666666659},4.9356839999999993,5.9142453333333327,6.8928066666666661,7.8713679999999995,8.849929333333332,9.8284906666666654,10.807051999999999,11.785613333333332,12.764174666666666,13.742735999999999,14.721297333333332,15.699858666666666,{"$f":"E5*Input!E7","v":16.678419999999996},null,"Use if not supplied",null,null,"From the 'Input' worksheet",null,null,"Linear Intgerplation",null,{"$f":"\"='DC in 2100 w/o feedbacks' * Feedbacks per Degree C\"","v":"='DC in 2100 w/o feedbacks' * Feedbacks per Degree C"}]
[null,"Mitigation Factor",null,{"$f":"MitigationAggressiveness(S36,0)","v":7.5219290217915393},null,"(-1.607142857 * CO2RF in 2100 + 13.05357143)",null,null,null,null,null,null,null,null,null,null,null,null,null,null,{"$f":"\"=MitigationAggressiveness(T47,0)\"","v":"=MitigationAggressiveness(T47,0)"}]
[null,"Climate Factor in 2100"]
[null,"Calculated RF if not supplied (values from the 'Non-CO2 RF Calcs' worksheet)"]
[null,"CH4",null,{"$f":"'Non-CO2 RF Calcs'!D3","v":0.59391213838198753},{"$f":"'Non-CO2 RF Calcs'!E3","v":0.59043699744566291},{"$f":"'Non-CO2 RF Calcs'!F3","v":0.58433281192820941},{"$f":"'Non-CO2 RF Calcs'!G3","v":0.57544163824229377},{"$f":"'Non-CO2 RF Calcs'!H3","v":0.56748389493966167},{"$f":"'Non-CO2 RF Calcs'!I3","v":0.5595754691949788},{"$f":"'Non-CO2 RF Calcs'!J3","v":0.5521802008567589},{"$f":"'Non-CO2 RF Calcs'!K3","v":0.54548220275033643},{"$f":"'Non-CO2 RF Calcs'!L3","v":0.53874667960832623},{"$f":"'Non-CO2 RF Calcs'!M3","v":0.53295472333800964},{"$f":"'Non-CO2 RF Calcs'!N3","v":0.52724112920677124},{"$f":"'Non-CO2 RF Calcs'!O3","v":0.52220151141245685},{"$f":"'Non-CO2 RF Calcs'!P3","v":0.51740258514670812},{"$f":"'Non-CO2 RF Calcs'!Q3","v":0.51277188453162748},{"$f":"'Non-CO2 RF Calcs'!R3","v":0.50785721666613792},{"$f":"'Non-CO2 RF Calcs'!S3","v":0.50260926399229}]
[null,"N2O",null,{"$f":"'Non-CO2 RF Calcs'!D4","v":0.22897072787536477},{"$f":"'Non-CO2 RF Calcs'!E4","v":0.2414303341981815},{"$f":"'Non-CO2 RF Calcs'!F4","v":0.25335802059674134},{"$f":"'Non-CO2 RF Calcs'!G4","v":0.26491611646053159},{"$f":"'Non-CO2 RF Calcs'!H4","v":0.27633941705693704},{"$f":"'Non-CO2 RF Calcs'!I4","v":0.28755545650806025},{"$f":"'Non-CO2 RF Calcs'!J4","v":0.29850916656969606},{"$f":"'Non-CO2 RF Calcs'!K4","v":0.30905561548604971},{"$f":"'Non-CO2 RF Calcs'!L4","v":0.31928466676871092},{"$f":"'Non-CO2 RF Calcs'!M4","v":0.32909632041767978},{"$f":"'Non-CO2 RF Calcs'!N4","v":0.33856304231085366},{"$f":"'Non-CO2 RF Calcs'!O4","v":0.34767469595982248},{"$f":"'Non-CO2 RF Calcs'!P4","v":0.35644141785299638},{"$f":"'Non-CO2 RF Calcs'!Q4","v":0.36488060562406777},{"$f":"'Non-CO2 RF Calcs'!R4","v":0.37304732751724168},{"$f":"'Non-CO2 RF Calcs'!S4","v":0.38071404941041559}]
[null,"Other GHG RF",null,{"$f":"'Non-CO2 RF Calcs'!D5","v":0.41756036185295908},{"$f":"'Non-CO2 RF Calcs'!E5","v":0.33547906762475449},{"$f":"'Non-CO2 RF Calcs'!F5","v":0.3561327142388615},{"$f":"'Non-CO2 RF Calcs'!G5","v":0.29182690680660806},{"$f":"'Non-CO2 RF Calcs'!H5","v":0.27845891555979274},{"$f":"'Non-CO2 RF Calcs'!I5","v":0.24975159766851229},{"$f":"'Non-CO2 RF Calcs'!J5","v":0.22155334253139219},{"$f":"'Non-CO2 RF Calcs'!K5","v":0.22163768976057807},{"$f":"'Non-CO2 RF Calcs'!L5","v":0.19054411157546186},{"$f":"'Non-CO2 RF Calcs'!M5","v":0.2168538454582486},{"$f":"'Non-CO2 RF Calcs'!N5","v":0.16820427086960171},{"$f":"'Non-CO2 RF Calcs'!O5","v":0.20592277635669654},{"$f":"'Non-CO2 RF Calcs'!P5","v":0.17676715993194292},{"$f":"'Non-CO2 RF Calcs'!Q5","v":0.2071275762567803},{"$f":"'Non-CO2 RF Calcs'!R5","v":0.20794773777782755},{"$f":"'Non-CO2 RF Calcs'!S5","v":0.20931283105466969}]
[null,"Aerosols",null,{"$f":"'Non-CO2 RF Calcs'!D6","v":-0.91937930224769815},{"$f":"'Non-CO2 RF Calcs'!E6","v":-0.84740790096652152},{"$f":"'Non-CO2 RF Calcs'!F6","v":-0.76769804649043116},{"$f":"'Non-CO2 RF Calcs'!G6","v":-0.69767396087362643},{"$f":"'Non-CO2 RF Calcs'!H6","v":-0.63313457038185605},{"$f":"'Non-CO2 RF Calcs'!I6","v":-0.58320351476961918},{"$f":"'Non-CO2 RF Calcs'!J6","v":-0.55710467023148946},{"$f":"'Non-CO2 RF Calcs'!K6","v":-0.52847376019417769},{"$f":"'Non-CO2 RF Calcs'!L6","v":-0.50607218588784519},{"$f":"'Non-CO2 RF Calcs'!M6","v":-0.48106953784726125},{"$f":"'Non-CO2 RF Calcs'!N6","v":-0.45377580698591125},{"$f":"'Non-CO2 RF Calcs'!O6","v":-0.42771672581702097},{"$f":"'Non-CO2 RF Calcs'!P6","v":-0.4057764071659245},{"$f":"'Non-CO2 RF Calcs'!Q6","v":-0.38144924592129104},{"$f":"'Non-CO2 RF Calcs'!R6","v":-0.35891784444942842},{"$f":"'Non-CO2 RF Calcs'!S6","v":-0.33605466862823385}]
[null,"Other NonGHG RF",null,{"$f":"'Non-CO2 RF Calcs'!D7","v":0.41756036185295908},{"$f":"'Non-CO2 RF Calcs'!E7","v":0.33547906762475449},{"$f":"'Non-CO2 RF Calcs'!F7","v":0.3561327142388615},{"$f":"'Non-CO2 RF Calcs'!G7","v":0.29182690680660806},{"$f":"'Non-CO2 RF Calcs'!H7","v":0.27845891555979274},{"$f":"'Non-CO2 RF Calcs'!I7","v":0.24975159766851229},{"$f":"'Non-CO2 RF Calcs'!J7","v":0.22155334253139219},{"$f":"'Non-CO2 RF Calcs'!K7","v":0.22163768976057807},{"$f":"'Non-CO2 RF Calcs'!L7","v":0.19054411157546186},{"$f":"'Non-CO2 RF Calcs'!M7","v":0.2168538454582486},{"$f":"'Non-CO2 RF Calcs'!N7","v":0.16820427086960171},{"$f":"'Non-CO2 RF Calcs'!O7","v":0.20592277635669654},{"$f":"'Non-CO2 RF Calcs'!P7","v":0.17676715993194292},{"$f":"'Non-CO2 RF Calcs'!Q7","v":0.2071275762567803},{"$f":"'Non-CO2 RF Calcs'!R7","v":0.20794773777782755},{"$f":"'Non-CO2 RF Calcs'!S7","v":0.20931283105466969}]
[]
[null,null,null,2025,{"$f":"D16+5","v":2030},{"$f":"E16+5","v":2035},2040,2045,2050,2055,2060,2065,2070,2075,2080,2085,2090,2095,2100]
[1,"CO2  - Emissions and Removals"]
[{"$f":"A17+1","v":2},"Gross Anthro. CO2","GTCO2",{"$f":"Input!D17","v":42},{"$f":"Input!E17","v":42},{"$f":"Input!F17","v":42},{"$f":"Input!G17","v":41.999999999999972},{"$f":"Input!H17","v":41.333333333333307},{"$f":"Input!I17","v":40.666666666666643},{"$f":"Input!J17","v":39.999999999999979},{"$f":"Input!K17","v":39.333333333333314},{"$f":"Input!L17","v":38.66666666666665},{"$f":"Input!M17","v":37.999999999999986},{"$f":"Input!N17","v":37.333333333333321},{"$f":"Input!O17","v":36.666666666666657},{"$f":"Input!P17","v":35.999999999999993},{"$f":"Input!Q17","v":35.333333333333329},{"$f":"Input!R17","v":34.666666666666664},{"$f":"Input!S17","v":34}]
[3,"Crb Cpt&Str (CCS)","GtCO2",{"$f":"Input!D18","v":0},{"$f":"Input!E18","v":0},{"$f":"Input!F18","v":0},{"$f":"Input!G18","v":0},{"$f":"Input!H18","v":0},{"$f":"Input!I18","v":0},{"$f":"Input!J18","v":0},{"$f":"Input!K18","v":0},{"$f":"Input!L18","v":0},{"$f":"Input!M18","v":0},{"$f":"Input!N18","v":0},{"$f":"Input!O18","v":0},{"$f":"Input!P18","v":0},{"$f":"Input!Q18","v":0},{"$f":"Input!R18","v":0},{"$f":"Input!S18","v":0}]
[4,"Dir Air Capt (DAC)","GtCO2",{"$f":"Input!D19","v":0},{"$f":"Input!E19","v":0},{"$f":"Input!F19","v":0},{"$f":"Input!G19","v":0},{"$f":"Input!H19","v":0},{"$f":"Input!I19","v":0},{"$f":"Input!J19","v":0},{"$f":"Input!K19","v":0},{"$f":"Input!L19","v":0},{"$f":"Input!M19","v":0},{"$f":"Input!N19","v":0},{"$f":"Input!O19","v":0},{"$f":"Input!P19","v":0},{"$f":"Input!Q19","v":0},{"$f":"Input!R19","v":0},{"$f":"Input!S19","v":0}]
[5,"Total Carbon Removal","GtCO2",{"$f":"SUM(D19:D20)","v":0},{"$f":"SUM(E19:E20)","v":0},0,0,0,0,0,0,0,0,0,0,0,0,0,0,null,1000,{"$f":"U21+100","v":1100},{"$f":"V21+100","v":1200},1300,1400,1500,1600,1700]
[6,"Cumultative  Carbon Removal",null,{"$f":"D21","v":0},{"$f":"E21","v":0},{"$f":"E22+F21","v":0},{"$f":"F22+G21","v":0},0,0,0,0,0,0,0,0,0,0,0,0]
[7,"Total Net CO2 w/o Feedbacks","GtCO2",{"$f":"SUM(D18:D20)","v":42},42,42,41.999999999999972,41.333333333333307,40.666666666666643,39.999999999999979,39.333333333333314,38.66666666666665,37.999999999999986,37.333333333333321,36.666666666666657,35.999999999999993,35.333333333333329,34.666666666666664,34,null,{"$f":"-0.0000072875 *U21 * U21 + 0.018987517 * U21 - 4.390914936","v":7.3091020640000011},{"$f":"-0.0000072875 *V21 * V21 + 0.018987517 * V21 - 4.390914936","v":7.6774787639999982},7.9001054639999975,7.9769821639999989,7.9081088639999972,7.6934855639999977,7.3331122639999986,6.8269889639999999]
[8,"Cumultative CO2 w/o Feedbacks","GtCO2",{"$f":"D23","v":42},{"$f":"D24+(D23+E23)*2.5","v":252},{"$f":"E24+(E23+F23)*2.5","v":462},672,880.33333333333326,1085.333333333333,1286.9999999999995,1485.3333333333328,1680.3333333333328,1871.9999999999993,2060.3333333333326,2245.3333333333326,2426.9999999999991,2605.3333333333326,2780.3333333333326,2951.9999999999991]
[9,"Carbon Feedbacks","GtCO2",{"$f":"IF(Input!$D$20>0,Input!D20,D6)","v":2},{"$f":"IF(Input!$D$20>0,Input!E20,E6)","v":2.9785613333333329},{"$f":"IF(Input!$D$20>0,Input!F20,F6)","v":3.9571226666666659},{"$f":"IF(Input!$D$20>0,Input!G20,G6)","v":4.9356839999999993},{"$f":"IF(Input!$D$20>0,Input!H20,H6)","v":5.9142453333333327},{"$f":"IF(Input!$D$20>0,Input!I20,I6)","v":6.8928066666666661},{"$f":"IF(Input!$D$20>0,Input!J20,J6)","v":7.8713679999999995},{"$f":"IF(Input!$D$20>0,Input!K20,K6)","v":8.849929333333332},{"$f":"IF(Input!$D$20>0,Input!L20,L6)","v":9.8284906666666654},{"$f":"IF(Input!$D$20>0,Input!M20,M6)","v":10.807051999999999},{"$f":"IF(Input!$D$20>0,Input!N20,N6)","v":11.785613333333332},{"$f":"IF(Input!$D$20>0,Input!O20,O6)","v":12.764174666666666},{"$f":"IF(Input!$D$20>0,Input!P20,P6)","v":13.742735999999999},{"$f":"IF(Input!$D$20>0,Input!Q20,Q6)","v":14.721297333333332},{"$f":"IF(Input!$D$20>0,Input!R20,R6)","v":15.699858666666666},{"$f":"IF(Input!$D$20>0,Input!S20,S6)","v":16.678419999999996}]
[10,"Cumultative Feedbacks","GtCO2",{"$f":"D25","v":2},{"$f":"D26+(D25+E25)*2.5","v":14.446403333333333},31.785613333333327,{"$f":"F26+(F25+G25)*2.5","v":54.01762999999999},81.142453333333322,113.16008333333332,150.07051999999999,191.87376333333333,238.56981333333331,290.15866999999997,346.64033333333327,408.01480333333325,474.28207999999989,545.44216333333327,621.49505333333332,702.44074999999998]
[11,"Total Net CO2","GtCO2",{"$f":"D24+D25","v":44},{"$f":"E23+E25","v":44.978561333333332},{"$f":"F23+F25","v":45.957122666666663},{"$f":"G23+G25","v":46.935683999999974},{"$f":"H23+H25","v":47.247578666666641},{"$f":"I23+I25","v":47.559473333333308},47.871367999999975,48.18326266666665,48.495157333333317,48.807051999999985,49.118946666666652,49.430841333333319,49.742735999999994,50.054630666666661,50.366525333333328,50.678419999999996,null,{"$f":"CO2RFFromCO2PPM(R32)","v":5.0808773944185628}]
[12,"Cumultative CO2","GtCO2",{"$f":"D27","v":44},{"$f":"D28+(D27+E27)*2.5","v":266.44640333333336},{"$f":"E28+(E27+F27)*2.5","v":493.78561333333334},{"$f":"F28+(F27+G27)*2.5","v":726.01762999999994},961.47578666666652,1198.4934166666665,1437.0705199999998,1677.2070966666663,1918.9031466666661,2162.1586699999993,2406.9736666666658,2653.3481366666656,2901.282079999999,3150.7754966666657,3401.8283866666657,3654.4407499999988]
[13,"CO2  - Atmosphere Calculations"]
[14,"CO2 To Atmosphere","GtCO2",{"$f":"D31*7.81","v":27.569299999999998},{"$f":"CO2AddedToAtmosphere(E27,E16)","v":21.831246167011045},{"$f":"CO2AddedToAtmosphere(F27,F16)","v":23.234374397898993},{"$f":"CO2AddedToAtmosphere(G27,G16)","v":24.656641356663815},{"$f":"CO2AddedToAtmosphere(H27,H16)","v":25.295652070307494},{"$f":"CO2AddedToAtmosphere(I27,I16)","v":25.936607037329033},{"$f":"CO2AddedToAtmosphere(J27,J16)","v":26.579506257728436},{"$f":"CO2AddedToAtmosphere(K27,K16)","v":27.224349731505711},{"$f":"CO2AddedToAtmosphere(L27,L16)","v":27.871137458660844},{"$f":"CO2AddedToAtmosphere(M27,M16)","v":28.519869439193837},{"$f":"CO2AddedToAtmosphere(N27,N16)","v":29.170545673104691},{"$f":"CO2AddedToAtmosphere(O27,O16)","v":29.823166160393413},{"$f":"CO2AddedToAtmosphere(P27,P16)","v":30.477730901060003},{"$f":"CO2AddedToAtmosphere(Q27,Q16)","v":31.13423989510445},{"$f":"CO2AddedToAtmosphere(R27,R16)","v":31.792693142526758},{"$f":"CO2AddedToAtmosphere(S27,S16)","v":32.453090643326931},null,{"$f":"\"=CO2AddedToAtmosphere(Total Net CO2,Year)\"","v":"=CO2AddedToAtmosphere(Total Net CO2,Year)"}]
[15,"PPM Added/Yr","PPM",3.53,{"$f":"E30/Input!$AN$5","v":2.7952940034585207},{"$f":"F30/Input!$AN$5","v":2.9749519075414845},{"$f":"G30/Input!$AN$5","v":3.1570603529659178},{"$f":"H30/Input!$AN$5","v":3.2388799065694616},{"$f":"I30/Input!$AN$5","v":3.3209484042674822},{"$f":"J30/Input!$AN$5","v":3.4032658460599792},{"$f":"K30/Input!$AN$5","v":3.4858322319469544},{"$f":"L30/Input!$AN$5","v":3.568647561928405},{"$f":"M30/Input!$AN$5","v":3.6517118360043326},{"$f":"N30/Input!$AN$5","v":3.7350250541747365},{"$f":"O30/Input!$AN$5","v":3.8185872164396177},{"$f":"P30/Input!$AN$5","v":3.9023983227989762},{"$f":"Q30/Input!$AN$5","v":3.9864583732528107},{"$f":"R30/Input!$AN$5","v":4.070767367801122},{"$f":"S30/Input!$AN$5","v":4.1553253064439097},null,{"$f":"\"=CO2 To Atmosphere/7.81\"","v":"=CO2 To Atmosphere/7.81"}]
[16,"CO2 PPM","PPM",428.14,{"$f":"D32+(D31+E31)*2.5","v":443.95323500864629},{"$f":"E32+(E31+F31)*2.5","v":458.3788497861463},{"$f":"F32+(F31+G31)*2.5","v":473.70888043741479},{"$f":"G32+(G31+H31)*2.5","v":489.69873108625325},506.09830186334563,522.90883748916428,540.13158268418158,557.76778216886999,575.8186806637018,594.28552288914943,613.16955356568531,632.47201741378183,652.1941591539113,672.33722350654614,692.90245519215875]
[17,"Ocean & Land Sink","GtCO2",{"$f":"D27-D30","v":16.430700000000002},{"$f":"E27-E30","v":23.147315166322286},22.722748268767671,22.279042643336158,21.951926596359147,21.622866296004275,21.291861742271539,20.958912935160939,20.624019874672474,20.287182560806148,19.948400993561961,19.607675172939906,19.265005098939991,18.920390771562211,18.57383219080657,18.225329356673065,null,{"$f":"\"=Total Net CO2 - CO2 To Atmosphere\"","v":"=Total Net CO2 - CO2 To Atmosphere"}]
[18,"Airborne  Fraction","Percent",{"$f":"100 * IF(D30<0,0,D30/D27)","v":62.657499999999999},{"$f":"100 * IF(E30<0,0,E30/E27)","v":48.53700411896466},50.556634205368148,52.532826317528105,53.53851516660616,54.535101462426582,55.522763121639741,56.501673454212998,57.472001311569144,58.43391122904503,59.387563562922566,60.333114622272035,61.270716795835291,62.200518674165259,63.122665167227396,64.037297617658425]
[19,"Radiative Forcing"]
[20,"CO2","W/m-2",{"$f":"CO2RFFromCO2PPM(D32)","v":2.4025737155449995},{"$f":"CO2RFFromCO2PPM(E32)","v":2.6023286752827106},{"$f":"CO2RFFromCO2PPM(F32)","v":2.7813761158807653},{"$f":"CO2RFFromCO2PPM(G32)","v":2.9683247307904832},{"$f":"CO2RFFromCO2PPM(H32)","v":3.1596702212083532},{"$f":"CO2RFFromCO2PPM(I32)","v":3.352047782553345},{"$f":"CO2RFFromCO2PPM(J32)","v":3.5451777639626321},{"$f":"CO2RFFromCO2PPM(K32)","v":3.7387719247611568},{"$f":"CO2RFFromCO2PPM(L32)","v":3.9325333597923011},{"$f":"CO2RFFromCO2PPM(M32)","v":4.126156424522736},{"$f":"CO2RFFromCO2PPM(N32)","v":4.3193266599214617},{"$f":"CO2RFFromCO2PPM(O32)","v":4.5117207171130342},{"$f":"CO2RFFromCO2PPM(P32)","v":4.7030062818049698},{"$f":"CO2RFFromCO2PPM(Q32)","v":4.8928419984893416},{"$f":"CO2RFFromCO2PPM(R32)","v":5.0808773944185628},{"$f":"CO2RFFromCO2PPM(S32)","v":5.2667528033553461},null,{"$f":"\"   CO2RFFromCO2PPM = -0.0000072875 * ppm * ppm + 0.018987517 * ppm - 4.390914936\"","v":"   CO2RFFromCO2PPM = -0.0000072875 * ppm * ppm + 0.018987517 * ppm - 4.390914936"}]
[21,"CH4","W/m-2",{"$f":"IF(Input!$D23<>0,Input!D23,'Model Calcs'!D10)","v":0.59391213838198753},{"$f":"IF(Input!$D23<>0,Input!E23,'Model Calcs'!E10)","v":0.59043699744566291},{"$f":"IF(Input!$D23<>0,Input!F23,'Model Calcs'!F10)","v":0.58433281192820941},{"$f":"IF(Input!$D23<>0,Input!G23,'Model Calcs'!G10)","v":0.57544163824229377},{"$f":"IF(Input!$D23<>0,Input!H23,'Model Calcs'!H10)","v":0.56748389493966167},{"$f":"IF(Input!$D23<>0,Input!I23,'Model Calcs'!I10)","v":0.5595754691949788},{"$f":"IF(Input!$D23<>0,Input!J23,'Model Calcs'!J10)","v":0.5521802008567589},{"$f":"IF(Input!$D23<>0,Input!K23,'Model Calcs'!K10)","v":0.54548220275033643},{"$f":"IF(Input!$D23<>0,Input!L23,'Model Calcs'!L10)","v":0.53874667960832623},{"$f":"IF(Input!$D23<>0,Input!M23,'Model Calcs'!M10)","v":0.53295472333800964},{"$f":"IF(Input!$D23<>0,Input!N23,'Model Calcs'!N10)","v":0.52724112920677124},{"$f":"IF(Input!$D23<>0,Input!O23,'Model Calcs'!O10)","v":0.52220151141245685},{"$f":"IF(Input!$D23<>0,Input!P23,'Model Calcs'!P10)","v":0.51740258514670812},{"$f":"IF(Input!$D23<>0,Input!Q23,'Model Calcs'!Q10)","v":0.51277188453162748},{"$f":"IF(Input!$D23<>0,Input!R23,'Model Calcs'!R10)","v":0.50785721666613792},{"$f":"IF(Input!$D23<>0,Input!S23,'Model Calcs'!S10)","v":0.50260926399229}]
[22,"N2O","W/m-2",{"$f":"IF(Input!$D24<>0,Input!D24,'Model Calcs'!D11)","v":0.22897072787536477},{"$f":"IF(Input!$D24<>0,Input!E24,'Model Calcs'!E11)","v":0.2414303341981815},{"$f":"IF(Input!$D24<>0,Input!F24,'Model Calcs'!F11)","v":0.25335802059674134},{"$f":"IF(Input!$D24<>0,Input!G24,'Model Calcs'!G11)","v":0.26491611646053159},{"$f":"IF(Input!$D24<>0,Input!H24,'Model Calcs'!H11)","v":0.27633941705693704},{"$f":"IF(Input!$D24<>0,Input!I24,'Model Calcs'!I11)","v":0.28755545650806025},{"$f":"IF(Input!$D24<>0,Input!J24,'Model Calcs'!J11)","v":0.29850916656969606},{"$f":"IF(Input!$D24<>0,Input!K24,'Model Calcs'!K11)","v":0.30905561548604971},{"$f":"IF(Input!$D24<>0,Input!L24,'Model Calcs'!L11)","v":0.31928466676871092},{"$f":"IF(Input!$D24<>0,Input!M24,'Model Calcs'!M11)","v":0.32909632041767978},{"$f":"IF(Input!$D24<>0,Input!N24,'Model Calcs'!N11)","v":0.33856304231085366},{"$f":"IF(Input!$D24<>0,Input!O24,'Model Calcs'!O11)","v":0.34767469595982248},{"$f":"IF(Input!$D24<>0,Input!P24,'Model Calcs'!P11)","v":0.35644141785299638},{"$f":"IF(Input!$D24<>0,Input!Q24,'Model Calcs'!Q11)","v":0.36488060562406777},{"$f":"IF(Input!$D24<>0,Input!R24,'Model Calcs'!R11)","v":0.37304732751724168},{"$f":"IF(Input!$D24<>0,Input!S24,'Model Calcs'!S11)","v":0.38071404941041559}]
[23,"Other GHGs","W/m-2",{"$f":"IF(Input!$D25<>0,Input!D25,'Model Calcs'!D12)","v":0.41756036185295908},{"$f":"IF(Input!$D25<>0,Input!E25,'Model Calcs'!E12)","v":0.33547906762475449},{"$f":"IF(Input!$D25<>0,Input!F25,'Model Calcs'!F12)","v":0.3561327142388615},{"$f":"IF(Input!$D25<>0,Input!G25,'Model Calcs'!G12)","v":0.29182690680660806},{"$f":"IF(Input!$D25<>0,Input!H25,'Model Calcs'!H12)","v":0.27845891555979274},{"$f":"IF(Input!$D25<>0,Input!I25,'Model Calcs'!I12)","v":0.24975159766851229},{"$f":"IF(Input!$D25<>0,Input!J25,'Model Calcs'!J12)","v":0.22155334253139219},{"$f":"IF(Input!$D25<>0,Input!K25,'Model Calcs'!K12)","v":0.22163768976057807},{"$f":"IF(Input!$D25<>0,Input!L25,'Model Calcs'!L12)","v":0.19054411157546186},{"$f":"IF(Input!$D25<>0,Input!M25,'Model Calcs'!M12)","v":0.2168538454582486},{"$f":"IF(Input!$D25<>0,Input!N25,'Model Calcs'!N12)","v":0.16820427086960171},{"$f":"IF(Input!$D25<>0,Input!O25,'Model Calcs'!O12)","v":0.20592277635669654},{"$f":"IF(Input!$D25<>0,Input!P25,'Model Calcs'!P12)","v":0.17676715993194292},{"$f":"IF(Input!$D25<>0,Input!Q25,'Model Calcs'!Q12)","v":0.2071275762567803},{"$f":"IF(Input!$D25<>0,Input!R25,'Model Calcs'!R12)","v":0.20794773777782755},{"$f":"IF(Input!$D25<>0,Input!S25,'Model Calcs'!S12)","v":0.20931283105466969}]
[24,"Total GHG","W/m-2",{"$f":"SUM(D36:D39)","v":3.643016943655311},3.7696750745513095,3.9751996626445774,4.1005093922999167,4.2819524487647449,4.4489303059248968,4.6174204739204789,4.814947432758121,4.9811088177447997,5.2050613137366737,5.353335102308689,5.5875197008420106,5.7536174447366166,5.9776220649018166,6.1697296763797693,{"$f":"SUM(S36:S39)","v":6.3593889478127217},null,2.3599066351599163,0.56917708171986803,0.22897072787536477,0.4175603618529462,-0.91937930224769815,0.4639200724808461,3.1201555768412561]
[25,"Aerosol","W/m-2",{"$f":"IF(Input!$D26<>0,Input!D26,'Model Calcs'!D13)","v":-0.91937930224769815},{"$f":"IF(Input!$D26<>0,Input!E26,'Model Calcs'!E13)","v":-0.84740790096652152},{"$f":"IF(Input!$D26<>0,Input!F26,'Model Calcs'!F13)","v":-0.76769804649043116},{"$f":"IF(Input!$D26<>0,Input!G26,'Model Calcs'!G13)","v":-0.69767396087362643},{"$f":"IF(Input!$D26<>0,Input!H26,'Model Calcs'!H13)","v":-0.63313457038185605},{"$f":"IF(Input!$D26<>0,Input!I26,'Model Calcs'!I13)","v":-0.58320351476961918},{"$f":"IF(Input!$D26<>0,Input!J26,'Model Calcs'!J13)","v":-0.55710467023148946},{"$f":"IF(Input!$D26<>0,Input!K26,'Model Calcs'!K13)","v":-0.52847376019417769},{"$f":"IF(Input!$D26<>0,Input!L26,'Model Calcs'!L13)","v":-0.50607218588784519},{"$f":"IF(Input!$D26<>0,Input!M26,'Model Calcs'!M13)","v":-0.48106953784726125},{"$f":"IF(Input!$D26<>0,Input!N26,'Model Calcs'!N13)","v":-0.45377580698591125},{"$f":"IF(Input!$D26<>0,Input!O26,'Model Calcs'!O13)","v":-0.42771672581702097},{"$f":"IF(Input!$D26<>0,Input!P26,'Model Calcs'!P13)","v":-0.4057764071659245},{"$f":"IF(Input!$D26<>0,Input!Q26,'Model Calcs'!Q13)","v":-0.38144924592129104},{"$f":"IF(Input!$D26<>0,Input!R26,'Model Calcs'!R13)","v":-0.35891784444942842},{"$f":"IF(Input!$D26<>0,Input!S26,'Model Calcs'!S13)","v":-0.33605466862823385}]
[26,"Other Non GHGs","W/m-2",{"$f":"IF(Input!$D27<>0,Input!D27,'Model Calcs'!D14)","v":0.41756036185295908},{"$f":"IF(Input!$D27<>0,Input!E27,'Model Calcs'!E14)","v":0.33547906762475449},{"$f":"IF(Input!$D27<>0,Input!F27,'Model Calcs'!F14)","v":0.3561327142388615},{"$f":"IF(Input!$D27<>0,Input!G27,'Model Calcs'!G14)","v":0.29182690680660806},{"$f":"IF(Input!$D27<>0,Input!H27,'Model Calcs'!H14)","v":0.27845891555979274},{"$f":"IF(Input!$D27<>0,Input!I27,'Model Calcs'!I14)","v":0.24975159766851229},{"$f":"IF(Input!$D27<>0,Input!J27,'Model Calcs'!J14)","v":0.22155334253139219},{"$f":"IF(Input!$D27<>0,Input!K27,'Model Calcs'!K14)","v":0.22163768976057807},{"$f":"IF(Input!$D27<>0,Input!L27,'Model Calcs'!L14)","v":0.19054411157546186},{"$f":"IF(Input!$D27<>0,Input!M27,'Model Calcs'!M14)","v":0.2168538454582486},{"$f":"IF(Input!$D27<>0,Input!N27,'Model Calcs'!N14)","v":0.16820427086960171},{"$f":"IF(Input!$D27<>0,Input!O27,'Model Calcs'!O14)","v":0.20592277635669654},{"$f":"IF(Input!$D27<>0,Input!P27,'Model Calcs'!P14)","v":0.17676715993194292},{"$f":"IF(Input!$D27<>0,Input!Q27,'Model Calcs'!Q14)","v":0.2071275762567803},{"$f":"IF(Input!$D27<>0,Input!R27,'Model Calcs'!R14)","v":0.20794773777782755},{"$f":"IF(Input!$D27<>0,Input!S27,'Model Calcs'!S14)","v":0.20931283105466969}]
[27,"Total RF w/o Albedo","W/m-2",{"$f":"SUM(D36:D42)-D40","v":3.141198003260572},{"$f":"SUM(E36:E42)-E40","v":3.2577462412095421},3.5636343303930076,3.6946623382328987,3.9272767939426814,4.1154783888237887,4.2818691462203819,4.5081113623245219,4.6655807434324172,4.9408456213476599,5.0677635661923794,5.3657257513816869,5.5246081975026344,5.803300395237307,6.0187595697081688,6.2326471102391565,null,"\"RF in 2100\" used in \"row\" 39"]
[28,"CO2 Equivalents"]
[29,"CO2","GtCO2",44,48,46,44,40,35,31,27,22,18,14,14,15,16,16,17]
[30,"CH4","GtCO2e",{"$f":"D$45*D37/D$36","v":10.876725205028576},10.890621214214198,9.6640325611575513,8.5298726989072389,7.1840901766341769,5.8427393319870067,4.8284140785725498,3.9392666283595115,3.0139418707967853,2.3249688167587581,1.7089181694419502,1.6204064077025704,1.6502293027390997,1.6768066810739284,1.5992740693929073,1.6223198253059241]
[31,"N2O","GtCO2e",{"$f":"D$45*D38/D$36","v":4.1932998606166398},4.4531869289161747,4.1901808536094141,3.9268982275935973,3.4983323918058327,3.0024753913608455,2.6102454601083629,2.2318830316605665,1.7861927735261807,1.4356541919526045,1.0973660863237735,1.0788446467830353,1.1368518235835661,1.1931899071720662,1.1747493153116932,1.2288670233115537]
[32,"Other GHG","GtCO2e",{"$f":"D$45*D39/D$36","v":7.6470727214971417},6.1879175366804215,5.8899279250479895,4.3258016100116112,3.5251642869653868,2.6077509884836556,1.9373227735684151,1.6005837595771228,1.0659720010313052,0.94600611723050942,0.54519141004659333,0.6389843365212724,0.56378989099744936,0.67732438961480679,0.65484040376573371,0.67561897449647712]
[33,"Total GHG","GtCO2e",{"$f":"D$45*D40/D$36","v":66.71709778714235},69.531725679810805,65.744141339814959,60.782572536512454,54.207586855405403,46.45296571183151,40.375982312249327,34.771733419597197,27.866106645354268,22.70662912594187,17.35147566581232,17.338235391006879,18.350871017320113,19.547320977860799,19.428863788470334,20.526805823113953]
[34,"Aerosol","GtCO2e",{"$f":"D$45*D41/D$36","v":-16.837231272932009},-15.630454228451423,-12.696632410455958,-10.341743933880371,-8.0151981195015516,-6.0894487015302055,-4.8714749801071502,-3.8164380744231483,-2.8311490509823978,-2.0986241892785973,-1.4707989920628675,-1.3272173826552645,-1.2942032697334331,-1.2473707380342565,-1.1302546913451013,-1.0847156834549703]
[35,"Other Non GHGs","GtCO2e",7.6470727214971417,6.1879175366804215,5.8899279250479895,4.3258016100116112,3.5251642869653868,2.6077509884836556,1.9373227735684151,1.6005837595771228,1.0659720010313052,0.94600611723050942,0.54519141004659333,0.6389843365212724,0.56378989099744936,0.67732438961480679,0.65484040376573371,0.67561897449647712]
[36,"Albedo CO2e","GtCO2e",{"$f":"D$45*D59/D$36","v":0},0,0,0,0,0,0,0,0,0,0,0,0,0,0,0]
[37,"Total","GtCO2e",{"$f":"D$45*D43/D$36","v":57.526939235707488},60.089188988039787,58.937436854406982,54.76663021264369,49.717553022869232,42.971267998784953,37.441830105710594,32.555879104751178,26.10092959540318,21.554011053893777,16.425868083796043,16.650002344872888,17.620457638584128,18.977274629441354,18.953449500890965,20.11770911415546]
[38,"Temp/RF Ratio (CF) w/o Albedo"]
[39,"Temp/RF Ratio (CF)  w/o Albedo",null,{"$f":"Input!AC8","v":0.45500000000000002},{"$f":"D55+($S55-$D55)/15","v":0.46207581658180558},{"$f":"E55+($S55-$D55)/15","v":0.46915163316361114},0.4762274497454167,0.48330326632722226,0.49037908290902782,0.49745489949083338,0.504530716072639,0.51160653265444456,0.51868234923625012,0.52575816581805568,0.53283398239986124,0.5399097989816668,0.54698561556347236,0.55406143214527792,{"$f":"CFfromRFin2100(S43)","v":0.56113724872708348},null,{"$f":"\"CF for 2100 = CFfromRFIn2100(RF in 2100); other values interpolated \"","v":"CF for 2100 = CFfromRFIn2100(RF in 2100); other values interpolated "}]
[40,"Temperature Increase from RF w/o Albedo",null,null,null,null,null,null,null,null,null,null,null,null,null,null,null,null,null,null,{"$f":"CFfromRFin2100(4.08)","v":0.5830549424}]
[41,"Temp Incr w/o Albedo","°C",{"$f":"D55*D43","v":1.4292450914835604},{"$f":"E55*E43","v":1.5053257546232068},{"$f":"F55*F43","v":1.6718848661017913},1.7594996230070916,1.8980657022835994,2.0181445180433331,2.1300367857659608,2.2744806537687912,2.3869415869668047,2.5627294140942443,2.6644180773608741,2.8590410205741921,2.982790101366116,3.1743218389886207,3.3347625469306048,3.4973704517264075,null,{"$f":"CFfromRFin2100(4.54)","v":0.5773272156}]
[42,"Temperature Increase from RF with Albedo (Calculated based on 'Albedo Adjustment in 2023' and 'Albedo Adjustment per DC of warming')"]
[43,"Albedo","W/m-2",{"$f":"Input!D28","v":0},{"$f":"Input!E28","v":0},{"$f":"Input!F28","v":0},{"$f":"Input!G28","v":0},{"$f":"Input!H28","v":0},{"$f":"Input!I28","v":0},{"$f":"Input!J28","v":0},{"$f":"Input!K28","v":0},{"$f":"Input!L28","v":0},{"$f":"Input!M28","v":0},{"$f":"Input!N28","v":0},{"$f":"Input!O28","v":0},{"$f":"Input!P28","v":0},{"$f":"Input!Q28","v":0},{"$f":"Input!R28","v":0},{"$f":"Input!S28","v":0}]
[44,"Total RF with Albedo","W/m-2",{"$f":"D43+D59","v":3.141198003260572},3.2577462412095421,3.5636343303930076,3.6946623382328987,3.9272767939426814,4.1154783888237887,4.2818691462203819,4.5081113623245219,4.6655807434324172,4.9408456213476599,5.0677635661923794,5.3657257513816869,5.5246081975026344,5.803300395237307,6.0187595697081688,6.2326471102391565]
[45,"Temp/RF Ratio (CF)  with Albedo",null,{"$f":"Input!AC8","v":0.45500000000000002},{"$f":"D61+($S$61-$D$61)/15","v":0.46207581658180558},{"$f":"E61+($S$61-$D$61)/15","v":0.46915163316361114},0.4762274497454167,0.48330326632722226,0.49037908290902782,0.49745489949083338,0.504530716072639,0.51160653265444456,0.51868234923625012,0.52575816581805568,0.53283398239986124,0.5399097989816668,0.54698561556347236,0.55406143214527792,{"$f":"CFfromRFin2100(S60)","v":0.56113724872708348}]
[46,"Temp Incr with Albedo","°C",{"$f":"D61*D60","v":1.4292450914835604},{"$f":"E61*E60","v":1.5053257546232068},1.6718848661017913,1.7594996230070916,1.8980657022835994,2.0181445180433331,2.1300367857659608,2.2744806537687912,2.3869415869668047,2.5627294140942443,2.6644180773608741,2.8590410205741921,2.982790101366116,3.1743218389886207,3.3347625469306048,3.4973704517264075]
[47,"Temp Incr Due to Albedo","°C",{"$f":"D62-D57","v":0},{"$f":"E62-E57","v":0},0,0,0,0,0,0,0,0,0,0,0,0,0,0]
[48,"Temperature Increase With CDR"]
[49,"Temp/RF Ratio (CF)",null,{"$f":"Input!AC8","v":0.45500000000000002},{"$f":"D65+($S$78-$D$78)/15","v":0.46773962818333337},0.48047925636666672,0.49321888455000007,0.50595851273333337,0.51869814091666666,0.53143776909999996,0.54417739728333325,0.55691702546666655,0.56965665364999984,0.58239628183333314,0.59513591001666644,0.60787553819999973,0.62061516638333303,0.63335479456666632,{"$f":"CFfromTempin2100(Input!N6)","v":0.64609442275000006},null,{"$f":"\"CF for 2100 = CFfromTempIn2100(Temp in 2100); other values interpolated \"","v":"CF for 2100 = CFfromTempIn2100(Temp in 2100); other values interpolated "}]
[50,"Carbon Feedbacks For Temp Incr","GtCO2",{"$f":"D25","v":2},{"$f":"D66+($S$66-$D$66)/15","v":2.3666666666666667},{"$f":"E66+($S$66-$D$66)/15","v":2.7333333333333334},3.1,3.4666666666666668,3.8333333333333335,4.2,4.5666666666666664,4.9333333333333327,5.2999999999999989,5.6666666666666652,6.0333333333333314,6.3999999999999977,6.7666666666666639,7.1333333333333302,{"$f":"Input!N6*Input!E7","v":7.5}]
[51,"Change in Feedback Emissions","GtCO2",{"$f":"D25-D66","v":0},{"$f":"E25-E66","v":0.61189466666666625},1.2237893333333325,1.8356839999999992,2.4475786666666659,3.0594733333333326,3.6713679999999993,4.2832626666666656,4.8951573333333327,5.5070519999999998,6.118946666666667,6.7308413333333341,7.3427360000000013,7.9546306666666684,8.5665253333333347,9.1784199999999956]
[52,"Carbon Dioxide Removal","GTCO2",0,0,0,0,-15.018518518518519,-30.037037037037038,-45.055555555555557,-60.074074074074076,-75.092592592592595,-90.111111111111114,-90.111111111111114,-90.111111111111114,-90.111111111111114,-90.111111111111114,-90.111111111111114,-90.111111111111114]
[53,"Total Net CO2","GTCO2",44,45.590455999999996,47.180911999999992,48.771367999999974,34.676638814814787,20.581909629629603,6.4871804444444177,-7.6075487407407607,-21.702277925925944,-35.797007111111128,-34.873217777777796,-33.949428444444465,-33.025639111111118,-32.101849777777787,-31.178060444444451,-30.254271111111123]
[54,"CO2 To Atmosphere","GtCO2",27.569299999999998,22.272967123674519,24.415901132141041,26.60939202273288,11.561666112675203,0.48448807652980952,-6.6221420857033078,-14.048211270095489,-21.80139014007603,-30.426545108932885,-29.834537302220763,-29.246275230050838,-28.661758892423094,-28.080988289337558,-27.503963420794214,-26.930684286793067,null,{"$f":"\"=CO2AddedToAtmosphere(Total Net CO2,Year)\"","v":"=CO2AddedToAtmosphere(Total Net CO2,Year)"}]
[55,"PPM Added/Yr","PPM",3.53,2.8518523845934083,3.1262357403509657,3.4070924484933265,1.48036697985598,6.2034324779745138E-2,-0.84790551673537873,-1.798746641497502,-2.7914712087165214,-3.8958444441655424,-3.8200431885045791,-3.7447215403394161,-3.6698794996700506,-3.5955170664964866,-3.5216342408187216,-3.4482310226367563,null,{"$f":"\"=CO2 To Atmosphere/7.81\"","v":"=CO2 To Atmosphere/7.81"}]
[56,"CO2 PPM","PPM",428.14,444.09463096148352,459.03985127384448,475.37317174595523,487.59182031682849,491.4478235784178,489.48314559852872,482.86651520294652,471.39097057741145,454.67268144520631,435.38296236353102,416.47105054142105,397.9345479413974,379.77105652598107,361.97817825769306,344.55351509905438]
[57,"CO2 RF","W/m-2",2.4025737155449995,2.6040983683891459,2.7895076426329655,2.9884145268900331,3.1346706459661124,3.1803749487597233,3.1571151604156293,3.0783672090595751,2.9402777854384015,2.7356655180233056,2.4945201778468205,2.2528329255070831,2.010884554279297,1.7689470773507348,1.5272838586124267,1.2861497426127062]
[58,"RF Change from  CDR","W/m-2",0,1.7696931064352661E-3,8.1315267522001911E-3,2.0089796099549861E-2,-2.4999575242240724E-2,-0.17167283379362175,-0.38806260354700273,-0.66040471570158177,-0.99225557435389966,-1.3904909064994304,-1.8248064820746412,-2.2588877916059511,-2.6921217275256728,-3.1238949211386071,-3.5535935358061361,-3.9806030607426397]
[59,"Total RF with CDR","W/m-2",3.141198003260572,3.2595159343159774,3.5717658571452078,3.7147521343324486,3.9022772187004406,3.9438055550301669,3.8938065426733792,3.8477066466229402,3.6733251690785176,3.5503547148482295,3.2429570841177382,3.1068379597757358,2.8324864699769616,2.6794054740986999,2.4651660339020327,2.2520440494965168]
[60,"Temp Incr with CDR","°C",1.4292450914835604,1.5246047711746058,1.7161594029569793,1.8321859040751822,1.9743903778468437,2.0456446095309704,2.0693158623453245,2.0938349884690535,2.0457373267350478,2.022483186130942,1.8886861479352386,1.8489908364654559,1.721799237381463,1.662879674116178,1.5613247269747454,1.4550331001670247]
[61,"Temperature Increase With SRM - Based on RF reduction per year until temperature target met"]
[62,"Temp/RF Ratio (CF)",null,{"$f":"Input!AC8","v":0.45500000000000002},{"$f":"D78+($S$78-$D$78)/15","v":0.46773962818333337},0.48047925636666672,0.49321888455000007,0.50595851273333337,0.51869814091666666,0.53143776909999996,0.54417739728333325,0.55691702546666655,0.56965665364999984,0.58239628183333314,0.59513591001666644,0.60787553819999973,0.62061516638333303,0.63335479456666632,{"$f":"CFfromTempin2100(Input!N6)","v":0.64609442275000006},null,{"$f":"\"CF for 2100 = CFfromTempIn2100(Temp in 2100); other values interpolated \"","v":"CF for 2100 = CFfromTempIn2100(Temp in 2100); other values interpolated "}]
[63,{"$f":"B66","v":"Carbon Feedbacks For Temp Incr"},{"$f":"C66","v":"GtCO2"},2,2.3666666666666667,2.7333333333333334,3.1,3.4666666666666668,3.8333333333333335,4.2,4.5666666666666664,4.9333333333333327,5.2999999999999989,5.6666666666666652,6.0333333333333314,6.3999999999999977,6.7666666666666639,7.1333333333333302,7.5]
[64,{"$f":"B67","v":"Change in Feedback Emissions"},"GtCO2",0,0.61189466666666625,1.2237893333333325,1.8356839999999992,2.4475786666666659,3.0594733333333326,3.6713679999999993,4.2832626666666656,4.8951573333333327,5.5070519999999998,6.118946666666667,6.7308413333333341,7.3427360000000013,7.9546306666666684,8.5665253333333347,9.1784199999999956]
[65,"Total Net CO2","GTCO2",{"$f":"D27+D80","v":44},{"$f":"E27+E80","v":45.590455999999996},47.180911999999992,48.771367999999974,49.695157333333306,50.618946666666638,51.542735999999977,52.466525333333315,53.390314666666647,54.314103999999986,55.237893333333318,56.16168266666665,57.085471999999996,58.009261333333328,58.933050666666659,59.856839999999991]
[66,"CO2 To Atmosphere","GtCO2",{"$f":"D30","v":27.569299999999998},{"$f":"CO2AddedToAtmosphere(E81,E16)","v":22.539633790341185},{"$f":"CO2AddedToAtmosphere(F81,F16)","v":24.682567798807707},{"$f":"CO2AddedToAtmosphere(G81,G16)","v":26.876058689399546},{"$f":"CO2AddedToAtmosphere(H81,H16)","v":28.285099118787247},{"$f":"CO2AddedToAtmosphere(I81,I16)","v":29.711195770635541},{"$f":"CO2AddedToAtmosphere(J81,J16)","v":31.154348644944427},{"$f":"CO2AddedToAtmosphere(K81,K16)","v":32.614557741713909},{"$f":"CO2AddedToAtmosphere(L81,L16)","v":34.091823060943966},{"$f":"CO2AddedToAtmosphere(M81,M16)","v":35.586144602634626},{"$f":"CO2AddedToAtmosphere(N81,N16)","v":37.09752236678586},{"$f":"CO2AddedToAtmosphere(O81,O16)","v":38.625956353397683},{"$f":"CO2AddedToAtmosphere(P81,P16)","v":40.171446562470116},{"$f":"CO2AddedToAtmosphere(Q81,Q16)","v":41.733992994003124},{"$f":"CO2AddedToAtmosphere(R81,R16)","v":43.313595647996713},{"$f":"CO2AddedToAtmosphere(S81,S16)","v":44.910254524450899}]
[67,"PPM Added/Yr","PPM",{"$f":"D31","v":3.53},{"$f":"E82/Input!$AN$5","v":2.8859966440897806},{"$f":"F82/Input!$AN$5","v":3.1603799998473376},{"$f":"G82/Input!$AN$5","v":3.4412367079896988},{"$f":"H82/Input!$AN$5","v":3.6216516157217988},{"$f":"I82/Input!$AN$5","v":3.8042504187753576},{"$f":"J82/Input!$AN$5","v":3.9890331171503752},{"$f":"K82/Input!$AN$5","v":4.1759997108468516},{"$f":"L82/Input!$AN$5","v":4.365150199864785},{"$f":"M82/Input!$AN$5","v":4.5564845842041777},{"$f":"N82/Input!$AN$5","v":4.7500028638650269},{"$f":"O82/Input!$AN$5","v":4.9457050388473345},{"$f":"P82/Input!$AN$5","v":5.1435911091511031},{"$f":"Q82/Input!$AN$5","v":5.3436610747763282},{"$f":"R82/Input!$AN$5","v":5.5459149357230109},{"$f":"S82/Input!$AN$5","v":5.7503526919911527}]
[{"$f":"A83+1","v":68},"CO2 PPM","PPM",{"$f":"D32","v":428.14},{"$f":"D84+(D83+E83)*2.5","v":444.17999161022442},{"$f":"E84+(E83+F83)*2.5","v":459.29593322006724},475.79997498965986,493.45719579893859,512.02195088518147,531.50515972499579,551.91774179498884,573.27061657176796,595.57470353194037,618.84092215211342,643.08019190889434,668.30343227889045,694.52156273870901,721.74550276495734,749.98617183424278]
[69,"CO2 RF","W/m-2",{"$f":"CO2RFFromCO2PPM(D84)","v":2.4025737155449995},{"$f":"CO2RFFromCO2PPM(E84)","v":2.6051665899587579},{"$f":"CO2RFFromCO2PPM(F84)","v":2.7926562072861025},{"$f":"CO2RFFromCO2PPM(G84)","v":2.9935599996570681},{"$f":"CO2RFFromCO2PPM(H84)","v":3.204105678229757},{"$f":"CO2RFFromCO2PPM(I84)","v":3.4205723510085506},{"$f":"CO2RFFromCO2PPM(J84)","v":3.6423460774069101},{"$f":"CO2RFFromCO2PPM(K84)","v":3.8687639197863279},{"$f":"CO2RFFromCO2PPM(L84)","v":4.0991124730353352},{"$f":"CO2RFFromCO2PPM(M84)","v":4.3326263767700084},{"$f":"CO2RFFromCO2PPM(N84)","v":4.5684868101559859},{"$f":"CO2RFFromCO2PPM(O84)","v":4.8058199693519761},{"$f":"CO2RFFromCO2PPM(P84)","v":5.0436955275747852},{"$f":"CO2RFFromCO2PPM(Q84)","v":5.2811250777858305},{"$f":"CO2RFFromCO2PPM(R84)","v":5.5170605579991721},{"$f":"CO2RFFromCO2PPM(S84)","v":5.7503926592110366}]
[70,"RF Change from  SRM","W/m-2",{"$f":"D85-D36","v":0},{"$f":"E85-E36","v":2.8379146760473262E-3},1.1280091405337256E-2,2.5235268866584892E-2,4.4435457021403835E-2,6.8524568455205603E-2,9.7168313444278009E-2,0.12999199502517111,0.16657911324303409,0.20646995224727238,0.2491601502345242,0.29409925223894184,0.34068924576981541,0.38828307929648886,0.43618316358060927,0.48363985585569047]
[71,"Total RF with SRM","W/m-2",{"$f":"D60+D86","v":3.141198003260572},{"$f":"E60+E86","v":3.2605841558855895},3.5749144217983448,3.7198976070994836,3.9717122509640852,4.1840029572789943,4.3790374596646604,4.638103357349693,4.8321598566754513,5.1473155735949323,5.3169237164269036,5.6598250036206288,5.8652974432724498,6.1915834745337959,6.4549427332887781,6.716286966094847]
[72,"RF for Desired Tmp Increase","W/m-2",{"$f":"(Input!$N$6)/'Model Calcs'!D78","v":3.2967032967032965},{"$f":"(Input!$N$6)/'Model Calcs'!E78","v":3.2069123709399836},{"$f":"(Input!$N$6)/'Model Calcs'!F78","v":3.1218829535802257},{"$f":"(Input!$N$6)/'Model Calcs'!G78","v":3.0412460815821367},{"$f":"(Input!$N$6)/'Model Calcs'!H78","v":2.9646699526737255},{"$f":"(Input!$N$6)/'Model Calcs'!I78","v":2.8918553618664076},{"$f":"(Input!$N$6)/'Model Calcs'!J78","v":2.8225317943440089},{"$f":"(Input!$N$6)/'Model Calcs'!K78","v":2.7564540671633315},{"$f":"(Input!$N$6)/'Model Calcs'!L78","v":2.6933994318867889},{"$f":"(Input!$N$6)/'Model Calcs'!M78","v":2.6331650659900974},{"$f":"(Input!$N$6)/'Model Calcs'!N78","v":2.5755658935152019},{"$f":"(Input!$N$6)/'Model Calcs'!O78","v":2.5204326856330908},{"$f":"(Input!$N$6)/'Model Calcs'!P78","v":2.4676104000527794},{"$f":"(Input!$N$6)/'Model Calcs'!Q78","v":2.4169567249561874},{"$f":"(Input!$N$6)/'Model Calcs'!R78","v":2.3683407986613281},{"$f":"(Input!$N$6)/'Model Calcs'!S78","v":2.3216420807588527}]
[73,"SRM To Meet Desired Temp Incr","W/m-2",{"$f":"D87-D88","v":-0.15550529344272457},{"$f":"E87-E88","v":5.3671784945605872E-2},0.45303146821811913,0.67865152551734687,1.0070422982903597,1.2921475954125867,1.5565056653206515,1.8816492901863615,2.1387604247886625,2.5141505076048349,2.7413578229117017,3.139392317987538,3.3976870432196704,3.7746267495776085,4.08660193462745,4.3946448853359943]
[74,"SRM Implentation","W/m-2",{"$f":"IF(D16<=Input!$N$9,0,IF((D16-$D$16)*Input!$N$10<D89,(D16-$D$16)*Input!$N$10,D89))","v":0},{"$f":"IF(E16<=Input!$N$9,0,IF((E16-$D$16)*Input!$N$10<E89,(E16-$D$16)*Input!$N$10,E89))","v":0},{"$f":"IF(F16<=Input!$N$9,0,IF((F16-$D$16)*Input!$N$10<F89,(F16-$D$16)*Input!$N$10,F89))","v":0},{"$f":"IF(G16<=Input!$N$9,0,IF((G16-$D$16)*Input!$N$10<G89,(G16-$D$16)*Input!$N$10,G89))","v":0.67865152551734687},{"$f":"IF(H16<=Input!$N$9,0,IF((H16-$D$16)*Input!$N$10<H89,(H16-$D$16)*Input!$N$10,H89))","v":1.0070422982903597},{"$f":"IF(I16<=Input!$N$9,0,IF((I16-$D$16)*Input!$N$10<I89,(I16-$D$16)*Input!$N$10,I89))","v":1.2921475954125867},{"$f":"IF(J16<=Input!$N$9,0,IF((J16-$D$16)*Input!$N$10<J89,(J16-$D$16)*Input!$N$10,J89))","v":1.5565056653206515},{"$f":"IF(K16<=Input!$N$9,0,IF((K16-$D$16)*Input!$N$10<K89,(K16-$D$16)*Input!$N$10,K89))","v":1.8816492901863615},{"$f":"IF(L16<=Input!$N$9,0,IF((L16-$D$16)*Input!$N$10<L89,(L16-$D$16)*Input!$N$10,L89))","v":2.1387604247886625},{"$f":"IF(M16<=Input!$N$9,0,IF((M16-$D$16)*Input!$N$10<M89,(M16-$D$16)*Input!$N$10,M89))","v":2.5141505076048349},{"$f":"IF(N16<=Input!$N$9,0,IF((N16-$D$16)*Input!$N$10<N89,(N16-$D$16)*Input!$N$10,N89))","v":2.7413578229117017},{"$f":"IF(O16<=Input!$N$9,0,IF((O16-$D$16)*Input!$N$10<O89,(O16-$D$16)*Input!$N$10,O89))","v":3.139392317987538},{"$f":"IF(P16<=Input!$N$9,0,IF((P16-$D$16)*Input!$N$10<P89,(P16-$D$16)*Input!$N$10,P89))","v":3.3976870432196704},{"$f":"IF(Q16<=Input!$N$9,0,IF((Q16-$D$16)*Input!$N$10<Q89,(Q16-$D$16)*Input!$N$10,Q89))","v":3.7746267495776085},{"$f":"IF(R16<=Input!$N$9,0,IF((R16-$D$16)*Input!$N$10<R89,(R16-$D$16)*Input!$N$10,R89))","v":4.08660193462745},{"$f":"IF(S16<=Input!$N$9,0,IF((S16-$D$16)*Input!$N$10<S89,(S16-$D$16)*Input!$N$10,S89))","v":4.3946448853359943}]
[75,"RF With SRM Implenention","W/m-2",{"$f":"D87-D90","v":3.141198003260572},{"$f":"E87-E90","v":3.2605841558855895},3.5749144217983448,3.0412460815821367,2.9646699526737255,2.8918553618664076,2.8225317943440089,2.7564540671633315,2.6933994318867889,2.6331650659900974,2.5755658935152019,2.5204326856330908,2.4676104000527794,2.4169567249561874,2.3683407986613281,2.3216420807588527]
[76,"Temp Incr with SRM","°C",{"$f":"D78*D91","v":1.4292450914835604},{"$f":"E78*E91","v":1.5251044207343936},1.7176722229601411,1.5,1.5,1.5,1.5,1.5,1.5,1.4999999999999998,1.5,1.5,1.5,1.5,1.5,1.5]
[77,"Temperature Increase With SRM - Based on Temperature Reduction Per Airplane Per Year"]
[78,"RF With Feedback Reduction",{"$f":"C88","v":"W/m-2"},{"$f":"D87","v":3.141198003260572},{"$f":"E87","v":3.2605841558855895},3.5749144217983448,3.7198976070994836,3.9717122509640852,4.1840029572789943,4.3790374596646604,4.638103357349693,4.8321598566754513,5.1473155735949323,5.3169237164269036,5.6598250036206288,5.8652974432724498,6.1915834745337959,6.4549427332887781,6.716286966094847]
[79,"Temp Increase w/o Planes","°C",{"$f":"D78*D94","v":1.4292450914835604},{"$f":"E78*E94","v":1.5251044207343936},1.7176722229601411,1.8347237484138217,2.0095216235025481,2.1702345555304499,2.3271858983695184,2.5239510133336456,2.6911120939591262,2.9322025649346188,3.0965566032384961,3.3683651040648455,3.565370840032323,3.842590608224087,4.0882689287817096,4.3393555503823995]
[80,"Reduction needed by planes",null,{"$f":"IF(D16<=Input!$N$9,0,(D95-Input!#REF!))","v":0},{"$f":"IF(E16<=Input!$N$9,0,(E95-Input!#REF!))","v":0},{"$f":"IF(F16<=Input!$N$9,0,(F95-Input!$N$6))","v":0},{"$f":"IF(G16<=Input!$N$9,0,(G95-Input!$N$6))","v":0.33472374841382169},{"$f":"IF(H16<=Input!$N$9,0,(H95-Input!$N$6))","v":0.50952162350254815},{"$f":"IF(I16<=Input!$N$9,0,(I95-Input!$N$6))","v":0.67023455553044986},{"$f":"IF(J16<=Input!$N$9,0,(J95-Input!$N$6))","v":0.82718589836951839},{"$f":"IF(K16<=Input!$N$9,0,(K95-Input!$N$6))","v":1.0239510133336456},{"$f":"IF(L16<=Input!$N$9,0,(L95-Input!$N$6))","v":1.1911120939591262},{"$f":"IF(M16<=Input!$N$9,0,(M95-Input!$N$6))","v":1.4322025649346188},{"$f":"IF(N16<=Input!$N$9,0,(N95-Input!$N$6))","v":1.5965566032384961},{"$f":"IF(O16<=Input!$N$9,0,(O95-Input!$N$6))","v":1.8683651040648455},{"$f":"IF(P16<=Input!$N$9,0,(P95-Input!$N$6))","v":2.065370840032323},{"$f":"IF(Q16<=Input!$N$9,0,(Q95-Input!$N$6))","v":2.342590608224087},{"$f":"IF(R16<=Input!$N$9,0,(R95-Input!$N$6))","v":2.5882689287817096},{"$f":"IF(S16<=Input!$N$9,0,(S95-Input!$N$6))","v":2.8393555503823995}]
[81,"Number of planes to meet target",null,{"$f":"D96/Input!$N$11","v":0},{"$f":"E96/Input!$N$11","v":0},{"$f":"F96/Input!$N$11","v":0},{"$f":"G96/Input!$N$11","v":111.57458280460723},{"$f":"H96/Input!$N$11","v":169.84054116751605},{"$f":"I96/Input!$N$11","v":223.41151851014996},{"$f":"J96/Input!$N$11","v":275.72863278983948},{"$f":"K96/Input!$N$11","v":341.3170044445485},{"$f":"L96/Input!$N$11","v":397.03736465304206},{"$f":"M96/Input!$N$11","v":477.40085497820627},{"$f":"N96/Input!$N$11","v":532.185534412832},{"$f":"O96/Input!$N$11","v":622.78836802161516},{"$f":"P96/Input!$N$11","v":688.45694667744101},{"$f":"Q96/Input!$N$11","v":780.86353607469562},{"$f":"R96/Input!$N$11","v":862.75630959390321},{"$f":"S96/Input!$N$11","v":946.45185012746651}]
[82,"Number of planes",null,0,{"$f":"IF(E16<=Input!$N$9,0,Input!$N$12*(E16-Input!$N$9))","v":0},{"$f":"IF(F16<=Input!$N$9,0,IF(Input!$N$12*(F16-Input!$N$9)>F97,F97,Input!$N$12*(F16-Input!$N$9)))","v":0},{"$f":"IF(G16<=Input!$N$9,0,IF(Input!$N$12*(G16-Input!$N$9)>G97,G97,Input!$N$12*(G16-Input!$N$9)))","v":40},{"$f":"IF(H16<=Input!$N$9,0,IF(Input!$N$12*(H16-Input!$N$9)>H97,H97,Input!$N$12*(H16-Input!$N$9)))","v":80},{"$f":"IF(I16<=Input!$N$9,0,IF(Input!$N$12*(I16-Input!$N$9)>I97,I97,Input!$N$12*(I16-Input!$N$9)))","v":120},{"$f":"IF(J16<=Input!$N$9,0,IF(Input!$N$12*(J16-Input!$N$9)>J97,J97,Input!$N$12*(J16-Input!$N$9)))","v":160},{"$f":"IF(K16<=Input!$N$9,0,IF(Input!$N$12*(K16-Input!$N$9)>K97,K97,Input!$N$12*(K16-Input!$N$9)))","v":200},{"$f":"IF(L16<=Input!$N$9,0,IF(Input!$N$12*(L16-Input!$N$9)>L97,L97,Input!$N$12*(L16-Input!$N$9)))","v":240},{"$f":"IF(M16<=Input!$N$9,0,IF(Input!$N$12*(M16-Input!$N$9)>M97,M97,Input!$N$12*(M16-Input!$N$9)))","v":280},{"$f":"IF(N16<=Input!$N$9,0,IF(Input!$N$12*(N16-Input!$N$9)>N97,N97,Input!$N$12*(N16-Input!$N$9)))","v":320},{"$f":"IF(O16<=Input!$N$9,0,IF(Input!$N$12*(O16-Input!$N$9)>O97,O97,Input!$N$12*(O16-Input!$N$9)))","v":360},{"$f":"IF(P16<=Input!$N$9,0,IF(Input!$N$12*(P16-Input!$N$9)>P97,P97,Input!$N$12*(P16-Input!$N$9)))","v":400},{"$f":"IF(Q16<=Input!$N$9,0,IF(Input!$N$12*(Q16-Input!$N$9)>Q97,Q97,Input!$N$12*(Q16-Input!$N$9)))","v":440},{"$f":"IF(R16<=Input!$N$9,0,IF(Input!$N$12*(R16-Input!$N$9)>R97,R97,Input!$N$12*(R16-Input!$N$9)))","v":480},{"$f":"IF(S16<=Input!$N$9,0,IF(Input!$N$12*(S16-Input!$N$9)>S97,S97,Input!$N$12*(S16-Input!$N$9)))","v":520}]
[83,"Temp Decrease from planes","°C",{"$f":"D98*Input!$N$11","v":0},{"$f":"E98*Input!$N$11","v":0},{"$f":"F98*Input!$N$11","v":0},{"$f":"G98*Input!$N$11","v":0.12},{"$f":"H98*Input!$N$11","v":0.24},{"$f":"I98*Input!$N$11","v":0.36},{"$f":"J98*Input!$N$11","v":0.48},{"$f":"K98*Input!$N$11","v":0.6},{"$f":"L98*Input!$N$11","v":0.72},{"$f":"M98*Input!$N$11","v":0.84},{"$f":"N98*Input!$N$11","v":0.96},{"$f":"O98*Input!$N$11","v":1.08},{"$f":"P98*Input!$N$11","v":1.2},{"$f":"Q98*Input!$N$11","v":1.32},{"$f":"R98*Input!$N$11","v":1.44},{"$f":"S98*Input!$N$11","v":1.56}]
[84,"Temp Increase with Planes","°C",{"$f":"D95-D99","v":1.4292450914835604},{"$f":"E95-E99","v":1.5251044207343936},1.7176722229601411,1.7147237484138218,1.7695216235025482,1.81023455553045,1.8471858983695184,1.9239510133336455,1.9711120939591262,2.092202564934619,2.1365566032384962,2.2883651040648454,2.3653708400323232,2.5225906082240872,2.6482689287817096,2.7793555503823995]
[null,"Cost Calculations"]
[null,"Costs per Item"]
[null,"SLR Cost Per Foot","$Billion",{"$f":"Input!U8","v":100},{"$f":"D103+($S103-$D103)/15","v":110},120,130,140,150,160,170,180,190,200,210,220,230,240,{"$f":"Input!V8","v":250}]
[null,"CCS Cost Per Ton","$",{"$f":"Input!U9","v":70},{"$f":"D104+($S104-$D104)/15","v":68},66,64,62,60,58,56,54,52,50,48,46,44,42,{"$f":"Input!V9","v":40}]
[null,"CDR Cost Per Ton","$",{"$f":"Input!U10","v":400},{"$f":"D105+($S105-$D105)/15","v":380},360,340,320,300,280,260,240,220,200,180,160,140,120,{"$f":"Input!V10","v":100}]
[null,"Disasters Cost per °C","$Billion",{"$f":"Input!U11","v":150},{"$f":"D106+($S106-$D106)/15","v":153.33333333333334},156.66666666666669,160.00000000000003,163.33333333333337,166.66666666666671,170.00000000000006,173.3333333333334,176.66666666666674,180.00000000000009,183.33333333333343,186.66666666666677,190.00000000000011,193.33333333333346,196.6666666666668,{"$f":"Input!V11","v":200}]
[null,"Cost Calculations Without Albedo"]
[null,"Sea Level Rise ","Feet",0.7,{"$f":"D108+($S108-$D108)/15","v":1.003070378505974},1.3061407570119481,1.6092111355179222,1.9122815140238962,2.2153518925298705,2.5184222710358446,2.8214926495418187,3.1245630280477927,3.4276334065537668,3.7307037850597409,4.0337741635657149,4.336844542071689,4.6399149205776631,4.9429852990836372,{"$f":"S57*Input!V7","v":5.2460556775896112}]
[null,"Sea Level Rise Costs","$Billion",{"$f":"D103*D108","v":70},{"$f":"E103*E108","v":110.33774163565714},156.73689084143376,209.19744761732989,267.71941196334546,332.30278387948056,402.94756336573516,479.65375042210917,562.42134504860269,651.25034724521572,746.14075701194815,847.0925743488001,954.10579925577156,1067.1804317328624,1186.316471780073,1311.5139193974028]
[null,"CCS Costs","$Billion",{"$f":"0 -D104*'Model Calcs'!D19","v":0},{"$f":"0 -E104*'Model Calcs'!E19","v":0},{"$f":"0 -F104*'Model Calcs'!F19","v":0},{"$f":"0 -G104*'Model Calcs'!G19","v":0},{"$f":"0 -H104*'Model Calcs'!H19","v":0},{"$f":"0 -I104*'Model Calcs'!I19","v":0},{"$f":"0 -J104*'Model Calcs'!J19","v":0},{"$f":"0 -K104*'Model Calcs'!K19","v":0},{"$f":"0 -L104*'Model Calcs'!L19","v":0},{"$f":"0 -M104*'Model Calcs'!M19","v":0},{"$f":"0 -N104*'Model Calcs'!N19","v":0},{"$f":"0 -O104*'Model Calcs'!O19","v":0},{"$f":"0 -P104*'Model Calcs'!P19","v":0},{"$f":"0 -Q104*'Model Calcs'!Q19","v":0},{"$f":"0 -R104*'Model Calcs'!R19","v":0},{"$f":"0 -S104*'Model Calcs'!S19","v":0}]
[null,"CDR Costs","$Billion",{"$f":"0 - D105*'Model Calcs'!D20","v":0},{"$f":"0 - E105*'Model Calcs'!E20","v":0},{"$f":"0 - F105*'Model Calcs'!F20","v":0},{"$f":"0 - G105*'Model Calcs'!G20","v":0},{"$f":"0 - H105*'Model Calcs'!H20","v":0},{"$f":"0 - I105*'Model Calcs'!I20","v":0},{"$f":"0 - J105*'Model Calcs'!J20","v":0},{"$f":"0 - K105*'Model Calcs'!K20","v":0},{"$f":"0 - L105*'Model Calcs'!L20","v":0},{"$f":"0 - M105*'Model Calcs'!M20","v":0},{"$f":"0 - N105*'Model Calcs'!N20","v":0},{"$f":"0 - O105*'Model Calcs'!O20","v":0},{"$f":"0 - P105*'Model Calcs'!P20","v":0},{"$f":"0 - Q105*'Model Calcs'!Q20","v":0},{"$f":"0 - R105*'Model Calcs'!R20","v":0},{"$f":"0 - S105*'Model Calcs'!S20","v":0}]
[null,"Disasters ","$Billion",{"$f":"D$57*D106","v":214.38676372253406},{"$f":"E57*E106","v":230.81661570889173},261.92862902261402,281.5199396811347,310.01739803965467,336.35741967388896,362.10625358021343,394.24331331992397,421.69301369746898,461.29129453696419,488.47664751616048,533.68765717384952,566.73011925956234,613.70222220446703,655.83663422968607,699.47409034528152]
[null,"Total Costs","$Billion",{"$f":"SUM(D108:D112)","v":285.08676372253404},{"$f":"SUM(E108:E112)","v":342.15742772305487},419.97166062105975,492.3265984339825,579.64909151702409,670.87555544589941,767.57223921698437,876.71855639157502,987.23892177411949,1115.9692751887337,1238.3481083131683,1384.8140056862153,1525.1727630574055,1685.5225688579071,1847.0960913088427,2016.234065420274]
[null,"Cost Calculations With Albedo"]
[null,"Sea Level Rise ","Feet",0.7,{"$f":"D115+($S115-$D115)/15","v":1.003070378505974},1.3061407570119481,1.6092111355179222,1.9122815140238962,2.2153518925298705,2.5184222710358446,2.8214926495418187,3.1245630280477927,3.4276334065537668,3.7307037850597409,4.0337741635657149,4.336844542071689,4.6399149205776631,4.9429852990836372,{"$f":"S62*Input!V7","v":5.2460556775896112}]
[null,"Sea Level Rise Costs","$Billion",{"$f":"D103*D115","v":70},{"$f":"E103*E115","v":110.33774163565714},156.73689084143376,209.19744761732989,267.71941196334546,332.30278387948056,402.94756336573516,479.65375042210917,562.42134504860269,651.25034724521572,746.14075701194815,847.0925743488001,954.10579925577156,1067.1804317328624,1186.316471780073,1311.5139193974028]
[null,"CCS Costs","$Billion",{"$f":"0-D104*'Model Calcs'!D19","v":0},{"$f":"0-E104*'Model Calcs'!E19","v":0},{"$f":"0-F104*'Model Calcs'!F19","v":0},{"$f":"0-G104*'Model Calcs'!G19","v":0},{"$f":"0-H104*'Model Calcs'!H19","v":0},{"$f":"0-I104*'Model Calcs'!I19","v":0},{"$f":"0-J104*'Model Calcs'!J19","v":0},{"$f":"0-K104*'Model Calcs'!K19","v":0},{"$f":"0-L104*'Model Calcs'!L19","v":0},{"$f":"0-M104*'Model Calcs'!M19","v":0},{"$f":"0-N104*'Model Calcs'!N19","v":0},{"$f":"0-O104*'Model Calcs'!O19","v":0},{"$f":"0-P104*'Model Calcs'!P19","v":0},{"$f":"0-Q104*'Model Calcs'!Q19","v":0},{"$f":"0-R104*'Model Calcs'!R19","v":0},{"$f":"0-S104*'Model Calcs'!S19","v":0}]
[null,"CDR Costs","$Billion",{"$f":"0-D105*'Model Calcs'!D20","v":0},{"$f":"0-E105*'Model Calcs'!E20","v":0},{"$f":"0-F105*'Model Calcs'!F20","v":0},{"$f":"0-G105*'Model Calcs'!G20","v":0},{"$f":"0-H105*'Model Calcs'!H20","v":0},{"$f":"0-I105*'Model Calcs'!I20","v":0},{"$f":"0-J105*'Model Calcs'!J20","v":0},{"$f":"0-K105*'Model Calcs'!K20","v":0},{"$f":"0-L105*'Model Calcs'!L20","v":0},{"$f":"0-M105*'Model Calcs'!M20","v":0},{"$f":"0-N105*'Model Calcs'!N20","v":0},{"$f":"0-O105*'Model Calcs'!O20","v":0},{"$f":"0-P105*'Model Calcs'!P20","v":0},{"$f":"0-Q105*'Model Calcs'!Q20","v":0},{"$f":"0-R105*'Model Calcs'!R20","v":0},{"$f":"0-S105*'Model Calcs'!S20","v":0}]
[null,"Disasters ","$Billion",{"$f":"D$62*D106","v":214.38676372253406},{"$f":"E$62*E106","v":230.81661570889173},261.92862902261402,281.5199396811347,310.01739803965467,336.35741967388896,362.10625358021343,394.24331331992397,421.69301369746898,461.29129453696419,488.47664751616048,533.68765717384952,566.73011925956234,613.70222220446703,655.83663422968607,699.47409034528152]
[null,"Total Costs","$Billion",{"$f":"SUM(D115:D119)","v":285.08676372253404},{"$f":"SUM(E115:E119)","v":342.15742772305487},419.97166062105975,492.3265984339825,579.64909151702409,670.87555544589941,767.57223921698437,876.71855639157502,987.23892177411949,1115.9692751887337,1238.3481083131683,1384.8140056862153,1525.1727630574055,1685.5225688579071,1847.0960913088427,2016.234065420274]
[null,"Cost Calculations With Albedo and CDR"]
[null,"Total CDR","GTCO2",{"$f":"0-(D68+D20)","v":0},{"$f":"0-(E68+E20)","v":0},0,0,15.018518518518519,30.037037037037038,45.055555555555557,60.074074074074076,75.092592592592595,90.111111111111114,90.111111111111114,90.111111111111114,90.111111111111114,90.111111111111114,90.111111111111114,90.111111111111114]
[null,"Sea Level Rise ","Feet",0.7,{"$f":"D123+($S123-$D123)/15","v":0.79883664335003579},0.89767328670007163,0.99650993005010746,1.0953465734001433,1.1941832167501791,1.293019860100215,1.3918565034502508,1.4906931468002866,1.5895297901503225,1.6883664335003583,1.7872030768503941,1.88603972020043,1.9848763635504658,2.0837130069005014,{"$f":"S76*Input!V7","v":2.1825496502505368}]
[null,"Sea Level Rise Costs","$Billion",{"$f":"D103*D123","v":70},{"$f":"E103*E123","v":87.872030768503933},107.7207944040086,129.54629090651397,153.34852027602005,179.12748251252688,206.8831776160344,236.61560558654264,268.32476642405157,302.01066012856126,337.67328670007169,375.31264613858275,414.92873844409462,456.52156361660712,500.09112165612032,545.63741256263415]
[null,"CCS Costs","$Billion",{"$f":"D117","v":0},{"$f":"E117","v":0},0,0,0,0,0,0,0,0,0,0,0,0,0,0]
[null,"CDR Costs","$Billion",{"$f":"D122*D105","v":0},{"$f":"E122*E105","v":0},0,0,4805.9259259259261,9011.1111111111113,12615.555555555557,15619.259259259259,18022.222222222223,19824.444444444445,18022.222222222223,16220,14417.777777777777,12615.555555555557,10813.333333333334,9011.1111111111113]
[null,"Disasters ","$Billion",{"$f":"D$76*D106","v":214.38676372253406},{"$f":"E$76*E106","v":233.77273158010624},268.8649731299268,293.1497446520292,322.48376171498455,340.9407682551618,351.78369659870526,362.93139800130274,361.41359438985859,364.04697350356975,346.25912712146061,345.14495614021865,327.14185510247819,321.49007032912795,307.0605296383668,291.00662003340494]
[null,"Total Costs","$Billion",{"$f":"SUM(D123:D127)","v":285.08676372253404},{"$f":"SUM(E123:E127)","v":322.44359899196019},{"$f":"SUM(F123:F127)","v":377.48344082063545},{"$f":"SUM(G123:G127)","v":423.69254548859328},{"$f":"SUM(H123:H127)","v":5282.8535544903307},{"$f":"SUM(I123:I127)","v":9532.3735450955501},{"$f":"SUM(J123:J127)","v":13175.515449630395},{"$f":"SUM(K123:K127)","v":16220.198119350554},{"$f":"SUM(L123:L127)","v":18653.451276182932},{"$f":"SUM(M123:M127)","v":20492.091607866725},{"$f":"SUM(N123:N127)","v":18707.843002477257},{"$f":"SUM(O123:O127)","v":16942.244805355651},{"$f":"SUM(P123:P127)","v":15161.73441104455},{"$f":"SUM(Q123:Q127)","v":13395.552065864842},{"$f":"SUM(R123:R127)","v":11622.568697634722},{"$f":"SUM(S123:S127)","v":9849.9376933574022}]

{"sheet":"Non-CO2 RF Calcs","index":3,"n_rows":58,"n_cols":21,"rows_kept":58,"cut":false,"hidden":false,"merged":[[55,2,55,4],[45,2,45,4],[27,3,27,18],[0,1,0,18],[2,20,5,20],[10,1,10,18],[11,1,11,2],[12,20,18,20],[20,20,23,20]]}
[null,"Radiative Forcing for CO2 Pathway Non-CO2 Elements"]
[null,"CO2","W/m-2",{"$f":"D15+(D14-D15)*($D$12-1)/9","v":2.3599066351599163},{"$f":"E15+(E14-E15)*($D$12-1)/9","v":2.4995135439707656},2.6104280597865226,2.6983851234494982,2.772876400080158,2.8360772308995275,2.8886935121687873,2.9297152529744537,2.9633308063690889,2.9943127838055155,3.0220555801724025,3.0475852191328263,3.0745192438954048,3.1005677909485483,3.1285974299089725,3.1596417367348861]
[null,"CH4","W/m-2",{"$f":"D17+(D16-D17)*($D$12-1)/9","v":0.59391213838198753},0.59043699744566291,0.58433281192820941,0.57544163824229377,0.56748389493966167,0.5595754691949788,0.5521802008567589,0.54548220275033643,0.53874667960832623,0.53295472333800964,0.52724112920677124,0.52220151141245685,0.51740258514670812,0.51277188453162748,0.50785721666613792,0.50260926399229,null,"The radiative forcing of the non-CO2 elements are calculated as decribed below"]
[null,"N2O","W/m-2",{"$f":"D19+(D18-D19)*($D$12-1)/9","v":0.22897072787536477},0.2414303341981815,0.25335802059674134,0.26491611646053159,0.27633941705693704,0.28755545650806025,0.29850916656969606,0.30905561548604971,0.31928466676871092,0.32909632041767978,0.33856304231085366,0.34767469595982248,0.35644141785299638,0.36488060562406777,0.37304732751724168,0.38071404941041559]
[null,"Other NonCO2 RF","W/m-2",{"$f":"D21+(D20-D21)*($D$12-1)/9","v":0.41756036185295908},{"$f":"E21+(E20-E21)*($D$12-1)/9","v":0.33547906762475449},0.3561327142388615,0.29182690680660806,0.27845891555979274,0.24975159766851229,0.22155334253139219,0.22163768976057807,0.19054411157546186,0.2168538454582486,0.16820427086960171,0.20592277635669654,0.17676715993194292,0.2071275762567803,0.20794773777782755,0.20931283105466969]
[null,"Aerosol","W/m-2",{"$f":"D23+(D22-D23)*($D$12-1)/9","v":-0.91937930224769815},-0.84740790096652152,-0.76769804649043116,-0.69767396087362643,-0.63313457038185605,-0.58320351476961918,-0.55710467023148946,-0.52847376019417769,-0.50607218588784519,-0.48106953784726125,-0.45377580698591125,-0.42771672581702097,-0.4057764071659245,-0.38144924592129104,-0.35891784444942842,-0.33605466862823385]
[null,"Other NonGHG RF","W/m-2",{"$f":"D25+(D24-D25)*($D$12-1)/9","v":0.41756036185295908},{"$f":"E25+(E24-E25)*($D$12-1)/9","v":0.33547906762475449},0.3561327142388615,0.29182690680660806,0.27845891555979274,0.24975159766851229,0.22155334253139219,0.22163768976057807,0.19054411157546186,0.2168538454582486,0.16820427086960171,0.20592277635669654,0.17676715993194292,0.2071275762567803,0.20794773777782755,0.20931283105466969]
[null,"Total RF","W/m-2",{"$f":"D27+(D26-D27)*($D$12-1)/9","v":3.1201555768412561},{"$f":"E27+(E26-E27)*($D$12-1)/9","v":3.2351069196335707},3.4286782989626312,3.5014904245300329,3.6070885192414215,3.6712905630301886,3.7018357369658741,3.7518910473899698,3.7567779865884727,3.8195619048689227,3.8061718468124477,3.8760209698255124,3.8761773539838593,3.9371918273044648,3.9682949448274836,4.0024561515127601]
[]
[]
[null,"AR6 1.5 and AR6 4.5 values for Non-CO2 forcing  elements"]
[null,"Mitigation Factor",null,{"$f":"Notes!O10*'Model Calcs'!S36*'Model Calcs'!S36+Notes!P10*'Model Calcs'!S36+Notes!Q10","v":7.5219290107718413},null,null,null,null,null,null,null,null,null,null,null,null,null,null,null,null,{"$f":"\"Mitigation Factor = \" & C58 & \" * TotalRFIn2100 * TotalRFIn2100 \" & D57  & \" *TotalRFIn2100 + \" & E57","v":"Mitigation Factor = -0.0745212753583366 * TotalRFIn2100 * TotalRFIn2100  *TotalRFIn2100 + "}]
[null,"Climate Variable","Units",2025,{"$f":"D13+5","v":2030},{"$f":"E13+5","v":2035},2040,2045,2050,2055,2060,2065,2070,2075,2080,2085,2090,{"$f":"Q13+5","v":2095},{"$f":"R13+5","v":2100},null,"\"The \"\"Mitigation Factor \"\" is a number between 1 and  10 which indicates how aggressively non-CO2  RF values are mitigated relative to the RF values of the AR6 scenarios (where AR6 4.5 is the least aggressive and AR6 1.5 is the most aggressive).  For example:\nIf the \"\"Mitigation Factor\"\" has a value of 1, the corresponding value for AR6 4.5 will be used\nIf the \"\"Mitigation Factor\"\" has a value of 10, the corresponding value for AR6 1.5 will be used\nIf the \"\"Mitigation Factor\"\" has a value of 5.5 (=(10 + 1)/2), the value that is halfway between the values for AR6 1.5 and AR6 4.5 will be used\""]
[null,"CO2 RF","W/m-2",2.3599066351599163,2.4630528594825889,2.5232990838052607,2.548445308127933,2.5526915324506052,2.5379377567732777,2.5061839810959494,2.458430205418622,2.3981764297412944,2.3321226540639666,2.2621688783866385,2.188515102709311,2.1167613270319832,2.0445075513546556,1.9733537756773278,1.9075]
[null,"CO2 RF","W/m-2",2.3599066351599163,2.5954728594825882,2.8397390838052607,3.0930053081279327,3.3523715324506052,3.6207377567732775,3.8954039810959498,4.1700702054186216,4.4507364297412941,4.7371026540639667,5.0219688783866383,5.3085351027093113,5.5952013270319831,5.8799675513546559,6.1690337756773275,6.4550999999999998]
[null,"CH4RF","W/m-2",0.58209999999999995,0.56259999999999999,0.53969999999999996,0.51359999999999995,0.48970000000000002,0.46639999999999998,0.4451,0.42670000000000002,0.4103,0.39600000000000002,0.3831,0.37169999999999997,0.36199999999999999,0.35389999999999999,0.34670000000000001,0.33979999999999999]
[null,"CH4RF","W/m-2",0.625,0.66369999999999996,0.70179999999999998,0.73819999999999997,0.7722,0.80479999999999996,0.83399999999999996,0.85809999999999997,0.87680000000000002,0.89339999999999997,0.90659999999999996,0.91830000000000001,0.9264,0.93089999999999995,0.93200000000000005,0.93110000000000004]
[null,"N2ORF","W/m-2",0.22897072787536477,0.23982601268367376,0.24968129749198281,0.25883658230029183,0.26769186710860082,0.27614715191690986,0.28420243672521883,0.29165772153352787,0.2987130063418369,0.30526829115014592,0.31142357595845488,0.31727886076676393,0.32273414557507291,0.32788943038338197,0.33274471519169097,0.33710000000000001]
[null,"N2ORF","W/m-2",0.22897072787536477,0.24565267935034049,0.26303463082531614,0.28091658230029182,0.29909853377526752,0.31758048525024318,0.33616243672521884,0.35484438820019454,0.37342633967517025,0.39180829115014587,0.40999024262512157,0.42767219410009727,0.44515414557507299,0.46223609705004859,0.47911804852502432,0.4955]
[null,"Other NonCO2 RF","W/m-2",0.41756036185295908,0.31310300439609406,0.31344564693923127,0.22838828948236722,0.19603093202550337,0.14577357456863904,0.10081621711177569,8.4058859654911E-2,4.0501502198047046E-2,5.974414474118328E-2,5.4867872843202825E-3,3.7129429827455596E-2,-8.2792762940808728E-4,2.191471491372754E-2,1.9357357456863955E-2,1.739999999999986E-2]
[null,"Other NonCO2 RF","W/m-2",0.41756036185295908,0.39436967106276155,0.46847898027256463,0.45878828948236716,0.49539759869217059,0.52340690790197186,0.53931621711177602,0.5837255263215777,0.5854348355313812,0.6303441447411835,0.59645345395098648,0.65016276316078869,0.6441720723705906,0.69458138158039429,0.7042906907901969,0.71440000000000037,null,"It the table at the right the values for all but 'Other NonCO2 RF' and 'Other NonGHG RF' are taken from the average of the AR6 data for the corresponding temperature increase.  The vaues for ''Other NonGHG RF\" are estimated (the 2025 value is extrapolated from the year 2013 to 2022) and the 'Other NonCO2 RF' values are calculated so that the 'Total RF' value matches the AR6 data"]
[null,"AerosolRF","W/m-2",-0.91937930224769815,-0.81804734876451823,-0.71781539528133842,-0.6306834417981585,-0.5573514883149786,-0.49391953483179879,-0.45858758134861888,-0.41835562786543901,-0.38892367438225911,-0.36179172089907924,-0.33525976741589936,-0.30822781393271953,-0.28429586044953964,-0.25946390696635974,-0.23783195348317987,-0.21729999999999999]
[null,"AerosolRF","W/m-2",-0.91937930224769815,-0.9246806820978517,-0.89898206194800501,-0.87398344179815846,-0.83258482164831193,-0.81818620149846533,-0.81638758134861888,-0.81828896119877226,-0.81439034104892583,-0.79499172089907921,-0.76569310074923269,-0.74219448059938609,-0.72549586044953962,-0.70249724029969307,-0.67759862014984662,-0.64859999999999995]
[null,"Other NonGHG RF","W/m-2",0.41756036185295908,0.31310300439609406,0.31344564693923127,0.22838828948236722,0.19603093202550337,0.14577357456863904,0.10081621711177569,8.4058859654911E-2,4.0501502198047046E-2,5.974414474118328E-2,5.4867872843202825E-3,3.7129429827455596E-2,-8.2792762940808728E-4,2.191471491372754E-2,1.9357357456863955E-2,1.739999999999986E-2]
[null,"Other NonGHG RF","W/m-2",0.41756036185295908,0.39436967106276155,0.46847898027256463,0.45878828948236716,0.49539759869217059,0.52340690790197186,0.53931621711177602,0.5837255263215777,0.5854348355313812,0.6303441447411835,0.59645345395098648,0.65016276316078869,0.6441720723705906,0.69458138158039429,0.7042906907901969,0.71440000000000037]
[null,"Total RF","W/m-2",3.1201555768412561,3.1881318717185056,3.3125081665957552,3.299384461473005,3.3061607563502546,3.2663370512275041,3.1883133461047537,3.129689640982003,3.0225659358592529,2.9717422307365027,2.843918525613752,2.7999948204910017,2.6865711153682512,2.635547410245501,2.5577237051227506,2.4845000000000002]
[null,"Total RF","W/m-2",3.1201555768412561,3.3587385383851722,3.7344214999290886,4.0334044614730047,4.3990874230169217,4.7370703845608366,5.0533533461047533,5.3894363076486691,5.6891192691925863,6.0509022307365026,6.3386851922804182,6.7079681538243348,7.0070511153682506,7.3629340769121674,7.6807170384560832,7.9974999999999996]
[null,null,null,"Minimum and maximum values for each year based on AR6 data for AR6 1.5  and AR6 4.5"]
[]
[]
[]
[]
[]
[]
[]
[]
[]
[]
[]
[]
[]
[]
[]
[]
[]
[null,null,"2100 Values"]
[null,null,"Temp","CO2 RF","Total RF","Mit Val to reach TotalRF goal","mitg","Clim Fact",null,"Calced Total RF","RF Diff","Mitit Diff","Calc CF","Calc Tmp","TempDiff"]
[null,"AR6 1.5°C",1.5,1.9075,2.4845000000000002,10,{"$f":"$C$58*D48*D48+$D$57*D48+$E$57","v":-0.27114985221304672},{"$f":"C48/E48","v":0.60374320788891123},null,2.5299999999999998,{"$f":"J48-E48","v":4.5499999999999652E-2},{"$f":"F48-G48","v":10.271149852213046},{"$f":"CFfromRFin2100(J48)","v":0.60653277689999996},{"$f":"M48*J48","v":1.5345279255569997},{"$f":"N48-C48","v":3.4527925556999683E-2}]
[null,"AR6 2.0°C",2,2.6951999999999998,3.3696000000000002,8.5500000000000007,-0.54133022287517019,0.59354226020892686,null,3.34,-2.9600000000000293E-2,9.0913302228751718,{"$f":"CFfromRFin2100(J49)","v":0.5934599196},{"$f":"M49*J49","v":1.9821561314639999},-1.7843868536000063E-2]
[null,"AR6 2.5°C",2.4900000000000002,3.4683000000000002,4.2445000000000004,7.12,-0.89642423782200387,0.58664153610554837,null,4.18,-6.4500000000000668E-2,8.0164242378220045,{"$f":"CFfromRFin2100(J50)","v":0.58176150839999996},2.4317631051119997,-5.8236894888000545E-2]
[null,"AR6 3.0°C",3,4.4356,5.2834000000000003,5.41,-1.4661723613651949,0.56781617897565961,null,5.32,3.6599999999999966E-2,6.8761723613651951,{"$f":"CFfromRFin2100(J51)","v":0.56891199839999995},3.0266118314879997,2.6611831487999726E-2]
[null,"AR6 3.5°C",3.5,5.2427999999999999,6.2809999999999997,3.77,-2.0483627068299777,0.55723610889985675,null,6.33,4.9000000000000377E-2,5.8183627068299781,{"$f":"CFfromRFin2100(J52)","v":0.56043976489999991},3.5475837118169995,4.7583711816999497E-2]
[null,"AR6 4.0°C",4,5.9512,7.2542999999999997,2.1800000000000002,-2.6393037219962663,0.55139710240822681,null,7.27,1.5699999999999825E-2,4.8193037219962669,{"$f":"CFfromRFin2100(J53)","v":0.55501276889999995},4.0349428299029997,3.4942829902999684E-2]
[null,"AR6 4.5°C",4.45,6.4550999999999998,7.9974999999999996,0.95,-3.1051760510993969,0.55642388246326979,null,7.96,-3.7499999999999645E-2,4.055176051099397,{"$f":"CFfromRFin2100(J54)","v":0.55253734560000001},4.3981972709760004,-5.1802729023999738E-2]
[]
[null,null,"Mitig from Total RF"]
[]
[null,null,{"$f":"LINEST(F48:F54,D48:D54^{1,2})","v":-7.4521275358336636E-2},-1.3379738159044121,12.756493736352819,null,"`"]

{"sheet":"Pathways","index":4,"n_rows":10,"n_cols":19,"rows_kept":10,"cut":false,"hidden":false,"merged":[]}
["CO2 Pathways"]
["These values are copied  to the 'Input' worksheet when a \"CO2 Emissions Pathway\" is selected"]
[]
["Scenario","2025","2030","2035","2040","2045","2050","2055","2060","2065","2070","2075","2080","2085","2090","2095","2100"]
["CO2 Only 1.5°C",42,32,0,0,0,0,0,0,0,0,0,0,0,0,0,0,null,"Increment"]
["CO2 Only 2.0°C",42,42,42,{"$f":"F6+$S$6","v":26.285714285714285},{"$f":"G6+$S$6","v":21.428571428571427},16.571428571428569,11.714285714285714,6.8571428571428568,2,1,1,0,0,0,0,0,null,{"$f":"34/7","v":4.8571428571428568}]
["CO2 Only 2.5°C",42,42,42,{"$f":"F7+$S$7","v":35.907692307692315},32.861538461538466,29.815384615384616,26.76923076923077,23.723076923076924,20.676923076923078,17.630769230769232,14.584615384615384,11.538461538461538,8.4923076923076923,5.4461538461538463,2.4,0,null,{"$f":"(D7-P7)/13","v":3.0461538461538464}]
["CO2 Only 3.0°C",42,42,42,{"$f":"F8+$S$8","v":40.038461538461519},38.076923076923059,36.115384615384599,34.153846153846139,32.192307692307679,30.230769230769219,28.269230769230759,26.307692307692299,24.34615384615384,22.38461538461538,20.42307692307692,18.46153846153846,16.5,null,{"$f":"(D8-Q8)/13","v":1.9615384615384615}]
["CO2 Only 3.5°C",42,42,42,{"$f":"F9+$S$9","v":41.999999999999972},41.333333333333307,40.666666666666643,39.999999999999979,39.333333333333314,38.66666666666665,37.999999999999986,37.333333333333321,36.666666666666657,35.999999999999993,35.333333333333329,34.666666666666664,34,null,{"$f":"(D9-Q9)/12","v":0.66666666666666663}]
["CO2 Only 4.0°C",42,42,42,{"$f":"F10+$S$10","v":41.84615384615384},41.692307692307686,41.538461538461533,41.38461538461538,41.230769230769226,41.076923076923073,40.92307692307692,40.769230769230766,40.615384615384613,40.46153846153846,40.307692307692307,{"$f":"Q10+$S$10","v":40.153846153846153},40,null,0.15384615384615385]

{"sheet":"Notes","index":5,"n_rows":36,"n_cols":29,"rows_kept":36,"cut":false,"hidden":false,"merged":[[14,1,14,11],[7,14,7,16],[7,6,7,8],[7,1,7,3],[7,9,7,11],[7,4,7,5]]}
["Notes"]
[]
["Restrictions"]
[null,"The model is valid only for CO2 emission pathways where the CO2 PPM never exceeds 1000."]
[]
[]
["Mitigation Factor from CO2 RF"]
[null,"\"Average\" Scenario Values",null,null,"Mitigation Factor",null,"Emulator Results",null,null,"Differences",null,null,null,null,"Mitigation From CO2 RF"]
[null,"CO2 RF","Total RF","Temp Incr","From Scenario*","From Polynom.","CO2 RF","Total RF","Temp Incr","CO2 RF","Total RF","Temp Incr",null,null,"A","B","C"]
[null,1.9075,2.4845000000000002,1.5,9.6999999999999993,{"$f":"$O$10*B10*B10+$P$10*B10+$Q$10","v":9.6549478455465376},1.909769251844383,2.4702111486819742,1.5,{"$f":"B10-G10","v":-2.2692518443829801E-3},1.428885131802593E-2,0,null,null,{"$f":"LINEST(E10:E14,B10:B14^{1,2})","v":7.9906240623945982E-2},-1.2082358091685583,11.668914300299301]
[null,2.6951999999999998,3.3696000000000002,{"$f":"D10+0.5","v":2},9,{"$f":"$O$10*B11*B11+$P$10*B11+$Q$10","v":8.9929243128595804},2.6798042916865419,3.3635360720764815,1.99,1.5395708313457934E-2,6.0639279235186194E-3,1.0000000000000009E-2]
[null,3.4683000000000002,4.2445000000000004,{"$f":"D11+0.5","v":2.5},8.1999999999999993,8.4395905931910153,3.4695719161166205,4.2610240479880668,2.4700000000000002,-1.2719161166203641E-3,-1.6524047988066393E-2,2.9999999999999805E-2]
[null,4.4356,5.2834000000000003,3,8.1999999999999993,7.8817826606666248,4.4385752942611356,5.336284006009997,3.04,-2.9752942611356303E-3,-5.2884006009996654E-2,-4.0000000000000036E-2]
[null,5.2427999999999999,6.2809999999999997,3.5,7.4,7.5307545877362383,5.2429555102283354,6.207181562322079,3.48,-1.55510228335487E-4,7.3818437677920734E-2,2.0000000000000018E-2]
[null,"*Calculated by running the emulator to get the temperature increase  from CO2 emissions pathway to match the AR6 scenario temperature increase for the same CO2 RF values"]
[]
["Decadal Temperature "]
[]
["The temperature increase in AR6 data for the years 2000-2018 for all secnarios are identical"]
[]
["Average Temperatire icrease for AR6 scenarios within the specified range"]
[null,2000,{"$f":"B22+1","v":2001},{"$f":"C22+1","v":2002},2003,2004,null,null,{"$f":"F22+1","v":2005},2006,2007,2008,2009,2010,2011,2012,2013,2014,2015,2016,2017,2018,2019,2020,2021,2022,2023,2024,2025]
[1.5,0.80310300000000001,0.83544200000000002,0.857742,0.87743199999999999,0.89277600000000001,null,null,0.90493599999999996,0.91985899999999998,0.93642000000000003,0.96356200000000003,0.99066600000000005,1.010041,1.0441400000000001,1.072948,1.1058380000000001,1.1342699999999999,1.159892638888889,1.1810974444444444,1.2027417777777778,1.2259561944444444,1.2522493888888888,1.2780526388888891,1.3090907222222223,1.3430492777777778,1.3773714444444445,1.4080112222222223,1.4339485277777779]
[2,0.80310300000000001,0.83544200000000002,0.857742,0.87743199999999999,0.89277600000000001,null,null,0.90493599999999996,0.91985899999999998,0.93642000000000003,0.96356200000000003,0.99066600000000005,1.010041,1.0441400000000001,1.072948,1.1058380000000001,1.1342699999999999,1.1598462812500001,1.18026603125,1.2010682500000001,1.223568796875,1.249037578125,1.2749814687500001,1.3071145156249999,1.34204296875,1.377701984375,1.409484171875,1.4371510937500001]
[2.5,0.80310300000000001,0.83544200000000002,0.857742,0.87743199999999999,0.89277600000000001,null,null,0.90493599999999996,0.91985899999999998,0.93642000000000003,0.96356200000000003,0.99066600000000005,1.010041,1.0441400000000001,1.072948,1.1058380000000001,1.1342699999999999,1.1599522,1.18045792,1.2009154799999999,1.22295832,1.247628,1.2722764799999999,1.3022036800000001,1.3360926399999999,1.3705574,1.4027315199999999,1.43035884]
[3,0.80310300000000001,0.83544200000000002,0.857742,0.87743199999999999,0.89277600000000001,null,null,0.90493599999999996,0.91985899999999998,0.93642000000000003,0.96356200000000003,0.99066600000000005,1.010041,1.0441400000000001,1.072948,1.1058380000000001,1.1342699999999999,1.1599503846153847,1.180458,1.200811730769231,1.2230391153846154,1.2472162692307693,1.2718846153846155,1.3020320384615385,1.3360537692307692,1.3709440384615386,1.4036468846153847,1.431486]
[3.5,0.80310300000000001,0.83544200000000002,0.857742,0.87743199999999999,0.89277600000000001,null,null,0.90493599999999996,0.91985899999999998,0.93642000000000003,0.96356200000000003,0.99066600000000005,1.010041,1.0441400000000001,1.072948,1.1058380000000001,1.1342699999999999,1.1598513333333333,1.1797049444444445,1.1994396111111112,1.2209281666666667,1.2442176666666667,1.2679375555555557,1.2971014444444444,1.3297361666666667,1.3632542777777779,1.3944789444444445,1.422166888888889]
[4,0.80310300000000001,0.83544200000000002,0.857742,0.87743199999999999,0.89277600000000001,null,null,0.90493599999999996,0.91985899999999998,0.93642000000000003,0.96356200000000003,0.99066600000000005,1.010041,1.0441400000000001,1.072948,1.1058380000000001,1.1342699999999999,1.1598266666666666,1.1790266666666667,1.1983161111111111,1.218762277777778,1.2419327777777778,1.2651834444444445,1.2938312777777778,1.3252616111111111,1.3576824444444444,1.388033888888889,1.4151614444444445]
[4.5,0.80310300000000001,0.83544200000000002,0.857742,0.87743199999999999,0.89277600000000001,null,null,0.90493599999999996,0.91985899999999998,0.93642000000000003,0.96356200000000003,0.99066600000000005,1.010041,1.0441400000000001,1.072948,1.1058380000000001,1.1342699999999999,1.15985045,1.17915605,1.1987549,1.2197586499999999,1.24359245,1.2681183499999999,1.2973702,1.33042635,1.36395665,1.3953061,1.4240303999999999]
["Average",{"$f":"AVERAGE(B23:B29)","v":0.80310300000000001},{"$f":"AVERAGE(C23:C29)","v":0.83544200000000024},0.857742,0.87743199999999988,0.89277599999999979,null,null,0.90493600000000007,0.91985899999999987,0.93642000000000003,0.96356199999999981,0.99066600000000005,1.010041,1.0441400000000003,1.072948,1.1058380000000001,1.1342699999999999,1.1598814221077534,1.1800238652579365,1.2002925515384615,1.2221387887355006,1.2465534472413002,1.271204936146215,1.3012491255044263,1.3346661119337606,null,null,1.4277575992658729]
["Difference",{"$f":"B30-B32","v":0.15310299999999999},{"$f":"C30-C32","v":3.5442000000000196E-2},-3.2258000000000009E-2,-2.5680000000001257E-3,0.10277599999999976,null,null,-3.5063999999999984E-2,1.9858999999999849E-2,1.641999999999999E-2,0.16356199999999976,7.0666000000000007E-2,3.0040999999999984E-2,0.17414000000000029,0.16294799999999998,0.16583800000000004,0.12426999999999988,-1.1857789224678505E-4,-9.9976134742063572E-2,2.0292551538461323E-2,0.11213878873550076,6.5534472413002476E-3,-8.7950638537850345E-3,0.19124912550442641,0.1846661119337607,{"$f":"AVERAGE(B31:Z31)","v":6.7616749933276252E-2}]
["NOAA",0.65,0.8,0.89,0.88,0.79,null,null,0.94000000000000006,0.9,0.92,0.8,0.92,0.98,0.87,0.91,0.94000000000000006,1.01,1.1600000000000001,1.28,1.1800000000000002,1.1099999999999999,1.24,1.28,1.1099999999999999,1.1499999999999999]
[]
["AR6 Incr/yr",null,{"$f":"C30-B30","v":3.2339000000000229E-2},{"$f":"D30-C30","v":2.2299999999999764E-2},1.9689999999999874E-2,1.5343999999999913E-2,null,null,{"$f":"I30-F30","v":1.2160000000000282E-2},1.4922999999999798E-2,1.6561000000000159E-2,2.7141999999999777E-2,2.7104000000000239E-2,1.937499999999992E-2,3.4099000000000323E-2,2.8807999999999723E-2,3.2890000000000086E-2,2.8431999999999791E-2,2.5611422107753468E-2,2.0142443150183098E-2,2.0268686280525028E-2,2.1846237197039153E-2,2.4414658505799602E-2,2.4651488904914753E-2,3.0044189358211293E-2,3.3416986429334328E-2]
[]
["Average Decadal Temperature increase for AR6 after 2015",null,null,null,null,{"$f":"AVERAGE(C34:Z34)*10","v":0.24161959633352756}]

{"sheet":"Feedbacks","index":6,"n_rows":32,"n_cols":1,"rows_kept":32,"cut":false,"hidden":false,"merged":[]}
["Carbon Feedbacks  (courtesy of Bruce Melton)"]
[]
["Natali 2019 - Permafrost net emissions of 2.3 Gt CO2eq annually… These emissions are the average from 2003 to 2017. Assuming permafrost was stable in 2003 with zero emissions, the annual in linear trend 2017 was double this 2.3 gigatons, and because warming is increasing nonlinearly, permafrost is plausibly release as many greenhouse gases as all of transportation globally at 7 to 9 gigatons annually, not including the increase in the trend from 2017 to present."]
["Natali et al., Large loss of CO2 in winter observed across the northern permafrost region, Nature Climate Change, October 21, 2019."]
["https://www.uarctic.org/media/1600119/natali_et_al_2019_nature_climate_change_s41558-019-0592-8.pdf"]
[]
["Gatti 2021 - Amazon bet emissions of 1 Gt annual CO2eq emissions 2010 to 2018… The Amazon is now emitting 1 Gt CO2eq annually based on a nine year average. All sources are included: drought mortality, drying soils, drought-caused fire, subsistence fire and logging. The current emissions are likely greater because this 1 Gt is an average 2010 through 2018. It is also likely the situation has worsened since.  Tropical forests in Africa are a bit behind the Amazon, and tropical forests in Asia and the rest of the Americas are likely not far behind the Amazon, especially as four years of warming have elapses since the Amazon flip."]
["Gatti et al., Amazonia as a carbon source linked to deforestation and climate change, Nature, July 14, 2021."]
["https://www.nature.com/articles/s41586-021-03629-6.epdf?sharing_token=lsfPlVRsW05dUMB_VD-zItRgN0jAjWel9jnR3ZoTv0NILaci0q8CXtVe4JKM-xF0Z0ZQpmJpnpSclAjJeIV-vCjviXK_Mb9hvvU5C3CiJVgu82-RGuHR01gFiQZAVMzDCCxiRyvlh0MBQxTvGN2oHmf2jIOC7MEEGXrOPGIblsh57v9qXkkZbM7U0OH8zbdQ4jnVO1zD9R1jeDcUVBS22YVLkjWEvC5vrNMdQ416fmEBL9kIHYs2ptVibFKXLxEuh-TQ08w-QGSFzN6221KgguYTe0Q9FoZ1J-Wksf4tWXrjv-xu34UpgYqxQWwLTTbTgHYTuglT_tSVd4WaweL9fg%3D%3D&tracking_referrer=www.theguardian.com"]
[]
["Canadian Forest Collapse 250 million tons CO2eq annually in 2018… This collapse began in about 2002 when the pine bark beetle attack became extensive. These emissions are largely from native mountain pine beetle mortality and do not include fire emissions since 2018."]
["The State of Canada's Forests, Adapting to Change, Canadian Forest Service, 2020."]
["https://www.nrcan.gc.ca/our-natural-resources/forests-forestry/state-canadas-forests-report/16496 "]
["(Canada - see also - https://climatediscovery.org/canadas-forests-have-flipped-from-carbon-sink-to-greenhouse-gas-emissions/)"]
[]
["Crowther 2016 - Chronic drying from warming is already reducing biological sequestration in agriculture – Soil carbon loss ongoing..."]
["“If we make the conservative assumption that the full effects of warming are fully realized within a year, then approximately 30 ± 30 PgC would be lost from the surface soil for 1 °C of warming. Given that global average soil surface temperatures are projected to increase by around 2 °C over the next 35 years under a business-as-usual emissions scenario16, this extrapolation would suggest that warming could drive the net loss of approximately 55 ± 50 PgC from the upper soil horizon. If, as expected, this C entered the atmospheric pool, the atmospheric burden of CO2 would increase by approximately 25 parts per million over this period.”"]
[]
["Already lost is 30 PgC (petagrams carbon.) One petagram carbon is equal to 1 gigaton carbon. At 3.667 gigatons CO2 per gigaton carbon, soil loss already, with 1 C warming, is 110 gigatons CO2equivalent (CO2e.). With an additional 1 C warming by 2050, and an additional 25 PgC lost (92 gigatons CO2e), this is a future loss of 3 gigatons CO2e from soils annually."]
[]
["Crowther et al., Quantifying global soil carbon losses in response to warming, Nature, December 1, 2016."]
["https://www.researchgate.net/publication/311163076_Quantifying_global_soil_carbon_losses_in_response_to_warming  "]
[]
["Bauman 2022 - Australian Tropical Forest Flip from sequestration to emissions between 1984 and 2019… Bauman et al,. analyzed a 49-year record across 24 old-growth tropical forests in Australia and found mortality has doubled across all plots in the last 35 years indicating a halving of life expectancy and carbon residence time. Losses were not offset by gains from growth and regrowth. Thresholds involving atmospheric water stress, driven by global warming, may be a primary cause of increasing tree mortality in moist tropical forests. \"Model predictions indicate a doubling in average mortality risk across plots between the 1980s and 2010s, corresponding to a potential halving of tree life expectancy and carbon residence time... Carbon loss from a doubling of tree mortality was not offset by gains, converting these forests into biomass carbon sources.\""]
["Bauman et al., state, \"Many of the species in our plots are widespread across tropical Southeast Asia, offering a robust assessment of climate niche.\" A personal communication with Bauman, where I asked if the above statement was one where Australian tropical forest mortality was an analog to Southeast Asian tropical forest mortality, reveals that on hindsight he would have modified this analog with Southeast Asian tropical forests to, \"what makes the results of a marked increase in background mortality likely generalizable, to some extent, to other moist tropical regions, is the mechanism highlighted (atmospheric evaporative demand is increasing worldwide); the physiology of atmospheric water stress response is the same across tree species irrespective of their region of origin.\""]
["Bauman et al., Tropical tree mortality has increased with rising atmospheric water stress, Nature, May 17, 2022."]
["(Researchgate, free account required) https://www.researchgate.net/publication/360691427_Tropical_tree_mortality_has_increased_with_rising_atmospheric_water_stress"]
["*Personal Comm with Baumann"]
[]
["Munday, May 12, 2025 - Amazon and boreal forest tipping at 1.5 C and extended overshoot increasing risks…"]
["Munday et al., Risks of unavoidable impacts on forests at 1.5 degrees C with and without overshoot, Nature Climate Change, May 12, 2025."]
["https://www.nature.com/articles/s41558-025-02327-9"]

{"sheet":"CCS Costs","index":7,"n_rows":101,"n_cols":1,"rows_kept":101,"cut":false,"hidden":false,"merged":[[0,0,0,13]]}
["Carbon Capture and Storage (from ChatGPT)"]
[]
[]
[]
[]
[]
[]
[]
[]
[]
[]
[]
[]
[]
[]
[]
[]
[]
[]
[]
[]
[]
[]
[]
["The expected cost of Carbon Capture and Storage (CCS) this century depends heavily on the application (e.g., power plants, cement, steel), technology type, and geographic factors. Here's a breakdown by timeframe, application, and estimated cost per ton of CO₂ captured and stored:"]
[]
[]
[]
["📍 Current Costs (2020s):"]
[]
["Power Plants (coal/gas):"]
["$40–$120/tCO₂"]
[]
["Industrial (cement, steel, hydrogen):"]
["$60–$150/tCO₂"]
[]
["Bioenergy with CCS (BECCS):"]
["$100–$200/tCO₂ (but with potential for net-negative emissions)"]
[]
["Direct Air Capture with CCS:"]
["$600–$1,200/tCO₂ (as seen before)"]
[]
[]
[]
["📈 Mid-Century (by ~2050):"]
[]
["Assuming broader deployment, policy support (like carbon pricing), and learning-by-doing:"]
[]
["Power sector CCS:"]
["$30–$80/tCO₂"]
[]
["Industrial CCS:"]
["$50–$100/tCO₂"]
[]
["BECCS:"]
["$80–$150/tCO₂"]
[]
["DAC with CCS:"]
["$200–$400/tCO₂"]
[]
[]
[]
["🔮 End-of-Century (by ~2100):"]
[]
["Power sector CCS:"]
["$20–$60/tCO₂"]
[]
["Industrial CCS:"]
["$40–$80/tCO₂"]
[]
["BECCS:"]
["$60–$120/tCO₂"]
[]
["DAC with CCS:"]
["$50–$200/tCO₂ (in highly optimistic scenarios)"]
[]
[]
[]
["🔍 Influencing Factors:"]
[]
["Capture technology: Post-combustion, oxy-fuel, pre-combustion all have different costs."]
[]
["Concentration of CO₂: Cheaper to capture from high-purity sources (e.g., natural gas processing)."]
[]
["Transport & Storage: Proximity to geologic storage lowers cost (~$10–$20/tCO₂ typically)."]
[]
["Infrastructure: Costs drop with integrated CCS hubs, pipelines, and economies of scale."]
[]
["Regulation & policy: Carbon markets, tax credits (e.g. 45Q in the U.S.), subsidies reduce effective costs."]
[]
[]
[]
["📚 Sources:"]
[]
["IEA CCS Technology Roadmap (2023)"]
[]
["NASEM (2021) – Long-term decarbonization pathways"]
[]
["IPCC AR6 WG3 (2022) – Cost ranges across applications"]
[]
["Global CCS Institute (2023) – Project case studies and cost benchmarking"]

{"sheet":"CDR Costs","index":8,"n_rows":93,"n_cols":1,"rows_kept":93,"cut":false,"hidden":false,"merged":[]}
["Direct Air Capture Costs (from ChatGPT)"]
[]
[]
[]
[]
[]
[]
[]
[]
[]
[]
[]
[]
[]
[]
[]
[]
[]
[]
[]
[]
[]
[]
["he cost of Direct Air Capture (DAC) this century is expected to vary significantly depending on technological advancements, policy support, energy prices, and deployment scale. Here’s a breakdown of current estimates and projections:"]
[]
[]
[]
["📍 Current Costs (as of 2020s):"]
[]
["Climeworks (Switzerland): $600–$1,200 per ton of CO₂"]
[]
["Carbon Engineering (Canada): $94–$232 per ton (as of 2018; more recent estimates tend toward the upper range when all costs are included)"]
[]
["Global Thermostat: Similar range, though details are less transparent."]
[]
["These numbers reflect early-stage, small-scale facilities. Costs include capital, operational, and energy inputs."]
[]
[]
[]
["📈 Mid-Century Projections (by ~2050):"]
[]
["According to various sources including the IEA, IPCC, NASEM, and academic studies:"]
[]
["Optimistic scenarios (with strong policy support, low-cost renewables, and economies of scale):"]
["$100–$300 per ton of CO₂"]
[]
["Conservative projections:"]
["$300–$500 per ton"]
[]
["High-end scenarios (slower innovation, expensive energy inputs):"]
["$500+ per ton"]
[]
[]
[]
["🔮 End-of-Century Projections (by ~2100):"]
[]
["If DAC is widely deployed and benefits from scaling, modular design, and energy cost reductions (e.g. via cheap solar/wind or nuclear):"]
[]
[]
[]
["$50–$150 per ton of CO₂ (best-case scenario)"]
[]
["If decarbonization progresses unevenly and DAC remains niche:"]
[]
[]
[]
["$200–$400 per ton, or higher"]
[]
[]
[]
["🧮 Key Variables Influencing Cost:"]
[]
["Energy source: DAC is energy-intensive; cheap, clean electricity is essential."]
[]
["Scale: Larger deployment lowers unit costs."]
[]
["Technology choice: Liquid solvent vs. solid sorbent systems differ in capital and operating costs."]
[]
["Location: Proximity to sequestration sites or CO₂ utilization hubs affects cost."]
[]
["Policy incentives: Carbon pricing, tax credits (like the U.S. 45Q), and grants dramatically influence viability."]
[]
[]
[]
["📚 References:"]
[]
["NASEM (2021): \"Accelerating Decarbonization in the United States\" – gives DAC estimates around $100–$300/tCO₂ with potential for lower in long term."]
[]
["IEA (2022): \"Direct Air Capture\" technology report – projects similar long-term costs."]
[]
["Keith et al. (2018): Carbon Engineering’s peer-reviewed estimate of DAC cost around $94–$232/tCO₂."]
[]
["Realmonte et al. (2019, Nature Communications): Modeling shows costs vary dramatically depending on deployment and policy."]

{"sheet":"SLR 2100","index":9,"n_rows":13,"n_cols":1,"rows_kept":13,"cut":false,"hidden":false,"merged":[]}
["Global Sea Level Rise Projections:"]
[]
["Intergovernmental Panel on Climate Change (IPCC) Sixth Assessment Report: Under the highest emissions scenario, the IPCC projects a global mean sea level rise between 0.63 and 1.01 meters (2.1 to 3.3 feet) by 2100. ?"]
[]
["Nanyang Technological University (NTU) Study: A recent study from NTU Singapore and Delft University of Technology introduces a \"fusion\" approach, projecting a very likely range of 0.5 to 1.9 meters (1.6 to 6.2 feet) of sea level rise by 2100 under high-emission scenarios. This method aims to address uncertainties in current projections. ?(https://www.ntu.edu.sg/news/detail/new-method-projects-very-likely-range-of-future-sea-level-rise)"]
[]
["Because of emissions to date, 2 feet of sea level rise will likely occur along the U.S. coastline between 2020 and 2100. Failing to curb future emissions could cause an additional 1.5 to 5 feet of rise, for a total of 3.5 to 7 feet .(https://sealevel.globalchange.gov/resources/2022-sea-level-rise-technical-report)"]
[]
[]
["Returning Closer to 1°C or Below is Essential for Polar Ice Sheets"]
["(Nature Communications, 20 May 2025)"]
["A study by four senior IPCC authors presents strong evidence that the Paris Agreement's lower temperature limit of 1.5°C above pre-industrial levels is too high to prevent significant sea-level rise from Antarctica and Greenland. Even current warming levels at 1.2°C, if sustained, will likely lead to several meters of sea-level rise over coming centuries, resulting in extensive loss and damage to coastal populations and challenging the implementation of adaptation measures. Currently, around 230 million people live within just one meter of sea level; melting ice represents an existential threat to those communities as well as several low-lying nations. To avoid this future, global mean temperature must return closer to 1°C or below as soon as possible through strong an immediate cuts in greenhouse gas pollution to prevent (in IPCC terminology) \"slow-onset, high-impact\" losses from both polar ice sheets."]
["https://iccinet.us4.list-manage.com/track/click?u=115736d705171a61936b7a083&id=5eca4faba1&e=b67f164c80"]

{"sheet":"SLR Cost","index":10,"n_rows":36,"n_cols":1,"rows_kept":36,"cut":false,"hidden":false,"merged":[]}
["Sea level Rise Cost per Foot"]
[]
["Estimates of the cost per foot of sea  level rise vary consideraby.  The current model defaults to a cost/foot of $100 Billion in 2025 and $500 Billion in 2100"]
[]
["From ChatGPT:"]
[]
["The expected annual cost per foot of sea level rise varies depending on factors like location, infrastructure, adaptation measures, and population density. However, here are some general estimates based on research and projections:"]
[]
["1. U.S. National Costs"]
[]
["According to reports from the Union of Concerned Scientists and NOAA, the economic damage in the U.S. could range from $50 billion to $200 billion annually for each foot of sea level rise, depending on the vulnerability of coastal regions, the extent of infrastructure, and how much adaptation is implemented."]
["This includes damage to coastal properties, infrastructure, transportation, and utilities, as well as indirect costs such as losses in tourism, real estate values, and tax revenue."]
[]
["2. Global Costs"]
[]
["Global estimates from organizations like the World Bank and the Intergovernmental Panel on Climate Change (IPCC) suggest that the annual cost of sea level rise could range from $300 billion to $1 trillion globally by 2100. This encompasses damages from coastal flooding, storm surges, ecosystem loss, agricultural disruption, and health costs."]
[]
["3. Infrastructure and Property Losses"]
[]
["Coastal cities, such as New York, Miami, and New Orleans, could face significant property losses. The annual cost of property damage due to sea level rise may range from $50 billion to $100 billion per foot of sea level rise for these cities alone, depending on the level of preparedness and mitigation efforts."]
[]
["4. Adaptation and Mitigation Costs"]
[]
["Adaptation costs—such as the construction of flood defenses, relocation of communities, or retrofitting infrastructure—are also considerable. It's estimated that $100 million to $1 billion per year, for each foot of sea level rise, could be required to protect vulnerable communities, depending on the scale of adaptation efforts."]
[]
["5. Agricultural and Ecosystem Costs"]
[]
["Rising sea levels may also result in agricultural damage, saltwater intrusion into freshwater systems, and ecosystem degradation, with costs potentially amounting to tens of billions of dollars annually for each foot of rise."]
[]
["Summary of Costs:"]
[]
["$50 billion to $200 billion annually in the U.S. for each foot of sea level rise."]
["$300 billion to $1 trillion annually globally by the end of the century."]
["Significant costs for property damage, infrastructure, and adaptation efforts, particularly in large coastal cities."]
[]
["These estimates underscore the economic and environmental challenges posed by sea level rise, which will vary greatly depending on the region and specific local circumstances. Adaptation measures will be crucial in mitigating the costs, but without action, the financial burden could be very high."]

{"sheet":"Disasters","index":11,"n_rows":64,"n_cols":3,"rows_kept":64,"cut":false,"hidden":false,"merged":[[5,0,5,1],[46,2,62,2],[23,1,25,2]]}
["Cost of Disasters"]
[]
[]
[]
["The annual costs for climatological, hydrological, and meteorological natural disasters for 2000 through 2023 were obtained from The Centre for Research on the Epidemiology of Disasters (CRED) (https://public.emdat.be/data) (see Figure 1). Linear projections of this data though 2100 were then made (see Table 1)."]
["https://public.emdat.be/data"]
[null,"Year","Projected Cost"]
[null,2025,216]
[null,2030,243]
[null,2035,269]
[null,2040,295]
[null,2045,321]
[null,2050,348]
[null,2055,374]
[null,2060,400]
[null,2065,427]
[null,2070,453]
[null,2075,479]
[null,2080,506]
[null,2085,532]
[null,2090,558]
[null,2095,585]
[null,2100,611]
[null,"Figure 1. Scatter plot of annual natural disaster costs."]
[]
[]
[]
[]
[]
[]
[]
[]
[]
[]
[]
[]
[]
[]
[]
[]
[]
[]
[]
[]
[]
[]
[null,null,{"$error":"#VALUE!"}]
[]
[]
[]
[]
[]
[]
[]
[]
[]
[]
[]
[]
[]
[]
[]
[]
[null,null,"Table 1. Linear projections of this data though 2100"]

{"sheet":"AF Problem","index":12,"n_rows":58,"n_cols":18,"rows_kept":58,"cut":false,"hidden":false,"merged":[[6,2,6,17],[15,2,15,17],[28,2,28,17]]}
["Problem with AR6 CO2 Data?"]
[]
["SSP-Baseline is a typical scenario showing the possible data problem"]
["The\"airborne fraction\" from 2011 to 2015 lines up reasonably well with historical data"]
["After 2016 the \"airborne fraction\" beccomes too large, making it impossible to derive the CO2 PPM based on  CO2 emissions"]
[]
[null,null,"Historical Data"]
[null,null,null,null,2010,2011,2012,2013,2014,2015,2016,2017,2018,2019,2020,2021,2022,2023]
[null,null,"AnthroCO2 (Incl Land Use)",null,38.875619596812498,39.815378176302666,40.685199247396554,40.450902149196232,40.879731398597713,40.970001434185868,39.855515289774011,40.25385217214302,40.608366203711554,40.924502498167428,38.59709645595742,40.577712484675772,40.868307219391802,41.450384699311293]
[null,null,"CO2PPM",null,390.1,391.85,394.06,396.74,398.81,401.01,404.41,406.76,408.72,411.65,414.21,416.41,418.53,421.08]
[null,null,"Change in PPM (1  year)",null,null,{"$f":"F10-E10","v":1.75},{"$f":"G10-F10","v":2.2099999999999795},{"$f":"H10-G10","v":2.6800000000000068},{"$f":"I10-H10","v":2.0699999999999932},{"$f":"J10-I10","v":2.1999999999999886},{"$f":"K10-J10","v":3.4000000000000341},{"$f":"L10-K10","v":2.3499999999999659},{"$f":"M10-L10","v":1.9600000000000364},{"$f":"N10-M10","v":2.92999999999995},{"$f":"O10-N10","v":2.5600000000000023},{"$f":"P10-O10","v":2.2000000000000455},{"$f":"Q10-P10","v":2.1199999999999477},{"$f":"R10-Q10","v":2.5500000000000114}]
[null,null,"CO2 to Atmosphere",null,null,{"$f":"F11*7.81","v":13.667499999999999},{"$f":"G11*7.81","v":17.260099999999838},{"$f":"H11*7.81","v":20.930800000000051},{"$f":"I11*7.81","v":16.166699999999945},{"$f":"J11*7.81","v":17.18199999999991},{"$f":"K11*7.81","v":26.554000000000265},{"$f":"L11*7.81","v":18.353499999999734},{"$f":"M11*7.81","v":15.307600000000283},{"$f":"N11*7.81","v":22.883299999999608},{"$f":"O11*7.81","v":19.993600000000018},{"$f":"P11*7.81","v":17.182000000000354},{"$f":"Q11*7.81","v":16.55719999999959},{"$f":"R11*7.81","v":19.915500000000087}]
[null,null,"Airborne Fraction (AnthroCO2)",null,null,{"$f":"F12/F9","v":0.34327188704525796},{"$f":"G12/G9","v":0.42423535632812004},{"$f":"H12/H9","v":0.51743716179185262},{"$f":"I12/I9","v":0.39546981956330829},{"$f":"J12/J9","v":0.41938001949062759},{"$f":"K12/K9","v":0.66625659728487807},{"$f":"L12/L9","v":0.45594394100500413},{"$f":"M12/M9","v":0.37695680548214688},{"$f":"N12/N9","v":0.55915890488893072},{"$f":"O12/O9","v":0.51800787716802532},{"$f":"P12/P9","v":0.42343441628182366},{"$f":"Q12/Q9","v":0.40513544911748345},{"$f":"R12/R9","v":0.4804659870944693}]
[null,null,"Average  Airborne Fraction (AnthroCO2)",null,{"$f":"AVERAGE(E13:R13)","v":0.46039647865707134}]
[]
[null,null,"AIM/CGE 2.0 - SSP5-Baseline"]
[null,null,null,null,2010,2011,2012,2013,2014,2015,2016,2017,2018,2019,2020,2021,2022,2023]
[null,null,"Emissions|CO2",null,{"$f":"E53/1000","v":37.403227200000003},{"$f":"F53/1000","v":38.090403139999999},38.777579080000002,39.464755019999998,40.151930960000001,40.839106899999997,41.52628284,42.213458780000003,42.900634719999999,43.587810660000002,44.274986599999998,45.270378320000006,46.26577004,47.26116176]
[null,null,"Carbon Sequestration",null,{"$f":"E54/1000","v":1.6576233},{"$f":"F54/1000","v":1.65577171},1.65392012,1.65206853,1.65021694,1.64836535,1.6465137599999999,1.6446621700000001,1.6428105800000001,1.6409589900000001,1.6391074000000001,1.6658164799999999,1.69252556,1.7192346399999998]
[null,null,"Feedback - Permafrost",null,{"$f":"E52","v":5.9716999999999999E-2},{"$f":"F52","v":6.5655000000000005E-2},7.1807999999999997E-2,7.8797000000000006E-2,8.6124999999999993E-2,9.2846999999999999E-2,0.100526,0.10713200000000001,0.114061,0.12134300000000001,0.12854399999999999,0.13680899999999999,0.14436299999999999,0.153757]
[null,null,"Total",null,{"$f":"SUM(E18:E20)","v":39.1205675},{"$f":"SUM(F18:F20)","v":39.811829850000002},40.503307200000002,41.195620550000001,41.888272900000004,42.580319249999995,43.2733226,43.96525295,44.657506300000001,45.350112650000007,46.042637999999997,47.073003800000002,48.102658599999998,49.134153400000002]
[]
[null,null,"CO2PPM",null,{"$f":"E51","v":388.71699999999998},{"$f":"F51","v":390.94400000000002},393.01600000000002,395.72500000000002,397.54700000000003,399.94900000000001,402.81545399999999,405.71279500000003,408.67522500000001,411.69380799999999,414.76313699999997,417.90536900000001,421.13032900000002,424.44245799999999]
[null,null,"Change in PPM (1  year)",null,null,{"$f":"F23-E23","v":2.2270000000000323},{"$f":"G23-F23","v":2.0720000000000027},{"$f":"H23-G23","v":2.7090000000000032},{"$f":"I23-H23","v":1.8220000000000027},{"$f":"J23-I23","v":2.4019999999999868},{"$f":"K23-J23","v":2.8664539999999761},{"$f":"L23-K23","v":2.8973410000000399},{"$f":"M23-L23","v":2.9624299999999835},{"$f":"N23-M23","v":3.0185829999999783},{"$f":"O23-N23","v":3.069328999999982},{"$f":"P23-O23","v":3.1422320000000354},{"$f":"Q23-P23","v":3.22496000000001},{"$f":"R23-Q23","v":3.3121289999999703}]
[null,null,"CO2 to Atmosphere",null,null,{"$f":"F24*7.81","v":17.392870000000251},{"$f":"G24*7.81","v":16.182320000000022},{"$f":"H24*7.81","v":21.157290000000025},{"$f":"I24*7.81","v":14.229820000000021},{"$f":"J24*7.81","v":18.759619999999895},{"$f":"K24*7.81","v":22.387005739999811},{"$f":"L24*7.81","v":22.62823321000031},{"$f":"M24*7.81","v":23.136578299999869},{"$f":"N24*7.81","v":23.575133229999828},{"$f":"O24*7.81","v":23.971459489999859},{"$f":"P24*7.81","v":24.540831920000276},{"$f":"Q24*7.81","v":25.186937600000078},{"$f":"R24*7.81","v":25.867727489999766}]
[null,null,"Airborne Fraction (AnthroCO2)",null,null,{"$f":"F25/F18","v":0.45662079070345724},{"$f":"G25/G18","v":0.41731125005547975},{"$f":"H25/H18","v":0.53610595046840925},{"$f":"I25/I18","v":0.3543993939961691},{"$f":"J25/J18","v":0.45935431560575818},{"$f":"K25/K18","v":0.53910449500757218},{"$f":"L25/L18","v":0.5360430977222167},{"$f":"M25/M18","v":0.53930620026966047},{"$f":"N25/N18","v":0.54086527570503651},{"$f":"O25/O18","v":0.54142217380140012},{"$f":"P25/P18","v":0.54209469482516737},{"$f":"Q25/Q18","v":0.5443968095251458},{"$f":"R25/R18","v":0.54733583616417147}]
[null,null,"Average  Airborne Fraction (AnthroCO2)",null,{"$f":"AVERAGE(E26:R26)","v":0.50418156029612649}]
[]
[null,null,"GCAM 4.2 - SSP5-Baseline"]
[null,null,null,null,2010,2011,2012,2013,2014,2015,2016,2017,2018,2019,2020,2021,2022,2023]
[null,null,"Emissions|CO2",null,{"$f":"E58/1000","v":35.775431677},{"$f":"F58/1000","v":36.318236039000006},36.861040400999997,37.403844763000002,37.946649125,38.489453486999999,39.032257849000004,39.575062210999995,40.117866571999997,40.660670934000002,41.203475295999993,42.597353118000001,43.991230940000001,45.385108761000005]
[null,null,"Carbon Sequestration",null,{"$f":"E55/1000","v":0},{"$f":"F55/1000","v":0},0,0,0,0,0,0,0,0,0,0,0,0]
[null,null,"Feedback - Permafrost",null,{"$f":"E57","v":5.9716999999999999E-2},{"$f":"F57","v":6.5655000000000005E-2},7.1807999999999997E-2,7.8797000000000006E-2,8.6124999999999993E-2,9.2845999999999998E-2,0.100506,0.10713499999999999,0.114234,0.12113699999999999,0.12792899999999999,0.136127,0.14402000000000001,0.15276500000000001]
[null,null,"Total",null,{"$f":"SUM(E31:E33)","v":35.835148676999999},{"$f":"SUM(F31:F33)","v":36.383891039000005},36.932848400999994,37.482641763000004,38.032774125000003,38.582299487,39.132763849000007,39.682197210999995,40.232100572,40.781807934,41.331404295999995,42.733480118000003,44.135250939999999,45.537873761000007]
[]
[null,null,"CO2PPM",null,{"$f":"E56","v":388.71699999999998},{"$f":"F56","v":390.94400000000002},393.01600000000002,395.72500000000002,397.54700000000003,399.94900000000001,402.81545799999998,405.67827999999997,408.57997,411.51463000000001,414.48154799999998,417.50476800000001,420.680475,424.032623]
[null,null,"Change in PPM (1  year)",null,null,{"$f":"F36-E36","v":2.2270000000000323},{"$f":"G36-F36","v":2.0720000000000027},{"$f":"H36-G36","v":2.7090000000000032},{"$f":"I36-H36","v":1.8220000000000027},{"$f":"J36-I36","v":2.4019999999999868},{"$f":"K36-J36","v":2.866457999999966},{"$f":"L36-K36","v":2.8628219999999942},{"$f":"M36-L36","v":2.9016900000000305},{"$f":"N36-M36","v":2.934660000000008},{"$f":"O36-N36","v":2.9669179999999642},{"$f":"P36-O36","v":3.0232200000000375},{"$f":"Q36-P36","v":3.1757069999999885},{"$f":"R36-Q36","v":3.3521479999999997}]
[null,null,"CO2 to Atmosphere",null,null,{"$f":"F37*7.81","v":17.392870000000251},{"$f":"G37*7.81","v":16.182320000000022},{"$f":"H37*7.81","v":21.157290000000025},{"$f":"I37*7.81","v":14.229820000000021},{"$f":"J37*7.81","v":18.759619999999895},{"$f":"K37*7.81","v":22.387036979999735},{"$f":"L37*7.81","v":22.358639819999954},{"$f":"M37*7.81","v":22.662198900000238},{"$f":"N37*7.81","v":22.91969460000006},{"$f":"O37*7.81","v":23.171629579999721},{"$f":"P37*7.81","v":23.611348200000293},{"$f":"Q37*7.81","v":24.802271669999907},{"$f":"R37*7.81","v":26.180275879999996}]
[null,null,"Airborne Fraction (AnthroCO2)",null,null,{"$f":"F38/F31","v":0.47890183822042121},{"$f":"G38/G31","v":0.43900876980024184},{"$f":"H38/H31","v":0.56564479224148856},{"$f":"I38/I31","v":0.37499542985009277},{"$f":"J38/J31","v":0.48739637226431515},{"$f":"K38/K31","v":0.57355219025776349},{"$f":"L38/L31","v":0.56496790076517711},{"$f":"M38/M31","v":0.56489043003640604},{"$f":"N38/N31","v":0.56368215461085436},{"$f":"O38/O31","v":0.56237075667860492},{"$f":"P38/P31","v":0.5542914400008353},{"$f":"Q38/Q31","v":0.56380035611706181},{"$f":"R38/R31","v":0.57684726542942732}]
[null,null,"Average  Airborne Fraction (AnthroCO2)",null,{"$f":"AVERAGE(E39:R39)","v":0.52848843817482227}]
[]
[]
[]
[]
[]
[]
[]
["Raw Data"]
[]
["Model","Scenario","Variable","Unit","2010","2011","2012","2013","2014","2015","2016","2017","2018","2019","2020","2021","2022","2023"]
["AIM/CGE 2.0","SSP5-Baseline","AR6 climate diagnostics|Atmospheric Concentrations|CO2|MAGICCv7.5.3|67.0th Percentile","ppm",388.71699999999998,390.94400000000002,393.01600000000002,395.72500000000002,397.54700000000003,399.94900000000001,402.81545399999999,405.71279500000003,408.67522500000001,411.69380799999999,414.76313699999997,417.90536900000001,421.13032900000002,424.44245799999999]
["AIM/CGE 2.0","SSP5-Baseline","AR6 climate diagnostics|Net Land to Atmosphere Flux due to Permafrost|CO2|MAGICCv7.5.3|67.0th Percentile","GtC/yr",5.9716999999999999E-2,6.5655000000000005E-2,7.1807999999999997E-2,7.8797000000000006E-2,8.6124999999999993E-2,9.2846999999999999E-2,0.100526,0.10713200000000001,0.114061,0.12134300000000001,0.12854399999999999,0.13680899999999999,0.14436299999999999,0.153757]
["AIM/CGE 2.0","SSP5-Baseline","Emissions|CO2","Mt CO2/yr",37403.227200000001,38090.403140000002,38777.579080000003,39464.755019999997,40151.930959999998,40839.106899999999,41526.28284,42213.458780000001,42900.634720000002,43587.810660000003,44274.986599999997,45270.378320000003,46265.770040000003,47261.161760000003]
["AIM/CGE 2.0","SSP5-Baseline","Carbon Sequestration","Mt CO2/yr",1657.6233,1655.77171,1653.92012,1652.06853,1650.21694,1648.36535,1646.51376,1644.6621700000001,1642.8105800000001,1640.9589900000001,1639.1074000000001,1665.81648,1692.52556,1719.2346399999999]
["GCAM 4.2","SSP5-Baseline","Carbon Sequestration","Mt CO2/yr",0,0,0,0,0,0,0,0,0,0,0,0,0,0]
["GCAM 4.2","SSP5-Baseline","AR6 climate diagnostics|Atmospheric Concentrations|CO2|MAGICCv7.5.3|67.0th Percentile","ppm",388.71699999999998,390.94400000000002,393.01600000000002,395.72500000000002,397.54700000000003,399.94900000000001,402.81545799999998,405.67827999999997,408.57997,411.51463000000001,414.48154799999998,417.50476800000001,420.680475,424.032623]
["GCAM 4.2","SSP5-Baseline","AR6 climate diagnostics|Net Land to Atmosphere Flux due to Permafrost|CO2|MAGICCv7.5.3|67.0th Percentile","GtC/yr",5.9716999999999999E-2,6.5655000000000005E-2,7.1807999999999997E-2,7.8797000000000006E-2,8.6124999999999993E-2,9.2845999999999998E-2,0.100506,0.10713499999999999,0.114234,0.12113699999999999,0.12792899999999999,0.136127,0.14402000000000001,0.15276500000000001]
["GCAM 4.2","SSP5-Baseline","Emissions|CO2","Mt CO2/yr",35775.431677,36318.236039000003,36861.040400999998,37403.844763000001,37946.649125000004,38489.453486999999,39032.257849000001,39575.062210999997,40117.866571999999,40660.670934000002,41203.475295999997,42597.353117999999,43991.230940000001,45385.108761000003]

{"sheet":"Validation","index":13,"n_rows":486,"n_cols":27,"rows_kept":486,"cut":false,"hidden":false,"merged":[[13,3,13,9],[13,11,13,13],[13,14,14,14],[13,16,13,20],[13,22,13,26],[9,22,9,26]]}
["Validation"]
[]
["Because CO2 emissions cannot be use to calcuate CO2 PPM (thereby allowing CO2 RF to be calclated), this validation assumes uses the CO2 PPM in 2100  for validation"]
["Since the sum of the RFs oin 2100 determine the tempeature increase in 2100,  this validation works as follows (for the year 2100)"]
[1,"Estimate the CO2 RF"]
[2,"Estimate the  RF of the other major forcing elements based on the CO2 RF"]
[3,"Sum the 6 RFs"]
[4,"Calculate the \"Climate Facttor\" based on total RF"]
[5,"Estimage the temperatuire increase"]
[6,"Compare the temperature increase to the AR6 model/scenario",null,null,null,null,null,null,null,null,null,null,null,null,null,null,null,null,null,null,null,null,"Averages"]
["Results: The average difference between the calculated temperature increase and the AR6 temperature increase is 0.01°C for the 470 AR6 Scenarios"]
[null,"And about half of the calculations are within 0.10 °C for the 470 AR6 Scenarios"]
[null,null,null,null,null,null,null,null,null,null,null,null,null,{"$f":"AVERAGE(N16:N485)","v":1.0549065942172201E-2},null,null,null,null,null,null,null,null,{"$f":"AVERAGE(W16:W485)","v":-3.0446360257887911E-2},{"$f":"AVERAGE(X16:X485)","v":4.5472582094132047E-2},{"$f":"AVERAGE(Y16:Y485)","v":-4.1189931674387118E-3},{"$f":"AVERAGE(Z16:Z485)","v":8.7221306746274561E-3},{"$f":"AVERAGE(AA16:AA485)","v":-1.2996013424707058E-2}]
[null,null,null,"Calculated Radiative Forcing",null,null,null,null,null,null,null,"Temperature Increase",null,null,"Mitigation Factor",null,"AR6 Data",null,null,null,null,null,"Difference"]
["Model","Scenario","CO2 PPM","CO2","CH4","N2O","Other GHG","Aerosol","Other NonGHG","Total","Clim Fact","Calced","AR6 Model","Diff",null,null,"CO2RF","CH4RF","N2ORF","AerosolRF","TotalRF",null,"CO2RF","CH4RF","N2ORF","AerosolRF","TotalRF"]
["AIM/CGE 2.0","ADVANCE_2020_1.5C-2100",375.62850800000001,{"$f":"CO2RFFromCO2PPM(C16)","v":1.7130949900720807},{"$f":"'Non-CO2 RF Calcs'!$S$17+('Non-CO2 RF Calcs'!$S$16-'Non-CO2 RF Calcs'!$S$17)*($O16-1)/9","v":0.35073300623329884},{"$f":"'Non-CO2 RF Calcs'!$S$19+('Non-CO2 RF Calcs'!$S$18-'Non-CO2 RF Calcs'!$S$19)*($O16-1)/9","v":0.34002878096965083},{"$f":"'Non-CO2 RF Calcs'!$S$21+('Non-CO2 RF Calcs'!$S$20-'Non-CO2 RF Calcs'!$S$21)*($O16-1)/9","v":3.0287375857617427E-2},{"$f":"'Non-CO2 RF Calcs'!$S$23+('Non-CO2 RF Calcs'!$S$22-'Non-CO2 RF Calcs'!$S$23)*($O16-1)/9","v":-0.22527464161748989},{"$f":"'Non-CO2 RF Calcs'!$S$25+('Non-CO2 RF Calcs'!$S$24-'Non-CO2 RF Calcs'!$S$25)*($O16-1)/9","v":3.0287375857617427E-2},{"$f":"SUM(D16:I16)","v":2.2391568873727752},{"$f":"CFfromRFin2100(J16)","v":0.61165614137965896},{"$f":"K16*J16","v":1.3695940616741193},1.1731940000000001,{"$f":"L16-M16","v":0.19640006167411928},{"$f":"MitigationAggressiveness(D16,0)","v":9.8335919903607483},null,1.643975,0.200568,0.24227399999999999,-0.16952700000000001,1.957325,null,{"$f":"Q16-D16","v":-6.9119990072080695E-2},{"$f":"R16-E16","v":-0.15016500623329884},{"$f":"S16-F16","v":-9.7754780969650845E-2},{"$f":"T16-H16","v":5.5747641617489879E-2},{"$f":"U16-J16","v":-0.2818318873727752}]
["AIM/CGE 2.0","ADVANCE_2020_Med2C",475.38411300000001,{"$f":"CO2RFFromCO2PPM(C17)","v":2.9885464660861643},{"$f":"'Non-CO2 RF Calcs'!$S$17+('Non-CO2 RF Calcs'!$S$16-'Non-CO2 RF Calcs'!$S$17)*($O17-1)/9","v":0.4204979407369398},{"$f":"'Non-CO2 RF Calcs'!$S$19+('Non-CO2 RF Calcs'!$S$18-'Non-CO2 RF Calcs'!$S$19)*($O17-1)/9","v":0.35871771319589252},{"$f":"'Non-CO2 RF Calcs'!$S$21+('Non-CO2 RF Calcs'!$S$20-'Non-CO2 RF Calcs'!$S$21)*($O17-1)/9","v":0.11252339708041093},{"$f":"'Non-CO2 RF Calcs'!$S$23+('Non-CO2 RF Calcs'!$S$22-'Non-CO2 RF Calcs'!$S$23)*($O17-1)/9","v":-0.27616186680169474},{"$f":"'Non-CO2 RF Calcs'!$S$25+('Non-CO2 RF Calcs'!$S$24-'Non-CO2 RF Calcs'!$S$25)*($O17-1)/9","v":0.11252339708041093},{"$f":"SUM(D17:I17)","v":3.7166470473781237},{"$f":"CFfromRFin2100(J17)","v":0.58798044467888988},{"$f":"K17*J17","v":2.1853157836318724},2.0130629999999998,{"$f":"L17-M17","v":0.17225278363187257},{"$f":"MitigationAggressiveness(D17,0)","v":8.7717208411424696},null,2.9710559999999999,0.380245,0.31136399999999997,-0.24073800000000001,3.5157780000000001,null,{"$f":"Q17-D17","v":-1.7490466086164336E-2},{"$f":"R17-E17","v":-4.0252940736939802E-2},{"$f":"S17-F17","v":-4.7353713195892544E-2},{"$f":"T17-H17","v":3.5423866801694737E-2},{"$f":"U17-J17","v":-0.20086904737812361}]
["AIM/CGE 2.0","ADVANCE_2020_WB2C",417.55642599999999,{"$f":"CO2RFFromCO2PPM(C18)","v":2.266844625319993},{"$f":"'Non-CO2 RF Calcs'!$S$17+('Non-CO2 RF Calcs'!$S$16-'Non-CO2 RF Calcs'!$S$17)*($O18-1)/9","v":0.38312018680344007},{"$f":"'Non-CO2 RF Calcs'!$S$19+('Non-CO2 RF Calcs'!$S$18-'Non-CO2 RF Calcs'!$S$19)*($O18-1)/9","v":0.34870479890016048},{"$f":"'Non-CO2 RF Calcs'!$S$21+('Non-CO2 RF Calcs'!$S$20-'Non-CO2 RF Calcs'!$S$21)*($O18-1)/9","v":6.8464045665478923E-2},{"$f":"'Non-CO2 RF Calcs'!$S$23+('Non-CO2 RF Calcs'!$S$22-'Non-CO2 RF Calcs'!$S$23)*($O18-1)/9","v":-0.24889816771236883},{"$f":"'Non-CO2 RF Calcs'!$S$25+('Non-CO2 RF Calcs'!$S$24-'Non-CO2 RF Calcs'!$S$25)*($O18-1)/9","v":6.8464045665478923E-2},{"$f":"SUM(D18:I18)","v":2.8866995346421827},{"$f":"CFfromRFin2100(J18)","v":0.60055905634033635},{"$f":"K18*J18","v":1.7336335484627974},1.536937,{"$f":"L18-M18","v":0.19669654846279738},{"$f":"MitigationAggressiveness(D18,0)","v":9.3406364261272437},null,2.239687,0.290827,0.27934100000000001,-0.248472,2.6298849999999998,null,{"$f":"Q18-D18","v":-2.7157625319992995E-2},{"$f":"R18-E18","v":-9.2293186803440064E-2},{"$f":"S18-F18","v":-6.9363798900160478E-2},{"$f":"T18-H18","v":4.2616771236883566E-4},{"$f":"U18-J18","v":-0.25681453464218285}]
["AIM/CGE 2.0","ADVANCE_2030_Med2C",473.54128100000003,{"$f":"CO2RFFromCO2PPM(C19)","v":2.9662993868782332},{"$f":"'Non-CO2 RF Calcs'!$S$17+('Non-CO2 RF Calcs'!$S$16-'Non-CO2 RF Calcs'!$S$17)*($O19-1)/9","v":0.41942743120776038},{"$f":"'Non-CO2 RF Calcs'!$S$19+('Non-CO2 RF Calcs'!$S$18-'Non-CO2 RF Calcs'!$S$19)*($O19-1)/9","v":0.35843094047574708},{"$f":"'Non-CO2 RF Calcs'!$S$21+('Non-CO2 RF Calcs'!$S$20-'Non-CO2 RF Calcs'!$S$21)*($O19-1)/9","v":0.11126152469441719},{"$f":"'Non-CO2 RF Calcs'!$S$23+('Non-CO2 RF Calcs'!$S$22-'Non-CO2 RF Calcs'!$S$23)*($O19-1)/9","v":-0.2753810266868037},{"$f":"'Non-CO2 RF Calcs'!$S$25+('Non-CO2 RF Calcs'!$S$24-'Non-CO2 RF Calcs'!$S$25)*($O19-1)/9","v":0.11126152469441719},3.6912997812637713,{"$f":"CFfromRFin2100(J19)","v":0.58833725670686243},2.1717291869913686,2.1598229999999998,1.1906186991368806E-2,{"$f":"MitigationAggressiveness(D19,0)","v":8.7880147456961897},null,2.9480810000000002,0.35073100000000001,0.31356000000000001,-0.240532,3.7530999999999999,null,-1.8218386878233073E-2,{"$f":"R19-E19","v":-6.8696431207760367E-2},{"$f":"S19-F19","v":-4.4870940475747079E-2},{"$f":"T19-H19","v":3.4849026686803702E-2},{"$f":"U19-J19","v":6.180021873622854E-2}]
["AIM/CGE 2.0","ADVANCE_2030_Price1.5C",399.34888799999999,{"$f":"CO2RFFromCO2PPM(C20)","v":2.0295217572785242},{"$f":"'Non-CO2 RF Calcs'!$S$17+('Non-CO2 RF Calcs'!$S$16-'Non-CO2 RF Calcs'!$S$17)*($O20-1)/9","v":0.36963411157976567},{"$f":"'Non-CO2 RF Calcs'!$S$19+('Non-CO2 RF Calcs'!$S$18-'Non-CO2 RF Calcs'!$S$19)*($O20-1)/9","v":0.34509209077327058},{"$f":"'Non-CO2 RF Calcs'!$S$21+('Non-CO2 RF Calcs'!$S$20-'Non-CO2 RF Calcs'!$S$21)*($O20-1)/9","v":5.2567217607131012E-2},{"$f":"'Non-CO2 RF Calcs'!$S$23+('Non-CO2 RF Calcs'!$S$22-'Non-CO2 RF Calcs'!$S$23)*($O20-1)/9","v":-0.23906129261686609},{"$f":"'Non-CO2 RF Calcs'!$S$25+('Non-CO2 RF Calcs'!$S$24-'Non-CO2 RF Calcs'!$S$25)*($O20-1)/9","v":5.2567217607131012E-2},2.6103211022289559,{"$f":"CFfromRFin2100(J20)","v":0.60515785397467126},1.5796563164096733,1.5235300000000001,5.6126316409673249E-2,{"$f":"MitigationAggressiveness(D20,0)","v":9.5459039333369002},null,1.983932,0.24212500000000001,0.27279500000000001,-0.253085,2.6040960000000002,null,-4.5589757278524212E-2,{"$f":"R20-E20","v":-0.12750911157976566},{"$f":"S20-F20","v":-7.2297090773270567E-2},{"$f":"T20-H20","v":-1.402370738313391E-2},{"$f":"U20-J20","v":-6.2251022289556701E-3}]
["AIM/CGE 2.0","ADVANCE_2030_WB2C",409.849108,{"$f":"CO2RFFromCO2PPM(C21)","v":2.1669747465291525},{"$f":"'Non-CO2 RF Calcs'!$S$17+('Non-CO2 RF Calcs'!$S$16-'Non-CO2 RF Calcs'!$S$17)*($O21-1)/9","v":0.37751706213523917},{"$f":"'Non-CO2 RF Calcs'!$S$19+('Non-CO2 RF Calcs'!$S$18-'Non-CO2 RF Calcs'!$S$19)*($O21-1)/9","v":0.34720380964353442},{"$f":"'Non-CO2 RF Calcs'!$S$21+('Non-CO2 RF Calcs'!$S$20-'Non-CO2 RF Calcs'!$S$21)*($O21-1)/9","v":6.1859313898632973E-2},{"$f":"'Non-CO2 RF Calcs'!$S$23+('Non-CO2 RF Calcs'!$S$22-'Non-CO2 RF Calcs'!$S$23)*($O21-1)/9","v":-0.24481119380843686},{"$f":"'Non-CO2 RF Calcs'!$S$25+('Non-CO2 RF Calcs'!$S$24-'Non-CO2 RF Calcs'!$S$25)*($O21-1)/9","v":6.1859313898632973E-2},2.7706030522967553,{"$f":"CFfromRFin2100(J21)","v":0.60246588965892678},1.6691938327937028,1.609515,5.9678832793702785E-2,{"$f":"MitigationAggressiveness(D21,0)","v":9.4259199066173629},null,2.1250740000000001,0.232714,0.27393000000000001,-0.25414799999999999,2.7215560000000001,null,-4.1900746529152322E-2,{"$f":"R21-E21","v":-0.14480306213523916},{"$f":"S21-F21","v":-7.3273809643534416E-2},{"$f":"T21-H21","v":-9.3368061915631295E-3},{"$f":"U21-J21","v":-4.9047052296755211E-2}]
["AIM/CGE 2.0","ADVANCE_INDC",554.95045300000004,{"$f":"CO2RFFromCO2PPM(C22)","v":3.9018848109814543},{"$f":"'Non-CO2 RF Calcs'!$S$17+('Non-CO2 RF Calcs'!$S$16-'Non-CO2 RF Calcs'!$S$17)*($O22-1)/9","v":0.45996094396457804},{"$f":"'Non-CO2 RF Calcs'!$S$19+('Non-CO2 RF Calcs'!$S$18-'Non-CO2 RF Calcs'!$S$19)*($O22-1)/9","v":0.36928923308640144},{"$f":"'Non-CO2 RF Calcs'!$S$21+('Non-CO2 RF Calcs'!$S$20-'Non-CO2 RF Calcs'!$S$21)*($O22-1)/9","v":0.15904075417438002},{"$f":"'Non-CO2 RF Calcs'!$S$23+('Non-CO2 RF Calcs'!$S$22-'Non-CO2 RF Calcs'!$S$23)*($O22-1)/9","v":-0.30494656710962709},{"$f":"'Non-CO2 RF Calcs'!$S$25+('Non-CO2 RF Calcs'!$S$24-'Non-CO2 RF Calcs'!$S$25)*($O22-1)/9","v":0.15904075417438002},4.7442699292715664,{"$f":"CFfromRFin2100(J22)","v":0.57496569302222134},2.727792447768111,2.716326,1.146644776811101E-2,{"$f":"MitigationAggressiveness(D22,0)","v":8.1710663019090095},null,3.8634360000000001,0.43568200000000001,0.34690799999999999,-0.31623099999999998,4.7395259999999997,null,-3.8448810981454251E-2,{"$f":"R22-E22","v":-2.4278943964578026E-2},{"$f":"S22-F22","v":-2.2381233086401442E-2},{"$f":"T22-H22","v":-1.1284432890372897E-2},{"$f":"U22-J22","v":-4.7439292715667492E-3}]
["AIM/CGE 2.0","ADVANCE_NoPolicy",805.58289600000001,{"$f":"CO2RFFromCO2PPM(C23)","v":6.1757802872457761},{"$f":"'Non-CO2 RF Calcs'!$S$17+('Non-CO2 RF Calcs'!$S$16-'Non-CO2 RF Calcs'!$S$17)*($O23-1)/9","v":0.52016224250179621},{"$f":"'Non-CO2 RF Calcs'!$S$19+('Non-CO2 RF Calcs'!$S$18-'Non-CO2 RF Calcs'!$S$19)*($O23-1)/9","v":0.38541621716943097},{"$f":"'Non-CO2 RF Calcs'!$S$21+('Non-CO2 RF Calcs'!$S$20-'Non-CO2 RF Calcs'!$S$21)*($O23-1)/9","v":0.23000355661043798},{"$f":"'Non-CO2 RF Calcs'!$S$23+('Non-CO2 RF Calcs'!$S$22-'Non-CO2 RF Calcs'!$S$23)*($O23-1)/9","v":-0.34885798273469426},{"$f":"'Non-CO2 RF Calcs'!$S$25+('Non-CO2 RF Calcs'!$S$24-'Non-CO2 RF Calcs'!$S$25)*($O23-1)/9","v":0.23000355661043798},7.1925078774031848,{"$f":"CFfromRFin2100(J23)","v":0.55537053274435777},3.9945069316413968,4.2809239999999997,-0.28641706835860292,{"$f":"MitigationAggressiveness(D23,0)","v":7.2547603881005136},null,6.1447019999999997,0.89529700000000001,0.48193200000000003,-0.40925400000000001,7.6576279999999999,null,-3.1078287245776437E-2,{"$f":"R23-E23","v":0.3751347574982038},{"$f":"S23-F23","v":9.6515782830569052E-2},{"$f":"T23-H23","v":-6.0396017265305746E-2},{"$f":"U23-J23","v":0.46512012259681512}]
["AIM/CGE 2.0","ADVANCE_Reference",765.05913399999997,{"$f":"CO2RFFromCO2PPM(C24)","v":5.8701718271388792},{"$f":"'Non-CO2 RF Calcs'!$S$17+('Non-CO2 RF Calcs'!$S$16-'Non-CO2 RF Calcs'!$S$17)*($O24-1)/9","v":0.51522918072395285},{"$f":"'Non-CO2 RF Calcs'!$S$19+('Non-CO2 RF Calcs'!$S$18-'Non-CO2 RF Calcs'!$S$19)*($O24-1)/9","v":0.38409472725634053},{"$f":"'Non-CO2 RF Calcs'!$S$21+('Non-CO2 RF Calcs'!$S$20-'Non-CO2 RF Calcs'!$S$21)*($O24-1)/9","v":0.22418866728326592},{"$f":"'Non-CO2 RF Calcs'!$S$23+('Non-CO2 RF Calcs'!$S$22-'Non-CO2 RF Calcs'!$S$23)*($O24-1)/9","v":-0.34525975925290187},{"$f":"'Non-CO2 RF Calcs'!$S$25+('Non-CO2 RF Calcs'!$S$24-'Non-CO2 RF Calcs'!$S$25)*($O24-1)/9","v":0.22418866728326592},6.8726133104328024,{"$f":"CFfromRFin2100(J24)","v":0.55701788499466176},3.8281685305634405,3.8820139999999999,-5.3845469436559323E-2,{"$f":"MitigationAggressiveness(D24,0)","v":7.329845042253381},null,5.80844,0.85363500000000003,0.45932000000000001,-0.38054500000000002,6.9512999999999998,null,-6.1731827138879147E-2,{"$f":"R24-E24","v":0.33840581927604718},{"$f":"S24-F24","v":7.5225272743659477E-2},{"$f":"T24-H24","v":-3.5285240747098157E-2},{"$f":"U24-J24","v":7.8686689567197377E-2}]
["AIM/CGE 2.0","EMF30_Baseline",788.26581199999998,{"$f":"CO2RFFromCO2PPM(C25)","v":6.0481127775618626},{"$f":"'Non-CO2 RF Calcs'!$S$17+('Non-CO2 RF Calcs'!$S$16-'Non-CO2 RF Calcs'!$S$17)*($O25-1)/9","v":0.5182207248722599},{"$f":"'Non-CO2 RF Calcs'!$S$19+('Non-CO2 RF Calcs'!$S$18-'Non-CO2 RF Calcs'!$S$19)*($O25-1)/9","v":0.38489611503427357},{"$f":"'Non-CO2 RF Calcs'!$S$21+('Non-CO2 RF Calcs'!$S$20-'Non-CO2 RF Calcs'!$S$21)*($O25-1)/9","v":0.22771497587682243},{"$f":"'Non-CO2 RF Calcs'!$S$23+('Non-CO2 RF Calcs'!$S$22-'Non-CO2 RF Calcs'!$S$23)*($O25-1)/9","v":-0.34744182079723601},{"$f":"'Non-CO2 RF Calcs'!$S$25+('Non-CO2 RF Calcs'!$S$24-'Non-CO2 RF Calcs'!$S$25)*($O25-1)/9","v":0.22771497587682243},7.0592177484248051,{"$f":"CFfromRFin2100(J25)","v":0.55602357919215717},3.925091518775961,4.2697149999999997,-0.34462348122403874,{"$f":"MitigationAggressiveness(D25,0)","v":7.2843116457799111},null,6.0064450000000003,0.98003399999999996,0.49171799999999999,-0.32911699999999999,7.5874040000000003,null,-4.1667777561862351E-2,{"$f":"R25-E25","v":0.46181327512774006},{"$f":"S25-F25","v":0.10682188496572642},{"$f":"T25-H25","v":1.8324820797236019E-2},{"$f":"U25-J25","v":0.52818625157519516}]
["AIM/CGE 2.0","EMF30_BCOC-EndU",788.88984100000005,{"$f":"CO2RFFromCO2PPM(C26)","v":6.0527892478792706},{"$f":"'Non-CO2 RF Calcs'!$S$17+('Non-CO2 RF Calcs'!$S$16-'Non-CO2 RF Calcs'!$S$17)*($O26-1)/9","v":0.51829486232525834},{"$f":"'Non-CO2 RF Calcs'!$S$19+('Non-CO2 RF Calcs'!$S$18-'Non-CO2 RF Calcs'!$S$19)*($O26-1)/9","v":0.38491597529565519},{"$f":"'Non-CO2 RF Calcs'!$S$21+('Non-CO2 RF Calcs'!$S$20-'Non-CO2 RF Calcs'!$S$21)*($O26-1)/9","v":0.22780236604211912},{"$f":"'Non-CO2 RF Calcs'!$S$23+('Non-CO2 RF Calcs'!$S$22-'Non-CO2 RF Calcs'!$S$23)*($O26-1)/9","v":-0.34749589738015202},{"$f":"'Non-CO2 RF Calcs'!$S$25+('Non-CO2 RF Calcs'!$S$24-'Non-CO2 RF Calcs'!$S$25)*($O26-1)/9","v":0.22780236604211912},7.0641089202042702,{"$f":"CFfromRFin2100(J26)","v":0.55599877303273448},3.9276358922031691,4.274521,-0.3468851077968309,{"$f":"MitigationAggressiveness(D26,0)","v":7.2831832218377732},null,6.0121799999999999,0.98544900000000002,0.49154599999999998,-0.327739,7.591119,null,-4.0609247879270782E-2,{"$f":"R26-E26","v":0.46715413767474168},{"$f":"S26-F26","v":0.10663002470434479},{"$f":"T26-H26","v":1.9756897380152016E-2},{"$f":"U26-J26","v":0.52701007979572978}]
["AIM/CGE 2.0","EMF30_CH4-Only",755.90721299999996,{"$f":"CO2RFFromCO2PPM(C27)","v":5.7978398506358184},{"$f":"'Non-CO2 RF Calcs'!$S$17+('Non-CO2 RF Calcs'!$S$16-'Non-CO2 RF Calcs'!$S$17)*($O27-1)/9","v":0.51391809870789784},{"$f":"'Non-CO2 RF Calcs'!$S$19+('Non-CO2 RF Calcs'!$S$18-'Non-CO2 RF Calcs'!$S$19)*($O27-1)/9","v":0.38374350893849318},{"$f":"'Non-CO2 RF Calcs'!$S$21+('Non-CO2 RF Calcs'!$S$20-'Non-CO2 RF Calcs'!$S$21)*($O27-1)/9","v":0.22264321799324338},{"$f":"'Non-CO2 RF Calcs'!$S$23+('Non-CO2 RF Calcs'!$S$22-'Non-CO2 RF Calcs'!$S$23)*($O27-1)/9","v":-0.34430344321447037},{"$f":"'Non-CO2 RF Calcs'!$S$25+('Non-CO2 RF Calcs'!$S$24-'Non-CO2 RF Calcs'!$S$25)*($O27-1)/9","v":0.22264321799324338},6.7964844510542264,{"$f":"CFfromRFin2100(J27)","v":0.55745035324381564},3.788702658056279,3.6695760000000002,0.11912665805627887,{"$f":"MitigationAggressiveness(D27,0)","v":7.3498006284947053},null,5.728065,0.44027300000000003,0.50813600000000003,-0.32200600000000001,6.6343420000000002,null,-6.9774850635818453E-2,{"$f":"R27-E27","v":-7.3645098707897816E-2},{"$f":"S27-F27","v":0.12439249106150685},{"$f":"T27-H27","v":2.2297443214470358E-2},{"$f":"U27-J27","v":-0.1621424510542262}]
["AIM/CGE 2.0","EMF30_ClimPolicy",433.18304699999999,{"$f":"CO2RFFromCO2PPM(C28)","v":2.4666739963070103},{"$f":"'Non-CO2 RF Calcs'!$S$17+('Non-CO2 RF Calcs'!$S$16-'Non-CO2 RF Calcs'!$S$17)*($O28-1)/9","v":0.39401705767194861},{"$f":"'Non-CO2 RF Calcs'!$S$19+('Non-CO2 RF Calcs'!$S$18-'Non-CO2 RF Calcs'!$S$19)*($O28-1)/9","v":0.35162389977208974},{"$f":"'Non-CO2 RF Calcs'!$S$21+('Non-CO2 RF Calcs'!$S$20-'Non-CO2 RF Calcs'!$S$21)*($O28-1)/9","v":8.1308826648652244E-2},{"$f":"'Non-CO2 RF Calcs'!$S$23+('Non-CO2 RF Calcs'!$S$22-'Non-CO2 RF Calcs'!$S$23)*($O28-1)/9","v":-0.25684645184155491},{"$f":"'Non-CO2 RF Calcs'!$S$25+('Non-CO2 RF Calcs'!$S$24-'Non-CO2 RF Calcs'!$S$25)*($O28-1)/9","v":8.1308826648652244E-2},3.1180861552067984,{"$f":"CFfromRFin2100(J28)","v":0.59686645389213255},1.8610810263884354,1.6428990000000001,0.21818202638843531,{"$f":"MitigationAggressiveness(D28,0)","v":9.1747784220403563},null,2.4393980000000002,0.28184900000000002,0.29805300000000001,-0.29269400000000001,2.7900140000000002,null,-2.7275996307010164E-2,{"$f":"R28-E28","v":-0.1121680576719486},{"$f":"S28-F28","v":-5.3570899772089731E-2},{"$f":"T28-H28","v":-3.5847548158445097E-2},{"$f":"U28-J28","v":-0.32807215520679822}]
["AIM/CGE 2.0","EMF30_ClimPolicy+SLCF",432.82156800000001,{"$f":"CO2RFFromCO2PPM(C29)","v":2.4620917047385866},{"$f":"'Non-CO2 RF Calcs'!$S$17+('Non-CO2 RF Calcs'!$S$16-'Non-CO2 RF Calcs'!$S$17)*($O29-1)/9","v":0.39377187821550652},{"$f":"'Non-CO2 RF Calcs'!$S$19+('Non-CO2 RF Calcs'!$S$18-'Non-CO2 RF Calcs'!$S$19)*($O29-1)/9","v":0.35155822003946602},{"$f":"'Non-CO2 RF Calcs'!$S$21+('Non-CO2 RF Calcs'!$S$20-'Non-CO2 RF Calcs'!$S$21)*($O29-1)/9","v":8.1019819239316782E-2},{"$f":"'Non-CO2 RF Calcs'!$S$23+('Non-CO2 RF Calcs'!$S$22-'Non-CO2 RF Calcs'!$S$23)*($O29-1)/9","v":-0.25666761554937928},{"$f":"'Non-CO2 RF Calcs'!$S$25+('Non-CO2 RF Calcs'!$S$24-'Non-CO2 RF Calcs'!$S$25)*($O29-1)/9","v":8.1019819239316782E-2},3.1127938259228136,{"$f":"CFfromRFin2100(J29)","v":0.59694930737079221},1.858180118372702,1.6461840000000001,0.21199611837270194,{"$f":"MitigationAggressiveness(D29,0)","v":9.1785102250303421},null,2.434599,0.28331899999999999,0.29635899999999998,-0.29177599999999998,2.7873199999999998,null,-2.7492704738586671E-2,{"$f":"R29-E29","v":-0.11045287821550653},{"$f":"S29-F29","v":-5.5199220039466035E-2},{"$f":"T29-H29","v":-3.51083844506207E-2},{"$f":"U29-J29","v":-0.32547382592281382}]
["AIM/CGE 2.0","EMF30_D_BCOC-Red",788.60287300000005,{"$f":"CO2RFFromCO2PPM(C30)","v":6.0506394159595036},{"$f":"'Non-CO2 RF Calcs'!$S$17+('Non-CO2 RF Calcs'!$S$16-'Non-CO2 RF Calcs'!$S$17)*($O30-1)/9","v":0.51826080892679416},{"$f":"'Non-CO2 RF Calcs'!$S$19+('Non-CO2 RF Calcs'!$S$18-'Non-CO2 RF Calcs'!$S$19)*($O30-1)/9","v":0.38490685292407273},{"$f":"'Non-CO2 RF Calcs'!$S$21+('Non-CO2 RF Calcs'!$S$20-'Non-CO2 RF Calcs'!$S$21)*($O30-1)/9","v":0.22776222530352708},{"$f":"'Non-CO2 RF Calcs'!$S$23+('Non-CO2 RF Calcs'!$S$22-'Non-CO2 RF Calcs'!$S$23)*($O30-1)/9","v":-0.3474710584984379},{"$f":"'Non-CO2 RF Calcs'!$S$25+('Non-CO2 RF Calcs'!$S$24-'Non-CO2 RF Calcs'!$S$25)*($O30-1)/9","v":0.22776222530352708},7.0618604699189866,{"$f":"CFfromRFin2100(J30)","v":0.5560101683475217},3.9264662287263645,4.2815269999999996,-0.35506077127363511,{"$f":"MitigationAggressiveness(D30,0)","v":7.2837015384049586},null,6.0085569999999997,0.97985199999999995,0.49171999999999999,-0.31979000000000002,7.599119,null,-4.2082415959503905E-2,{"$f":"R30-E30","v":0.46159119107320579},{"$f":"S30-F30","v":0.10681314707592726},{"$f":"T30-H30","v":2.7681058498437883E-2},{"$f":"U30-J30","v":0.53725853008101332}]
["AIM/CGE 2.0","EMF30_D_CH4-ClimPolicy",745.77992800000004,{"$f":"CO2RFFromCO2PPM(C31)","v":5.7163762540652696},{"$f":"'Non-CO2 RF Calcs'!$S$17+('Non-CO2 RF Calcs'!$S$16-'Non-CO2 RF Calcs'!$S$17)*($O31-1)/9","v":0.51237572399591258},{"$f":"'Non-CO2 RF Calcs'!$S$19+('Non-CO2 RF Calcs'!$S$18-'Non-CO2 RF Calcs'!$S$19)*($O31-1)/9","v":0.38333033093345603},{"$f":"'Non-CO2 RF Calcs'!$S$21+('Non-CO2 RF Calcs'!$S$20-'Non-CO2 RF Calcs'!$S$21)*($O31-1)/9","v":0.22082513043319985},{"$f":"'Non-CO2 RF Calcs'!$S$23+('Non-CO2 RF Calcs'!$S$22-'Non-CO2 RF Calcs'!$S$23)*($O31-1)/9","v":-0.3431784200227247},{"$f":"'Non-CO2 RF Calcs'!$S$25+('Non-CO2 RF Calcs'!$S$24-'Non-CO2 RF Calcs'!$S$25)*($O31-1)/9","v":0.22082513043319985},6.7105541498383126,{"$f":"CFfromRFin2100(J31)","v":0.55795717542243251},3.7442018389630678,3.4494449999999999,0.29475683896306792,{"$f":"MitigationAggressiveness(D31,0)","v":7.3732766515081796},null,5.6384189999999998,0.20813799999999999,0.51461999999999997,-0.31067,6.2479069999999997,null,-7.7957254065269765E-2,{"$f":"R31-E31","v":-0.30423772399591259},{"$f":"S31-F31","v":0.13128966906654393},{"$f":"T31-H31","v":3.2508420022724693E-2},{"$f":"U31-J31","v":-0.4626471498383129}]
["AIM/CGE 2.0","EMF30_D_CO2-Only",425.23265500000002,{"$f":"CO2RFFromCO2PPM(C32)","v":2.3654510954916668},{"$f":"'Non-CO2 RF Calcs'!$S$17+('Non-CO2 RF Calcs'!$S$16-'Non-CO2 RF Calcs'!$S$17)*($O32-1)/9","v":0.38854968398509682},{"$f":"'Non-CO2 RF Calcs'!$S$19+('Non-CO2 RF Calcs'!$S$18-'Non-CO2 RF Calcs'!$S$19)*($O32-1)/9","v":0.35015927607515529},{"$f":"'Non-CO2 RF Calcs'!$S$21+('Non-CO2 RF Calcs'!$S$20-'Non-CO2 RF Calcs'!$S$21)*($O32-1)/9","v":7.4864112527671889E-2},{"$f":"'Non-CO2 RF Calcs'!$S$23+('Non-CO2 RF Calcs'!$S$22-'Non-CO2 RF Calcs'!$S$23)*($O32-1)/9","v":-0.25285849603039445},{"$f":"'Non-CO2 RF Calcs'!$S$25+('Non-CO2 RF Calcs'!$S$24-'Non-CO2 RF Calcs'!$S$25)*($O32-1)/9","v":7.4864112527671889E-2},3.0010297845768683,{"$f":"CFfromRFin2100(J32)","v":0.5987165609113021},1.7967662318142483,2.2613829999999999,-0.46461676818575159,{"$f":"MitigationAggressiveness(D32,0)","v":9.2579956775479939},null,2.3274819999999998,0.92766599999999999,0.46270800000000001,-0.39232600000000001,3.8880309999999998,null,-3.7969095491666938E-2,{"$f":"R32-E32","v":0.53911631601490317},{"$f":"S32-F32","v":0.11254872392484472},{"$f":"T32-H32","v":-0.13946750396960556},{"$f":"U32-J32","v":0.88700121542313148}]
["AIM/CGE 2.0","EMF30_D_Frozen-CH4",790.47844799999996,{"$f":"CO2RFFromCO2PPM(C33)","v":6.0646686454498537},{"$f":"'Non-CO2 RF Calcs'!$S$17+('Non-CO2 RF Calcs'!$S$16-'Non-CO2 RF Calcs'!$S$17)*($O33-1)/9","v":0.51848215738703218},{"$f":"'Non-CO2 RF Calcs'!$S$19+('Non-CO2 RF Calcs'!$S$18-'Non-CO2 RF Calcs'!$S$19)*($O33-1)/9","v":0.38496614870641954},{"$f":"'Non-CO2 RF Calcs'!$S$21+('Non-CO2 RF Calcs'!$S$20-'Non-CO2 RF Calcs'!$S$21)*($O33-1)/9","v":0.22802314171953558},{"$f":"'Non-CO2 RF Calcs'!$S$23+('Non-CO2 RF Calcs'!$S$22-'Non-CO2 RF Calcs'!$S$23)*($O33-1)/9","v":-0.34763251222903258},{"$f":"'Non-CO2 RF Calcs'!$S$25+('Non-CO2 RF Calcs'!$S$24-'Non-CO2 RF Calcs'!$S$25)*($O33-1)/9","v":0.22802314171953558},7.0765307227533443,{"$f":"CFfromRFin2100(J33)","v":0.55593606277693597},3.9340986281275194,4.343858,-0.40975937187248057,{"$f":"MitigationAggressiveness(D33,0)","v":7.2803324598625245},null,6.0232760000000001,1.0638289999999999,0.488894,-0.32911699999999999,7.6999560000000002,null,-4.139264544985366E-2,{"$f":"R33-E33","v":0.54534684261296773},{"$f":"S33-F33","v":0.10392785129358045},{"$f":"T33-H33","v":1.8515512229032582E-2},{"$f":"U33-J33","v":0.62342527724665597}]
["AIM/CGE 2.0","EMF30_D_Frozen-EF",769.645937,{"$f":"CO2RFFromCO2PPM(C34)","v":5.9059642737362479},{"$f":"'Non-CO2 RF Calcs'!$S$17+('Non-CO2 RF Calcs'!$S$16-'Non-CO2 RF Calcs'!$S$17)*($O34-1)/9","v":0.51585763387558847},{"$f":"'Non-CO2 RF Calcs'!$S$19+('Non-CO2 RF Calcs'!$S$18-'Non-CO2 RF Calcs'!$S$19)*($O34-1)/9","v":0.38426308000320175},{"$f":"'Non-CO2 RF Calcs'!$S$21+('Non-CO2 RF Calcs'!$S$20-'Non-CO2 RF Calcs'!$S$21)*($O34-1)/9","v":0.22492946188277546},{"$f":"'Non-CO2 RF Calcs'!$S$23+('Non-CO2 RF Calcs'!$S$22-'Non-CO2 RF Calcs'!$S$23)*($O34-1)/9","v":-0.34571815912487952},{"$f":"'Non-CO2 RF Calcs'!$S$25+('Non-CO2 RF Calcs'!$S$24-'Non-CO2 RF Calcs'!$S$25)*($O34-1)/9","v":0.22492946188277546},6.9102257522557089,{"$f":"CFfromRFin2100(J34)","v":0.5568099554117002},3.8476824929982838,3.2074780000000001,0.64020449299828375,{"$f":"MitigationAggressiveness(D34,0)","v":7.3202795452726273},null,5.8395549999999998,0.87976399999999999,0.49722699999999997,-1.992316,6.017296,null,-6.6409273736248053E-2,{"$f":"R34-E34","v":0.36390636612441152},{"$f":"S34-F34","v":0.11296391999679822},{"$f":"T34-H34","v":-1.6465978408751205},{"$f":"U34-J34","v":-0.89292975225570892}]
["AIM/CGE 2.0","EMF30_D_Frozen-EF-EndU",787.44451800000002,{"$f":"CO2RFFromCO2PPM(C35)","v":6.0419493537671665},{"$f":"'Non-CO2 RF Calcs'!$S$17+('Non-CO2 RF Calcs'!$S$16-'Non-CO2 RF Calcs'!$S$17)*($O35-1)/9","v":0.51812266356413961},{"$f":"'Non-CO2 RF Calcs'!$S$19+('Non-CO2 RF Calcs'!$S$18-'Non-CO2 RF Calcs'!$S$19)*($O35-1)/9","v":0.38486984594716678},{"$f":"'Non-CO2 RF Calcs'!$S$21+('Non-CO2 RF Calcs'!$S$20-'Non-CO2 RF Calcs'!$S$21)*($O35-1)/9","v":0.22759938525994478},{"$f":"'Non-CO2 RF Calcs'!$S$23+('Non-CO2 RF Calcs'!$S$22-'Non-CO2 RF Calcs'!$S$23)*($O35-1)/9","v":-0.34737029392053681},{"$f":"'Non-CO2 RF Calcs'!$S$25+('Non-CO2 RF Calcs'!$S$24-'Non-CO2 RF Calcs'!$S$25)*($O35-1)/9","v":0.22759938525994478},7.0527703398778252,{"$f":"CFfromRFin2100(J35)","v":0.55605637602452151},3.9217379161256964,4.1799039999999996,-0.25816608387430318,{"$f":"MitigationAggressiveness(D35,0)","v":7.2858042075473417},null,6.0105089999999999,0.92454499999999995,0.49356,-0.53027500000000005,7.4916729999999996,null,-3.1440353767166584E-2,{"$f":"R35-E35","v":0.40642233643586034},{"$f":"S35-F35","v":0.10869015405283322},{"$f":"T35-H35","v":-0.18290470607946324},{"$f":"U35-J35","v":0.43890266012217438}]
["AIM/CGE 2.0","EMF30_D_Frozen-EF-SLCF",791.33914300000004,{"$f":"CO2RFFromCO2PPM(C36)","v":6.0710894484874665},{"$f":"'Non-CO2 RF Calcs'!$S$17+('Non-CO2 RF Calcs'!$S$16-'Non-CO2 RF Calcs'!$S$17)*($O36-1)/9","v":0.51858277332236591},{"$f":"'Non-CO2 RF Calcs'!$S$19+('Non-CO2 RF Calcs'!$S$18-'Non-CO2 RF Calcs'!$S$19)*($O36-1)/9","v":0.38499310213810717},{"$f":"'Non-CO2 RF Calcs'!$S$21+('Non-CO2 RF Calcs'!$S$20-'Non-CO2 RF Calcs'!$S$21)*($O36-1)/9","v":0.22814174362538314},{"$f":"'Non-CO2 RF Calcs'!$S$23+('Non-CO2 RF Calcs'!$S$22-'Non-CO2 RF Calcs'!$S$23)*($O36-1)/9","v":-0.34770590247579303},{"$f":"'Non-CO2 RF Calcs'!$S$25+('Non-CO2 RF Calcs'!$S$24-'Non-CO2 RF Calcs'!$S$25)*($O36-1)/9","v":0.22814174362538314},7.0832429087229132,{"$f":"CFfromRFin2100(J36)","v":0.55590234918808246},3.9375913728288938,4.3536219999999997,-0.41603062717110584,{"$f":"MitigationAggressiveness(D36,0)","v":7.2788010148802753},null,6.0323390000000003,1.0619700000000001,0.48883100000000002,-0.34399299999999999,7.7420499999999999,null,-3.8750448487466116E-2,{"$f":"R36-E36","v":0.54338722667763417},{"$f":"S36-F36","v":0.10383789786189285},{"$f":"T36-H36","v":3.712902475793034E-3},{"$f":"U36-J36","v":0.6588070912770867}]
["AIM/CGE 2.0","EMF30_SLCF",755.92983400000003,{"$f":"CO2RFFromCO2PPM(C37)","v":5.7980201401080649},{"$f":"'Non-CO2 RF Calcs'!$S$17+('Non-CO2 RF Calcs'!$S$16-'Non-CO2 RF Calcs'!$S$17)*($O37-1)/9","v":0.51392143490736641},{"$f":"'Non-CO2 RF Calcs'!$S$19+('Non-CO2 RF Calcs'!$S$18-'Non-CO2 RF Calcs'!$S$19)*($O37-1)/9","v":0.38374440265402809},{"$f":"'Non-CO2 RF Calcs'!$S$21+('Non-CO2 RF Calcs'!$S$20-'Non-CO2 RF Calcs'!$S$21)*($O37-1)/9","v":0.22264715056728285},{"$f":"'Non-CO2 RF Calcs'!$S$23+('Non-CO2 RF Calcs'!$S$22-'Non-CO2 RF Calcs'!$S$23)*($O37-1)/9","v":-0.34430587667097429},{"$f":"'Non-CO2 RF Calcs'!$S$25+('Non-CO2 RF Calcs'!$S$24-'Non-CO2 RF Calcs'!$S$25)*($O37-1)/9","v":0.22264715056728285},6.7966744021330507,{"$f":"CFfromRFin2100(J37)","v":0.55744925483765018},3.7888010808432004,3.674938,0.1138630808432004,{"$f":"MitigationAggressiveness(D37,0)","v":7.349749849202948},null,5.7257639999999999,0.44442300000000001,0.50798200000000004,-0.32129099999999999,6.6354360000000003,null,-7.2256140108065026E-2,{"$f":"R37-E37","v":-6.9498434907366402E-2},{"$f":"S37-F37","v":0.12423759734597195},{"$f":"T37-H37","v":2.3014876670974294E-2},{"$f":"U37-J37","v":-0.16123840213305041}]
["AIM/CGE 2.0","EMF30_Slower-Action",541.21598600000004,{"$f":"CO2RFFromCO2PPM(C38)","v":3.7508166055762855},{"$f":"'Non-CO2 RF Calcs'!$S$17+('Non-CO2 RF Calcs'!$S$16-'Non-CO2 RF Calcs'!$S$17)*($O38-1)/9","v":0.45403821913570558},{"$f":"'Non-CO2 RF Calcs'!$S$19+('Non-CO2 RF Calcs'!$S$18-'Non-CO2 RF Calcs'!$S$19)*($O38-1)/9","v":0.36770262795720576},{"$f":"'Non-CO2 RF Calcs'!$S$21+('Non-CO2 RF Calcs'!$S$20-'Non-CO2 RF Calcs'!$S$21)*($O38-1)/9","v":0.15205929094805815},{"$f":"'Non-CO2 RF Calcs'!$S$23+('Non-CO2 RF Calcs'!$S$22-'Non-CO2 RF Calcs'!$S$23)*($O38-1)/9","v":-0.30062647372438661},{"$f":"'Non-CO2 RF Calcs'!$S$25+('Non-CO2 RF Calcs'!$S$24-'Non-CO2 RF Calcs'!$S$25)*($O38-1)/9","v":0.15205929094805815},4.5760495608409268,{"$f":"CFfromRFin2100(J38)","v":0.5769023218658168},2.6399336166221818,2.5671560000000002,7.2777616622181629E-2,{"$f":"MitigationAggressiveness(D38,0)","v":8.2612143206133091},null,3.7164799999999998,0.44152000000000002,0.348744,-0.29849999999999999,4.4256739999999999,null,-3.4336605576285706E-2,{"$f":"R38-E38","v":-1.2518219135705555E-2},{"$f":"S38-F38","v":-1.8958627957205765E-2},{"$f":"T38-H38","v":2.1264737243866239E-3},{"$f":"U38-J38","v":-0.15037556084092696}]
["AIM/CGE 2.0","EMF30_Slower-Action+SLCF",530.07875200000001,{"$f":"CO2RFFromCO2PPM(C39)","v":3.6262972442306016},{"$f":"'Non-CO2 RF Calcs'!$S$17+('Non-CO2 RF Calcs'!$S$16-'Non-CO2 RF Calcs'!$S$17)*($O39-1)/9","v":0.44897620513388881},{"$f":"'Non-CO2 RF Calcs'!$S$19+('Non-CO2 RF Calcs'!$S$18-'Non-CO2 RF Calcs'!$S$19)*($O39-1)/9","v":0.36634659376493828},{"$f":"'Non-CO2 RF Calcs'!$S$21+('Non-CO2 RF Calcs'!$S$20-'Non-CO2 RF Calcs'!$S$21)*($O39-1)/9","v":0.14609239806920415},{"$f":"'Non-CO2 RF Calcs'!$S$23+('Non-CO2 RF Calcs'!$S$22-'Non-CO2 RF Calcs'!$S$23)*($O39-1)/9","v":-0.29693419122991072},{"$f":"'Non-CO2 RF Calcs'!$S$25+('Non-CO2 RF Calcs'!$S$24-'Non-CO2 RF Calcs'!$S$25)*($O39-1)/9","v":0.14609239806920415},4.4368706480379263,{"$f":"CFfromRFin2100(J39)","v":0.57856198502865219},2.5670046894441851,2.4897710000000002,7.7233689444184961E-2,{"$f":"MitigationAggressiveness(D39,0)","v":8.3382617179012364},null,3.6001799999999999,0.46115699999999998,0.34317900000000001,-0.30472700000000003,4.3252490000000003,null,-2.6117244230601688E-2,{"$f":"R39-E39","v":1.2180794866111178E-2},{"$f":"S39-F39","v":-2.3167593764938266E-2},{"$f":"T39-H39","v":-7.7928087700893101E-3},{"$f":"U39-J39","v":-0.11162164803792596}]
["AIM/CGE 2.0","EMF30_Slower-to-faster",433.50571100000002,{"$f":"CO2RFFromCO2PPM(C40)","v":2.470762640499764},{"$f":"'Non-CO2 RF Calcs'!$S$17+('Non-CO2 RF Calcs'!$S$16-'Non-CO2 RF Calcs'!$S$17)*($O40-1)/9","v":0.39423563798117001},{"$f":"'Non-CO2 RF Calcs'!$S$19+('Non-CO2 RF Calcs'!$S$18-'Non-CO2 RF Calcs'!$S$19)*($O40-1)/9","v":0.35168245401017645},{"$f":"'Non-CO2 RF Calcs'!$S$21+('Non-CO2 RF Calcs'!$S$20-'Non-CO2 RF Calcs'!$S$21)*($O40-1)/9","v":8.1566480082657544E-2},{"$f":"'Non-CO2 RF Calcs'!$S$23+('Non-CO2 RF Calcs'!$S$22-'Non-CO2 RF Calcs'!$S$23)*($O40-1)/9","v":-0.25700588645573919},{"$f":"'Non-CO2 RF Calcs'!$S$25+('Non-CO2 RF Calcs'!$S$24-'Non-CO2 RF Calcs'!$S$25)*($O40-1)/9","v":8.1566480082657544E-2},3.1228078062006865,{"$f":"CFfromRFin2100(J40)","v":0.59679259801049678},1.8636685837499676,1.6482049999999999,0.21546358374996766,{"$f":"MitigationAggressiveness(D40,0)","v":9.1714514766945214},null,2.44171,0.26853500000000002,0.30236600000000002,-0.29443200000000003,2.7831079999999999,null,-2.9052640499763971E-2,{"$f":"R40-E40","v":-0.12570063798116998},{"$f":"S40-F40","v":-4.9316454010176425E-2},{"$f":"T40-H40","v":-3.7426113544260842E-2},{"$f":"U40-J40","v":-0.33969980620068663}]
["AIM/CGE 2.0","EMF30_Slower-to-faster+SLCF",408.25516599999997,{"$f":"CO2RFFromCO2PPM(C41)","v":2.1462127241403732},{"$f":"'Non-CO2 RF Calcs'!$S$17+('Non-CO2 RF Calcs'!$S$16-'Non-CO2 RF Calcs'!$S$17)*($O41-1)/9","v":0.37633907588517945},{"$f":"'Non-CO2 RF Calcs'!$S$19+('Non-CO2 RF Calcs'!$S$18-'Non-CO2 RF Calcs'!$S$19)*($O41-1)/9","v":0.34688824559481218},{"$f":"'Non-CO2 RF Calcs'!$S$21+('Non-CO2 RF Calcs'!$S$20-'Non-CO2 RF Calcs'!$S$21)*($O41-1)/9","v":6.0470752396363903E-2},{"$f":"'Non-CO2 RF Calcs'!$S$23+('Non-CO2 RF Calcs'!$S$22-'Non-CO2 RF Calcs'!$S$23)*($O41-1)/9","v":-0.24395195912274292},{"$f":"'Non-CO2 RF Calcs'!$S$25+('Non-CO2 RF Calcs'!$S$24-'Non-CO2 RF Calcs'!$S$25)*($O41-1)/9","v":6.0470752396363903E-2},2.7464295912903496,{"$f":"CFfromRFin2100(J41)","v":0.60286747512891381},1.6557330733205478,1.4086529999999999,0.24708007332054782,{"$f":"MitigationAggressiveness(D41,0)","v":9.4438496821129458},null,2.1017260000000002,0.23559099999999999,0.28198099999999998,-0.29474,2.387175,null,-4.4486724140373024E-2,{"$f":"R41-E41","v":-0.14074807588517946},{"$f":"S41-F41","v":-6.4907245594812202E-2},{"$f":"T41-H41","v":-5.0788040877257079E-2},{"$f":"U41-J41","v":-0.35925459129034953}]
["AIM/CGE 2.0","EMF30_Slower-to-faster+SLCF+HFC",408.30095599999999,{"$f":"CO2RFFromCO2PPM(C42)","v":2.1468096821548812},{"$f":"'Non-CO2 RF Calcs'!$S$17+('Non-CO2 RF Calcs'!$S$16-'Non-CO2 RF Calcs'!$S$17)*($O42-1)/9","v":0.37637300901539983},{"$f":"'Non-CO2 RF Calcs'!$S$19+('Non-CO2 RF Calcs'!$S$18-'Non-CO2 RF Calcs'!$S$19)*($O42-1)/9","v":0.34689733574841763},{"$f":"'Non-CO2 RF Calcs'!$S$21+('Non-CO2 RF Calcs'!$S$20-'Non-CO2 RF Calcs'!$S$21)*($O42-1)/9","v":6.0510751367721216E-2},{"$f":"'Non-CO2 RF Calcs'!$S$23+('Non-CO2 RF Calcs'!$S$22-'Non-CO2 RF Calcs'!$S$23)*($O42-1)/9","v":-0.24397671027962442},{"$f":"'Non-CO2 RF Calcs'!$S$25+('Non-CO2 RF Calcs'!$S$24-'Non-CO2 RF Calcs'!$S$25)*($O42-1)/9","v":6.0510751367721216E-2},2.747124819374517,{"$f":"CFfromRFin2100(J42)","v":0.6028559036528911},1.6561204154313096,1.4102030000000001,0.24591741543130952,{"$f":"MitigationAggressiveness(D42,0)","v":9.4433331961126363},null,2.1022810000000001,0.23122799999999999,0.28210600000000002,-0.30193399999999998,2.4016280000000001,null,-4.452868215488115E-2,{"$f":"R42-E42","v":-0.14514500901539984},{"$f":"S42-F42","v":-6.4791335748417611E-2},{"$f":"T42-H42","v":-5.795728972037556E-2},{"$f":"U42-J42","v":-0.34549681937451693}]
["AIM/CGE 2.0","SFCM_SSP2_Bio_1p5Degree",448.54073,{"$f":"CO2RFFromCO2PPM(C43)","v":2.6595965186750612},{"$f":"'Non-CO2 RF Calcs'!$S$17+('Non-CO2 RF Calcs'!$S$16-'Non-CO2 RF Calcs'!$S$17)*($O43-1)/9","v":0.40413950804694754},{"$f":"'Non-CO2 RF Calcs'!$S$19+('Non-CO2 RF Calcs'!$S$18-'Non-CO2 RF Calcs'!$S$19)*($O43-1)/9","v":0.35433554553464652},{"$f":"'Non-CO2 RF Calcs'!$S$21+('Non-CO2 RF Calcs'!$S$20-'Non-CO2 RF Calcs'!$S$21)*($O43-1)/9","v":9.3240752762933199E-2},{"$f":"'Non-CO2 RF Calcs'!$S$23+('Non-CO2 RF Calcs'!$S$22-'Non-CO2 RF Calcs'!$S$23)*($O43-1)/9","v":-0.26422986609275917},{"$f":"'Non-CO2 RF Calcs'!$S$25+('Non-CO2 RF Calcs'!$S$24-'Non-CO2 RF Calcs'!$S$25)*($O43-1)/9","v":9.3240752762933199E-2},3.3403232116897623,{"$f":"CFfromRFin2100(J43)","v":0.5934550543957372},1.9823316932926915,1.739517,0.24281469329269156,{"$f":"MitigationAggressiveness(D43,0)","v":9.0207076400769015},null,2.6427960000000001,0.24959500000000001,0.27210699999999999,-0.16636000000000001,3.020505,null,-1.6800518675061049E-2,{"$f":"R43-E43","v":-0.15454450804694753},{"$f":"S43-F43","v":-8.2228545534646535E-2},{"$f":"T43-H43","v":9.7869866092759161E-2},{"$f":"U43-J43","v":-0.31981821168976232}]
["AIM/CGE 2.0","SFCM_SSP2_Bio_2Degree",502.00280600000002,{"$f":"CO2RFFromCO2PPM(C44)","v":3.3043721963954229},{"$f":"'Non-CO2 RF Calcs'!$S$17+('Non-CO2 RF Calcs'!$S$16-'Non-CO2 RF Calcs'!$S$17)*($O44-1)/9","v":0.43513465565394321},{"$f":"'Non-CO2 RF Calcs'!$S$19+('Non-CO2 RF Calcs'!$S$18-'Non-CO2 RF Calcs'!$S$19)*($O44-1)/9","v":0.36263865965767733},{"$f":"'Non-CO2 RF Calcs'!$S$21+('Non-CO2 RF Calcs'!$S$20-'Non-CO2 RF Calcs'!$S$21)*($O44-1)/9","v":0.12977655165025936},{"$f":"'Non-CO2 RF Calcs'!$S$23+('Non-CO2 RF Calcs'!$S$22-'Non-CO2 RF Calcs'!$S$23)*($O44-1)/9","v":-0.28683802973709738},{"$f":"'Non-CO2 RF Calcs'!$S$25+('Non-CO2 RF Calcs'!$S$24-'Non-CO2 RF Calcs'!$S$25)*($O44-1)/9","v":0.12977655165025936},4.0748605852704642,{"$f":"CFfromRFin2100(J44)","v":0.58312214195364387},2.376141432645392,2.1784050000000001,0.19773643264539187,{"$f":"MitigationAggressiveness(D44,0)","v":8.5489397921774248},null,3.2857349999999999,0.32569199999999998,0.31085699999999999,-0.153424,3.7961710000000002,null,-1.863719639542305E-2,{"$f":"R44-E44","v":-0.10944265565394323},{"$f":"S44-F44","v":-5.1781659657677337E-2},{"$f":"T44-H44","v":0.13341402973709737},{"$f":"U44-J44","v":-0.27868958527046406}]
["AIM/CGE 2.0","SFCM_SSP2_Bio_Baseline",803.44953299999997,{"$f":"CO2RFFromCO2PPM(C45)","v":6.1602884597117322},{"$f":"'Non-CO2 RF Calcs'!$S$17+('Non-CO2 RF Calcs'!$S$16-'Non-CO2 RF Calcs'!$S$17)*($O45-1)/9","v":0.51993577204384767},{"$f":"'Non-CO2 RF Calcs'!$S$19+('Non-CO2 RF Calcs'!$S$18-'Non-CO2 RF Calcs'!$S$19)*($O45-1)/9","v":0.38535554928419663},{"$f":"'Non-CO2 RF Calcs'!$S$21+('Non-CO2 RF Calcs'!$S$20-'Non-CO2 RF Calcs'!$S$21)*($O45-1)/9","v":0.22973660259523387},{"$f":"'Non-CO2 RF Calcs'!$S$23+('Non-CO2 RF Calcs'!$S$22-'Non-CO2 RF Calcs'!$S$23)*($O45-1)/9","v":-0.34869279296890154},{"$f":"'Non-CO2 RF Calcs'!$S$25+('Non-CO2 RF Calcs'!$S$24-'Non-CO2 RF Calcs'!$S$25)*($O45-1)/9","v":0.22973660259523387},7.1763601932613428,{"$f":"CFfromRFin2100(J45)","v":0.55544711068061614},3.9860885345504009,4.3872859999999996,-0.40119746544959867,{"$f":"MitigationAggressiveness(D45,0)","v":7.2582074270342822},null,6.1353790000000004,0.96430899999999997,0.47909099999999999,-0.33217099999999999,7.8041010000000002,null,-2.4909459711731863E-2,{"$f":"R45-E45","v":0.44437322795615231},{"$f":"S45-F45","v":9.3735450715803359E-2},{"$f":"T45-H45","v":1.652179296890155E-2},{"$f":"U45-J45","v":0.6277408067386574}]
["AIM/CGE 2.0","SFCM_SSP2_combined_1p5Degree",431.31847699999997,{"$f":"CO2RFFromCO2PPM(C46)","v":2.4430173350174518},{"$f":"'Non-CO2 RF Calcs'!$S$17+('Non-CO2 RF Calcs'!$S$16-'Non-CO2 RF Calcs'!$S$17)*($O46-1)/9","v":0.39274891872123352},{"$f":"'Non-CO2 RF Calcs'!$S$19+('Non-CO2 RF Calcs'!$S$18-'Non-CO2 RF Calcs'!$S$19)*($O46-1)/9","v":0.35128418522821475},{"$f":"'Non-CO2 RF Calcs'!$S$21+('Non-CO2 RF Calcs'!$S$20-'Non-CO2 RF Calcs'!$S$21)*($O46-1)/9","v":7.98139968691014E-2},{"$f":"'Non-CO2 RF Calcs'!$S$23+('Non-CO2 RF Calcs'!$S$22-'Non-CO2 RF Calcs'!$S$23)*($O46-1)/9","v":-0.25592145889475393},{"$f":"'Non-CO2 RF Calcs'!$S$25+('Non-CO2 RF Calcs'!$S$24-'Non-CO2 RF Calcs'!$S$25)*($O46-1)/9","v":7.98139968691014E-2},3.0907569738103486,{"$f":"CFfromRFin2100(J46)","v":0.59729511049986161},1.84609402820027,1.602776,0.24331802820027004,{"$f":"MitigationAggressiveness(D46,0)","v":9.1940803847605252},null,2.4165009999999998,0.21978,0.261438,-0.16094700000000001,2.7416450000000001,null,-2.6516335017451986E-2,{"$f":"R46-E46","v":-0.17296891872123352},{"$f":"S46-F46","v":-8.9846185228214748E-2},{"$f":"T46-H46","v":9.4974458894753921E-2},{"$f":"U46-J46","v":-0.34911197381034853}]
["AIM/CGE 2.0","SFCM_SSP2_combined_2Degree",481.81360699999999,{"$f":"CO2RFFromCO2PPM(C47)","v":3.0657771533428897},{"$f":"'Non-CO2 RF Calcs'!$S$17+('Non-CO2 RF Calcs'!$S$16-'Non-CO2 RF Calcs'!$S$17)*($O47-1)/9","v":0.42417387911104742},{"$f":"'Non-CO2 RF Calcs'!$S$19+('Non-CO2 RF Calcs'!$S$18-'Non-CO2 RF Calcs'!$S$19)*($O47-1)/9","v":0.35970243945744951},{"$f":"'Non-CO2 RF Calcs'!$S$21+('Non-CO2 RF Calcs'!$S$20-'Non-CO2 RF Calcs'!$S$21)*($O47-1)/9","v":0.11685644129950956},{"$f":"'Non-CO2 RF Calcs'!$S$23+('Non-CO2 RF Calcs'!$S$22-'Non-CO2 RF Calcs'!$S$23)*($O47-1)/9","v":-0.27884313218433066},{"$f":"'Non-CO2 RF Calcs'!$S$25+('Non-CO2 RF Calcs'!$S$24-'Non-CO2 RF Calcs'!$S$25)*($O47-1)/9","v":0.11685644129950956},3.804523222326075,{"$f":"CFfromRFin2100(J47)","v":0.58675675921763049},2.2323297163002644,2.0639729999999998,0.16835671630026461,{"$f":"MitigationAggressiveness(D47,0)","v":8.715770485372186},null,3.0439229999999999,0.321162,0.30538199999999999,-0.122539,3.5629080000000002,null,-2.1854153342889759E-2,{"$f":"R47-E47","v":-0.10301187911104742},{"$f":"S47-F47","v":-5.4320439457449521E-2},{"$f":"T47-H47","v":0.15630413218433065},{"$f":"U47-J47","v":-0.2416152223260748}]
["AIM/CGE 2.0","SFCM_SSP2_combined_Baseline",673.69487800000002,{"$f":"CO2RFFromCO2PPM(C48)","v":5.0933383655988935},{"$f":"'Non-CO2 RF Calcs'!$S$17+('Non-CO2 RF Calcs'!$S$16-'Non-CO2 RF Calcs'!$S$17)*($O48-1)/9","v":0.49827524259606265},{"$f":"'Non-CO2 RF Calcs'!$S$19+('Non-CO2 RF Calcs'!$S$18-'Non-CO2 RF Calcs'!$S$19)*($O48-1)/9","v":0.37955303302421162},{"$f":"'Non-CO2 RF Calcs'!$S$21+('Non-CO2 RF Calcs'!$S$20-'Non-CO2 RF Calcs'!$S$21)*($O48-1)/9","v":0.20420406576941597},{"$f":"'Non-CO2 RF Calcs'!$S$23+('Non-CO2 RF Calcs'!$S$22-'Non-CO2 RF Calcs'!$S$23)*($O48-1)/9","v":-0.33289339105645493},{"$f":"'Non-CO2 RF Calcs'!$S$25+('Non-CO2 RF Calcs'!$S$24-'Non-CO2 RF Calcs'!$S$25)*($O48-1)/9","v":0.20420406576941597},6.0466813817015446,{"$f":"CFfromRFin2100(J48)","v":0.56254025238032956},3.401501670525827,3.8058149999999999,-0.40431332947417298,{"$f":"MitigationAggressiveness(D48,0)","v":7.587895850897068},null,5.033182,0.91078199999999998,0.45580999999999999,-0.221661,6.7167979999999998,null,-6.015636559889348E-2,{"$f":"R48-E48","v":0.41250675740393733},{"$f":"S48-F48","v":7.6256966975788376E-2},{"$f":"T48-H48","v":0.11123239105645494},{"$f":"U48-J48","v":0.67011661829845526}]
["AIM/CGE 2.0","SFCM_SSP2_EEEI_1p5Degree",429.364238,{"$f":"CO2RFFromCO2PPM(C49)","v":2.4181686160527218},{"$f":"'Non-CO2 RF Calcs'!$S$17+('Non-CO2 RF Calcs'!$S$16-'Non-CO2 RF Calcs'!$S$17)*($O49-1)/9","v":0.39141055071437059},{"$f":"'Non-CO2 RF Calcs'!$S$19+('Non-CO2 RF Calcs'!$S$18-'Non-CO2 RF Calcs'!$S$19)*($O49-1)/9","v":0.35092565742120124},{"$f":"'Non-CO2 RF Calcs'!$S$21+('Non-CO2 RF Calcs'!$S$20-'Non-CO2 RF Calcs'!$S$21)*($O49-1)/9","v":7.8236383980917035E-2},{"$f":"'Non-CO2 RF Calcs'!$S$23+('Non-CO2 RF Calcs'!$S$22-'Non-CO2 RF Calcs'!$S$23)*($O49-1)/9","v":-0.25494524018790465},{"$f":"'Non-CO2 RF Calcs'!$S$25+('Non-CO2 RF Calcs'!$S$24-'Non-CO2 RF Calcs'!$S$25)*($O49-1)/9","v":7.8236383980917035E-2},3.0620323519622232,{"$f":"CFfromRFin2100(J49)","v":0.59774781368594032},1.8303231438210366,1.5740019999999999,0.25632114382103666,{"$f":"MitigationAggressiveness(D49,0)","v":9.2144512828862926},null,2.3920710000000001,0.220586,0.26321899999999998,-0.18662400000000001,2.7034889999999998,null,-2.6097616052721762E-2,{"$f":"R49-E49","v":-0.17082455071437058},{"$f":"S49-F49","v":-8.7706657421201262E-2},{"$f":"T49-H49","v":6.8321240187904642E-2},{"$f":"U49-J49","v":-0.35854335196222342}]
["AIM/CGE 2.0","SFCM_SSP2_EEEI_2Degree",482.26844199999999,{"$f":"CO2RFFromCO2PPM(C50)","v":3.0712177845768935},{"$f":"'Non-CO2 RF Calcs'!$S$17+('Non-CO2 RF Calcs'!$S$16-'Non-CO2 RF Calcs'!$S$17)*($O50-1)/9","v":0.42443047479095397},{"$f":"'Non-CO2 RF Calcs'!$S$19+('Non-CO2 RF Calcs'!$S$18-'Non-CO2 RF Calcs'!$S$19)*($O50-1)/9","v":0.35977117741736364},{"$f":"'Non-CO2 RF Calcs'!$S$21+('Non-CO2 RF Calcs'!$S$20-'Non-CO2 RF Calcs'!$S$21)*($O50-1)/9","v":0.11715890568120224},{"$f":"'Non-CO2 RF Calcs'!$S$23+('Non-CO2 RF Calcs'!$S$22-'Non-CO2 RF Calcs'!$S$23)*($O50-1)/9","v":-0.27903029558149578},{"$f":"'Non-CO2 RF Calcs'!$S$25+('Non-CO2 RF Calcs'!$S$24-'Non-CO2 RF Calcs'!$S$25)*($O50-1)/9","v":0.11715890568120224},3.8107069525661199,{"$f":"CFfromRFin2100(J50)","v":0.58667143007038314},2.2356328974411173,2.0596549999999998,0.17597789744111747,{"$f":"MitigationAggressiveness(D50,0)","v":8.7118649194679758},null,3.0516079999999999,0.315058,0.30692700000000001,-0.151223,3.547968,null,-1.9609784576893663E-2,{"$f":"R50-E50","v":-0.10937247479095397},{"$f":"S50-F50","v":-5.2844177417363636E-2},{"$f":"T50-H50","v":0.12780729558149578},{"$f":"U50-J50","v":-0.2627389525661199}]
["AIM/CGE 2.0","SFCM_SSP2_EEEI_Baseline",714.45236899999998,{"$f":"CO2RFFromCO2PPM(C51)","v":5.4549141241634951},{"$f":"'Non-CO2 RF Calcs'!$S$17+('Non-CO2 RF Calcs'!$S$16-'Non-CO2 RF Calcs'!$S$17)*($O51-1)/9","v":0.50695467142093187},{"$f":"'Non-CO2 RF Calcs'!$S$19+('Non-CO2 RF Calcs'!$S$18-'Non-CO2 RF Calcs'!$S$19)*($O51-1)/9","v":0.38187811593620091},{"$f":"'Non-CO2 RF Calcs'!$S$21+('Non-CO2 RF Calcs'!$S$20-'Non-CO2 RF Calcs'!$S$21)*($O51-1)/9","v":0.21443501772431856},{"$f":"'Non-CO2 RF Calcs'!$S$23+('Non-CO2 RF Calcs'!$S$22-'Non-CO2 RF Calcs'!$S$23)*($O51-1)/9","v":-0.3392242512833552},{"$f":"'Non-CO2 RF Calcs'!$S$25+('Non-CO2 RF Calcs'!$S$24-'Non-CO2 RF Calcs'!$S$25)*($O51-1)/9","v":0.21443501772431856},6.4333926956859093,{"$f":"CFfromRFin2100(J51)","v":0.55972684223851499},3.6009425784366016,4.0160419999999997,-0.41509942156339807,{"$f":"MitigationAggressiveness(D51,0)","v":7.45578886726131},null,5.3967450000000001,0.95837799999999995,0.476547,-0.27604400000000001,7.1087259999999999,null,-5.8169124163494956E-2,{"$f":"R51-E51","v":0.45142332857906808},{"$f":"S51-F51","v":9.4668884063799086E-2},{"$f":"T51-H51","v":6.3180251283355193E-2},{"$f":"U51-J51","v":0.67533330431409055}]
["AIM/CGE 2.0","SFCM_SSP2_LifeStyle_1p5Degree",437.38740899999999,{"$f":"CO2RFFromCO2PPM(C52)","v":2.5198307322651963},{"$f":"'Non-CO2 RF Calcs'!$S$17+('Non-CO2 RF Calcs'!$S$16-'Non-CO2 RF Calcs'!$S$17)*($O52-1)/9","v":0.39684514170090612},{"$f":"'Non-CO2 RF Calcs'!$S$19+('Non-CO2 RF Calcs'!$S$18-'Non-CO2 RF Calcs'!$S$19)*($O52-1)/9","v":0.35238149914666589},{"$f":"'Non-CO2 RF Calcs'!$S$21+('Non-CO2 RF Calcs'!$S$20-'Non-CO2 RF Calcs'!$S$21)*($O52-1)/9","v":8.4642455209760659E-2},{"$f":"'Non-CO2 RF Calcs'!$S$23+('Non-CO2 RF Calcs'!$S$22-'Non-CO2 RF Calcs'!$S$23)*($O52-1)/9","v":-0.25890928397700119},{"$f":"'Non-CO2 RF Calcs'!$S$25+('Non-CO2 RF Calcs'!$S$24-'Non-CO2 RF Calcs'!$S$25)*($O52-1)/9","v":8.4642455209760659E-2},3.1794329995552886,{"$f":"CFfromRFin2100(J52)","v":0.5959115272680825},1.8946607746115327,1.62984,0.26482077461153275,{"$f":"MitigationAggressiveness(D52,0)","v":9.1317330030303481},null,2.4979589999999998,0.21390700000000001,0.26038099999999997,-0.162943,2.8129569999999999,null,-2.1871732265196453E-2,{"$f":"R52-E52","v":-0.18293814170090611},{"$f":"S52-F52","v":-9.2000499146665915E-2},{"$f":"T52-H52","v":9.5966283977001188E-2},{"$f":"U52-J52","v":-0.36647599955528865}]
["AIM/CGE 2.0","SFCM_SSP2_LifeStyle_2Degree",489.19514800000002,{"$f":"CO2RFFromCO2PPM(C53)","v":3.1537008339926342},{"$f":"'Non-CO2 RF Calcs'!$S$17+('Non-CO2 RF Calcs'!$S$16-'Non-CO2 RF Calcs'!$S$17)*($O53-1)/9","v":0.42828253759589829},{"$f":"'Non-CO2 RF Calcs'!$S$19+('Non-CO2 RF Calcs'!$S$18-'Non-CO2 RF Calcs'!$S$19)*($O53-1)/9","v":0.36080308465278249},{"$f":"'Non-CO2 RF Calcs'!$S$21+('Non-CO2 RF Calcs'!$S$20-'Non-CO2 RF Calcs'!$S$21)*($O53-1)/9","v":0.12169955809968047},{"$f":"'Non-CO2 RF Calcs'!$S$23+('Non-CO2 RF Calcs'!$S$22-'Non-CO2 RF Calcs'!$S$23)*($O53-1)/9","v":-0.28184002784561291},{"$f":"'Non-CO2 RF Calcs'!$S$25+('Non-CO2 RF Calcs'!$S$24-'Non-CO2 RF Calcs'!$S$25)*($O53-1)/9","v":0.12169955809968047},3.9043455445950634,{"$f":"CFfromRFin2100(J53)","v":0.58539184797920263},2.2855720534998705,2.0769350000000002,0.20863705349987027,{"$f":"MitigationAggressiveness(D53,0)","v":8.6532338265464492},null,3.133032,0.29407100000000003,0.29902200000000001,-0.14083499999999999,3.5990959999999999,null,-2.0668833992634195E-2,{"$f":"R53-E53","v":-0.13421153759589827},{"$f":"S53-F53","v":-6.1781084652782481E-2},{"$f":"T53-H53","v":0.14100502784561292},{"$f":"U53-J53","v":-0.30524954459506359}]
["AIM/CGE 2.0","SFCM_SSP2_LifeStyle_Baseline",755.55493999999999,{"$f":"CO2RFFromCO2PPM(C54)","v":5.7950312708096128},{"$f":"'Non-CO2 RF Calcs'!$S$17+('Non-CO2 RF Calcs'!$S$16-'Non-CO2 RF Calcs'!$S$17)*($O54-1)/9","v":0.51386608275985912},{"$f":"'Non-CO2 RF Calcs'!$S$19+('Non-CO2 RF Calcs'!$S$18-'Non-CO2 RF Calcs'!$S$19)*($O54-1)/9","v":0.38372957468148439},{"$f":"'Non-CO2 RF Calcs'!$S$21+('Non-CO2 RF Calcs'!$S$20-'Non-CO2 RF Calcs'!$S$21)*($O54-1)/9","v":0.22258190374365278},{"$f":"'Non-CO2 RF Calcs'!$S$23+('Non-CO2 RF Calcs'!$S$22-'Non-CO2 RF Calcs'!$S$23)*($O54-1)/9","v":-0.34426550227351138},{"$f":"'Non-CO2 RF Calcs'!$S$25+('Non-CO2 RF Calcs'!$S$24-'Non-CO2 RF Calcs'!$S$25)*($O54-1)/9","v":0.22258190374365278},6.7935252334647513,{"$f":"CFfromRFin2100(J54)","v":0.55746747763532345},3.7871693761515166,4.159808,-0.37263862384848334,{"$f":"MitigationAggressiveness(D54,0)","v":7.3505923476429347},null,5.7450340000000004,0.92644099999999996,0.45911099999999999,-0.28036,7.3866149999999999,null,-4.999727080961236E-2,{"$f":"R54-E54","v":0.41257491724014084},{"$f":"S54-F54","v":7.5381425318515605E-2},{"$f":"T54-H54","v":6.3905502273511383E-2},{"$f":"U54-J54","v":0.59308976653524859}]
["AIM/CGE 2.0","SFCM_SSP2_Ref_1p5Degree",440.35457100000002,{"$f":"CO2RFFromCO2PPM(C55)","v":2.557190186878378},{"$f":"'Non-CO2 RF Calcs'!$S$17+('Non-CO2 RF Calcs'!$S$16-'Non-CO2 RF Calcs'!$S$17)*($O55-1)/9","v":0.39881501402437802},{"$f":"'Non-CO2 RF Calcs'!$S$19+('Non-CO2 RF Calcs'!$S$18-'Non-CO2 RF Calcs'!$S$19)*($O55-1)/9","v":0.35290919705980295},{"$f":"'Non-CO2 RF Calcs'!$S$21+('Non-CO2 RF Calcs'!$S$20-'Non-CO2 RF Calcs'!$S$21)*($O55-1)/9","v":8.6964459284612605E-2},{"$f":"'Non-CO2 RF Calcs'!$S$23+('Non-CO2 RF Calcs'!$S$22-'Non-CO2 RF Calcs'!$S$23)*($O55-1)/9","v":-0.26034612810538521},{"$f":"'Non-CO2 RF Calcs'!$S$25+('Non-CO2 RF Calcs'!$S$24-'Non-CO2 RF Calcs'!$S$25)*($O55-1)/9","v":8.6964459284612605E-2},3.2224971884263991,{"$f":"CFfromRFin2100(J55)","v":0.59524721859024066},1.9181824883256846,1.6641859999999999,0.25399648832568467,{"$f":"MitigationAggressiveness(D55,0)","v":9.1017501670566503},null,2.5351569999999999,0.23360900000000001,0.26779199999999997,-0.17483499999999999,2.877999,null,-2.2033186878378075E-2,{"$f":"R55-E55","v":-0.16520601402437801},{"$f":"S55-F55","v":-8.5117197059802974E-2},{"$f":"T55-H55","v":8.551112810538522E-2},{"$f":"U55-J55","v":-0.34449818842639912}]
["AIM/CGE 2.0","SFCM_SSP2_Ref_2Degree",494.19470699999999,{"$f":"CO2RFFromCO2PPM(C56)","v":3.2128009380620983},{"$f":"'Non-CO2 RF Calcs'!$S$17+('Non-CO2 RF Calcs'!$S$16-'Non-CO2 RF Calcs'!$S$17)*($O56-1)/9","v":0.43099865880604871},{"$f":"'Non-CO2 RF Calcs'!$S$19+('Non-CO2 RF Calcs'!$S$18-'Non-CO2 RF Calcs'!$S$19)*($O56-1)/9","v":0.36153069094347728},{"$f":"'Non-CO2 RF Calcs'!$S$21+('Non-CO2 RF Calcs'!$S$20-'Non-CO2 RF Calcs'!$S$21)*($O56-1)/9","v":0.1249012095176999},{"$f":"'Non-CO2 RF Calcs'!$S$23+('Non-CO2 RF Calcs'!$S$22-'Non-CO2 RF Calcs'!$S$23)*($O56-1)/9","v":-0.28382119320657673},{"$f":"'Non-CO2 RF Calcs'!$S$25+('Non-CO2 RF Calcs'!$S$24-'Non-CO2 RF Calcs'!$S$25)*($O56-1)/9","v":0.1249012095176999},3.9713115136404471,{"$f":"CFfromRFin2100(J56)","v":0.58449117284653762},2.3211965243466635,2.1217679999999999,0.19942852434666358,{"$f":"MitigationAggressiveness(D56,0)","v":8.6118925600297},null,3.1955179999999999,0.31270199999999998,0.30795800000000001,-0.15870000000000001,3.684542,null,-1.7282938062098463E-2,{"$f":"R56-E56","v":-0.11829665880604873},{"$f":"S56-F56","v":-5.3572690943477275E-2},{"$f":"T56-H56","v":0.12512119320657672},{"$f":"U56-J56","v":-0.28676951364044712}]
["AIM/CGE 2.0","SFCM_SSP2_Ref_Baseline",799.75317700000005,{"$f":"CO2RFFromCO2PPM(C57)","v":6.1332896203053977},{"$f":"'Non-CO2 RF Calcs'!$S$17+('Non-CO2 RF Calcs'!$S$16-'Non-CO2 RF Calcs'!$S$17)*($O57-1)/9","v":0.51953506136330274},{"$f":"'Non-CO2 RF Calcs'!$S$19+('Non-CO2 RF Calcs'!$S$18-'Non-CO2 RF Calcs'!$S$19)*($O57-1)/9","v":0.38524820517494873},{"$f":"'Non-CO2 RF Calcs'!$S$21+('Non-CO2 RF Calcs'!$S$20-'Non-CO2 RF Calcs'!$S$21)*($O57-1)/9","v":0.22926426140744471},{"$f":"'Non-CO2 RF Calcs'!$S$23+('Non-CO2 RF Calcs'!$S$22-'Non-CO2 RF Calcs'!$S$23)*($O57-1)/9","v":-0.34840051068153643},{"$f":"'Non-CO2 RF Calcs'!$S$25+('Non-CO2 RF Calcs'!$S$24-'Non-CO2 RF Calcs'!$S$25)*($O57-1)/9","v":0.22926426140744471},7.1482008989770032,{"$f":"CFfromRFin2100(J57)","v":0.555582324954217},3.9714140746934676,4.3707419999999999,-0.39932792530653227,{"$f":"MitigationAggressiveness(D57,0)","v":7.2643065241506424},null,6.1043710000000004,0.96574199999999999,0.47999799999999998,-0.33761999999999998,7.7714090000000002,null,-2.8918620305397269E-2,{"$f":"R57-E57","v":0.44620693863669725},{"$f":"S57-F57","v":9.4749794825051248E-2},{"$f":"T57-H57","v":1.0780510681536459E-2},{"$f":"U57-J57","v":0.62320810102299706}]
["AIM/CGE 2.0","SFCM_SSP2_ST_bio_1p5Degree",444.32033000000001,{"$f":"CO2RFFromCO2PPM(C58)","v":2.6069225840116963},{"$f":"'Non-CO2 RF Calcs'!$S$17+('Non-CO2 RF Calcs'!$S$16-'Non-CO2 RF Calcs'!$S$17)*($O58-1)/9","v":0.40141454266952081},{"$f":"'Non-CO2 RF Calcs'!$S$19+('Non-CO2 RF Calcs'!$S$18-'Non-CO2 RF Calcs'!$S$19)*($O58-1)/9","v":0.35360557003019127},{"$f":"'Non-CO2 RF Calcs'!$S$21+('Non-CO2 RF Calcs'!$S$20-'Non-CO2 RF Calcs'!$S$21)*($O58-1)/9","v":9.002867620608157E-2},{"$f":"'Non-CO2 RF Calcs'!$S$23+('Non-CO2 RF Calcs'!$S$22-'Non-CO2 RF Calcs'!$S$23)*($O58-1)/9","v":-0.2622422497097317},{"$f":"'Non-CO2 RF Calcs'!$S$25+('Non-CO2 RF Calcs'!$S$24-'Non-CO2 RF Calcs'!$S$25)*($O58-1)/9","v":9.002867620608157E-2},3.27975779941384,{"$f":"CFfromRFin2100(J58)","v":0.59437161932807037},1.9493949542414728,1.701632,0.24776295424147277,{"$f":"MitigationAggressiveness(D58,0)","v":9.0621835210118586},null,2.5866820000000001,0.24137,0.26962199999999997,-0.17113999999999999,2.9448259999999999,null,-2.024058401169615E-2,{"$f":"R58-E58","v":-0.16004454266952081},{"$f":"S58-F58","v":-8.3983570030191301E-2},{"$f":"T58-H58","v":9.1102249709731714E-2},{"$f":"U58-J58","v":-0.3349317994138401}]
["AIM/CGE 2.0","SFCM_SSP2_ST_bio_2Degree",498.415324,{"$f":"CO2RFFromCO2PPM(C59)","v":3.2624095275049005},{"$f":"'Non-CO2 RF Calcs'!$S$17+('Non-CO2 RF Calcs'!$S$16-'Non-CO2 RF Calcs'!$S$17)*($O59-1)/9","v":0.43325025742415624},{"$f":"'Non-CO2 RF Calcs'!$S$19+('Non-CO2 RF Calcs'!$S$18-'Non-CO2 RF Calcs'!$S$19)*($O59-1)/9","v":0.36213385891423366},{"$f":"'Non-CO2 RF Calcs'!$S$21+('Non-CO2 RF Calcs'!$S$20-'Non-CO2 RF Calcs'!$S$21)*($O59-1)/9","v":0.12755530090417189},{"$f":"'Non-CO2 RF Calcs'!$S$23+('Non-CO2 RF Calcs'!$S$22-'Non-CO2 RF Calcs'!$S$23)*($O59-1)/9","v":-0.28546353124816265},{"$f":"'Non-CO2 RF Calcs'!$S$25+('Non-CO2 RF Calcs'!$S$24-'Non-CO2 RF Calcs'!$S$25)*($O59-1)/9","v":0.12755530090417189},4.0274407144034718,{"$f":"CFfromRFin2100(J59)","v":0.58374551475393277},2.3510004529704016,2.1536209999999998,0.19737945297040183,{"$f":"MitigationAggressiveness(D59,0)","v":8.5776216526003619},null,3.2440959999999999,0.32038299999999997,0.30937599999999998,-0.15635099999999999,3.7452960000000002,null,-1.8313527504900673E-2,{"$f":"R59-E59","v":-0.11286725742415626},{"$f":"S59-F59","v":-5.275785891423368E-2},{"$f":"T59-H59","v":0.12911253124816266},{"$f":"U59-J59","v":-0.28214471440347166}]
["AIM/CGE 2.0","SFCM_SSP2_ST_bio_Baseline",801.91217200000006,{"$f":"CO2RFFromCO2PPM(C60)","v":6.1490834908091152},{"$f":"'Non-CO2 RF Calcs'!$S$17+('Non-CO2 RF Calcs'!$S$16-'Non-CO2 RF Calcs'!$S$17)*($O60-1)/9","v":0.51977039948776216},{"$f":"'Non-CO2 RF Calcs'!$S$19+('Non-CO2 RF Calcs'!$S$18-'Non-CO2 RF Calcs'!$S$19)*($O60-1)/9","v":0.38531124856901999},{"$f":"'Non-CO2 RF Calcs'!$S$21+('Non-CO2 RF Calcs'!$S$20-'Non-CO2 RF Calcs'!$S$21)*($O60-1)/9","v":0.22954166826140743},{"$f":"'Non-CO2 RF Calcs'!$S$23+('Non-CO2 RF Calcs'!$S$22-'Non-CO2 RF Calcs'!$S$23)*($O60-1)/9","v":-0.34857216860996415},{"$f":"'Non-CO2 RF Calcs'!$S$25+('Non-CO2 RF Calcs'!$S$24-'Non-CO2 RF Calcs'!$S$25)*($O60-1)/9","v":0.22954166826140743},7.1646763067787482,{"$f":"CFfromRFin2100(J60)","v":0.55550295580294484},3.979998865786921,4.3808350000000003,-0.40083613421307929,{"$f":"MitigationAggressiveness(D60,0)","v":7.260724513123864},null,6.1231359999999997,0.96467499999999995,0.47910599999999998,-0.33328400000000002,7.7905239999999996,null,-2.5947490809115514E-2,{"$f":"R60-E60","v":0.44490460051223779},{"$f":"S60-F60","v":9.3794751430979983E-2},{"$f":"T60-H60","v":1.5288168609964126E-2},{"$f":"U60-J60","v":0.62584769322125133}]
["AIM/CGE 2.0","SFCM_SSP2_ST_CCS_1p5Degree",444.84127599999999,{"$f":"CO2RFFromCO2PPM(C61)","v":2.6134384472789582},{"$f":"'Non-CO2 RF Calcs'!$S$17+('Non-CO2 RF Calcs'!$S$16-'Non-CO2 RF Calcs'!$S$17)*($O61-1)/9","v":0.40175320487342225},{"$f":"'Non-CO2 RF Calcs'!$S$19+('Non-CO2 RF Calcs'!$S$18-'Non-CO2 RF Calcs'!$S$19)*($O61-1)/9","v":0.35369629232530031},{"$f":"'Non-CO2 RF Calcs'!$S$21+('Non-CO2 RF Calcs'!$S$20-'Non-CO2 RF Calcs'!$S$21)*($O61-1)/9","v":9.0427877214231622E-2},{"$f":"'Non-CO2 RF Calcs'!$S$23+('Non-CO2 RF Calcs'!$S$22-'Non-CO2 RF Calcs'!$S$23)*($O61-1)/9","v":-0.26248927323170468},{"$f":"'Non-CO2 RF Calcs'!$S$25+('Non-CO2 RF Calcs'!$S$24-'Non-CO2 RF Calcs'!$S$25)*($O61-1)/9","v":9.0427877214231622E-2},3.2872544256744392,{"$f":"CFfromRFin2100(J61)","v":0.59425763585000579},1.9534760434387608,1.7079390000000001,0.2455370434387607,{"$f":"MitigationAggressiveness(D61,0)","v":9.0570288451533916},null,2.5936530000000002,0.24341699999999999,0.27090999999999998,-0.170514,2.956817,null,-1.9785447278958035E-2,{"$f":"R61-E61","v":-0.15833620487342226},{"$f":"S61-F61","v":-8.2786292325300326E-2},{"$f":"T61-H61","v":9.1975273231704679E-2},{"$f":"U61-J61","v":-0.33043742567443912}]
["AIM/CGE 2.0","SFCM_SSP2_ST_CCS_2Degree",498.42848500000002,{"$f":"CO2RFFromCO2PPM(C62)","v":3.2625638141414024},{"$f":"'Non-CO2 RF Calcs'!$S$17+('Non-CO2 RF Calcs'!$S$16-'Non-CO2 RF Calcs'!$S$17)*($O62-1)/9","v":0.43325721976698561},{"$f":"'Non-CO2 RF Calcs'!$S$19+('Non-CO2 RF Calcs'!$S$18-'Non-CO2 RF Calcs'!$S$19)*($O62-1)/9","v":0.36213572401672672},{"$f":"'Non-CO2 RF Calcs'!$S$21+('Non-CO2 RF Calcs'!$S$20-'Non-CO2 RF Calcs'!$S$21)*($O62-1)/9","v":0.12756350782612702},{"$f":"'Non-CO2 RF Calcs'!$S$23+('Non-CO2 RF Calcs'!$S$22-'Non-CO2 RF Calcs'!$S$23)*($O62-1)/9","v":-0.28546860964907977},{"$f":"'Non-CO2 RF Calcs'!$S$25+('Non-CO2 RF Calcs'!$S$24-'Non-CO2 RF Calcs'!$S$25)*($O62-1)/9","v":0.12756350782612702},4.0276151639282887,{"$f":"CFfromRFin2100(J62)","v":0.58374321042049138},2.3510930061297528,2.1556820000000001,0.19541100612975271,{"$f":"MitigationAggressiveness(D62,0)","v":8.5775156808677995},null,3.2456800000000001,0.32105800000000001,0.31125999999999998,-0.15551100000000001,3.7497150000000001,null,-1.6883814141402276E-2,{"$f":"R62-E62","v":-0.1121992197669856},{"$f":"S62-F62","v":-5.0875724016726742E-2},{"$f":"T62-H62","v":0.12995760964907976},{"$f":"U62-J62","v":-0.27790016392828853}]
["AIM/CGE 2.0","SFCM_SSP2_ST_CCS_Baseline",799.75317700000005,{"$f":"CO2RFFromCO2PPM(C63)","v":6.1332896203053977},{"$f":"'Non-CO2 RF Calcs'!$S$17+('Non-CO2 RF Calcs'!$S$16-'Non-CO2 RF Calcs'!$S$17)*($O63-1)/9","v":0.51953506136330274},{"$f":"'Non-CO2 RF Calcs'!$S$19+('Non-CO2 RF Calcs'!$S$18-'Non-CO2 RF Calcs'!$S$19)*($O63-1)/9","v":0.38524820517494873},{"$f":"'Non-CO2 RF Calcs'!$S$21+('Non-CO2 RF Calcs'!$S$20-'Non-CO2 RF Calcs'!$S$21)*($O63-1)/9","v":0.22926426140744471},{"$f":"'Non-CO2 RF Calcs'!$S$23+('Non-CO2 RF Calcs'!$S$22-'Non-CO2 RF Calcs'!$S$23)*($O63-1)/9","v":-0.34840051068153643},{"$f":"'Non-CO2 RF Calcs'!$S$25+('Non-CO2 RF Calcs'!$S$24-'Non-CO2 RF Calcs'!$S$25)*($O63-1)/9","v":0.22926426140744471},7.1482008989770032,{"$f":"CFfromRFin2100(J63)","v":0.555582324954217},3.9714140746934676,4.3707419999999999,-0.39932792530653227,{"$f":"MitigationAggressiveness(D63,0)","v":7.2643065241506424},null,6.1043710000000004,0.96574199999999999,0.47999799999999998,-0.33761999999999998,7.7714090000000002,null,-2.8918620305397269E-2,{"$f":"R63-E63","v":0.44620693863669725},{"$f":"S63-F63","v":9.4749794825051248E-2},{"$f":"T63-H63","v":1.0780510681536459E-2},{"$f":"U63-J63","v":0.62320810102299706}]
["AIM/CGE 2.0","SFCM_SSP2_ST_nuclear_1p5Degree",438.817294,{"$f":"CO2RFFromCO2PPM(C64)","v":2.5378503935894945},{"$f":"'Non-CO2 RF Calcs'!$S$17+('Non-CO2 RF Calcs'!$S$16-'Non-CO2 RF Calcs'!$S$17)*($O64-1)/9","v":0.39779710375488164},{"$f":"'Non-CO2 RF Calcs'!$S$19+('Non-CO2 RF Calcs'!$S$18-'Non-CO2 RF Calcs'!$S$19)*($O64-1)/9","v":0.3526365148567111},{"$f":"'Non-CO2 RF Calcs'!$S$21+('Non-CO2 RF Calcs'!$S$20-'Non-CO2 RF Calcs'!$S$21)*($O64-1)/9","v":8.5764588731866209E-2},{"$f":"'Non-CO2 RF Calcs'!$S$23+('Non-CO2 RF Calcs'!$S$22-'Non-CO2 RF Calcs'!$S$23)*($O64-1)/9","v":-0.25960365440466848},{"$f":"'Non-CO2 RF Calcs'!$S$25+('Non-CO2 RF Calcs'!$S$24-'Non-CO2 RF Calcs'!$S$25)*($O64-1)/9","v":8.5764588731866209E-2},3.200209535260151,{"$f":"CFfromRFin2100(J64)","v":0.59559040722316181},1.9060141003050388,1.6532640000000001,0.25275010030503875,{"$f":"MitigationAggressiveness(D64,0)","v":9.1172434740505075},null,2.5163709999999999,0.232128,0.267461,-0.17640800000000001,2.8556659999999998,null,-2.1479393589494578E-2,{"$f":"R64-E64","v":-0.16566910375488164},{"$f":"S64-F64","v":-8.5175514856711099E-2},{"$f":"T64-H64","v":8.3195654404668473E-2},{"$f":"U64-J64","v":-0.34454353526015113}]
["AIM/CGE 2.0","SFCM_SSP2_ST_nuclear_2Degree",492.95901600000002,{"$f":"CO2RFFromCO2PPM(C65)","v":3.1982276503699438},{"$f":"'Non-CO2 RF Calcs'!$S$17+('Non-CO2 RF Calcs'!$S$16-'Non-CO2 RF Calcs'!$S$17)*($O65-1)/9","v":0.43033230662102473},{"$f":"'Non-CO2 RF Calcs'!$S$19+('Non-CO2 RF Calcs'!$S$18-'Non-CO2 RF Calcs'!$S$19)*($O65-1)/9","v":0.3613521856397266},{"$f":"'Non-CO2 RF Calcs'!$S$21+('Non-CO2 RF Calcs'!$S$20-'Non-CO2 RF Calcs'!$S$21)*($O65-1)/9","v":0.12411574110409973},{"$f":"'Non-CO2 RF Calcs'!$S$23+('Non-CO2 RF Calcs'!$S$22-'Non-CO2 RF Calcs'!$S$23)*($O65-1)/9","v":-0.2833351494091797},{"$f":"'Non-CO2 RF Calcs'!$S$25+('Non-CO2 RF Calcs'!$S$24-'Non-CO2 RF Calcs'!$S$25)*($O65-1)/9","v":0.12411574110409973},3.9548084754297146,{"$f":"CFfromRFin2100(J65)","v":0.58471201771015757},2.3124240433257404,2.1168589999999998,0.19556504332574054,{"$f":"MitigationAggressiveness(D65,0)","v":8.6220349068337185},null,3.1812529999999999,0.314162,0.308363,-0.15664700000000001,3.6729880000000001,null,-1.6974650369943944E-2,{"$f":"R65-E65","v":-0.11617030662102473},{"$f":"S65-F65","v":-5.2989185639726599E-2},{"$f":"T65-H65","v":0.12668814940917969},{"$f":"U65-J65","v":-0.28182047542971445}]
["AIM/CGE 2.0","SFCM_SSP2_ST_nuclear_Baseline",799.796289,{"$f":"CO2RFFromCO2PPM(C66)","v":6.1336056657664875},{"$f":"'Non-CO2 RF Calcs'!$S$17+('Non-CO2 RF Calcs'!$S$16-'Non-CO2 RF Calcs'!$S$17)*($O66-1)/9","v":0.51953979631047609},{"$f":"'Non-CO2 RF Calcs'!$S$19+('Non-CO2 RF Calcs'!$S$18-'Non-CO2 RF Calcs'!$S$19)*($O66-1)/9","v":0.38524947359306516},{"$f":"'Non-CO2 RF Calcs'!$S$21+('Non-CO2 RF Calcs'!$S$20-'Non-CO2 RF Calcs'!$S$21)*($O66-1)/9","v":0.22926984276746459},{"$f":"'Non-CO2 RF Calcs'!$S$23+('Non-CO2 RF Calcs'!$S$22-'Non-CO2 RF Calcs'!$S$23)*($O66-1)/9","v":-0.34840396439828908},{"$f":"'Non-CO2 RF Calcs'!$S$25+('Non-CO2 RF Calcs'!$S$24-'Non-CO2 RF Calcs'!$S$25)*($O66-1)/9","v":0.22926984276746459},7.1485306568066678,{"$f":"CFfromRFin2100(J66)","v":0.55558072922871471},3.9715858752224715,4.3739590000000002,-0.40237312477752862,{"$f":"MitigationAggressiveness(D66,0)","v":7.2642344549394817},null,6.1042389999999997,0.96478299999999995,0.48003800000000002,-0.33434999999999998,7.7718309999999997,null,-2.9366665766487721E-2,{"$f":"R66-E66","v":0.44524320368952386},{"$f":"S66-F66","v":9.4788526406934859E-2},{"$f":"T66-H66","v":1.4053964398289098E-2},{"$f":"U66-J66","v":0.62330034319333194}]
["AIM/CGE 2.0","SFCM_SSP2_ST_solar_1p5Degree",437.94600800000001,{"$f":"CO2RFFromCO2PPM(C67)","v":2.5268738415672818},{"$f":"'Non-CO2 RF Calcs'!$S$17+('Non-CO2 RF Calcs'!$S$16-'Non-CO2 RF Calcs'!$S$17)*($O67-1)/9","v":0.39721762851626274},{"$f":"'Non-CO2 RF Calcs'!$S$19+('Non-CO2 RF Calcs'!$S$18-'Non-CO2 RF Calcs'!$S$19)*($O67-1)/9","v":0.35248128252490446},{"$f":"'Non-CO2 RF Calcs'!$S$21+('Non-CO2 RF Calcs'!$S$20-'Non-CO2 RF Calcs'!$S$21)*($O67-1)/9","v":8.5081527271833379E-2},{"$f":"'Non-CO2 RF Calcs'!$S$23+('Non-CO2 RF Calcs'!$S$22-'Non-CO2 RF Calcs'!$S$23)*($O67-1)/9","v":-0.25918097950120766},{"$f":"'Non-CO2 RF Calcs'!$S$25+('Non-CO2 RF Calcs'!$S$24-'Non-CO2 RF Calcs'!$S$25)*($O67-1)/9","v":8.5081527271833379E-2},3.1875548276509078,{"$f":"CFfromRFin2100(J67)","v":0.59578585928328931},1.8991000920045933,1.64361,0.25549009200459327,{"$f":"MitigationAggressiveness(D67,0)","v":9.126063492903155},null,2.5049630000000001,0.22986500000000001,0.266762,-0.17829500000000001,2.8408679999999999,null,-2.1910841567281736E-2,{"$f":"R67-E67","v":-0.16735262851626273},{"$f":"S67-F67","v":-8.5719282524904461E-2},{"$f":"T67-H67","v":8.0885979501207655E-2},{"$f":"U67-J67","v":-0.34668682765090786}]
["AIM/CGE 2.0","SFCM_SSP2_ST_solar_2Degree",492.53095000000002,{"$f":"CO2RFFromCO2PPM(C68)","v":3.1931740063923106},{"$f":"'Non-CO2 RF Calcs'!$S$17+('Non-CO2 RF Calcs'!$S$16-'Non-CO2 RF Calcs'!$S$17)*($O68-1)/9","v":0.43010071198289856},{"$f":"'Non-CO2 RF Calcs'!$S$19+('Non-CO2 RF Calcs'!$S$18-'Non-CO2 RF Calcs'!$S$19)*($O68-1)/9","v":0.36129014506695611},{"$f":"'Non-CO2 RF Calcs'!$S$21+('Non-CO2 RF Calcs'!$S$20-'Non-CO2 RF Calcs'!$S$21)*($O68-1)/9","v":0.12384274691709829},{"$f":"'Non-CO2 RF Calcs'!$S$23+('Non-CO2 RF Calcs'!$S$22-'Non-CO2 RF Calcs'!$S$23)*($O68-1)/9","v":-0.28316622201627617},{"$f":"'Non-CO2 RF Calcs'!$S$25+('Non-CO2 RF Calcs'!$S$24-'Non-CO2 RF Calcs'!$S$25)*($O68-1)/9","v":0.12384274691709829},3.9490841352600863,{"$f":"CFfromRFin2100(J68)","v":0.58478879187364374},2.3093801404661192,2.1119979999999998,0.19738214046611935,{"$f":"MitigationAggressiveness(D68,0)","v":8.6255599393774958},null,3.1762090000000001,0.31175000000000003,0.30758000000000002,-0.15837899999999999,3.6632769999999999,null,-1.6965006392310578E-2,{"$f":"R68-E68","v":-0.11835071198289854},{"$f":"S68-F68","v":-5.3710145066956094E-2},{"$f":"T68-H68","v":0.12478722201627618},{"$f":"U68-J68","v":-0.28580713526008639}]
["AIM/CGE 2.0","SFCM_SSP2_ST_solar_Baseline",797.82624399999997,{"$f":"CO2RFFromCO2PPM(C69)","v":6.1191359949507591},{"$f":"'Non-CO2 RF Calcs'!$S$17+('Non-CO2 RF Calcs'!$S$16-'Non-CO2 RF Calcs'!$S$17)*($O69-1)/9","v":0.51932193864660048},{"$f":"'Non-CO2 RF Calcs'!$S$19+('Non-CO2 RF Calcs'!$S$18-'Non-CO2 RF Calcs'!$S$19)*($O69-1)/9","v":0.38519111294033742},{"$f":"'Non-CO2 RF Calcs'!$S$21+('Non-CO2 RF Calcs'!$S$20-'Non-CO2 RF Calcs'!$S$21)*($O69-1)/9","v":0.22901304115792409},{"$f":"'Non-CO2 RF Calcs'!$S$23+('Non-CO2 RF Calcs'!$S$22-'Non-CO2 RF Calcs'!$S$23)*($O69-1)/9","v":-0.34824505688868385},{"$f":"'Non-CO2 RF Calcs'!$S$25+('Non-CO2 RF Calcs'!$S$24-'Non-CO2 RF Calcs'!$S$25)*($O69-1)/9","v":0.22901304115792409},7.1334300719648622,{"$f":"CFfromRFin2100(J69)","v":0.55565410131940418},3.963719675962448,4.3630800000000001,-0.39936032403755206,{"$f":"MitigationAggressiveness(D69,0)","v":7.2675504011171927},null,6.0896600000000003,0.96554099999999998,0.47991699999999998,-0.33638699999999999,7.7574269999999999,null,-2.947599495075881E-2,{"$f":"R69-E69","v":0.4462190613533995},{"$f":"S69-F69","v":9.4725887059662561E-2},{"$f":"T69-H69","v":1.1858056888683854E-2},{"$f":"U69-J69","v":0.62399692803513762}]
["AIM/CGE 2.0","SFCM_SSP2_ST_wind_1p5Degree",436.90060199999999,{"$f":"CO2RFFromCO2PPM(C70)","v":2.5136891054814576},{"$f":"'Non-CO2 RF Calcs'!$S$17+('Non-CO2 RF Calcs'!$S$16-'Non-CO2 RF Calcs'!$S$17)*($O70-1)/9","v":0.39651990621228117},{"$f":"'Non-CO2 RF Calcs'!$S$19+('Non-CO2 RF Calcs'!$S$18-'Non-CO2 RF Calcs'!$S$19)*($O70-1)/9","v":0.35229437365808447},{"$f":"'Non-CO2 RF Calcs'!$S$21+('Non-CO2 RF Calcs'!$S$20-'Non-CO2 RF Calcs'!$S$21)*($O70-1)/9","v":8.4259081058616458E-2},{"$f":"'Non-CO2 RF Calcs'!$S$23+('Non-CO2 RF Calcs'!$S$22-'Non-CO2 RF Calcs'!$S$23)*($O70-1)/9","v":-0.25867205403239785},{"$f":"'Non-CO2 RF Calcs'!$S$25+('Non-CO2 RF Calcs'!$S$24-'Non-CO2 RF Calcs'!$S$25)*($O70-1)/9","v":8.4259081058616458E-2},3.1723494934366587,{"$f":"CFfromRFin2100(J70)","v":0.59602127386780135},1.8907877862319917,1.6353279999999999,0.25545978623199184,{"$f":"MitigationAggressiveness(D70,0)","v":9.1366833148815658},null,2.4914260000000001,0.22834199999999999,0.26647599999999999,-0.178895,2.8242219999999998,null,-2.226310548145749E-2,{"$f":"R70-E70","v":-0.16817790621228118},{"$f":"S70-F70","v":-8.5818373658084479E-2},{"$f":"T70-H70","v":7.9777054032397848E-2},{"$f":"U70-J70","v":-0.34812749343665894}]
["AIM/CGE 2.0","SFCM_SSP2_ST_wind_2Degree",492.40087999999997,{"$f":"CO2RFFromCO2PPM(C71)","v":3.1916379022869159},{"$f":"'Non-CO2 RF Calcs'!$S$17+('Non-CO2 RF Calcs'!$S$16-'Non-CO2 RF Calcs'!$S$17)*($O71-1)/9","v":0.43003026340455075},{"$f":"'Non-CO2 RF Calcs'!$S$19+('Non-CO2 RF Calcs'!$S$18-'Non-CO2 RF Calcs'!$S$19)*($O71-1)/9","v":0.36127127299726169},{"$f":"'Non-CO2 RF Calcs'!$S$21+('Non-CO2 RF Calcs'!$S$20-'Non-CO2 RF Calcs'!$S$21)*($O71-1)/9","v":0.12375970504476885},{"$f":"'Non-CO2 RF Calcs'!$S$23+('Non-CO2 RF Calcs'!$S$22-'Non-CO2 RF Calcs'!$S$23)*($O71-1)/9","v":-0.28311483613458949},{"$f":"'Non-CO2 RF Calcs'!$S$25+('Non-CO2 RF Calcs'!$S$24-'Non-CO2 RF Calcs'!$S$25)*($O71-1)/9","v":0.12375970504476885},3.9473440126436765,{"$f":"CFfromRFin2100(J71)","v":0.58481214760773303},2.3084547293806748,2.1118519999999998,0.19660272938067491,{"$f":"MitigationAggressiveness(D71,0)","v":8.6266322160646762},null,3.174798,0.31278699999999998,0.30799199999999999,-0.158609,3.6637759999999999,null,-1.6839902286915898E-2,{"$f":"R71-E71","v":-0.11724326340455077},{"$f":"S71-F71","v":-5.3279272997261706E-2},{"$f":"T71-H71","v":0.12450583613458949},{"$f":"U71-J71","v":-0.28356801264367659}]
["AIM/CGE 2.0","SFCM_SSP2_ST_wind_Baseline",796.80412899999999,{"$f":"CO2RFFromCO2PPM(C72)","v":6.1116064333700102},{"$f":"'Non-CO2 RF Calcs'!$S$17+('Non-CO2 RF Calcs'!$S$16-'Non-CO2 RF Calcs'!$S$17)*($O72-1)/9","v":0.51920770276303296},{"$f":"'Non-CO2 RF Calcs'!$S$19+('Non-CO2 RF Calcs'!$S$18-'Non-CO2 RF Calcs'!$S$19)*($O72-1)/9","v":0.38516051093804232},{"$f":"'Non-CO2 RF Calcs'!$S$21+('Non-CO2 RF Calcs'!$S$20-'Non-CO2 RF Calcs'!$S$21)*($O72-1)/9","v":0.22887838462004734},{"$f":"'Non-CO2 RF Calcs'!$S$23+('Non-CO2 RF Calcs'!$S$22-'Non-CO2 RF Calcs'!$S$23)*($O72-1)/9","v":-0.34816173211854579},{"$f":"'Non-CO2 RF Calcs'!$S$25+('Non-CO2 RF Calcs'!$S$24-'Non-CO2 RF Calcs'!$S$25)*($O72-1)/9","v":0.22887838462004734},7.1255696841926355,{"$f":"CFfromRFin2100(J72)","v":0.55569253611071701},3.9596258890426466,4.3586359999999997,-0.39901011095735317,{"$f":"MitigationAggressiveness(D72,0)","v":7.2692891512475954},null,6.0816470000000002,0.96528899999999995,0.47987800000000003,-0.33680199999999999,7.7486829999999998,null,-2.9959433370009947E-2,{"$f":"R72-E72","v":0.44608129723696699},{"$f":"S72-F72","v":9.4717489061957705E-2},{"$f":"T72-H72","v":1.1359732118545796E-2},{"$f":"U72-J72","v":0.62311331580736429}]
["AIM/CGE 2.0","SFCM_SSP2_SupTech_1p5Degree",442.76594899999998,{"$f":"CO2RFFromCO2PPM(C73)","v":2.5874572638933007},{"$f":"'Non-CO2 RF Calcs'!$S$17+('Non-CO2 RF Calcs'!$S$16-'Non-CO2 RF Calcs'!$S$17)*($O73-1)/9","v":0.40040017701489916},{"$f":"'Non-CO2 RF Calcs'!$S$19+('Non-CO2 RF Calcs'!$S$18-'Non-CO2 RF Calcs'!$S$19)*($O73-1)/9","v":0.35333383737385426},{"$f":"'Non-CO2 RF Calcs'!$S$21+('Non-CO2 RF Calcs'!$S$20-'Non-CO2 RF Calcs'!$S$21)*($O73-1)/9","v":8.8832983898841089E-2},{"$f":"'Non-CO2 RF Calcs'!$S$23+('Non-CO2 RF Calcs'!$S$22-'Non-CO2 RF Calcs'!$S$23)*($O73-1)/9","v":-0.26150236148575345},{"$f":"'Non-CO2 RF Calcs'!$S$25+('Non-CO2 RF Calcs'!$S$24-'Non-CO2 RF Calcs'!$S$25)*($O73-1)/9","v":8.8832983898841089E-2},3.2573548845939828,{"$f":"CFfromRFin2100(J73)","v":0.59471314575807033},1.9371917702673036,1.6969110000000001,0.24028077026730355,{"$f":"MitigationAggressiveness(D73,0)","v":9.0776228764855524},null,2.566738,0.24495900000000001,0.27115099999999998,-0.169654,2.9319139999999999,null,-2.0719263893300699E-2,{"$f":"R73-E73","v":-0.15544117701489915},{"$f":"S73-F73","v":-8.2182837373854289E-2},{"$f":"T73-H73","v":9.1848361485753455E-2},{"$f":"U73-J73","v":-0.3254408845939829}]
["AIM/CGE 2.0","SFCM_SSP2_SupTech_2Degree",498.49244399999998,{"$f":"CO2RFFromCO2PPM(C74)","v":3.2633135706874312},{"$f":"'Non-CO2 RF Calcs'!$S$17+('Non-CO2 RF Calcs'!$S$16-'Non-CO2 RF Calcs'!$S$17)*($O74-1)/9","v":0.4332910497422568},{"$f":"'Non-CO2 RF Calcs'!$S$19+('Non-CO2 RF Calcs'!$S$18-'Non-CO2 RF Calcs'!$S$19)*($O74-1)/9","v":0.36214478653673848},{"$f":"'Non-CO2 RF Calcs'!$S$21+('Non-CO2 RF Calcs'!$S$20-'Non-CO2 RF Calcs'!$S$21)*($O74-1)/9","v":0.12760338520269388},{"$f":"'Non-CO2 RF Calcs'!$S$23+('Non-CO2 RF Calcs'!$S$22-'Non-CO2 RF Calcs'!$S$23)*($O74-1)/9","v":-0.28549328556373299},{"$f":"'Non-CO2 RF Calcs'!$S$25+('Non-CO2 RF Calcs'!$S$24-'Non-CO2 RF Calcs'!$S$25)*($O74-1)/9","v":0.12760338520269388},4.0284628918080818,{"$f":"CFfromRFin2100(J74)","v":0.58373201380077089},2.3515427563568085,2.1635119999999999,0.18803075635680866,{"$f":"MitigationAggressiveness(D74,0)","v":8.57700076495804},null,3.245377,0.33118999999999998,0.31358399999999997,-0.15013199999999999,3.76661,null,-1.7936570687431264E-2,{"$f":"R74-E74","v":-0.10210104974225681},{"$f":"S74-F74","v":-4.8560786536738509E-2},{"$f":"T74-H74","v":0.135361285563733},{"$f":"U74-J74","v":-0.2618528918080818}]
["AIM/CGE 2.0","SFCM_SSP2_SupTech_Baseline",797.01140099999998,{"$f":"CO2RFFromCO2PPM(C75)","v":6.1131345640827917},{"$f":"'Non-CO2 RF Calcs'!$S$17+('Non-CO2 RF Calcs'!$S$16-'Non-CO2 RF Calcs'!$S$17)*($O75-1)/9","v":0.51923093517564478},{"$f":"'Non-CO2 RF Calcs'!$S$19+('Non-CO2 RF Calcs'!$S$18-'Non-CO2 RF Calcs'!$S$19)*($O75-1)/9","v":0.38516673453715905},{"$f":"'Non-CO2 RF Calcs'!$S$21+('Non-CO2 RF Calcs'!$S$20-'Non-CO2 RF Calcs'!$S$21)*($O75-1)/9","v":0.2289057700277769},{"$f":"'Non-CO2 RF Calcs'!$S$23+('Non-CO2 RF Calcs'!$S$22-'Non-CO2 RF Calcs'!$S$23)*($O75-1)/9","v":-0.34817867806740338},{"$f":"'Non-CO2 RF Calcs'!$S$25+('Non-CO2 RF Calcs'!$S$24-'Non-CO2 RF Calcs'!$S$25)*($O75-1)/9","v":0.2289057700277769},7.127165095783746,{"$f":"CFfromRFin2100(J75)","v":0.55568472165286686},3.9604567524246193,4.3646820000000002,-0.40422524757538092,{"$f":"MitigationAggressiveness(D75,0)","v":7.2689355376614175},null,6.0836550000000003,0.96304100000000004,0.47894900000000001,-0.327843,7.7539639999999999,null,-2.9479564082791399E-2,{"$f":"R75-E75","v":0.44381006482435525},{"$f":"S75-F75","v":9.3782265462840964E-2},{"$f":"T75-H75","v":2.0335678067403384E-2},{"$f":"U75-J75","v":0.62679890421625384}]
["AIM/CGE 2.0","SSP1-19",394.35832399999998,{"$f":"CO2RFFromCO2PPM(C76)","v":1.9636294658688092},{"$f":"'Non-CO2 RF Calcs'!$S$17+('Non-CO2 RF Calcs'!$S$16-'Non-CO2 RF Calcs'!$S$17)*($O76-1)/9","v":0.36578483629157321},{"$f":"'Non-CO2 RF Calcs'!$S$19+('Non-CO2 RF Calcs'!$S$18-'Non-CO2 RF Calcs'!$S$19)*($O76-1)/9","v":0.34406093026988877},{"$f":"'Non-CO2 RF Calcs'!$S$21+('Non-CO2 RF Calcs'!$S$20-'Non-CO2 RF Calcs'!$S$21)*($O76-1)/9","v":4.8029850998184576E-2},{"$f":"'Non-CO2 RF Calcs'!$S$23+('Non-CO2 RF Calcs'!$S$22-'Non-CO2 RF Calcs'!$S$23)*($O76-1)/9","v":-0.23625359359471598},{"$f":"'Non-CO2 RF Calcs'!$S$25+('Non-CO2 RF Calcs'!$S$24-'Non-CO2 RF Calcs'!$S$25)*($O76-1)/9","v":4.8029850998184576E-2},2.5332813408319241,{"$f":"CFfromRFin2100(J76)","v":0.60647626847105807},1.5363750145751041,1.253722,0.28265301457510406,{"$f":"MitigationAggressiveness(D76,0)","v":9.6044925983017766},null,1.9114139999999999,5.0741000000000001E-2,0.230937,-1.4618000000000001E-2,2.0926740000000001,null,-5.2215465868809208E-2,{"$f":"R76-E76","v":-0.31504383629157323},{"$f":"S76-F76","v":-0.11312393026988876},{"$f":"T76-H76","v":0.22163559359471599},{"$f":"U76-J76","v":-0.44060734083192399}]
["AIM/CGE 2.0","SSP1-26",445.92134900000002,{"$f":"CO2RFFromCO2PPM(C77)","v":2.6269351306130551},{"$f":"'Non-CO2 RF Calcs'!$S$17+('Non-CO2 RF Calcs'!$S$16-'Non-CO2 RF Calcs'!$S$17)*($O77-1)/9","v":0.40245327742834458},{"$f":"'Non-CO2 RF Calcs'!$S$19+('Non-CO2 RF Calcs'!$S$18-'Non-CO2 RF Calcs'!$S$19)*($O77-1)/9","v":0.35388383078750174},{"$f":"'Non-CO2 RF Calcs'!$S$21+('Non-CO2 RF Calcs'!$S$20-'Non-CO2 RF Calcs'!$S$21)*($O77-1)/9","v":9.1253093806115571E-2},{"$f":"'Non-CO2 RF Calcs'!$S$23+('Non-CO2 RF Calcs'!$S$22-'Non-CO2 RF Calcs'!$S$23)*($O77-1)/9","v":-0.26299991299652464},{"$f":"'Non-CO2 RF Calcs'!$S$25+('Non-CO2 RF Calcs'!$S$24-'Non-CO2 RF Calcs'!$S$25)*($O77-1)/9","v":9.1253093806115571E-2},3.3027785134446077,{"$f":"CFfromRFin2100(J77)","v":0.594022076977478},1.9619233523529531,1.789941,0.17198235235295312,{"$f":"MitigationAggressiveness(D77,0)","v":9.0463732507101273},null,2.6058979999999998,0.17851400000000001,0.259822,1.6851000000000001E-2,2.9967100000000002,null,-2.1037130613055233E-2,{"$f":"R77-E77","v":-0.22393927742834457},{"$f":"S77-F77","v":-9.4061830787501743E-2},{"$f":"T77-H77","v":0.27985091299652465},{"$f":"U77-J77","v":-0.3060685134446075}]
["AIM/CGE 2.0","SSP1-34",514.25980700000002,{"$f":"CO2RFFromCO2PPM(C78)","v":3.4463266927944711},{"$f":"'Non-CO2 RF Calcs'!$S$17+('Non-CO2 RF Calcs'!$S$16-'Non-CO2 RF Calcs'!$S$17)*($O78-1)/9","v":0.44137227865822809},{"$f":"'Non-CO2 RF Calcs'!$S$19+('Non-CO2 RF Calcs'!$S$18-'Non-CO2 RF Calcs'!$S$19)*($O78-1)/9","v":0.36430962107130616},{"$f":"'Non-CO2 RF Calcs'!$S$21+('Non-CO2 RF Calcs'!$S$20-'Non-CO2 RF Calcs'!$S$21)*($O78-1)/9","v":0.13712920383017912},{"$f":"'Non-CO2 RF Calcs'!$S$23+('Non-CO2 RF Calcs'!$S$22-'Non-CO2 RF Calcs'!$S$23)*($O78-1)/9","v":-0.291387812929636},{"$f":"'Non-CO2 RF Calcs'!$S$25+('Non-CO2 RF Calcs'!$S$24-'Non-CO2 RF Calcs'!$S$25)*($O78-1)/9","v":0.13712920383017912},4.2348791872547276,{"$f":"CFfromRFin2100(J78)","v":0.58106308035561938},2.4607319454801337,2.3202389999999999,0.1404929454801338,{"$f":"MitigationAggressiveness(D78,0)","v":8.4539988027666961},null,3.423387,0.24490400000000001,0.29315099999999999,2.0618999999999998E-2,3.93492,null,-2.2939692794471167E-2,{"$f":"R78-E78","v":-0.19646827865822808},{"$f":"S78-F78","v":-7.1158621071306161E-2},{"$f":"T78-H78","v":0.312006812929636},{"$f":"U78-J78","v":-0.29995918725472759}]
["AIM/CGE 2.0","SSP1-45",581.32812799999999,{"$f":"CO2RFFromCO2PPM(C79)","v":4.1843075923341395},{"$f":"'Non-CO2 RF Calcs'!$S$17+('Non-CO2 RF Calcs'!$S$16-'Non-CO2 RF Calcs'!$S$17)*($O79-1)/9","v":0.47039078227424275},{"$f":"'Non-CO2 RF Calcs'!$S$19+('Non-CO2 RF Calcs'!$S$18-'Non-CO2 RF Calcs'!$S$19)*($O79-1)/9","v":0.37208322325763576},{"$f":"'Non-CO2 RF Calcs'!$S$21+('Non-CO2 RF Calcs'!$S$20-'Non-CO2 RF Calcs'!$S$21)*($O79-1)/9","v":0.17133501648088467},{"$f":"'Non-CO2 RF Calcs'!$S$23+('Non-CO2 RF Calcs'!$S$22-'Non-CO2 RF Calcs'!$S$23)*($O79-1)/9","v":-0.31255419312511562},{"$f":"'Non-CO2 RF Calcs'!$S$25+('Non-CO2 RF Calcs'!$S$24-'Non-CO2 RF Calcs'!$S$25)*($O79-1)/9","v":0.17133501648088467},5.0568974377026716,{"$f":"CFfromRFin2100(J79)","v":0.5715681715069113},2.8903616219657011,2.918825,-2.8463378034298881E-2,{"$f":"MitigationAggressiveness(D79,0)","v":8.0123168603616026},null,4.1448400000000003,0.342279,0.35166599999999998,7.9670000000000001E-3,4.9705719999999998,null,-3.9467592334139212E-2,{"$f":"R79-E79","v":-0.12811178227424275},{"$f":"S79-F79","v":-2.0417223257635786E-2},{"$f":"T79-H79","v":0.32052119312511562},{"$f":"U79-J79","v":-8.632543770267187E-2}]
["AIM/CGE 2.0","SSP1-Baseline",636.16364499999997,{"$f":"CO2RFFromCO2PPM(C80)","v":4.7389713530060025},{"$f":"'Non-CO2 RF Calcs'!$S$17+('Non-CO2 RF Calcs'!$S$16-'Non-CO2 RF Calcs'!$S$17)*($O80-1)/9","v":0.48843693723970333},{"$f":"'Non-CO2 RF Calcs'!$S$19+('Non-CO2 RF Calcs'!$S$18-'Non-CO2 RF Calcs'!$S$19)*($O80-1)/9","v":0.37691750525751566},{"$f":"'Non-CO2 RF Calcs'!$S$21+('Non-CO2 RF Calcs'!$S$20-'Non-CO2 RF Calcs'!$S$21)*($O80-1)/9","v":0.19260707805863897},{"$f":"'Non-CO2 RF Calcs'!$S$23+('Non-CO2 RF Calcs'!$S$22-'Non-CO2 RF Calcs'!$S$23)*($O80-1)/9","v":-0.32571723495938448},{"$f":"'Non-CO2 RF Calcs'!$S$25+('Non-CO2 RF Calcs'!$S$24-'Non-CO2 RF Calcs'!$S$25)*($O80-1)/9","v":0.19260707805863897},5.6638227166611159,{"$f":"CFfromRFin2100(J80)","v":0.56572074124414284},3.2041419855449411,3.7079520000000001,-0.50381001445505902,{"$f":"MitigationAggressiveness(D80,0)","v":7.7376417467320646},null,4.6851269999999996,0.81432700000000002,0.43858999999999998,-3.7338000000000003E-2,6.428922,null,-5.3844353006002876E-2,{"$f":"R80-E80","v":0.32589006276029669},{"$f":"S80-F80","v":6.1672494742484318E-2},{"$f":"T80-H80","v":0.2883792349593845},{"$f":"U80-J80","v":0.76509928333888411}]
["AIM/CGE 2.0","SSP2-19",378.56760300000002,{"$f":"CO2RFFromCO2PPM(C81)","v":1.7527472401867568},{"$f":"'Non-CO2 RF Calcs'!$S$17+('Non-CO2 RF Calcs'!$S$16-'Non-CO2 RF Calcs'!$S$17)*($O81-1)/9","v":0.35315916783179979},{"$f":"'Non-CO2 RF Calcs'!$S$19+('Non-CO2 RF Calcs'!$S$18-'Non-CO2 RF Calcs'!$S$19)*($O81-1)/9","v":0.34067871162617469},{"$f":"'Non-CO2 RF Calcs'!$S$21+('Non-CO2 RF Calcs'!$S$20-'Non-CO2 RF Calcs'!$S$21)*($O81-1)/9","v":3.3147234870225528E-2},{"$f":"'Non-CO2 RF Calcs'!$S$23+('Non-CO2 RF Calcs'!$S$22-'Non-CO2 RF Calcs'!$S$23)*($O81-1)/9","v":-0.22704430760334049},{"$f":"'Non-CO2 RF Calcs'!$S$25+('Non-CO2 RF Calcs'!$S$24-'Non-CO2 RF Calcs'!$S$25)*($O81-1)/9","v":3.3147234870225528E-2},2.2858352817818419,{"$f":"CFfromRFin2100(J81)","v":0.6108185916255594},1.3962306875059984,1.171109,0.22512168750599848,{"$f":"MitigationAggressiveness(D81,0)","v":9.7966641121491662},null,1.6933149999999999,0.13305,0.27326800000000001,-0.15126000000000001,1.947519,null,-5.9432240186756857E-2,{"$f":"R81-E81","v":-0.22010916783179979},{"$f":"S81-F81","v":-6.741071162617468E-2},{"$f":"T81-H81","v":7.5784307603340484E-2},{"$f":"U81-J81","v":-0.33831628178184192}]
["AIM/CGE 2.0","SSP2-26",426.95322199999998,{"$f":"CO2RFFromCO2PPM(C82)","v":2.3874351455358527},{"$f":"'Non-CO2 RF Calcs'!$S$17+('Non-CO2 RF Calcs'!$S$16-'Non-CO2 RF Calcs'!$S$17)*($O82-1)/9","v":0.38974625824588449},{"$f":"'Non-CO2 RF Calcs'!$S$19+('Non-CO2 RF Calcs'!$S$18-'Non-CO2 RF Calcs'!$S$19)*($O82-1)/9","v":0.35047981956054131},{"$f":"'Non-CO2 RF Calcs'!$S$21+('Non-CO2 RF Calcs'!$S$20-'Non-CO2 RF Calcs'!$S$21)*($O82-1)/9","v":7.6274584808694978E-2},{"$f":"'Non-CO2 RF Calcs'!$S$23+('Non-CO2 RF Calcs'!$S$22-'Non-CO2 RF Calcs'!$S$23)*($O82-1)/9","v":-0.25373128899281233},{"$f":"'Non-CO2 RF Calcs'!$S$25+('Non-CO2 RF Calcs'!$S$24-'Non-CO2 RF Calcs'!$S$25)*($O82-1)/9","v":7.6274584808694978E-2},{"$f":"SUM(D82:I82)","v":3.0264791039668557},{"$f":"CFfromRFin2100(J82)","v":0.59831120133786087},{"$f":"K82*J82","v":1.8107763485183421},1.698709,{"$f":"L82-M82","v":0.1120673485183421},{"$f":"MitigationAggressiveness(D82,0)","v":9.2397829795146968},null,2.3499940000000001,0.29733599999999999,0.29500199999999999,-0.13505300000000001,2.8500380000000001,null,{"$f":"Q82-D82","v":-3.7441145535852538E-2},{"$f":"R82-E82","v":-9.2410258245884502E-2},{"$f":"S82-F82","v":-5.5477819560541319E-2},{"$f":"T82-H82","v":0.11867828899281233},{"$f":"U82-J82","v":-0.17644110396685564}]
["AIM/CGE 2.0","SSP2-34",492.17508299999997,{"$f":"CO2RFFromCO2PPM(C83)","v":3.1889706933627706},{"$f":"'Non-CO2 RF Calcs'!$S$17+('Non-CO2 RF Calcs'!$S$16-'Non-CO2 RF Calcs'!$S$17)*($O83-1)/9","v":0.42990788140843561},{"$f":"'Non-CO2 RF Calcs'!$S$19+('Non-CO2 RF Calcs'!$S$18-'Non-CO2 RF Calcs'!$S$19)*($O83-1)/9","v":0.36123848877912429},{"$f":"'Non-CO2 RF Calcs'!$S$21+('Non-CO2 RF Calcs'!$S$20-'Non-CO2 RF Calcs'!$S$21)*($O83-1)/9","v":0.12361544620612142},{"$f":"'Non-CO2 RF Calcs'!$S$23+('Non-CO2 RF Calcs'!$S$22-'Non-CO2 RF Calcs'!$S$23)*($O83-1)/9","v":-0.28302556951033025},{"$f":"'Non-CO2 RF Calcs'!$S$25+('Non-CO2 RF Calcs'!$S$24-'Non-CO2 RF Calcs'!$S$25)*($O83-1)/9","v":0.12361544620612142},3.9443223864522432,{"$f":"CFfromRFin2100(J83)","v":0.58485272283626299},2.3068476874606212,2.215131,9.1716687460621227E-2,{"$f":"MitigationAggressiveness(D83,0)","v":8.6284949557315738},null,3.1681059999999999,0.375166,0.326455,-0.13585900000000001,3.7838219999999998,null,-2.0864693362770748E-2,{"$f":"R83-E83","v":-5.4741881408435611E-2},{"$f":"S83-F83","v":-3.4783488779124294E-2},{"$f":"T83-H83","v":0.14716656951033025},{"$f":"U83-J83","v":-0.1605003864522434}]
["AIM/CGE 2.0","SSP2-45",570.48041000000001,{"$f":"CO2RFFromCO2PPM(C84)","v":4.0693899889548844},{"$f":"'Non-CO2 RF Calcs'!$S$17+('Non-CO2 RF Calcs'!$S$16-'Non-CO2 RF Calcs'!$S$17)*($O84-1)/9","v":0.46624794513742895},{"$f":"'Non-CO2 RF Calcs'!$S$19+('Non-CO2 RF Calcs'!$S$18-'Non-CO2 RF Calcs'!$S$19)*($O84-1)/9","v":0.37097342213727169},{"$f":"'Non-CO2 RF Calcs'!$S$21+('Non-CO2 RF Calcs'!$S$20-'Non-CO2 RF Calcs'!$S$21)*($O84-1)/9","v":0.16645161129847452},{"$f":"'Non-CO2 RF Calcs'!$S$23+('Non-CO2 RF Calcs'!$S$22-'Non-CO2 RF Calcs'!$S$23)*($O84-1)/9","v":-0.30953236722099287},{"$f":"'Non-CO2 RF Calcs'!$S$25+('Non-CO2 RF Calcs'!$S$24-'Non-CO2 RF Calcs'!$S$25)*($O84-1)/9","v":0.16645161129847452},4.929982211605541,{"$f":"CFfromRFin2100(J84)","v":0.57291583281478708},2.8244648645240744,2.7682519999999999,5.621286452407448E-2,{"$f":"MitigationAggressiveness(D84,0)","v":8.0753737422004725},null,4.032743,0.41278300000000001,0.354522,-0.15038499999999999,4.7531439999999998,null,-3.6646988954884385E-2,{"$f":"R84-E84","v":-5.3464945137428943E-2},{"$f":"S84-F84","v":-1.6451422137271687E-2},{"$f":"T84-H84","v":0.15914736722099287},{"$f":"U84-J84","v":-0.17683821160554114}]
["AIM/CGE 2.0","SSP2-60",687.44175900000005,{"$f":"CO2RFFromCO2PPM(C85)","v":5.217998295948413},{"$f":"'Non-CO2 RF Calcs'!$S$17+('Non-CO2 RF Calcs'!$S$16-'Non-CO2 RF Calcs'!$S$17)*($O85-1)/9","v":0.50142268452170136},{"$f":"'Non-CO2 RF Calcs'!$S$19+('Non-CO2 RF Calcs'!$S$18-'Non-CO2 RF Calcs'!$S$19)*($O85-1)/9","v":0.38039618337263231},{"$f":"'Non-CO2 RF Calcs'!$S$21+('Non-CO2 RF Calcs'!$S$20-'Non-CO2 RF Calcs'!$S$21)*($O85-1)/9","v":0.20791414021922172},{"$f":"'Non-CO2 RF Calcs'!$S$23+('Non-CO2 RF Calcs'!$S$22-'Non-CO2 RF Calcs'!$S$23)*($O85-1)/9","v":-0.3351891659634868},{"$f":"'Non-CO2 RF Calcs'!$S$25+('Non-CO2 RF Calcs'!$S$24-'Non-CO2 RF Calcs'!$S$25)*($O85-1)/9","v":0.20791414021922172},6.1804562783177026,{"$f":"CFfromRFin2100(J85)","v":0.5615216356841054},3.4704599186750551,3.5481389999999999,-7.7679081324944832E-2,{"$f":"MitigationAggressiveness(D85,0)","v":7.5399895811004374},null,5.1515570000000004,0.61345499999999997,0.41015000000000001,-0.24184600000000001,6.2680769999999999,null,-6.6441295948412638E-2,{"$f":"R85-E85","v":0.11203231547829862},{"$f":"S85-F85","v":2.9753816627367702E-2},{"$f":"T85-H85","v":9.3343165963486796E-2},{"$f":"U85-J85","v":8.7620721682297287E-2}]
["AIM/CGE 2.0","SSP2-Baseline",803.00442999999996,{"$f":"CO2RFFromCO2PPM(C86)","v":6.1570478945555429},{"$f":"'Non-CO2 RF Calcs'!$S$17+('Non-CO2 RF Calcs'!$S$16-'Non-CO2 RF Calcs'!$S$17)*($O86-1)/9","v":0.51988808049365098},{"$f":"'Non-CO2 RF Calcs'!$S$19+('Non-CO2 RF Calcs'!$S$18-'Non-CO2 RF Calcs'!$S$19)*($O86-1)/9","v":0.38534277346557466},{"$f":"'Non-CO2 RF Calcs'!$S$21+('Non-CO2 RF Calcs'!$S$20-'Non-CO2 RF Calcs'!$S$21)*($O86-1)/9","v":0.2296803857670805},{"$f":"'Non-CO2 RF Calcs'!$S$23+('Non-CO2 RF Calcs'!$S$22-'Non-CO2 RF Calcs'!$S$23)*($O86-1)/9","v":-0.34865800628599974},{"$f":"'Non-CO2 RF Calcs'!$S$25+('Non-CO2 RF Calcs'!$S$24-'Non-CO2 RF Calcs'!$S$25)*($O86-1)/9","v":0.2296803857670805},7.17298151376293,{"$f":"CFfromRFin2100(J86)","v":0.55546322202452658},3.9843274231571231,4.4367580000000002,-0.45243057684287713,{"$f":"MitigationAggressiveness(D86,0)","v":7.25893332581962},null,6.1222960000000004,0.97018800000000005,0.48477300000000001,-0.33856399999999998,7.8853720000000003,null,-3.4751894555542506E-2,{"$f":"R86-E86","v":0.45029991950634907},{"$f":"S86-F86","v":9.9430226534425348E-2},{"$f":"T86-H86","v":1.0094006285999768E-2},{"$f":"U86-J86","v":0.71239048623707024}]
["AIM/CGE 2.0","SSP3-34",479.59073100000001,{"$f":"CO2RFFromCO2PPM(C87)","v":3.0391442471645558},{"$f":"'Non-CO2 RF Calcs'!$S$17+('Non-CO2 RF Calcs'!$S$16-'Non-CO2 RF Calcs'!$S$17)*($O87-1)/9","v":0.42291331085307382},{"$f":"'Non-CO2 RF Calcs'!$S$19+('Non-CO2 RF Calcs'!$S$18-'Non-CO2 RF Calcs'!$S$19)*($O87-1)/9","v":0.35936475298347181},{"$f":"'Non-CO2 RF Calcs'!$S$21+('Non-CO2 RF Calcs'!$S$20-'Non-CO2 RF Calcs'!$S$21)*($O87-1)/9","v":0.11537053553964549},{"$f":"'Non-CO2 RF Calcs'!$S$23+('Non-CO2 RF Calcs'!$S$22-'Non-CO2 RF Calcs'!$S$23)*($O87-1)/9","v":-0.27792366137481939},{"$f":"'Non-CO2 RF Calcs'!$S$25+('Non-CO2 RF Calcs'!$S$24-'Non-CO2 RF Calcs'!$S$25)*($O87-1)/9","v":0.11537053553964549},3.7742397207055731,{"$f":"CFfromRFin2100(J87)","v":0.5871761214805391},2.2161434407416918,2.2161909999999998,-4.7559258308016439E-5,{"$f":"MitigationAggressiveness(D87,0)","v":8.7349572168481924},null,3.0114930000000002,0.53225699999999998,0.38418400000000003,-0.35564499999999999,3.791687,null,-2.7651247164555581E-2,{"$f":"R87-E87","v":0.10934368914692616},{"$f":"S87-F87","v":2.4819247016528212E-2},{"$f":"T87-H87","v":-7.7721338625180603E-2},{"$f":"U87-J87","v":1.744727929442691E-2}]
["AIM/CGE 2.0","SSP3-45",542.85226899999998,{"$f":"CO2RFFromCO2PPM(C88)","v":3.7689586799538799},{"$f":"'Non-CO2 RF Calcs'!$S$17+('Non-CO2 RF Calcs'!$S$16-'Non-CO2 RF Calcs'!$S$17)*($O88-1)/9","v":0.45476215095275663},{"$f":"'Non-CO2 RF Calcs'!$S$19+('Non-CO2 RF Calcs'!$S$18-'Non-CO2 RF Calcs'!$S$19)*($O88-1)/9","v":0.36789655794168219},{"$f":"'Non-CO2 RF Calcs'!$S$21+('Non-CO2 RF Calcs'!$S$20-'Non-CO2 RF Calcs'!$S$21)*($O88-1)/9","v":0.15291263185197257},{"$f":"'Non-CO2 RF Calcs'!$S$23+('Non-CO2 RF Calcs'!$S$22-'Non-CO2 RF Calcs'!$S$23)*($O88-1)/9","v":-0.30115451666822918},{"$f":"'Non-CO2 RF Calcs'!$S$25+('Non-CO2 RF Calcs'!$S$24-'Non-CO2 RF Calcs'!$S$25)*($O88-1)/9","v":0.15291263185197257},4.5962881358840333,{"$f":"CFfromRFin2100(J88)","v":0.57666531003552812},2.6505199228921859,2.6935929999999999,-4.3073077107814051E-2,{"$f":"MitigationAggressiveness(D88,0)","v":8.2501955714953326},null,3.734445,0.60499000000000003,0.40863500000000003,-0.399557,4.6794469999999997,null,-3.4513679953879883E-2,{"$f":"R88-E88","v":0.1502278490472434},{"$f":"S88-F88","v":4.0738442058317836E-2},{"$f":"T88-H88","v":-9.8402483331770818E-2},{"$f":"U88-J88","v":8.3158864115966402E-2}]
["AIM/CGE 2.0","SSP3-60",653.84925699999997,{"$f":"CO2RFFromCO2PPM(C89)","v":4.908515320940861},{"$f":"'Non-CO2 RF Calcs'!$S$17+('Non-CO2 RF Calcs'!$S$16-'Non-CO2 RF Calcs'!$S$17)*($O89-1)/9","v":0.49330850017007161},{"$f":"'Non-CO2 RF Calcs'!$S$19+('Non-CO2 RF Calcs'!$S$18-'Non-CO2 RF Calcs'!$S$19)*($O89-1)/9","v":0.3782225205935047},{"$f":"'Non-CO2 RF Calcs'!$S$21+('Non-CO2 RF Calcs'!$S$20-'Non-CO2 RF Calcs'!$S$21)*($O89-1)/9","v":0.19834947508631806},{"$f":"'Non-CO2 RF Calcs'!$S$23+('Non-CO2 RF Calcs'!$S$22-'Non-CO2 RF Calcs'!$S$23)*($O89-1)/9","v":-0.32927060058067287},{"$f":"'Non-CO2 RF Calcs'!$S$25+('Non-CO2 RF Calcs'!$S$24-'Non-CO2 RF Calcs'!$S$25)*($O89-1)/9","v":0.19834947508631806},5.8474746912964006,{"$f":"CFfromRFin2100(J89)","v":0.56414604490311904},3.2988297197659513,3.4635660000000001,-0.16473628023404885,{"$f":"MitigationAggressiveness(D89,0)","v":7.6634931480963226},null,4.8411150000000003,0.70994100000000004,0.43796099999999999,-0.52715100000000004,6.1649219999999998,null,-6.7400320940860681E-2,{"$f":"R89-E89","v":0.21663249982992844},{"$f":"S89-F89","v":5.9738479406495293E-2},{"$f":"T89-H89","v":-0.19788039941932717},{"$f":"U89-J89","v":0.31744730870359916}]
["AIM/CGE 2.0","SSP3-Baseline",846.37263499999995,{"$f":"CO2RFFromCO2PPM(C90)","v":6.4592237402422992},{"$f":"'Non-CO2 RF Calcs'!$S$17+('Non-CO2 RF Calcs'!$S$16-'Non-CO2 RF Calcs'!$S$17)*($O90-1)/9","v":0.52386099325086977},{"$f":"'Non-CO2 RF Calcs'!$S$19+('Non-CO2 RF Calcs'!$S$18-'Non-CO2 RF Calcs'!$S$19)*($O90-1)/9","v":0.38640705450860435},{"$f":"'Non-CO2 RF Calcs'!$S$21+('Non-CO2 RF Calcs'!$S$20-'Non-CO2 RF Calcs'!$S$21)*($O90-1)/9","v":0.23436349111425031},{"$f":"'Non-CO2 RF Calcs'!$S$23+('Non-CO2 RF Calcs'!$S$22-'Non-CO2 RF Calcs'!$S$23)*($O90-1)/9","v":-0.35155588768662283},{"$f":"'Non-CO2 RF Calcs'!$S$25+('Non-CO2 RF Calcs'!$S$24-'Non-CO2 RF Calcs'!$S$25)*($O90-1)/9","v":0.23436349111425031},7.4866628825436514,{"$f":"CFfromRFin2100(J90)","v":0.55409794994494932},4.148344555146382,4.3117850000000004,-0.16344044485361842,{"$f":"MitigationAggressiveness(D90,0)","v":7.1984628120111154},null,6.4448160000000003,1.0390919999999999,0.51270899999999997,-0.82273799999999997,7.8255819999999998,null,-1.440774024229885E-2,{"$f":"R90-E90","v":0.51523100674913014},{"$f":"S90-F90","v":0.12630194549139562},{"$f":"T90-H90","v":-0.47118211231337714},{"$f":"U90-J90","v":0.3389191174563484}]
["AIM/CGE 2.0","SSP4-26",441.03027300000002,{"$f":"CO2RFFromCO2PPM(C91)","v":2.5656799939455035},{"$f":"'Non-CO2 RF Calcs'!$S$17+('Non-CO2 RF Calcs'!$S$16-'Non-CO2 RF Calcs'!$S$17)*($O91-1)/9","v":0.39926061720085637},{"$f":"'Non-CO2 RF Calcs'!$S$19+('Non-CO2 RF Calcs'!$S$18-'Non-CO2 RF Calcs'!$S$19)*($O91-1)/9","v":0.35302856716491737},{"$f":"'Non-CO2 RF Calcs'!$S$21+('Non-CO2 RF Calcs'!$S$20-'Non-CO2 RF Calcs'!$S$21)*($O91-1)/9","v":8.7489717891081953E-2},{"$f":"'Non-CO2 RF Calcs'!$S$23+('Non-CO2 RF Calcs'!$S$22-'Non-CO2 RF Calcs'!$S$23)*($O91-1)/9","v":-0.26067115541811148},{"$f":"'Non-CO2 RF Calcs'!$S$25+('Non-CO2 RF Calcs'!$S$24-'Non-CO2 RF Calcs'!$S$25)*($O91-1)/9","v":8.7489717891081953E-2},3.2322774586753291,{"$f":"CFfromRFin2100(J91)","v":0.59509704110092976},1.923518751674921,1.666061,0.25745775167492102,{"$f":"MitigationAggressiveness(D91,0)","v":9.0949677747206046},null,2.5341779999999998,0.26152799999999998,0.285223,-0.32168400000000003,2.8547210000000001,null,-3.1501993945503681E-2,{"$f":"R91-E91","v":-0.13773261720085639},{"$f":"S91-F91","v":-6.7805567164917369E-2},{"$f":"T91-H91","v":-6.1012844581888548E-2},{"$f":"U91-J91","v":-0.37755645867532905}]
["AIM/CGE 2.0","SSP4-34",511.90690899999998,{"$f":"CO2RFFromCO2PPM(C92)","v":3.4192464201803565},{"$f":"'Non-CO2 RF Calcs'!$S$17+('Non-CO2 RF Calcs'!$S$16-'Non-CO2 RF Calcs'!$S$17)*($O92-1)/9","v":0.44019867564328075},{"$f":"'Non-CO2 RF Calcs'!$S$19+('Non-CO2 RF Calcs'!$S$18-'Non-CO2 RF Calcs'!$S$19)*($O92-1)/9","v":0.36399523122255317},{"$f":"'Non-CO2 RF Calcs'!$S$21+('Non-CO2 RF Calcs'!$S$20-'Non-CO2 RF Calcs'!$S$21)*($O92-1)/9","v":0.13574580910429002},{"$f":"'Non-CO2 RF Calcs'!$S$23+('Non-CO2 RF Calcs'!$S$22-'Non-CO2 RF Calcs'!$S$23)*($O92-1)/9","v":-0.29053177541847963},{"$f":"'Non-CO2 RF Calcs'!$S$25+('Non-CO2 RF Calcs'!$S$24-'Non-CO2 RF Calcs'!$S$25)*($O92-1)/9","v":0.13574580910429002},4.2044001698362914,{"$f":"CFfromRFin2100(J92)","v":0.5814499787589289},2.4446483894453488,2.1962640000000002,0.24838438944534857,{"$f":"MitigationAggressiveness(D92,0)","v":8.4718618623549347},null,3.3889429999999998,0.34306900000000001,0.31417800000000001,-0.32963199999999998,3.8152349999999999,null,-3.0303420180356699E-2,{"$f":"R92-E92","v":-9.7129675643280733E-2},{"$f":"S92-F92","v":-4.981723122255316E-2},{"$f":"T92-H92","v":-3.9100224581520349E-2},{"$f":"U92-J92","v":-0.38916516983629146}]
["AIM/CGE 2.0","SSP4-45",585.76723700000002,{"$f":"CO2RFFromCO2PPM(C93)","v":4.2308397068987285},{"$f":"'Non-CO2 RF Calcs'!$S$17+('Non-CO2 RF Calcs'!$S$16-'Non-CO2 RF Calcs'!$S$17)*($O93-1)/9","v":0.47202884836991449},{"$f":"'Non-CO2 RF Calcs'!$S$19+('Non-CO2 RF Calcs'!$S$18-'Non-CO2 RF Calcs'!$S$19)*($O93-1)/9","v":0.372522035484178},{"$f":"'Non-CO2 RF Calcs'!$S$21+('Non-CO2 RF Calcs'!$S$20-'Non-CO2 RF Calcs'!$S$21)*($O93-1)/9","v":0.17326590108883877},{"$f":"'Non-CO2 RF Calcs'!$S$23+('Non-CO2 RF Calcs'!$S$22-'Non-CO2 RF Calcs'!$S$23)*($O93-1)/9","v":-0.31374901454751242},{"$f":"'Non-CO2 RF Calcs'!$S$25+('Non-CO2 RF Calcs'!$S$24-'Non-CO2 RF Calcs'!$S$25)*($O93-1)/9","v":0.17326590108883877},5.108173378382987,{"$f":"CFfromRFin2100(J93)","v":0.57103594570016136},2.9169506159253173,2.7108889999999999,0.20606161592531747,{"$f":"MitigationAggressiveness(D93,0)","v":7.9873843474898862},null,4.1890000000000001,0.394067,0.35551100000000002,-0.36129099999999997,4.7249210000000001,null,-4.1839706898728402E-2,{"$f":"R93-E93","v":-7.7961848369914488E-2},{"$f":"S93-F93","v":-1.7011035484177983E-2},{"$f":"T93-H93","v":-4.7541985452487556E-2},{"$f":"U93-J93","v":-0.38325237838298687}]
["AIM/CGE 2.0","SSP4-Baseline",665.16476399999999,{"$f":"CO2RFFromCO2PPM(C94)","v":5.0146004884414443},{"$f":"'Non-CO2 RF Calcs'!$S$17+('Non-CO2 RF Calcs'!$S$16-'Non-CO2 RF Calcs'!$S$17)*($O94-1)/9","v":0.49620317421163124},{"$f":"'Non-CO2 RF Calcs'!$S$19+('Non-CO2 RF Calcs'!$S$18-'Non-CO2 RF Calcs'!$S$19)*($O94-1)/9","v":0.37899795838850392},{"$f":"'Non-CO2 RF Calcs'!$S$21+('Non-CO2 RF Calcs'!$S$20-'Non-CO2 RF Calcs'!$S$21)*($O94-1)/9","v":0.20176159720193965},{"$f":"'Non-CO2 RF Calcs'!$S$23+('Non-CO2 RF Calcs'!$S$22-'Non-CO2 RF Calcs'!$S$23)*($O94-1)/9","v":-0.33138200412223329},{"$f":"'Non-CO2 RF Calcs'!$S$25+('Non-CO2 RF Calcs'!$S$24-'Non-CO2 RF Calcs'!$S$25)*($O94-1)/9","v":0.20176159720193965},5.9619428113232251,{"$f":"CFfromRFin2100(J94)","v":0.5632103171139583},3.3578277013806379,3.6072899999999999,-0.24946229861936198,{"$f":"MitigationAggressiveness(D94,0)","v":7.6194341824713669},null,4.9526870000000001,0.88683000000000001,0.45390200000000003,-0.46177800000000002,6.4167730000000001,null,-6.1913488441444287E-2,{"$f":"R94-E94","v":0.39062682578836877},{"$f":"S94-F94","v":7.4904041611496108E-2},{"$f":"T94-H94","v":-0.13039599587776673},{"$f":"U94-J94","v":0.45483018867677494}]
["AIM/CGE 2.0","SSP5-26",424.25987099999998,{"$f":"CO2RFFromCO2PPM(C95)","v":2.3530025340782306},{"$f":"'Non-CO2 RF Calcs'!$S$17+('Non-CO2 RF Calcs'!$S$16-'Non-CO2 RF Calcs'!$S$17)*($O95-1)/9","v":0.38786986847093419},{"$f":"'Non-CO2 RF Calcs'!$S$19+('Non-CO2 RF Calcs'!$S$18-'Non-CO2 RF Calcs'!$S$19)*($O95-1)/9","v":0.3499771641565973},{"$f":"'Non-CO2 RF Calcs'!$S$21+('Non-CO2 RF Calcs'!$S$20-'Non-CO2 RF Calcs'!$S$21)*($O95-1)/9","v":7.4062774098158313E-2},{"$f":"'Non-CO2 RF Calcs'!$S$23+('Non-CO2 RF Calcs'!$S$22-'Non-CO2 RF Calcs'!$S$23)*($O95-1)/9","v":-0.25236263194911868},{"$f":"'Non-CO2 RF Calcs'!$S$25+('Non-CO2 RF Calcs'!$S$24-'Non-CO2 RF Calcs'!$S$25)*($O95-1)/9","v":7.4062774098158313E-2},2.9866124829529603,{"$f":"CFfromRFin2100(J95)","v":0.59894697205120262},1.7888225033549996,1.8366130000000001,-4.7790496645000458E-2,{"$f":"MitigationAggressiveness(D95,0)","v":9.2683429456478823},null,2.3180109999999998,0.37609300000000001,0.33088000000000001,-9.6939999999999995E-3,3.0321929999999999,null,-3.4991534078230746E-2,{"$f":"R95-E95","v":-1.1776868470934176E-2},{"$f":"S95-F95","v":-1.909716415659729E-2},{"$f":"T95-H95","v":0.24266863194911867},{"$f":"U95-J95","v":4.5580517047039582E-2}]
["AIM/CGE 2.0","SSP5-34",496.60013099999998,{"$f":"CO2RFFromCO2PPM(C96)","v":3.2411058018938066},{"$f":"'Non-CO2 RF Calcs'!$S$17+('Non-CO2 RF Calcs'!$S$16-'Non-CO2 RF Calcs'!$S$17)*($O96-1)/9","v":0.43228650505136273},{"$f":"'Non-CO2 RF Calcs'!$S$19+('Non-CO2 RF Calcs'!$S$18-'Non-CO2 RF Calcs'!$S$19)*($O96-1)/9","v":0.36187568476261772},{"$f":"'Non-CO2 RF Calcs'!$S$21+('Non-CO2 RF Calcs'!$S$20-'Non-CO2 RF Calcs'!$S$21)*($O96-1)/9","v":0.12641926944156912},{"$f":"'Non-CO2 RF Calcs'!$S$23+('Non-CO2 RF Calcs'!$S$22-'Non-CO2 RF Calcs'!$S$23)*($O96-1)/9","v":-0.28476056084669837},{"$f":"'Non-CO2 RF Calcs'!$S$25+('Non-CO2 RF Calcs'!$S$24-'Non-CO2 RF Calcs'!$S$25)*($O96-1)/9","v":0.12641926944156912},4.0033459697442266,{"$f":"CFfromRFin2100(J96)","v":0.58406457049707106},2.338212544369842,2.371219,-3.3006455630157916E-2,{"$f":"MitigationAggressiveness(D96,0)","v":8.5922906384876292},null,3.2177549999999999,0.42646699999999998,0.35697499999999999,-1.9453000000000002E-2,3.9974430000000001,null,-2.3350801893806672E-2,{"$f":"R96-E96","v":-5.81950505136275E-3},{"$f":"S96-F96","v":-4.9006847626177352E-3},{"$f":"T96-H96","v":0.26530756084669838},{"$f":"U96-J96","v":-5.9029697442265494E-3}]
["AIM/CGE 2.0","SSP5-45",562.62720999999999,{"$f":"CO2RFFromCO2PPM(C97)","v":3.9851251904990703},{"$f":"'Non-CO2 RF Calcs'!$S$17+('Non-CO2 RF Calcs'!$S$16-'Non-CO2 RF Calcs'!$S$17)*($O97-1)/9","v":0.46312204330874562},{"$f":"'Non-CO2 RF Calcs'!$S$19+('Non-CO2 RF Calcs'!$S$18-'Non-CO2 RF Calcs'!$S$19)*($O97-1)/9","v":0.37013604204313427},{"$f":"'Non-CO2 RF Calcs'!$S$21+('Non-CO2 RF Calcs'!$S$20-'Non-CO2 RF Calcs'!$S$21)*($O97-1)/9","v":0.16276692742465015},{"$f":"'Non-CO2 RF Calcs'!$S$23+('Non-CO2 RF Calcs'!$S$22-'Non-CO2 RF Calcs'!$S$23)*($O97-1)/9","v":-0.3072523038712362},{"$f":"'Non-CO2 RF Calcs'!$S$25+('Non-CO2 RF Calcs'!$S$24-'Non-CO2 RF Calcs'!$S$25)*($O97-1)/9","v":0.16276692742465015},4.8366648268290149,{"$f":"CFfromRFin2100(J97)","v":0.57393429187674938},2.7759278024312914,2.840875,-6.4947197568708592E-2,{"$f":"MitigationAggressiveness(D97,0)","v":8.122952156640098},null,3.943956,0.48535800000000001,0.37973699999999999,-3.0231000000000001E-2,4.8610870000000004,null,-4.1169190499070307E-2,{"$f":"R97-E97","v":2.2235956691254388E-2},{"$f":"S97-F97","v":9.6009579568657188E-3},{"$f":"T97-H97","v":0.27702130387123619},{"$f":"U97-J97","v":2.4422173170985495E-2}]
["AIM/CGE 2.0","SSP5-60",657.88320299999998,{"$f":"CO2RFFromCO2PPM(C98)","v":4.9465484396731831},{"$f":"'Non-CO2 RF Calcs'!$S$17+('Non-CO2 RF Calcs'!$S$16-'Non-CO2 RF Calcs'!$S$17)*($O98-1)/9","v":0.49435987189721747},{"$f":"'Non-CO2 RF Calcs'!$S$19+('Non-CO2 RF Calcs'!$S$18-'Non-CO2 RF Calcs'!$S$19)*($O98-1)/9","v":0.37850416659651487},{"$f":"'Non-CO2 RF Calcs'!$S$21+('Non-CO2 RF Calcs'!$S$20-'Non-CO2 RF Calcs'!$S$21)*($O98-1)/9","v":0.1995887886222909},{"$f":"'Non-CO2 RF Calcs'!$S$23+('Non-CO2 RF Calcs'!$S$22-'Non-CO2 RF Calcs'!$S$23)*($O98-1)/9","v":-0.33003748139568728},{"$f":"'Non-CO2 RF Calcs'!$S$25+('Non-CO2 RF Calcs'!$S$24-'Non-CO2 RF Calcs'!$S$25)*($O98-1)/9","v":0.1995887886222909},5.8885525740158098,{"$f":"CFfromRFin2100(J98)","v":0.56380620809543391},3.3200024979264606,3.4223059999999998,-0.10230350207353922,{"$f":"MitigationAggressiveness(D98,0)","v":7.6474905342889272},null,4.8923889999999997,0.54400199999999999,0.394036,-7.7632000000000007E-2,6.0066709999999999,null,-5.4159439673183485E-2,{"$f":"R98-E98","v":4.9642128102782512E-2},{"$f":"S98-F98","v":1.5531833403485129E-2},{"$f":"T98-H98","v":0.2524054813956873},{"$f":"U98-J98","v":0.11811842598419009}]
["AIM/CGE 2.0","SSP5-Baseline",978.74346800000001,{"$f":"CO2RFFromCO2PPM(C99)","v":7.2120144700763946},{"$f":"'Non-CO2 RF Calcs'!$S$17+('Non-CO2 RF Calcs'!$S$16-'Non-CO2 RF Calcs'!$S$17)*($O99-1)/9","v":0.52958918793113763},{"$f":"'Non-CO2 RF Calcs'!$S$19+('Non-CO2 RF Calcs'!$S$18-'Non-CO2 RF Calcs'!$S$19)*($O99-1)/9","v":0.38794154806070047},{"$f":"'Non-CO2 RF Calcs'!$S$21+('Non-CO2 RF Calcs'!$S$20-'Non-CO2 RF Calcs'!$S$21)*($O99-1)/9","v":0.241115650241845},{"$f":"'Non-CO2 RF Calcs'!$S$23+('Non-CO2 RF Calcs'!$S$22-'Non-CO2 RF Calcs'!$S$23)*($O99-1)/9","v":-0.35573408887992497},{"$f":"'Non-CO2 RF Calcs'!$S$25+('Non-CO2 RF Calcs'!$S$24-'Non-CO2 RF Calcs'!$S$25)*($O99-1)/9","v":0.241115650241845},8.2560424176719973,{"$f":"CFfromRFin2100(J99)","v":0.55186672452489505},4.5562350865792407,5.2113880000000004,-0.65515291342075965,{"$f":"MitigationAggressiveness(D99,0)","v":7.1112756783692905},null,7.383661,0.95759399999999995,0.50168299999999999,-0.23543900000000001,9.2305679999999999,null,0.17164652992360541,{"$f":"R99-E99","v":0.42800481206886232},{"$f":"S99-F99","v":0.11374145193929952},{"$f":"T99-H99","v":0.12029508887992496},{"$f":"U99-J99","v":0.97452558232800257}]
["AIM/CGE 2.1","CD-LINKS_INDC2030i_1600",479.50078000000002,{"$f":"CO2RFFromCO2PPM(C100)","v":3.0380650026880764},{"$f":"'Non-CO2 RF Calcs'!$S$17+('Non-CO2 RF Calcs'!$S$16-'Non-CO2 RF Calcs'!$S$17)*($O100-1)/9","v":0.42286207186931235},{"$f":"'Non-CO2 RF Calcs'!$S$19+('Non-CO2 RF Calcs'!$S$18-'Non-CO2 RF Calcs'!$S$19)*($O100-1)/9","v":0.35935102686301212},{"$f":"'Non-CO2 RF Calcs'!$S$21+('Non-CO2 RF Calcs'!$S$20-'Non-CO2 RF Calcs'!$S$21)*($O100-1)/9","v":0.11531013714343075},{"$f":"'Non-CO2 RF Calcs'!$S$23+('Non-CO2 RF Calcs'!$S$22-'Non-CO2 RF Calcs'!$S$23)*($O100-1)/9","v":-0.277886287159199},{"$f":"'Non-CO2 RF Calcs'!$S$25+('Non-CO2 RF Calcs'!$S$24-'Non-CO2 RF Calcs'!$S$25)*($O100-1)/9","v":0.11531013714343075},3.7730120885480631,{"$f":"CFfromRFin2100(J100)","v":0.58719317345733468},2.2154869417674234,2.353675,-0.13818805823257652,{"$f":"MitigationAggressiveness(D100,0)","v":8.7357371100561299},null,3.025067,0.514845,0.38883200000000001,-2.7539000000000001E-2,4.033175,null,-1.2998002688076493E-2,{"$f":"R100-E100","v":9.1982928130687647E-2},{"$f":"S100-F100","v":2.9480973136987887E-2},{"$f":"T100-H100","v":0.25034728715919902},{"$f":"U100-J100","v":0.26016291145193682}]
["AIM/CGE 2.1","CD-LINKS_INDCi",682.45432300000004,{"$f":"CO2RFFromCO2PPM(C101)","v":5.1730894307091235},{"$f":"'Non-CO2 RF Calcs'!$S$17+('Non-CO2 RF Calcs'!$S$16-'Non-CO2 RF Calcs'!$S$17)*($O101-1)/9","v":0.50030761786232136},{"$f":"'Non-CO2 RF Calcs'!$S$19+('Non-CO2 RF Calcs'!$S$18-'Non-CO2 RF Calcs'!$S$19)*($O101-1)/9","v":0.38009747449584258},{"$f":"'Non-CO2 RF Calcs'!$S$21+('Non-CO2 RF Calcs'!$S$20-'Non-CO2 RF Calcs'!$S$21)*($O101-1)/9","v":0.20659974572981232},{"$f":"'Non-CO2 RF Calcs'!$S$23+('Non-CO2 RF Calcs'!$S$22-'Non-CO2 RF Calcs'!$S$23)*($O101-1)/9","v":-0.33437582544227834},{"$f":"'Non-CO2 RF Calcs'!$S$25+('Non-CO2 RF Calcs'!$S$24-'Non-CO2 RF Calcs'!$S$25)*($O101-1)/9","v":0.20659974572981232},6.1323181890846339,{"$f":"CFfromRFin2100(J101)","v":0.56188265062697984},3.4456431985709148,3.633502,-0.18785880142908518,{"$f":"MitigationAggressiveness(D101,0)","v":7.5569616763725822},null,5.1086010000000002,0.82612699999999994,0.42817899999999998,-0.32204199999999999,6.5049260000000002,null,-6.4488430709123357E-2,{"$f":"R101-E101","v":0.32581938213767858},{"$f":"S101-F101","v":4.8081525504157396E-2},{"$f":"T101-H101","v":1.2333825442278346E-2},{"$f":"U101-J101","v":0.37260781091536632}]
["AIM/CGE 2.1","CD-LINKS_NDC2030i_1000",432.74433800000003,{"$f":"CO2RFFromCO2PPM(C102)","v":2.461112451085909},{"$f":"'Non-CO2 RF Calcs'!$S$17+('Non-CO2 RF Calcs'!$S$16-'Non-CO2 RF Calcs'!$S$17)*($O102-1)/9","v":0.39371945381404161},{"$f":"'Non-CO2 RF Calcs'!$S$19+('Non-CO2 RF Calcs'!$S$18-'Non-CO2 RF Calcs'!$S$19)*($O102-1)/9","v":0.35154417636418772},{"$f":"'Non-CO2 RF Calcs'!$S$21+('Non-CO2 RF Calcs'!$S$20-'Non-CO2 RF Calcs'!$S$21)*($O102-1)/9","v":8.0958023521709666E-2},{"$f":"'Non-CO2 RF Calcs'!$S$23+('Non-CO2 RF Calcs'!$S$22-'Non-CO2 RF Calcs'!$S$23)*($O102-1)/9","v":-0.2566293766784985},{"$f":"'Non-CO2 RF Calcs'!$S$25+('Non-CO2 RF Calcs'!$S$24-'Non-CO2 RF Calcs'!$S$25)*($O102-1)/9","v":8.0958023521709666E-2},3.1116627516290594,{"$f":"CFfromRFin2100(J102)","v":0.59696702452274797},1.8575600541582662,2.012016,-0.15445594584173383,{"$f":"MitigationAggressiveness(D102,0)","v":9.1793081611256984},null,2.435819,0.48391099999999998,0.37778200000000001,-2.4417000000000001E-2,3.3859159999999999,null,-2.529345108590908E-2,{"$f":"R102-E102","v":9.0191546185958371E-2},{"$f":"S102-F102","v":2.6237823635812285E-2},{"$f":"T102-H102","v":0.23221237667849851},{"$f":"U102-J102","v":0.27425324837094056}]
["AIM/CGE 2.1","CD-LINKS_NoPolicy",789.728567,{"$f":"CO2RFFromCO2PPM(C103)","v":6.0590657158054606},{"$f":"'Non-CO2 RF Calcs'!$S$17+('Non-CO2 RF Calcs'!$S$16-'Non-CO2 RF Calcs'!$S$17)*($O103-1)/9","v":0.51839400410448255},{"$f":"'Non-CO2 RF Calcs'!$S$19+('Non-CO2 RF Calcs'!$S$18-'Non-CO2 RF Calcs'!$S$19)*($O103-1)/9","v":0.38494253382403187},{"$f":"'Non-CO2 RF Calcs'!$S$21+('Non-CO2 RF Calcs'!$S$20-'Non-CO2 RF Calcs'!$S$21)*($O103-1)/9","v":0.22791923027367555},{"$f":"'Non-CO2 RF Calcs'!$S$23+('Non-CO2 RF Calcs'!$S$22-'Non-CO2 RF Calcs'!$S$23)*($O103-1)/9","v":-0.34756821236303626},{"$f":"'Non-CO2 RF Calcs'!$S$25+('Non-CO2 RF Calcs'!$S$24-'Non-CO2 RF Calcs'!$S$25)*($O103-1)/9","v":0.22791923027367555},7.0706725019182901,{"$f":"CFfromRFin2100(J103)","v":0.55596558586944311},3.9310505800199631,4.2179690000000001,-0.28691841998003698,{"$f":"MitigationAggressiveness(D103,0)","v":7.2816742145436439},null,6.0179330000000002,0.92954499999999995,0.48278300000000002,-0.35410599999999998,7.5544770000000003,null,-4.1132715805460407E-2,{"$f":"R103-E103","v":0.4111509958955174},{"$f":"S103-F103","v":9.7840466175968144E-2},{"$f":"T103-H103","v":-6.5377876369637211E-3},{"$f":"U103-J103","v":0.48380449808171022}]
["AIM/CGE 2.1","CD-LINKS_NPi",757.43386299999997,{"$f":"CO2RFFromCO2PPM(C104)","v":5.809990525018959},{"$f":"'Non-CO2 RF Calcs'!$S$17+('Non-CO2 RF Calcs'!$S$16-'Non-CO2 RF Calcs'!$S$17)*($O104-1)/9","v":0.5141421795012594},{"$f":"'Non-CO2 RF Calcs'!$S$19+('Non-CO2 RF Calcs'!$S$18-'Non-CO2 RF Calcs'!$S$19)*($O104-1)/9","v":0.38380353667004818},{"$f":"'Non-CO2 RF Calcs'!$S$21+('Non-CO2 RF Calcs'!$S$20-'Non-CO2 RF Calcs'!$S$21)*($O104-1)/9","v":0.22290735517060345},{"$f":"'Non-CO2 RF Calcs'!$S$23+('Non-CO2 RF Calcs'!$S$22-'Non-CO2 RF Calcs'!$S$23)*($O104-1)/9","v":-0.34446688993555413},{"$f":"'Non-CO2 RF Calcs'!$S$25+('Non-CO2 RF Calcs'!$S$24-'Non-CO2 RF Calcs'!$S$25)*($O104-1)/9","v":0.22290735517060345},6.8092840615959194,{"$f":"CFfromRFin2100(J104)","v":0.55737655498466754},3.7953352921643382,4.3164280000000002,-0.52109270783566197,{"$f":"MitigationAggressiveness(D104,0)","v":7.3463899619290807},null,5.7596910000000001,0.91090700000000002,0.47913299999999998,-0.36598700000000001,7.7017579999999999,null,-5.0299525018958846E-2,{"$f":"R104-E104","v":0.39676482049874062},{"$f":"S104-F104","v":9.5329463329951791E-2},{"$f":"T104-H104","v":-2.1520110064445874E-2},{"$f":"U104-J104","v":0.89247393840408051}]
["AIM/CGE 2.1","CD-LINKS_NPi2020_1000",431.19627500000001,{"$f":"CO2RFFromCO2PPM(C105)","v":2.4414651324545562},{"$f":"'Non-CO2 RF Calcs'!$S$17+('Non-CO2 RF Calcs'!$S$16-'Non-CO2 RF Calcs'!$S$17)*($O105-1)/9","v":0.3926655059305304},{"$f":"'Non-CO2 RF Calcs'!$S$19+('Non-CO2 RF Calcs'!$S$18-'Non-CO2 RF Calcs'!$S$19)*($O105-1)/9","v":0.35126184024927454},{"$f":"'Non-CO2 RF Calcs'!$S$21+('Non-CO2 RF Calcs'!$S$20-'Non-CO2 RF Calcs'!$S$21)*($O105-1)/9","v":7.9715673319093017E-2},{"$f":"'Non-CO2 RF Calcs'!$S$23+('Non-CO2 RF Calcs'!$S$22-'Non-CO2 RF Calcs'!$S$23)*($O105-1)/9","v":-0.25586061678984912},{"$f":"'Non-CO2 RF Calcs'!$S$25+('Non-CO2 RF Calcs'!$S$24-'Non-CO2 RF Calcs'!$S$25)*($O105-1)/9","v":7.9715673319093017E-2},3.0889632084826983,{"$f":"CFfromRFin2100(J105)","v":0.59732331565732733},1.8451097456343815,1.7767759999999999,6.8333745634381549E-2,{"$f":"MitigationAggressiveness(D105,0)","v":9.1953499858366747},null,2.4126080000000001,0.30284800000000001,0.29389999999999999,-3.2479000000000001E-2,3.0330680000000001,null,-2.8857132454556123E-2,{"$f":"R105-E105","v":-8.9817505930530395E-2},{"$f":"S105-F105","v":-5.7361840249274543E-2},{"$f":"T105-H105","v":0.22338161678984911},{"$f":"U105-J105","v":-5.5895208482698244E-2}]
["AIM/CGE 2.1","CD-LINKS_NPi2020_1600",487.70285999999999,{"$f":"CO2RFFromCO2PPM(C106)","v":3.1359898037333607},{"$f":"'Non-CO2 RF Calcs'!$S$17+('Non-CO2 RF Calcs'!$S$16-'Non-CO2 RF Calcs'!$S$17)*($O106-1)/9","v":0.42746143257351965},{"$f":"'Non-CO2 RF Calcs'!$S$19+('Non-CO2 RF Calcs'!$S$18-'Non-CO2 RF Calcs'!$S$19)*($O106-1)/9","v":0.36058312349001437},{"$f":"'Non-CO2 RF Calcs'!$S$21+('Non-CO2 RF Calcs'!$S$20-'Non-CO2 RF Calcs'!$S$21)*($O106-1)/9","v":0.1207316734377526},{"$f":"'Non-CO2 RF Calcs'!$S$23+('Non-CO2 RF Calcs'!$S$22-'Non-CO2 RF Calcs'!$S$23)*($O106-1)/9","v":-0.28124110581592932},{"$f":"'Non-CO2 RF Calcs'!$S$25+('Non-CO2 RF Calcs'!$S$24-'Non-CO2 RF Calcs'!$S$25)*($O106-1)/9","v":0.1207316734377526},3.8842566008564701,{"$f":"CFfromRFin2100(J106)","v":0.58566438432351464},2.2748707506951522,2.3933390000000001,-0.11846824930484789,{"$f":"MitigationAggressiveness(D106,0)","v":8.6657316198855465},null,3.126884,0.51993800000000001,0.38687100000000002,-2.7744999999999999E-2,4.130579,null,-9.1058037333606734E-3,{"$f":"R106-E106","v":9.2476567426480361E-2},{"$f":"S106-F106","v":2.6287876509985653E-2},{"$f":"T106-H106","v":0.2534961058159293},{"$f":"U106-J106","v":0.24632239914352994}]
["AIM/CGE 2.1","CD-LINKS_NPi2020_400",389.44548700000001,{"$f":"CO2RFFromCO2PPM(C107)","v":1.898408868711517},{"$f":"'Non-CO2 RF Calcs'!$S$17+('Non-CO2 RF Calcs'!$S$16-'Non-CO2 RF Calcs'!$S$17)*($O107-1)/9","v":0.36192990707656914},{"$f":"'Non-CO2 RF Calcs'!$S$19+('Non-CO2 RF Calcs'!$S$18-'Non-CO2 RF Calcs'!$S$19)*($O107-1)/9","v":0.3430282551681525},{"$f":"'Non-CO2 RF Calcs'!$S$21+('Non-CO2 RF Calcs'!$S$20-'Non-CO2 RF Calcs'!$S$21)*($O107-1)/9","v":4.348581977400412E-2},{"$f":"'Non-CO2 RF Calcs'!$S$23+('Non-CO2 RF Calcs'!$S$22-'Non-CO2 RF Calcs'!$S$23)*($O107-1)/9","v":-0.23344177054308179},{"$f":"'Non-CO2 RF Calcs'!$S$25+('Non-CO2 RF Calcs'!$S$24-'Non-CO2 RF Calcs'!$S$25)*($O107-1)/9","v":4.348581977400412E-2},2.4568968999611656,{"$f":"CFfromRFin2100(J107)","v":0.60779918366264141},1.4932999301396708,1.375203,0.11809693013967082,{"$f":"MitigationAggressiveness(D107,0)","v":9.6631673199913379},null,1.8488800000000001,0.181342,0.25396999999999997,-1.642E-3,2.3164099999999999,null,-4.952886871151696E-2,{"$f":"R107-E107","v":-0.18058790707656913},{"$f":"S107-F107","v":-8.9058255168152523E-2},{"$f":"T107-H107","v":0.23179977054308179},{"$f":"U107-J107","v":-0.1404868999611657}]
["AIM/CGE 2.1","CO_Bridge",444.04162100000002,{"$f":"CO2RFFromCO2PPM(C108)","v":2.603434936843565},{"$f":"'Non-CO2 RF Calcs'!$S$17+('Non-CO2 RF Calcs'!$S$16-'Non-CO2 RF Calcs'!$S$17)*($O108-1)/9","v":0.40123308893506859},{"$f":"'Non-CO2 RF Calcs'!$S$19+('Non-CO2 RF Calcs'!$S$18-'Non-CO2 RF Calcs'!$S$19)*($O108-1)/9","v":0.35355696141944004},{"$f":"'Non-CO2 RF Calcs'!$S$21+('Non-CO2 RF Calcs'!$S$20-'Non-CO2 RF Calcs'!$S$21)*($O108-1)/9","v":8.9814786043874162E-2},{"$f":"'Non-CO2 RF Calcs'!$S$23+('Non-CO2 RF Calcs'!$S$22-'Non-CO2 RF Calcs'!$S$23)*($O108-1)/9","v":-0.26210989558209896},{"$f":"'Non-CO2 RF Calcs'!$S$25+('Non-CO2 RF Calcs'!$S$24-'Non-CO2 RF Calcs'!$S$25)*($O108-1)/9","v":8.9814786043874162E-2},3.2757446637037226,{"$f":"CFfromRFin2100(J108)","v":0.59443269953930145},1.9472097434468649,1.680507,0.26670274344686495,{"$f":"MitigationAggressiveness(D108,0)","v":9.0649453738954548},null,2.5760260000000001,0.27083099999999999,0.26707399999999998,-0.29290500000000003,2.8956740000000001,null,-2.7408936843564824E-2,{"$f":"R108-E108","v":-0.13040208893506861},{"$f":"S108-F108","v":-8.6482961419440063E-2},{"$f":"T108-H108","v":-3.0795104417901065E-2},{"$f":"U108-J108","v":-0.38007066370372256}]
["AIM/CGE 2.1","CO_CurPol",702.53380400000003,{"$f":"CO2RFFromCO2PPM(C109)","v":5.3516846882789153},{"$f":"'Non-CO2 RF Calcs'!$S$17+('Non-CO2 RF Calcs'!$S$16-'Non-CO2 RF Calcs'!$S$17)*($O109-1)/9","v":0.50461671282578191},{"$f":"'Non-CO2 RF Calcs'!$S$19+('Non-CO2 RF Calcs'!$S$18-'Non-CO2 RF Calcs'!$S$19)*($O109-1)/9","v":0.38125181348148801},{"$f":"'Non-CO2 RF Calcs'!$S$21+('Non-CO2 RF Calcs'!$S$20-'Non-CO2 RF Calcs'!$S$21)*($O109-1)/9","v":0.21167912876639616},{"$f":"'Non-CO2 RF Calcs'!$S$23+('Non-CO2 RF Calcs'!$S$22-'Non-CO2 RF Calcs'!$S$23)*($O109-1)/9","v":-0.33751892143033951},{"$f":"'Non-CO2 RF Calcs'!$S$25+('Non-CO2 RF Calcs'!$S$24-'Non-CO2 RF Calcs'!$S$25)*($O109-1)/9","v":0.21167912876639616},6.3233925506886379,{"$f":"CFfromRFin2100(J109)","v":0.56048629984790532},3.5441748932212827,3.700062,-0.15588710677871731,{"$f":"MitigationAggressiveness(D109,0)","v":7.4913742340063623},null,5.288716,0.877946,0.46480399999999999,-0.49375999999999998,6.5858739999999996,null,-6.296868827891533E-2,{"$f":"R109-E109","v":0.37332928717421809},{"$f":"S109-F109","v":8.3552186518511984E-2},{"$f":"T109-H109","v":-0.15624107856966046},{"$f":"U109-J109","v":0.26248144931136164}]
["AIM/CGE 2.1","EMF33_Baseline",814.84987699999999,{"$f":"CO2RFFromCO2PPM(C110)","v":6.2423043590685143},{"$f":"'Non-CO2 RF Calcs'!$S$17+('Non-CO2 RF Calcs'!$S$16-'Non-CO2 RF Calcs'!$S$17)*($O110-1)/9","v":0.52110609499581861},{"$f":"'Non-CO2 RF Calcs'!$S$19+('Non-CO2 RF Calcs'!$S$18-'Non-CO2 RF Calcs'!$S$19)*($O110-1)/9","v":0.38566906045550087},{"$f":"'Non-CO2 RF Calcs'!$S$21+('Non-CO2 RF Calcs'!$S$20-'Non-CO2 RF Calcs'!$S$21)*($O110-1)/9","v":0.23111613091846028},{"$f":"'Non-CO2 RF Calcs'!$S$23+('Non-CO2 RF Calcs'!$S$22-'Non-CO2 RF Calcs'!$S$23)*($O110-1)/9","v":-0.34954643797006013},{"$f":"'Non-CO2 RF Calcs'!$S$25+('Non-CO2 RF Calcs'!$S$24-'Non-CO2 RF Calcs'!$S$25)*($O110-1)/9","v":0.23111613091846028},7.2617653383866942,{"$f":"CFfromRFin2100(J110)","v":0.55505002170775142},4.0306430087081315,4.2604230000000003,-0.22977999129186877,{"$f":"MitigationAggressiveness(D110,0)","v":7.2403942923010867},null,6.2132329999999998,0.87010200000000004,0.48718800000000001,-0.55521299999999996,7.6621459999999999,null,-2.9071359068514546E-2,{"$f":"R110-E110","v":0.34899590500418143},{"$f":"S110-F110","v":0.10151893954449914},{"$f":"T110-H110","v":-0.20566656202993983},{"$f":"U110-J110","v":0.40038066161330566}]
["AIM/CGE 2.1","EMF33_Med2C_cost100",462.86062500000003,{"$f":"CO2RFFromCO2PPM(C111)","v":2.8363853546149658},{"$f":"'Non-CO2 RF Calcs'!$S$17+('Non-CO2 RF Calcs'!$S$16-'Non-CO2 RF Calcs'!$S$17)*($O111-1)/9","v":0.41307230619212254},{"$f":"'Non-CO2 RF Calcs'!$S$19+('Non-CO2 RF Calcs'!$S$18-'Non-CO2 RF Calcs'!$S$19)*($O111-1)/9","v":0.35672850211539353},{"$f":"'Non-CO2 RF Calcs'!$S$21+('Non-CO2 RF Calcs'!$S$20-'Non-CO2 RF Calcs'!$S$21)*($O111-1)/9","v":0.10377036600018497},{"$f":"'Non-CO2 RF Calcs'!$S$23+('Non-CO2 RF Calcs'!$S$22-'Non-CO2 RF Calcs'!$S$23)*($O111-1)/9","v":-0.27074553637859367},{"$f":"'Non-CO2 RF Calcs'!$S$25+('Non-CO2 RF Calcs'!$S$24-'Non-CO2 RF Calcs'!$S$25)*($O111-1)/9","v":0.10377036600018497},3.5429813585442576,{"$f":"CFfromRFin2100(J111)","v":0.59045966797227023},2.0919875965979853,1.832802,0.25918559659798523,{"$f":"MitigationAggressiveness(D111,0)","v":8.8847441979890025},null,2.8160509999999999,0.32278699999999999,0.30097200000000002,-0.35955999999999999,3.220799,null,-2.033435461496591E-2,{"$f":"R111-E111","v":-9.028530619212255E-2},{"$f":"S111-F111","v":-5.5756502115393514E-2},{"$f":"T111-H111","v":-8.8814463621406325E-2},{"$f":"U111-J111","v":-0.32218235854425759}]
["AIM/CGE 2.1","EMF33_Med2C_full",464.90174300000001,{"$f":"CO2RFFromCO2PPM(C112)","v":2.8613409792207887},{"$f":"'Non-CO2 RF Calcs'!$S$17+('Non-CO2 RF Calcs'!$S$16-'Non-CO2 RF Calcs'!$S$17)*($O112-1)/9","v":0.41430683450944472},{"$f":"'Non-CO2 RF Calcs'!$S$19+('Non-CO2 RF Calcs'!$S$18-'Non-CO2 RF Calcs'!$S$19)*($O112-1)/9","v":0.35705921289750725},{"$f":"'Non-CO2 RF Calcs'!$S$21+('Non-CO2 RF Calcs'!$S$20-'Non-CO2 RF Calcs'!$S$21)*($O112-1)/9","v":0.10522557695430901},{"$f":"'Non-CO2 RF Calcs'!$S$23+('Non-CO2 RF Calcs'!$S$22-'Non-CO2 RF Calcs'!$S$23)*($O112-1)/9","v":-0.27164601340085148},{"$f":"'Non-CO2 RF Calcs'!$S$25+('Non-CO2 RF Calcs'!$S$24-'Non-CO2 RF Calcs'!$S$25)*($O112-1)/9","v":0.10522557695430901},3.5715121671355075,{"$f":"CFfromRFin2100(J112)","v":0.59004681392846525},2.1073593751250543,1.853577,0.2537823751250543,{"$f":"MitigationAggressiveness(D112,0)","v":8.8659538126416333},null,2.837812,0.33081899999999997,0.30410500000000001,-0.35735499999999998,3.2569059999999999,null,-2.3528979220788671E-2,{"$f":"R112-E112","v":-8.3487834509444747E-2},{"$f":"S112-F112","v":-5.2954212897507236E-2},{"$f":"T112-H112","v":-8.5708986599148496E-2},{"$f":"U112-J112","v":-0.3146061671355076}]
["AIM/CGE 2.1","EMF33_Med2C_nobeccs",459.92989499999999,{"$f":"CO2RFFromCO2PPM(C113)","v":2.8004467472772578},{"$f":"'Non-CO2 RF Calcs'!$S$17+('Non-CO2 RF Calcs'!$S$16-'Non-CO2 RF Calcs'!$S$17)*($O113-1)/9","v":0.41128297231891009},{"$f":"'Non-CO2 RF Calcs'!$S$19+('Non-CO2 RF Calcs'!$S$18-'Non-CO2 RF Calcs'!$S$19)*($O113-1)/9","v":0.35624916762272174},{"$f":"'Non-CO2 RF Calcs'!$S$21+('Non-CO2 RF Calcs'!$S$20-'Non-CO2 RF Calcs'!$S$21)*($O113-1)/9","v":0.10166117318836509},{"$f":"'Non-CO2 RF Calcs'!$S$23+('Non-CO2 RF Calcs'!$S$22-'Non-CO2 RF Calcs'!$S$23)*($O113-1)/9","v":-0.26944037876060528},{"$f":"'Non-CO2 RF Calcs'!$S$25+('Non-CO2 RF Calcs'!$S$24-'Non-CO2 RF Calcs'!$S$25)*($O113-1)/9","v":0.10166117318836509},3.5018608548350141,{"$f":"CFfromRFin2100(J113)","v":0.59105854150248172},2.0698047694034174,1.7574609999999999,0.31234376940341746,{"$f":"MitigationAggressiveness(D113,0)","v":8.9119791123453567},null,2.7802560000000001,0.26477600000000001,0.28485700000000003,-0.35132799999999997,3.0919859999999999,null,-2.0190747277257781E-2,{"$f":"R113-E113","v":-0.14650697231891008},{"$f":"S113-F113","v":-7.1392167622721714E-2},{"$f":"T113-H113","v":-8.1887621239394692E-2},{"$f":"U113-J113","v":-0.40987485483501418}]
["AIM/CGE 2.1","EMF33_Med2C_nofuel",457.69668100000001,{"$f":"CO2RFFromCO2PPM(C114)","v":2.7729775153501222},{"$f":"'Non-CO2 RF Calcs'!$S$17+('Non-CO2 RF Calcs'!$S$16-'Non-CO2 RF Calcs'!$S$17)*($O114-1)/9","v":0.40990617302318877},{"$f":"'Non-CO2 RF Calcs'!$S$19+('Non-CO2 RF Calcs'!$S$18-'Non-CO2 RF Calcs'!$S$19)*($O114-1)/9","v":0.35588034467592278},{"$f":"'Non-CO2 RF Calcs'!$S$21+('Non-CO2 RF Calcs'!$S$20-'Non-CO2 RF Calcs'!$S$21)*($O114-1)/9","v":0.1000382590853417},{"$f":"'Non-CO2 RF Calcs'!$S$23+('Non-CO2 RF Calcs'!$S$22-'Non-CO2 RF Calcs'!$S$23)*($O114-1)/9","v":-0.26843612789599419},{"$f":"'Non-CO2 RF Calcs'!$S$25+('Non-CO2 RF Calcs'!$S$24-'Non-CO2 RF Calcs'!$S$25)*($O114-1)/9","v":0.1000382590853417},3.4704044233239228,{"$f":"CFfromRFin2100(J114)","v":0.59151973029274185},2.0528126884913052,1.7341599999999999,0.31865268849130524,{"$f":"MitigationAggressiveness(D114,0)","v":8.9329349615952989},null,2.7546550000000001,0.25667200000000001,0.28560400000000002,-0.35210399999999997,3.0636160000000001,null,-1.8322515350122082E-2,{"$f":"R114-E114","v":-0.15323417302318876},{"$f":"S114-F114","v":-7.0276344675922753E-2},{"$f":"T114-H114","v":-8.366787210400578E-2},{"$f":"U114-J114","v":-0.40678842332392273}]
["AIM/CGE 2.1","EMF33_Med2C_none",458.16171300000002,{"$f":"CO2RFFromCO2PPM(C115)","v":2.7787035468859709},{"$f":"'Non-CO2 RF Calcs'!$S$17+('Non-CO2 RF Calcs'!$S$16-'Non-CO2 RF Calcs'!$S$17)*($O115-1)/9","v":0.41019382396883863},{"$f":"'Non-CO2 RF Calcs'!$S$19+('Non-CO2 RF Calcs'!$S$18-'Non-CO2 RF Calcs'!$S$19)*($O115-1)/9","v":0.35595740185466607},{"$f":"'Non-CO2 RF Calcs'!$S$21+('Non-CO2 RF Calcs'!$S$20-'Non-CO2 RF Calcs'!$S$21)*($O115-1)/9","v":0.10037733013069583},{"$f":"'Non-CO2 RF Calcs'!$S$23+('Non-CO2 RF Calcs'!$S$22-'Non-CO2 RF Calcs'!$S$23)*($O115-1)/9","v":-0.26864594330755975},{"$f":"'Non-CO2 RF Calcs'!$S$25+('Non-CO2 RF Calcs'!$S$24-'Non-CO2 RF Calcs'!$S$25)*($O115-1)/9","v":0.10037733013069583},3.4769634896633068,{"$f":"CFfromRFin2100(J115)","v":0.59142334757012793},2.0563573864357867,1.724553,0.33180438643578669,{"$f":"MitigationAggressiveness(D115,0)","v":8.928556712803065},null,2.7624369999999998,0.246915,0.27821499999999999,-0.342304,3.0428259999999998,null,-1.6266546885971067E-2,{"$f":"R115-E115","v":-0.16327882396883864},{"$f":"S115-F115","v":-7.7742401854666077E-2},{"$f":"T115-H115","v":-7.3658056692440244E-2},{"$f":"U115-J115","v":-0.43413748966330701}]
["AIM/CGE 2.1","EMF33_tax_hi_full",467.56773399999997,{"$f":"CO2RFFromCO2PPM(C116)","v":2.8938451298913193},{"$f":"'Non-CO2 RF Calcs'!$S$17+('Non-CO2 RF Calcs'!$S$16-'Non-CO2 RF Calcs'!$S$17)*($O116-1)/9","v":0.41590497538861515},{"$f":"'Non-CO2 RF Calcs'!$S$19+('Non-CO2 RF Calcs'!$S$18-'Non-CO2 RF Calcs'!$S$19)*($O116-1)/9","v":0.35748732978446918},{"$f":"'Non-CO2 RF Calcs'!$S$21+('Non-CO2 RF Calcs'!$S$20-'Non-CO2 RF Calcs'!$S$21)*($O116-1)/9","v":0.10710939936726649},{"$f":"'Non-CO2 RF Calcs'!$S$23+('Non-CO2 RF Calcs'!$S$22-'Non-CO2 RF Calcs'!$S$23)*($O116-1)/9","v":-0.27281171298006035},{"$f":"'Non-CO2 RF Calcs'!$S$25+('Non-CO2 RF Calcs'!$S$24-'Non-CO2 RF Calcs'!$S$25)*($O116-1)/9","v":0.10710939936726649},3.608644520818876,{"$f":"CFfromRFin2100(J116)","v":0.58951276119792795},2.1273419956497093,1.913559,0.21378299564970926,{"$f":"MitigationAggressiveness(D116,0)","v":8.8416289895187958},null,2.8653789999999999,0.260824,0.30027799999999999,-0.33051700000000001,3.2650480000000002,null,-2.8466129891319358E-2,{"$f":"R116-E116","v":-0.15508097538861515},{"$f":"S116-F116","v":-5.7209329784469187E-2},{"$f":"T116-H116","v":-5.7705287019939655E-2},{"$f":"U116-J116","v":-0.34359652081887582}]
["AIM/CGE 2.1","EMF33_tax_hi_none",493.05822699999999,{"$f":"CO2RFFromCO2PPM(C117)","v":3.1993985302921137},{"$f":"'Non-CO2 RF Calcs'!$S$17+('Non-CO2 RF Calcs'!$S$16-'Non-CO2 RF Calcs'!$S$17)*($O117-1)/9","v":0.43038592657366037},{"$f":"'Non-CO2 RF Calcs'!$S$19+('Non-CO2 RF Calcs'!$S$18-'Non-CO2 RF Calcs'!$S$19)*($O117-1)/9","v":0.36136654958442044},{"$f":"'Non-CO2 RF Calcs'!$S$21+('Non-CO2 RF Calcs'!$S$20-'Non-CO2 RF Calcs'!$S$21)*($O117-1)/9","v":0.1241789460880115},{"$f":"'Non-CO2 RF Calcs'!$S$23+('Non-CO2 RF Calcs'!$S$22-'Non-CO2 RF Calcs'!$S$23)*($O117-1)/9","v":-0.28337426032677099},{"$f":"'Non-CO2 RF Calcs'!$S$25+('Non-CO2 RF Calcs'!$S$24-'Non-CO2 RF Calcs'!$S$25)*($O117-1)/9","v":0.1241789460880115},3.9561346382994462,{"$f":"CFfromRFin2100(J117)","v":0.58469424391138092},2.3131291511521193,2.0284230000000001,0.28470615115211917,{"$f":"MitigationAggressiveness(D117,0)","v":8.6212187736124761},null,3.1758299999999999,0.26714700000000002,0.30250899999999997,-0.30363499999999999,3.5088569999999999,null,-2.356853029211381E-2,{"$f":"R117-E117","v":-0.16323892657366035},{"$f":"S117-F117","v":-5.8857549584420465E-2},{"$f":"T117-H117","v":-2.0260739673229E-2},{"$f":"U117-J117","v":-0.44727763829944633}]
["AIM/CGE 2.1","EMF33_tax_lo_full",555.42708700000003,{"$f":"CO2RFFromCO2PPM(C118)","v":3.9070780437800146},{"$f":"'Non-CO2 RF Calcs'!$S$17+('Non-CO2 RF Calcs'!$S$16-'Non-CO2 RF Calcs'!$S$17)*($O118-1)/9","v":0.46016028769515011},{"$f":"'Non-CO2 RF Calcs'!$S$19+('Non-CO2 RF Calcs'!$S$18-'Non-CO2 RF Calcs'!$S$19)*($O118-1)/9","v":0.36934263414664603},{"$f":"'Non-CO2 RF Calcs'!$S$21+('Non-CO2 RF Calcs'!$S$20-'Non-CO2 RF Calcs'!$S$21)*($O118-1)/9","v":0.15927573232457237},{"$f":"'Non-CO2 RF Calcs'!$S$23+('Non-CO2 RF Calcs'!$S$22-'Non-CO2 RF Calcs'!$S$23)*($O118-1)/9","v":-0.30509197037530567},{"$f":"'Non-CO2 RF Calcs'!$S$25+('Non-CO2 RF Calcs'!$S$24-'Non-CO2 RF Calcs'!$S$25)*($O118-1)/9","v":0.15927573232457237},4.7500404598956507,{"$f":"CFfromRFin2100(J118)","v":0.5749006064584814},2.7308011410963333,2.525963,0.20483814109633336,{"$f":"MitigationAggressiveness(D118,0)","v":8.1680321507587497},null,3.873936,0.34922199999999998,0.33329500000000001,-0.347806,4.3929220000000004,null,-3.3142043780014507E-2,{"$f":"R118-E118","v":-0.11093828769515013},{"$f":"S118-F118","v":-3.6047634146646024E-2},{"$f":"T118-H118","v":-4.2714029624694339E-2},{"$f":"U118-J118","v":-0.35711845989565028}]
["AIM/CGE 2.1","EMF33_tax_lo_none",578.84550100000001,{"$f":"CO2RFFromCO2PPM(C119)","v":4.1581586986323966},{"$f":"'Non-CO2 RF Calcs'!$S$17+('Non-CO2 RF Calcs'!$S$16-'Non-CO2 RF Calcs'!$S$17)*($O119-1)/9","v":0.46946028751185231},{"$f":"'Non-CO2 RF Calcs'!$S$19+('Non-CO2 RF Calcs'!$S$18-'Non-CO2 RF Calcs'!$S$19)*($O119-1)/9","v":0.37183395829845667},{"$f":"'Non-CO2 RF Calcs'!$S$21+('Non-CO2 RF Calcs'!$S$20-'Non-CO2 RF Calcs'!$S$21)*($O119-1)/9","v":0.1702381877147997},{"$f":"'Non-CO2 RF Calcs'!$S$23+('Non-CO2 RF Calcs'!$S$22-'Non-CO2 RF Calcs'!$S$23)*($O119-1)/9","v":-0.31187548114977492},{"$f":"'Non-CO2 RF Calcs'!$S$25+('Non-CO2 RF Calcs'!$S$24-'Non-CO2 RF Calcs'!$S$25)*($O119-1)/9","v":0.1702381877147997},5.0280538387225295,{"$f":"CFfromRFin2100(J119)","v":0.57187065664666215},2.8753964504050233,2.6583420000000002,0.21705445040502314,{"$f":"MitigationAggressiveness(D119,0)","v":8.026479642133145},null,4.1159039999999996,0.35291499999999998,0.33556999999999998,-0.33449400000000001,4.6512840000000004,null,-4.2254698632397059E-2,{"$f":"R119-E119","v":-0.11654528751185234},{"$f":"S119-F119","v":-3.6263958298456689E-2},{"$f":"T119-H119","v":-2.2618518850225089E-2},{"$f":"U119-J119","v":-0.37676983872252912}]
["AIM/CGE 2.1","EMF33_WB2C_cost100",411.362866,{"$f":"CO2RFFromCO2PPM(C120)","v":2.1866580430145106},{"$f":"'Non-CO2 RF Calcs'!$S$17+('Non-CO2 RF Calcs'!$S$16-'Non-CO2 RF Calcs'!$S$17)*($O120-1)/9","v":0.37862966473918269},{"$f":"'Non-CO2 RF Calcs'!$S$19+('Non-CO2 RF Calcs'!$S$18-'Non-CO2 RF Calcs'!$S$19)*($O120-1)/9","v":0.34750185843850256},{"$f":"'Non-CO2 RF Calcs'!$S$21+('Non-CO2 RF Calcs'!$S$20-'Non-CO2 RF Calcs'!$S$21)*($O120-1)/9","v":6.3170803861339997E-2},{"$f":"'Non-CO2 RF Calcs'!$S$23+('Non-CO2 RF Calcs'!$S$22-'Non-CO2 RF Calcs'!$S$23)*($O120-1)/9","v":-0.24562273702352366},{"$f":"'Non-CO2 RF Calcs'!$S$25+('Non-CO2 RF Calcs'!$S$24-'Non-CO2 RF Calcs'!$S$25)*($O120-1)/9","v":6.3170803861339997E-2},2.793508436891353,{"$f":"CFfromRFin2100(J120)","v":0.60208681638974615},1.6819346013258107,1.3921829999999999,0.28975160132581079,{"$f":"MitigationAggressiveness(D120,0)","v":9.4089853159941743},null,2.1562480000000002,0.23155899999999999,0.26705899999999999,-0.34900599999999998,2.4201039999999998,null,-3.0410043014510446E-2,{"$f":"R120-E120","v":-0.1470706647391827},{"$f":"S120-F120","v":-8.0442858438502574E-2},{"$f":"T120-H120","v":-0.10338326297647632},{"$f":"U120-J120","v":-0.37340443689135316}]
["AIM/CGE 2.1","EMF33_WB2C_full",415.50966599999998,{"$f":"CO2RFFromCO2PPM(C121)","v":2.2404075518332141},{"$f":"'Non-CO2 RF Calcs'!$S$17+('Non-CO2 RF Calcs'!$S$16-'Non-CO2 RF Calcs'!$S$17)*($O121-1)/9","v":0.38164714638661534},{"$f":"'Non-CO2 RF Calcs'!$S$19+('Non-CO2 RF Calcs'!$S$18-'Non-CO2 RF Calcs'!$S$19)*($O121-1)/9","v":0.3483101944658209},{"$f":"'Non-CO2 RF Calcs'!$S$21+('Non-CO2 RF Calcs'!$S$20-'Non-CO2 RF Calcs'!$S$21)*($O121-1)/9","v":6.6727686506799944E-2},{"$f":"'Non-CO2 RF Calcs'!$S$23+('Non-CO2 RF Calcs'!$S$22-'Non-CO2 RF Calcs'!$S$23)*($O121-1)/9","v":-0.24782371763326089},{"$f":"'Non-CO2 RF Calcs'!$S$25+('Non-CO2 RF Calcs'!$S$24-'Non-CO2 RF Calcs'!$S$25)*($O121-1)/9","v":6.6727686506799944E-2},2.8559965480659897,{"$f":"CFfromRFin2100(J121)","v":0.60105982341930697},1.7166247808666941,1.4442440000000001,0.27238078086669404,{"$f":"MitigationAggressiveness(D121,0)","v":9.3630571326238154},null,2.212348,0.25324400000000002,0.27457900000000002,-0.35009299999999999,2.5121180000000001,null,-2.8059551833214069E-2,{"$f":"R121-E121","v":-0.12840314638661532},{"$f":"S121-F121","v":-7.3731194465820882E-2},{"$f":"T121-H121","v":-0.1022692823667391},{"$f":"U121-J121","v":-0.34387854806598961}]
["AIM/CGE 2.1","TERL_15D_LowCarbonTransportPolicy",394.68930799999998,{"$f":"CO2RFFromCO2PPM(C122)","v":1.9680108110898669},{"$f":"'Non-CO2 RF Calcs'!$S$17+('Non-CO2 RF Calcs'!$S$16-'Non-CO2 RF Calcs'!$S$17)*($O122-1)/9","v":0.36604219918303615},{"$f":"'Non-CO2 RF Calcs'!$S$19+('Non-CO2 RF Calcs'!$S$18-'Non-CO2 RF Calcs'!$S$19)*($O122-1)/9","v":0.34412987375375093},{"$f":"'Non-CO2 RF Calcs'!$S$21+('Non-CO2 RF Calcs'!$S$20-'Non-CO2 RF Calcs'!$S$21)*($O122-1)/9","v":4.833321973714888E-2},{"$f":"'Non-CO2 RF Calcs'!$S$23+('Non-CO2 RF Calcs'!$S$22-'Non-CO2 RF Calcs'!$S$23)*($O122-1)/9","v":-0.23644131660348977},{"$f":"'Non-CO2 RF Calcs'!$S$25+('Non-CO2 RF Calcs'!$S$24-'Non-CO2 RF Calcs'!$S$25)*($O122-1)/9","v":4.833321973714888E-2},2.5384080068974617,{"$f":"CFfromRFin2100(J122)","v":0.60638803924229923},1.5392602540995046,1.3245499999999999,0.21471025409950473,{"$f":"MitigationAggressiveness(D122,0)","v":9.6005753549005153},null,1.9149849999999999,0.249026,0.27603,-0.30150199999999999,2.2239119999999999,null,-5.3025811089866925E-2,{"$f":"R122-E122","v":-0.11701619918303616},{"$f":"S122-F122","v":-6.8099873753750928E-2},{"$f":"T122-H122","v":-6.5060683396510222E-2},{"$f":"U122-J122","v":-0.31449600689746182}]
["AIM/CGE 2.1","TERL_15D_NoTransportPolicy",398.87949700000001,{"$f":"CO2RFFromCO2PPM(C123)","v":2.0233396770761334},{"$f":"'Non-CO2 RF Calcs'!$S$17+('Non-CO2 RF Calcs'!$S$16-'Non-CO2 RF Calcs'!$S$17)*($O123-1)/9","v":0.36927490664125873},{"$f":"'Non-CO2 RF Calcs'!$S$19+('Non-CO2 RF Calcs'!$S$18-'Non-CO2 RF Calcs'!$S$19)*($O123-1)/9","v":0.34499586540161575},{"$f":"'Non-CO2 RF Calcs'!$S$21+('Non-CO2 RF Calcs'!$S$20-'Non-CO2 RF Calcs'!$S$21)*($O123-1)/9","v":5.2143801672513757E-2},{"$f":"'Non-CO2 RF Calcs'!$S$23+('Non-CO2 RF Calcs'!$S$22-'Non-CO2 RF Calcs'!$S$23)*($O123-1)/9","v":-0.23879928502346515},{"$f":"'Non-CO2 RF Calcs'!$S$25+('Non-CO2 RF Calcs'!$S$24-'Non-CO2 RF Calcs'!$S$25)*($O123-1)/9","v":5.2143801672513757E-2},2.6030987674405703,{"$f":"CFfromRFin2100(J123)","v":0.60528077669686531},1.5756056437750812,1.3282670000000001,0.24733864377508108,{"$f":"MitigationAggressiveness(D123,0)","v":9.5513712839991047},null,1.9807779999999999,0.20904500000000001,0.26939999999999997,-0.29125000000000001,2.2240639999999998,null,-4.2561677076133453E-2,{"$f":"R123-E123","v":-0.16022990664125872},{"$f":"S123-F123","v":-7.559586540161578E-2},{"$f":"T123-H123","v":-5.2450714976534862E-2},{"$f":"U123-J123","v":-0.37903476744057052}]
["AIM/CGE 2.1","TERL_2D_LowCarbonTransportPolicy",430.43662999999998,{"$f":"CO2RFFromCO2PPM(C124)","v":2.4318112848492559},{"$f":"'Non-CO2 RF Calcs'!$S$17+('Non-CO2 RF Calcs'!$S$16-'Non-CO2 RF Calcs'!$S$17)*($O124-1)/9","v":0.39214615623990279},{"$f":"'Non-CO2 RF Calcs'!$S$19+('Non-CO2 RF Calcs'!$S$18-'Non-CO2 RF Calcs'!$S$19)*($O124-1)/9","v":0.35112271460916722},{"$f":"'Non-CO2 RF Calcs'!$S$21+('Non-CO2 RF Calcs'!$S$20-'Non-CO2 RF Calcs'!$S$21)*($O124-1)/9","v":7.9103485369883542E-2},{"$f":"'Non-CO2 RF Calcs'!$S$23+('Non-CO2 RF Calcs'!$S$22-'Non-CO2 RF Calcs'!$S$23)*($O124-1)/9","v":-0.25548179804882465},{"$f":"'Non-CO2 RF Calcs'!$S$25+('Non-CO2 RF Calcs'!$S$24-'Non-CO2 RF Calcs'!$S$25)*($O124-1)/9","v":7.9103485369883542E-2},3.0778053283892683,{"$f":"CFfromRFin2100(J124)","v":0.59749895590256297},1.8389854701839328,1.795302,4.3683470183932815E-2,{"$f":"MitigationAggressiveness(D124,0)","v":9.2032548517518613},null,2.3955099999999998,0.306784,0.29749199999999998,-0.28383799999999998,3.0609709999999999,null,-3.6301284849256099E-2,{"$f":"R124-E124","v":-8.5362156239902787E-2},{"$f":"S124-F124","v":-5.363071460916724E-2},{"$f":"T124-H124","v":-2.835620195117533E-2},{"$f":"U124-J124","v":-1.683432838926846E-2}]
["AIM/CGE 2.1","TERL_2D_NoTransportPolicy",435.95461699999998,{"$f":"CO2RFFromCO2PPM(C125)","v":2.5017445458566319},{"$f":"'Non-CO2 RF Calcs'!$S$17+('Non-CO2 RF Calcs'!$S$16-'Non-CO2 RF Calcs'!$S$17)*($O125-1)/9","v":0.39588623695293634},{"$f":"'Non-CO2 RF Calcs'!$S$19+('Non-CO2 RF Calcs'!$S$18-'Non-CO2 RF Calcs'!$S$19)*($O125-1)/9","v":0.35212462359774249},{"$f":"'Non-CO2 RF Calcs'!$S$21+('Non-CO2 RF Calcs'!$S$20-'Non-CO2 RF Calcs'!$S$21)*($O125-1)/9","v":8.3512137926934904E-2},{"$f":"'Non-CO2 RF Calcs'!$S$23+('Non-CO2 RF Calcs'!$S$22-'Non-CO2 RF Calcs'!$S$23)*($O125-1)/9","v":-0.25820984948046921},{"$f":"'Non-CO2 RF Calcs'!$S$25+('Non-CO2 RF Calcs'!$S$24-'Non-CO2 RF Calcs'!$S$25)*($O125-1)/9","v":8.3512137926934904E-2},3.1585698327807115,{"$f":"CFfromRFin2100(J125)","v":0.59623515124915105},1.8832503619790133,1.8114159999999999,7.1834361979013384E-2,{"$f":"MitigationAggressiveness(D125,0)","v":9.1463282046737238},null,2.4732590000000001,0.27377299999999999,0.29542099999999999,-0.28555799999999998,3.0804100000000001,null,-2.8485545856631767E-2,{"$f":"R125-E125","v":-0.12211323695293635},{"$f":"S125-F125","v":-5.6703623597742503E-2},{"$f":"T125-H125","v":-2.7348150519530767E-2},{"$f":"U125-J125","v":-7.8159832780711369E-2}]
["AIM/CGE 2.1","TERL_Baseline_LowCarbonTransportPolicy",740.21609100000001,{"$f":"CO2RFFromCO2PPM(C126)","v":5.6709846857633996},{"$f":"'Non-CO2 RF Calcs'!$S$17+('Non-CO2 RF Calcs'!$S$16-'Non-CO2 RF Calcs'!$S$17)*($O126-1)/9","v":0.51148608242430671},{"$f":"'Non-CO2 RF Calcs'!$S$19+('Non-CO2 RF Calcs'!$S$18-'Non-CO2 RF Calcs'!$S$19)*($O126-1)/9","v":0.38309200990361947},{"$f":"'Non-CO2 RF Calcs'!$S$21+('Non-CO2 RF Calcs'!$S$20-'Non-CO2 RF Calcs'!$S$21)*($O126-1)/9","v":0.21977645771984072},{"$f":"'Non-CO2 RF Calcs'!$S$23+('Non-CO2 RF Calcs'!$S$22-'Non-CO2 RF Calcs'!$S$23)*($O126-1)/9","v":-0.342529506764085},{"$f":"'Non-CO2 RF Calcs'!$S$25+('Non-CO2 RF Calcs'!$S$24-'Non-CO2 RF Calcs'!$S$25)*($O126-1)/9","v":0.21977645771984072},6.6625861867669238,{"$f":"CFfromRFin2100(J126)","v":0.55824870641700597},3.7193801201544479,3.9358610000000001,-0.2164808798455522,{"$f":"MitigationAggressiveness(D126,0)","v":7.3868176191125308},null,5.6142190000000003,0.91078499999999996,0.47184599999999999,-0.45909,7.0423660000000003,null,-5.6765685763399354E-2,{"$f":"R126-E126","v":0.39929891757569325},{"$f":"S126-F126","v":8.875399009638052E-2},{"$f":"T126-H126","v":-0.116560493235915},{"$f":"U126-J126","v":0.37977981323307652}]
["AIM/CGE 2.1","TERL_Baseline_NoTransportPolicy",771.51289999999995,{"$f":"CO2RFFromCO2PPM(C127)","v":5.9204450398803363},{"$f":"'Non-CO2 RF Calcs'!$S$17+('Non-CO2 RF Calcs'!$S$16-'Non-CO2 RF Calcs'!$S$17)*($O127-1)/9","v":0.51610806910476514},{"$f":"'Non-CO2 RF Calcs'!$S$19+('Non-CO2 RF Calcs'!$S$18-'Non-CO2 RF Calcs'!$S$19)*($O127-1)/9","v":0.38433016767494471},{"$f":"'Non-CO2 RF Calcs'!$S$21+('Non-CO2 RF Calcs'!$S$20-'Non-CO2 RF Calcs'!$S$21)*($O127-1)/9","v":0.22522466457977558},{"$f":"'Non-CO2 RF Calcs'!$S$23+('Non-CO2 RF Calcs'!$S$22-'Non-CO2 RF Calcs'!$S$23)*($O127-1)/9","v":-0.34590082902906338},{"$f":"'Non-CO2 RF Calcs'!$S$25+('Non-CO2 RF Calcs'!$S$24-'Non-CO2 RF Calcs'!$S$25)*($O127-1)/9","v":0.22522466457977558},6.9254317767905347,{"$f":"CFfromRFin2100(J127)","v":0.55672697030805074},3.8555746511676952,4.0834239999999999,-0.22784934883230479,{"$f":"MitigationAggressiveness(D127,0)","v":7.3164677457417788},null,5.8688719999999996,0.91134899999999996,0.47820699999999999,-0.46871299999999999,7.3175439999999998,null,-5.157303988033668E-2,{"$f":"R127-E127","v":0.39524093089523482},{"$f":"S127-F127","v":9.3876832325055282E-2},{"$f":"T127-H127","v":-0.12281217097093661},{"$f":"U127-J127","v":0.39211222320946515}]
["AIM/CGE 2.2","EN_INDCi2030_1000f",446.33771300000001,{"$f":"CO2RFFromCO2PPM(C128)","v":2.6321335097178831},{"$f":"'Non-CO2 RF Calcs'!$S$17+('Non-CO2 RF Calcs'!$S$16-'Non-CO2 RF Calcs'!$S$17)*($O128-1)/9","v":0.40272240699417494},{"$f":"'Non-CO2 RF Calcs'!$S$19+('Non-CO2 RF Calcs'!$S$18-'Non-CO2 RF Calcs'!$S$19)*($O128-1)/9","v":0.35395592637895712},{"$f":"'Non-CO2 RF Calcs'!$S$21+('Non-CO2 RF Calcs'!$S$20-'Non-CO2 RF Calcs'!$S$21)*($O128-1)/9","v":9.1570332614476446E-2},{"$f":"'Non-CO2 RF Calcs'!$S$23+('Non-CO2 RF Calcs'!$S$22-'Non-CO2 RF Calcs'!$S$23)*($O128-1)/9","v":-0.26319621873260213},{"$f":"'Non-CO2 RF Calcs'!$S$25+('Non-CO2 RF Calcs'!$S$24-'Non-CO2 RF Calcs'!$S$25)*($O128-1)/9","v":9.1570332614476446E-2},3.3087562895873659,{"$f":"CFfromRFin2100(J128)","v":0.59393154396530612},1.9651747316795418,1.849259,0.11591573167954183,{"$f":"MitigationAggressiveness(D128,0)","v":9.0422769102865299},null,2.596101,0.33493000000000001,0.31456200000000001,-0.203044,3.089245,null,-3.6032509717883077E-2,{"$f":"R128-E128","v":-6.7792406994174936E-2},{"$f":"S128-F128","v":-3.9393926378957111E-2},{"$f":"T128-H128","v":6.0152218732602125E-2},{"$f":"U128-J128","v":-0.21951128958736588}]
["AIM/CGE 2.2","EN_INDCi2030_1200",464.11668700000001,{"$f":"CO2RFFromCO2PPM(C129)","v":2.8517497183270284},{"$f":"'Non-CO2 RF Calcs'!$S$17+('Non-CO2 RF Calcs'!$S$16-'Non-CO2 RF Calcs'!$S$17)*($O129-1)/9","v":0.4138331386271189},{"$f":"'Non-CO2 RF Calcs'!$S$19+('Non-CO2 RF Calcs'!$S$18-'Non-CO2 RF Calcs'!$S$19)*($O129-1)/9","v":0.35693231719691465},{"$f":"'Non-CO2 RF Calcs'!$S$21+('Non-CO2 RF Calcs'!$S$20-'Non-CO2 RF Calcs'!$S$21)*($O129-1)/9","v":0.10466720382733274},{"$f":"'Non-CO2 RF Calcs'!$S$23+('Non-CO2 RF Calcs'!$S$22-'Non-CO2 RF Calcs'!$S$23)*($O129-1)/9","v":-0.27130049499387182},{"$f":"'Non-CO2 RF Calcs'!$S$25+('Non-CO2 RF Calcs'!$S$24-'Non-CO2 RF Calcs'!$S$25)*($O129-1)/9","v":0.10466720382733274},3.5605490868118559,{"$f":"CFfromRFin2100(J129)","v":0.59020519651781977},2.1014545734931351,1.9612810000000001,0.14017357349313508,{"$f":"MitigationAggressiveness(D129,0)","v":8.8731637956298481},null,2.825682,0.34939999999999999,0.31875900000000001,-0.21484300000000001,3.3290069999999998,null,-2.6067718327028366E-2,{"$f":"R129-E129","v":-6.4433138627118913E-2},{"$f":"S129-F129","v":-3.8173317196914636E-2},{"$f":"T129-H129","v":5.6457494993871815E-2},{"$f":"U129-J129","v":-0.23154208681185606}]
["AIM/CGE 2.2","EN_INDCi2030_1200f",460.45411000000001,{"$f":"CO2RFFromCO2PPM(C130)","v":2.8068842220515564},{"$f":"'Non-CO2 RF Calcs'!$S$17+('Non-CO2 RF Calcs'!$S$16-'Non-CO2 RF Calcs'!$S$17)*($O130-1)/9","v":0.41160448235347336},{"$f":"'Non-CO2 RF Calcs'!$S$19+('Non-CO2 RF Calcs'!$S$18-'Non-CO2 RF Calcs'!$S$19)*($O130-1)/9","v":0.35633529512056517},{"$f":"'Non-CO2 RF Calcs'!$S$21+('Non-CO2 RF Calcs'!$S$20-'Non-CO2 RF Calcs'!$S$21)*($O130-1)/9","v":0.10204015592824434},{"$f":"'Non-CO2 RF Calcs'!$S$23+('Non-CO2 RF Calcs'!$S$22-'Non-CO2 RF Calcs'!$S$23)*($O130-1)/9","v":-0.26967489132259942},{"$f":"'Non-CO2 RF Calcs'!$S$25+('Non-CO2 RF Calcs'!$S$24-'Non-CO2 RF Calcs'!$S$25)*($O130-1)/9","v":0.10204015592824434},3.509229420059484,{"$f":"CFfromRFin2100(J130)","v":0.59095089319037308},2.0737822601940872,1.954925,0.11885726019408716,{"$f":"MitigationAggressiveness(D130,0)","v":8.9070855045133435},null,2.7752840000000001,0.33457700000000001,0.31861,-0.20086200000000001,3.2758219999999998,null,-3.1600222051556326E-2,{"$f":"R130-E130","v":-7.7027482353473342E-2},{"$f":"S130-F130","v":-3.7725295120565161E-2},{"$f":"T130-H130","v":6.8812891322599407E-2},{"$f":"U130-J130","v":-0.23340742005948423}]
["AIM/CGE 2.2","EN_INDCi2030_1400",479.24760800000001,{"$f":"CO2RFFromCO2PPM(C131)","v":3.0350267771333392},{"$f":"'Non-CO2 RF Calcs'!$S$17+('Non-CO2 RF Calcs'!$S$16-'Non-CO2 RF Calcs'!$S$17)*($O131-1)/9","v":0.42271776122231919},{"$f":"'Non-CO2 RF Calcs'!$S$19+('Non-CO2 RF Calcs'!$S$18-'Non-CO2 RF Calcs'!$S$19)*($O131-1)/9","v":0.35931236830308705},{"$f":"'Non-CO2 RF Calcs'!$S$21+('Non-CO2 RF Calcs'!$S$20-'Non-CO2 RF Calcs'!$S$21)*($O131-1)/9","v":0.11514002971749782},{"$f":"'Non-CO2 RF Calcs'!$S$23+('Non-CO2 RF Calcs'!$S$22-'Non-CO2 RF Calcs'!$S$23)*($O131-1)/9","v":-0.27778102556263534},{"$f":"'Non-CO2 RF Calcs'!$S$25+('Non-CO2 RF Calcs'!$S$24-'Non-CO2 RF Calcs'!$S$25)*($O131-1)/9","v":0.11514002971749782},3.7695559405311059,{"$f":"CFfromRFin2100(J131)","v":0.58724120152887949},2.2136385597478121,2.0757159999999999,0.1379225597478122,{"$f":"MitigationAggressiveness(D131,0)","v":8.7379336191427814},null,3.0086170000000001,0.34918199999999999,0.32344099999999998,-0.211066,3.5185960000000001,null,-2.6409777133339141E-2,{"$f":"R131-E131","v":-7.3535761222319196E-2},{"$f":"S131-F131","v":-3.587136830308707E-2},{"$f":"T131-H131","v":6.6715025562635338E-2},{"$f":"U131-J131","v":-0.25095994053110582}]
["AIM/CGE 2.2","EN_INDCi2030_1400f",477.913635,{"$f":"CO2RFFromCO2PPM(C132)","v":3.0190028207377146},{"$f":"'Non-CO2 RF Calcs'!$S$17+('Non-CO2 RF Calcs'!$S$16-'Non-CO2 RF Calcs'!$S$17)*($O132-1)/9","v":0.42195504644483006},{"$f":"'Non-CO2 RF Calcs'!$S$19+('Non-CO2 RF Calcs'!$S$18-'Non-CO2 RF Calcs'!$S$19)*($O132-1)/9","v":0.35910804897152221},{"$f":"'Non-CO2 RF Calcs'!$S$21+('Non-CO2 RF Calcs'!$S$20-'Non-CO2 RF Calcs'!$S$21)*($O132-1)/9","v":0.11424097306282177},{"$f":"'Non-CO2 RF Calcs'!$S$23+('Non-CO2 RF Calcs'!$S$22-'Non-CO2 RF Calcs'!$S$23)*($O132-1)/9","v":-0.27722469394834298},{"$f":"'Non-CO2 RF Calcs'!$S$25+('Non-CO2 RF Calcs'!$S$24-'Non-CO2 RF Calcs'!$S$25)*($O132-1)/9","v":0.11424097306282177},3.7513231683313668,{"$f":"CFfromRFin2100(J132)","v":0.58749510201847677},2.203883987483112,2.088273,0.11561098748311194,{"$f":"MitigationAggressiveness(D132,0)","v":8.7495426720726019},null,2.9921190000000002,0.33677499999999999,0.32379799999999997,-0.19245200000000001,3.4922810000000002,null,-2.6883820737714448E-2,{"$f":"R132-E132","v":-8.5180046444830071E-2},{"$f":"S132-F132","v":-3.5310048971522234E-2},{"$f":"T132-H132","v":8.477269394834297E-2},{"$f":"U132-J132","v":-0.25904216833136662}]
["AIM/CGE 2.2","EN_INDCi2030_1600",493.33152999999999,{"$f":"CO2RFFromCO2PPM(C133)","v":3.2026232874995326},{"$f":"'Non-CO2 RF Calcs'!$S$17+('Non-CO2 RF Calcs'!$S$16-'Non-CO2 RF Calcs'!$S$17)*($O133-1)/9","v":0.43053352855532456},{"$f":"'Non-CO2 RF Calcs'!$S$19+('Non-CO2 RF Calcs'!$S$18-'Non-CO2 RF Calcs'!$S$19)*($O133-1)/9","v":0.36140608984130462},{"$f":"'Non-CO2 RF Calcs'!$S$21+('Non-CO2 RF Calcs'!$S$20-'Non-CO2 RF Calcs'!$S$21)*($O133-1)/9","v":0.12435293320321528},{"$f":"'Non-CO2 RF Calcs'!$S$23+('Non-CO2 RF Calcs'!$S$22-'Non-CO2 RF Calcs'!$S$23)*($O133-1)/9","v":-0.28348192265501693},{"$f":"'Non-CO2 RF Calcs'!$S$25+('Non-CO2 RF Calcs'!$S$24-'Non-CO2 RF Calcs'!$S$25)*($O133-1)/9","v":0.12435293320321528},3.9597868496475752,{"$f":"CFfromRFin2100(J133)","v":0.58464531980382684},2.3150708490671947,2.1760549999999999,0.13901584906719489,{"$f":"MitigationAggressiveness(D133,0)","v":8.6189721681076925},null,3.1719179999999998,0.35025899999999999,0.32752700000000001,-0.20231099999999999,3.689934,null,-3.070528749953283E-2,{"$f":"R133-E133","v":-8.0274528555324576E-2},{"$f":"S133-F133","v":-3.387908984130461E-2},{"$f":"T133-H133","v":8.1170922655016936E-2},{"$f":"U133-J133","v":-0.26985284964757517}]
["AIM/CGE 2.2","EN_INDCi2030_1600f",494.63763799999998,{"$f":"CO2RFFromCO2PPM(C134)","v":3.2180192859150241},{"$f":"'Non-CO2 RF Calcs'!$S$17+('Non-CO2 RF Calcs'!$S$16-'Non-CO2 RF Calcs'!$S$17)*($O134-1)/9","v":0.4312367214798698},{"$f":"'Non-CO2 RF Calcs'!$S$19+('Non-CO2 RF Calcs'!$S$18-'Non-CO2 RF Calcs'!$S$19)*($O134-1)/9","v":0.36159446420160896},{"$f":"'Non-CO2 RF Calcs'!$S$21+('Non-CO2 RF Calcs'!$S$20-'Non-CO2 RF Calcs'!$S$21)*($O134-1)/9","v":0.12518182795783739},{"$f":"'Non-CO2 RF Calcs'!$S$23+('Non-CO2 RF Calcs'!$S$22-'Non-CO2 RF Calcs'!$S$23)*($O134-1)/9","v":-0.2839948384479416},{"$f":"'Non-CO2 RF Calcs'!$S$25+('Non-CO2 RF Calcs'!$S$24-'Non-CO2 RF Calcs'!$S$25)*($O134-1)/9","v":0.12518182795783739},3.9772192890642364,{"$f":"CFfromRFin2100(J134)","v":0.58441229210978007},2.3243358409452601,2.1946310000000002,0.12970484094525991,{"$f":"MitigationAggressiveness(D134,0)","v":8.6082690794540362},null,3.1864140000000001,0.34556399999999998,0.328235,-0.19519300000000001,3.7052930000000002,null,-3.1605285915023984E-2,{"$f":"R134-E134","v":-8.5672721479869818E-2},{"$f":"S134-F134","v":-3.3359464201608957E-2},{"$f":"T134-H134","v":8.8801838447941595E-2},{"$f":"U134-J134","v":-0.27192628906423622}]
["AIM/CGE 2.2","EN_INDCi2030_1800",509.64152200000001,{"$f":"CO2RFFromCO2PPM(C135)","v":3.3930970969834262},{"$f":"'Non-CO2 RF Calcs'!$S$17+('Non-CO2 RF Calcs'!$S$16-'Non-CO2 RF Calcs'!$S$17)*($O135-1)/9","v":0.43905811070459611},{"$f":"'Non-CO2 RF Calcs'!$S$19+('Non-CO2 RF Calcs'!$S$18-'Non-CO2 RF Calcs'!$S$19)*($O135-1)/9","v":0.36368969175648236},{"$f":"'Non-CO2 RF Calcs'!$S$21+('Non-CO2 RF Calcs'!$S$20-'Non-CO2 RF Calcs'!$S$21)*($O135-1)/9","v":0.13440135829714772},{"$f":"'Non-CO2 RF Calcs'!$S$23+('Non-CO2 RF Calcs'!$S$22-'Non-CO2 RF Calcs'!$S$23)*($O135-1)/9","v":-0.28969983620309875},{"$f":"'Non-CO2 RF Calcs'!$S$25+('Non-CO2 RF Calcs'!$S$24-'Non-CO2 RF Calcs'!$S$25)*($O135-1)/9","v":0.13440135829714772},4.1749477798357022,{"$f":"CFfromRFin2100(J135)","v":0.5818262122595651},2.4290940531232872,2.2896559999999999,0.13943805312328728,{"$f":"MitigationAggressiveness(D135,0)","v":8.4892220592907748},null,3.3659409999999998,0.35397400000000001,0.33179399999999998,-0.20052500000000001,3.8797760000000001,null,-2.7156096983426359E-2,{"$f":"R135-E135","v":-8.5084110704596094E-2},{"$f":"S135-F135","v":-3.1895691756482381E-2},{"$f":"T135-H135","v":8.917483620309874E-2},{"$f":"U135-J135","v":-0.29517177983570209}]
["AIM/CGE 2.2","EN_INDCi2030_1800f",509.64152200000001,{"$f":"CO2RFFromCO2PPM(C136)","v":3.3930970969834262},{"$f":"'Non-CO2 RF Calcs'!$S$17+('Non-CO2 RF Calcs'!$S$16-'Non-CO2 RF Calcs'!$S$17)*($O136-1)/9","v":0.43905811070459611},{"$f":"'Non-CO2 RF Calcs'!$S$19+('Non-CO2 RF Calcs'!$S$18-'Non-CO2 RF Calcs'!$S$19)*($O136-1)/9","v":0.36368969175648236},{"$f":"'Non-CO2 RF Calcs'!$S$21+('Non-CO2 RF Calcs'!$S$20-'Non-CO2 RF Calcs'!$S$21)*($O136-1)/9","v":0.13440135829714772},{"$f":"'Non-CO2 RF Calcs'!$S$23+('Non-CO2 RF Calcs'!$S$22-'Non-CO2 RF Calcs'!$S$23)*($O136-1)/9","v":-0.28969983620309875},{"$f":"'Non-CO2 RF Calcs'!$S$25+('Non-CO2 RF Calcs'!$S$24-'Non-CO2 RF Calcs'!$S$25)*($O136-1)/9","v":0.13440135829714772},4.1749477798357022,{"$f":"CFfromRFin2100(J136)","v":0.5818262122595651},2.4290940531232872,2.2896559999999999,0.13943805312328728,{"$f":"MitigationAggressiveness(D136,0)","v":8.4892220592907748},null,3.3659409999999998,0.35397400000000001,0.33179399999999998,-0.20052500000000001,3.8797760000000001,null,-2.7156096983426359E-2,{"$f":"R136-E136","v":-8.5084110704596094E-2},{"$f":"S136-F136","v":-3.1895691756482381E-2},{"$f":"T136-H136","v":8.917483620309874E-2},{"$f":"U136-J136","v":-0.29517177983570209}]
["AIM/CGE 2.2","EN_INDCi2030_800f",432.97104100000001,{"$f":"CO2RFFromCO2PPM(C137)","v":2.463986731408752},{"$f":"'Non-CO2 RF Calcs'!$S$17+('Non-CO2 RF Calcs'!$S$16-'Non-CO2 RF Calcs'!$S$17)*($O137-1)/9","v":0.39387329998389797},{"$f":"'Non-CO2 RF Calcs'!$S$19+('Non-CO2 RF Calcs'!$S$18-'Non-CO2 RF Calcs'!$S$19)*($O137-1)/9","v":0.35158538934119643},{"$f":"'Non-CO2 RF Calcs'!$S$21+('Non-CO2 RF Calcs'!$S$20-'Non-CO2 RF Calcs'!$S$21)*($O137-1)/9","v":8.1139371027865392E-2},{"$f":"'Non-CO2 RF Calcs'!$S$23+('Non-CO2 RF Calcs'!$S$22-'Non-CO2 RF Calcs'!$S$23)*($O137-1)/9","v":-0.25674159357864901},{"$f":"'Non-CO2 RF Calcs'!$S$25+('Non-CO2 RF Calcs'!$S$24-'Non-CO2 RF Calcs'!$S$25)*($O137-1)/9","v":8.1139371027865392E-2},3.1149825692109285,{"$f":"CFfromRFin2100(J137)","v":0.5969150326317767},1.859379921947957,1.7388950000000001,0.1204849219479569,{"$f":"MitigationAggressiveness(D137,0)","v":9.1769665147047501},null,2.4289360000000002,0.33561800000000003,0.31040499999999999,-0.21612500000000001,2.912998,null,-3.5050731408751812E-2,{"$f":"R137-E137","v":-5.8255299983897946E-2},{"$f":"S137-F137","v":-4.1180389341196444E-2},{"$f":"T137-H137","v":4.0616593578648996E-2},{"$f":"U137-J137","v":-0.20198456921092856}]
["AIM/CGE 2.2","EN_INDCi2030_900f",438.99593499999997,{"$f":"CO2RFFromCO2PPM(C138)","v":2.5400995647205993},{"$f":"'Non-CO2 RF Calcs'!$S$17+('Non-CO2 RF Calcs'!$S$16-'Non-CO2 RF Calcs'!$S$17)*($O138-1)/9","v":0.39791568605696215},{"$f":"'Non-CO2 RF Calcs'!$S$19+('Non-CO2 RF Calcs'!$S$18-'Non-CO2 RF Calcs'!$S$19)*($O138-1)/9","v":0.3526682811963856},{"$f":"'Non-CO2 RF Calcs'!$S$21+('Non-CO2 RF Calcs'!$S$20-'Non-CO2 RF Calcs'!$S$21)*($O138-1)/9","v":8.5904368648237028E-2},{"$f":"'Non-CO2 RF Calcs'!$S$23+('Non-CO2 RF Calcs'!$S$22-'Non-CO2 RF Calcs'!$S$23)*($O138-1)/9","v":-0.2596901494949565},{"$f":"'Non-CO2 RF Calcs'!$S$25+('Non-CO2 RF Calcs'!$S$24-'Non-CO2 RF Calcs'!$S$25)*($O138-1)/9","v":8.5904368648237028E-2},3.2028021197754648,{"$f":"CFfromRFin2100(J138)","v":0.59555041774419692},1.9074301403842775,1.7899480000000001,0.1174821403842774,{"$f":"MitigationAggressiveness(D138,0)","v":9.1154385683871819},null,2.5054850000000002,0.335337,0.31241600000000003,-0.210705,2.9954990000000001,null,-3.4614564720599095E-2,{"$f":"R138-E138","v":-6.2578686056962152E-2},{"$f":"S138-F138","v":-4.0252281196385575E-2},{"$f":"T138-H138","v":4.8985149494956498E-2},{"$f":"U138-J138","v":-0.20730311977546467}]
["AIM/CGE 2.2","EN_INDCi2100",565.10263699999996,{"$f":"CO2RFFromCO2PPM(C139)","v":4.0117835236478498},{"$f":"'Non-CO2 RF Calcs'!$S$17+('Non-CO2 RF Calcs'!$S$16-'Non-CO2 RF Calcs'!$S$17)*($O139-1)/9","v":0.46411902767717889},{"$f":"'Non-CO2 RF Calcs'!$S$19+('Non-CO2 RF Calcs'!$S$18-'Non-CO2 RF Calcs'!$S$19)*($O139-1)/9","v":0.37040311852539343},{"$f":"'Non-CO2 RF Calcs'!$S$21+('Non-CO2 RF Calcs'!$S$20-'Non-CO2 RF Calcs'!$S$21)*($O139-1)/9","v":0.16394213139014646},{"$f":"'Non-CO2 RF Calcs'!$S$23+('Non-CO2 RF Calcs'!$S$22-'Non-CO2 RF Calcs'!$S$23)*($O139-1)/9","v":-0.30797951401516521},{"$f":"'Non-CO2 RF Calcs'!$S$25+('Non-CO2 RF Calcs'!$S$24-'Non-CO2 RF Calcs'!$S$25)*($O139-1)/9","v":0.16394213139014646},4.8662104186155499,{"$f":"CFfromRFin2100(J139)","v":0.57360930678570521},2.7913035848954419,2.7547280000000001,3.6575584895441882E-2,{"$f":"MitigationAggressiveness(D139,0)","v":8.1077773565117379},null,3.9729570000000001,0.39825199999999999,0.34871400000000002,-0.245559,4.7771759999999999,null,-3.8826523647849776E-2,{"$f":"R139-E139","v":-6.5867027677178891E-2},{"$f":"S139-F139","v":-2.1689118525393403E-2},{"$f":"T139-H139","v":6.2420514015165213E-2},{"$f":"U139-J139","v":-8.9034418615550059E-2}]
["AIM/CGE 2.2","EN_NPi2020_1000",449.10391600000003,{"$f":"CO2RFFromCO2PPM(C140)","v":2.6666058931329477},{"$f":"'Non-CO2 RF Calcs'!$S$17+('Non-CO2 RF Calcs'!$S$16-'Non-CO2 RF Calcs'!$S$17)*($O140-1)/9","v":0.40449992574979421},{"$f":"'Non-CO2 RF Calcs'!$S$19+('Non-CO2 RF Calcs'!$S$18-'Non-CO2 RF Calcs'!$S$19)*($O140-1)/9","v":0.35443209578685508},{"$f":"'Non-CO2 RF Calcs'!$S$21+('Non-CO2 RF Calcs'!$S$20-'Non-CO2 RF Calcs'!$S$21)*($O140-1)/9","v":9.3665598254027649E-2},{"$f":"'Non-CO2 RF Calcs'!$S$23+('Non-CO2 RF Calcs'!$S$22-'Non-CO2 RF Calcs'!$S$23)*($O140-1)/9","v":-0.26449275828832441},{"$f":"'Non-CO2 RF Calcs'!$S$25+('Non-CO2 RF Calcs'!$S$24-'Non-CO2 RF Calcs'!$S$25)*($O140-1)/9","v":9.3665598254027649E-2},3.348376352889328,{"$f":"CFfromRFin2100(J140)","v":0.59333392344376346},1.9867052786261443,1.8415060000000001,0.14519927862614423,{"$f":"MitigationAggressiveness(D140,0)","v":9.0152218302923259},null,2.6399689999999998,0.350775,0.31378499999999998,-0.22275,3.1392980000000001,null,-2.6636893132947925E-2,{"$f":"R140-E140","v":-5.3724925749794206E-2},{"$f":"S140-F140","v":-4.0647095786855103E-2},{"$f":"T140-H140","v":4.1742758288324411E-2},{"$f":"U140-J140","v":-0.20907835288932786}]
["AIM/CGE 2.2","EN_NPi2020_1000f",447.476766,{"$f":"CO2RFFromCO2PPM(C141)","v":2.6463418791297175},{"$f":"'Non-CO2 RF Calcs'!$S$17+('Non-CO2 RF Calcs'!$S$16-'Non-CO2 RF Calcs'!$S$17)*($O141-1)/9","v":0.40345655260677271},{"$f":"'Non-CO2 RF Calcs'!$S$19+('Non-CO2 RF Calcs'!$S$18-'Non-CO2 RF Calcs'!$S$19)*($O141-1)/9","v":0.35415259247913544},{"$f":"'Non-CO2 RF Calcs'!$S$21+('Non-CO2 RF Calcs'!$S$20-'Non-CO2 RF Calcs'!$S$21)*($O141-1)/9","v":9.2435713118418028E-2},{"$f":"'Non-CO2 RF Calcs'!$S$23+('Non-CO2 RF Calcs'!$S$22-'Non-CO2 RF Calcs'!$S$23)*($O141-1)/9","v":-0.26373171171875709},{"$f":"'Non-CO2 RF Calcs'!$S$25+('Non-CO2 RF Calcs'!$S$24-'Non-CO2 RF Calcs'!$S$25)*($O141-1)/9","v":9.2435713118418028E-2},3.3250907387337048,{"$f":"CFfromRFin2100(J141)","v":0.5936846485845747},1.9740553267369434,1.860042,0.11401332673694342,{"$f":"MitigationAggressiveness(D141,0)","v":9.0311027000491215},null,2.6077650000000001,0.31959300000000002,0.31329699999999999,-0.191994,3.0871279999999999,null,-3.8576879129717412E-2,{"$f":"R141-E141","v":-8.3863552606772696E-2},{"$f":"S141-F141","v":-4.085559247913545E-2},{"$f":"T141-H141","v":7.1737711718757091E-2},{"$f":"U141-J141","v":-0.23796273873370488}]
["AIM/CGE 2.2","EN_NPi2020_1200",462.757656,{"$f":"CO2RFFromCO2PPM(C142)","v":2.8351248005201999},{"$f":"'Non-CO2 RF Calcs'!$S$17+('Non-CO2 RF Calcs'!$S$16-'Non-CO2 RF Calcs'!$S$17)*($O142-1)/9","v":0.41300977442518094},{"$f":"'Non-CO2 RF Calcs'!$S$19+('Non-CO2 RF Calcs'!$S$18-'Non-CO2 RF Calcs'!$S$19)*($O142-1)/9","v":0.3567117508353605},{"$f":"'Non-CO2 RF Calcs'!$S$21+('Non-CO2 RF Calcs'!$S$20-'Non-CO2 RF Calcs'!$S$21)*($O142-1)/9","v":0.10369665613791823},{"$f":"'Non-CO2 RF Calcs'!$S$23+('Non-CO2 RF Calcs'!$S$22-'Non-CO2 RF Calcs'!$S$23)*($O142-1)/9","v":-0.27069992509653396},{"$f":"'Non-CO2 RF Calcs'!$S$25+('Non-CO2 RF Calcs'!$S$24-'Non-CO2 RF Calcs'!$S$25)*($O142-1)/9","v":0.10369665613791823},3.5415397129600441,{"$f":"CFfromRFin2100(J142)","v":0.59048058719720875},2.0912104492908812,1.9461850000000001,0.14502544929088113,{"$f":"MitigationAggressiveness(D142,0)","v":8.8856959752636087},null,2.804243,0.35034199999999999,0.31777,-0.21530299999999999,3.310549,null,-3.0881800520199842E-2,{"$f":"R142-E142","v":-6.2667774425180955E-2},{"$f":"S142-F142","v":-3.89417508353605E-2},{"$f":"T142-H142","v":5.5396925096533961E-2},{"$f":"U142-J142","v":-0.23099071296004414}]
["AIM/CGE 2.2","EN_NPi2020_1200f",463.481652,{"$f":"CO2RFFromCO2PPM(C143)","v":2.8439847363531032},{"$f":"'Non-CO2 RF Calcs'!$S$17+('Non-CO2 RF Calcs'!$S$16-'Non-CO2 RF Calcs'!$S$17)*($O143-1)/9","v":0.41344893199442412},{"$f":"'Non-CO2 RF Calcs'!$S$19+('Non-CO2 RF Calcs'!$S$18-'Non-CO2 RF Calcs'!$S$19)*($O143-1)/9","v":0.35682939426334648},{"$f":"'Non-CO2 RF Calcs'!$S$21+('Non-CO2 RF Calcs'!$S$20-'Non-CO2 RF Calcs'!$S$21)*($O143-1)/9","v":0.10421431692899286},{"$f":"'Non-CO2 RF Calcs'!$S$23+('Non-CO2 RF Calcs'!$S$22-'Non-CO2 RF Calcs'!$S$23)*($O143-1)/9","v":-0.27102025092033666},{"$f":"'Non-CO2 RF Calcs'!$S$25+('Non-CO2 RF Calcs'!$S$24-'Non-CO2 RF Calcs'!$S$25)*($O143-1)/9","v":0.10421431692899286},3.5516714455485232,{"$f":"CFfromRFin2100(J143)","v":0.59033368716753865},2.0966713000583215,1.9777359999999999,0.11893530005832154,{"$f":"MitigationAggressiveness(D143,0)","v":8.8790116895825868},null,2.8104439999999999,0.33386500000000002,0.31889899999999999,-0.193998,3.3140489999999998,null,-3.3540736353103284E-2,{"$f":"R143-E143","v":-7.9583931994424095E-2},{"$f":"S143-F143","v":-3.793039426334649E-2},{"$f":"T143-H143","v":7.7022250920336655E-2},{"$f":"U143-J143","v":-0.23762244554852341}]
["AIM/CGE 2.2","EN_NPi2020_1400",478.527129,{"$f":"CO2RFFromCO2PPM(C144)","v":3.0263754572339816},{"$f":"'Non-CO2 RF Calcs'!$S$17+('Non-CO2 RF Calcs'!$S$16-'Non-CO2 RF Calcs'!$S$17)*($O144-1)/9","v":0.42230630703862171},{"$f":"'Non-CO2 RF Calcs'!$S$19+('Non-CO2 RF Calcs'!$S$18-'Non-CO2 RF Calcs'!$S$19)*($O144-1)/9","v":0.35920214617777391},{"$f":"'Non-CO2 RF Calcs'!$S$21+('Non-CO2 RF Calcs'!$S$20-'Non-CO2 RF Calcs'!$S$21)*($O144-1)/9","v":0.11465502453224985},{"$f":"'Non-CO2 RF Calcs'!$S$23+('Non-CO2 RF Calcs'!$S$22-'Non-CO2 RF Calcs'!$S$23)*($O144-1)/9","v":-0.27748090685905219},{"$f":"'Non-CO2 RF Calcs'!$S$25+('Non-CO2 RF Calcs'!$S$24-'Non-CO2 RF Calcs'!$S$25)*($O144-1)/9","v":0.11465502453224985},3.7597130526558247,{"$f":"CFfromRFin2100(J144)","v":0.58737815793425541},2.2083733272303543,2.0666989999999998,0.14167432723035445,{"$f":"MitigationAggressiveness(D144,0)","v":8.7441962398992121},null,2.99336,0.350686,0.32235999999999998,-0.208486,3.5152139999999998,null,-3.3015457233981582E-2,{"$f":"R144-E144","v":-7.1620307038621711E-2},{"$f":"S144-F144","v":-3.6842146177773927E-2},{"$f":"T144-H144","v":6.8994906859052185E-2},{"$f":"U144-J144","v":-0.24449905265582483}]
["AIM/CGE 2.2","EN_NPi2020_1400f",477.32574699999998,{"$f":"CO2RFFromCO2PPM(C145)","v":3.011932756191074},{"$f":"'Non-CO2 RF Calcs'!$S$17+('Non-CO2 RF Calcs'!$S$16-'Non-CO2 RF Calcs'!$S$17)*($O145-1)/9","v":0.42161766547016177},{"$f":"'Non-CO2 RF Calcs'!$S$19+('Non-CO2 RF Calcs'!$S$18-'Non-CO2 RF Calcs'!$S$19)*($O145-1)/9","v":0.3590176698976385},{"$f":"'Non-CO2 RF Calcs'!$S$21+('Non-CO2 RF Calcs'!$S$20-'Non-CO2 RF Calcs'!$S$21)*($O145-1)/9","v":0.11384328231473495},{"$f":"'Non-CO2 RF Calcs'!$S$23+('Non-CO2 RF Calcs'!$S$22-'Non-CO2 RF Calcs'!$S$23)*($O145-1)/9","v":-0.27697860496749671},{"$f":"'Non-CO2 RF Calcs'!$S$25+('Non-CO2 RF Calcs'!$S$24-'Non-CO2 RF Calcs'!$S$25)*($O145-1)/9","v":0.11384328231473495},3.7432760512208474,{"$f":"CFfromRFin2100(J145)","v":0.58760744574789414},2.1995768791871453,2.0745130000000001,0.12506387918714523,{"$f":"MitigationAggressiveness(D145,0)","v":8.7546778467250856},null,2.9816370000000001,0.34254800000000002,0.32252599999999998,-0.19831199999999999,3.4932180000000002,null,-3.0295756191073941E-2,{"$f":"R145-E145","v":-7.9069665470161754E-2},{"$f":"S145-F145","v":-3.6491669897638523E-2},{"$f":"T145-H145","v":7.8666604967496723E-2},{"$f":"U145-J145","v":-0.25005805122084723}]
["AIM/CGE 2.2","EN_NPi2020_1600",495.38207,{"$f":"CO2RFFromCO2PPM(C146)","v":3.2267832965355185},{"$f":"'Non-CO2 RF Calcs'!$S$17+('Non-CO2 RF Calcs'!$S$16-'Non-CO2 RF Calcs'!$S$17)*($O146-1)/9","v":0.43163589508323197},{"$f":"'Non-CO2 RF Calcs'!$S$19+('Non-CO2 RF Calcs'!$S$18-'Non-CO2 RF Calcs'!$S$19)*($O146-1)/9","v":0.36170139655197692},{"$f":"'Non-CO2 RF Calcs'!$S$21+('Non-CO2 RF Calcs'!$S$20-'Non-CO2 RF Calcs'!$S$21)*($O146-1)/9","v":0.12565235730257507},{"$f":"'Non-CO2 RF Calcs'!$S$23+('Non-CO2 RF Calcs'!$S$22-'Non-CO2 RF Calcs'!$S$23)*($O146-1)/9","v":-0.28428599957618456},{"$f":"'Non-CO2 RF Calcs'!$S$25+('Non-CO2 RF Calcs'!$S$24-'Non-CO2 RF Calcs'!$S$25)*($O146-1)/9","v":0.12565235730257507},{"$f":"SUM(D146:I146)","v":3.9871393031996929},{"$f":"CFfromRFin2100(J146)","v":0.5842800504336757},{"$f":"K146*J146","v":2.3296059531596072},2.187732,{"$f":"L146-M146","v":0.14187395315960716},{"$f":"MitigationAggressiveness(D146,0)","v":8.6021933777285859},null,3.1970100000000001,0.35290300000000002,0.32692700000000002,-0.19861899999999999,3.717549,null,{"$f":"Q146-D146","v":-2.9773296535518412E-2},{"$f":"R146-E146","v":-7.8732895083231946E-2},{"$f":"S146-F146","v":-3.4774396551976894E-2},{"$f":"T146-H146","v":8.5666999576184566E-2},{"$f":"U146-J146","v":-0.2695903031996929}]
["AIM/CGE 2.2","EN_NPi2020_1600f",494.56020799999999,{"$f":"CO2RFFromCO2PPM(C147)","v":3.2171072582551243},{"$f":"'Non-CO2 RF Calcs'!$S$17+('Non-CO2 RF Calcs'!$S$16-'Non-CO2 RF Calcs'!$S$17)*($O147-1)/9","v":0.43119513510922147},{"$f":"'Non-CO2 RF Calcs'!$S$19+('Non-CO2 RF Calcs'!$S$18-'Non-CO2 RF Calcs'!$S$19)*($O147-1)/9","v":0.36158332386487518},{"$f":"'Non-CO2 RF Calcs'!$S$21+('Non-CO2 RF Calcs'!$S$20-'Non-CO2 RF Calcs'!$S$21)*($O147-1)/9","v":0.12513280766299228},{"$f":"'Non-CO2 RF Calcs'!$S$23+('Non-CO2 RF Calcs'!$S$22-'Non-CO2 RF Calcs'!$S$23)*($O147-1)/9","v":-0.28396450494268088},{"$f":"'Non-CO2 RF Calcs'!$S$25+('Non-CO2 RF Calcs'!$S$24-'Non-CO2 RF Calcs'!$S$25)*($O147-1)/9","v":0.12513280766299228},3.9761868276125245,{"$f":"CFfromRFin2100(J147)","v":0.58442607080591003},2.323787244451804,2.1838829999999998,0.13990424445180416,{"$f":"MitigationAggressiveness(D147,0)","v":8.608902053132093},null,3.18737,0.35167300000000001,0.32677099999999998,-0.196993,3.7072590000000001,null,-2.9737258255124299E-2,{"$f":"R147-E147","v":-7.9522135109221459E-2},{"$f":"S147-F147","v":-3.4812323864875205E-2},{"$f":"T147-H147","v":8.6971504942680883E-2},{"$f":"U147-J147","v":-0.26892782761252443}]
["AIM/CGE 2.2","EN_NPi2020_1800",509.05174199999999,{"$f":"CO2RFFromCO2PPM(C148)","v":3.3862770050124169},{"$f":"'Non-CO2 RF Calcs'!$S$17+('Non-CO2 RF Calcs'!$S$16-'Non-CO2 RF Calcs'!$S$17)*($O148-1)/9","v":0.43875945571888814},{"$f":"'Non-CO2 RF Calcs'!$S$19+('Non-CO2 RF Calcs'!$S$18-'Non-CO2 RF Calcs'!$S$19)*($O148-1)/9","v":0.36360968676792133},{"$f":"'Non-CO2 RF Calcs'!$S$21+('Non-CO2 RF Calcs'!$S$20-'Non-CO2 RF Calcs'!$S$21)*($O148-1)/9","v":0.13404931614419924},{"$f":"'Non-CO2 RF Calcs'!$S$23+('Non-CO2 RF Calcs'!$S$22-'Non-CO2 RF Calcs'!$S$23)*($O148-1)/9","v":-0.28948199433714944},{"$f":"'Non-CO2 RF Calcs'!$S$25+('Non-CO2 RF Calcs'!$S$24-'Non-CO2 RF Calcs'!$S$25)*($O148-1)/9","v":0.13404931614419924},4.1672627854504745,{"$f":"CFfromRFin2100(J148)","v":0.58192476536249227},2.4250334186271134,2.2767339999999998,0.1482994186271136,{"$f":"MitigationAggressiveness(D148,0)","v":8.4937677972771972},null,3.3592710000000001,0.36058299999999999,0.330146,-0.202352,3.8816250000000001,null,-2.7006005012416789E-2,{"$f":"R148-E148","v":-7.8176455718888149E-2},{"$f":"S148-F148","v":-3.346368676792133E-2},{"$f":"T148-H148","v":8.7129994337149436E-2},{"$f":"U148-J148","v":-0.28563778545047436}]
["AIM/CGE 2.2","EN_NPi2020_1800f",509.05174199999999,{"$f":"CO2RFFromCO2PPM(C149)","v":3.3862770050124169},{"$f":"'Non-CO2 RF Calcs'!$S$17+('Non-CO2 RF Calcs'!$S$16-'Non-CO2 RF Calcs'!$S$17)*($O149-1)/9","v":0.43875945571888814},{"$f":"'Non-CO2 RF Calcs'!$S$19+('Non-CO2 RF Calcs'!$S$18-'Non-CO2 RF Calcs'!$S$19)*($O149-1)/9","v":0.36360968676792133},{"$f":"'Non-CO2 RF Calcs'!$S$21+('Non-CO2 RF Calcs'!$S$20-'Non-CO2 RF Calcs'!$S$21)*($O149-1)/9","v":0.13404931614419924},{"$f":"'Non-CO2 RF Calcs'!$S$23+('Non-CO2 RF Calcs'!$S$22-'Non-CO2 RF Calcs'!$S$23)*($O149-1)/9","v":-0.28948199433714944},{"$f":"'Non-CO2 RF Calcs'!$S$25+('Non-CO2 RF Calcs'!$S$24-'Non-CO2 RF Calcs'!$S$25)*($O149-1)/9","v":0.13404931614419924},4.1672627854504745,{"$f":"CFfromRFin2100(J149)","v":0.58192476536249227},2.4250334186271134,2.2767339999999998,0.1482994186271136,{"$f":"MitigationAggressiveness(D149,0)","v":8.4937677972771972},null,3.3592710000000001,0.36058299999999999,0.330146,-0.202352,3.8816250000000001,null,-2.7006005012416789E-2,{"$f":"R149-E149","v":-7.8176455718888149E-2},{"$f":"S149-F149","v":-3.346368676792133E-2},{"$f":"T149-H149","v":8.7129994337149436E-2},{"$f":"U149-J149","v":-0.28563778545047436}]
["AIM/CGE 2.2","EN_NPi2020_300f",395.54483800000003,{"$f":"CO2RFFromCO2PPM(C150)","v":1.9793283485334441},{"$f":"'Non-CO2 RF Calcs'!$S$17+('Non-CO2 RF Calcs'!$S$16-'Non-CO2 RF Calcs'!$S$17)*($O150-1)/9","v":0.3667060654843961},{"$f":"'Non-CO2 RF Calcs'!$S$19+('Non-CO2 RF Calcs'!$S$18-'Non-CO2 RF Calcs'!$S$19)*($O150-1)/9","v":0.34430771312824004},{"$f":"'Non-CO2 RF Calcs'!$S$21+('Non-CO2 RF Calcs'!$S$20-'Non-CO2 RF Calcs'!$S$21)*($O150-1)/9","v":4.9115757893833933E-2},{"$f":"'Non-CO2 RF Calcs'!$S$23+('Non-CO2 RF Calcs'!$S$22-'Non-CO2 RF Calcs'!$S$23)*($O150-1)/9","v":-0.23692554717304254},{"$f":"'Non-CO2 RF Calcs'!$S$25+('Non-CO2 RF Calcs'!$S$24-'Non-CO2 RF Calcs'!$S$25)*($O150-1)/9","v":4.9115757893833933E-2},2.5516480957607053,{"$f":"CFfromRFin2100(J150)","v":0.60616050520685727},1.5467082988364245,1.4283950000000001,0.11831329883642439,{"$f":"MitigationAggressiveness(D150,0)","v":9.5904708449863598},null,1.9181729999999999,0.31697700000000001,0.295933,-0.21407599999999999,2.3849680000000002,null,-6.1155348533444176E-2,{"$f":"R150-E150","v":-4.9729065484396096E-2},{"$f":"S150-F150","v":-4.8374713128240043E-2},{"$f":"T150-H150","v":2.284954717304255E-2},{"$f":"U150-J150","v":-0.16668009576070508}]
["AIM/CGE 2.2","EN_NPi2020_400f",402.594919,{"$f":"CO2RFFromCO2PPM(C151)","v":2.0721854837124796},{"$f":"'Non-CO2 RF Calcs'!$S$17+('Non-CO2 RF Calcs'!$S$16-'Non-CO2 RF Calcs'!$S$17)*($O151-1)/9","v":0.37210211368671076},{"$f":"'Non-CO2 RF Calcs'!$S$19+('Non-CO2 RF Calcs'!$S$18-'Non-CO2 RF Calcs'!$S$19)*($O151-1)/9","v":0.3457532298460595},{"$f":"'Non-CO2 RF Calcs'!$S$21+('Non-CO2 RF Calcs'!$S$20-'Non-CO2 RF Calcs'!$S$21)*($O151-1)/9","v":5.5476396481713763E-2},{"$f":"'Non-CO2 RF Calcs'!$S$23+('Non-CO2 RF Calcs'!$S$22-'Non-CO2 RF Calcs'!$S$23)*($O151-1)/9","v":-0.2408614774785699},{"$f":"'Non-CO2 RF Calcs'!$S$25+('Non-CO2 RF Calcs'!$S$24-'Non-CO2 RF Calcs'!$S$25)*($O151-1)/9","v":5.5476396481713763E-2},2.6601321427301072,{"$f":"CFfromRFin2100(J151)","v":0.60431388946641718},1.6075548016678656,1.4938020000000001,0.1137528016678655,{"$f":"MitigationAggressiveness(D151,0)","v":9.5083392132920732},null,2.01471,0.31795800000000002,0.298813,-0.20821000000000001,2.4850829999999999,null,-5.7475483712479569E-2,{"$f":"R151-E151","v":-5.4144113686710738E-2},{"$f":"S151-F151","v":-4.69402298460595E-2},{"$f":"T151-H151","v":3.265147747856989E-2},{"$f":"U151-J151","v":-0.1750491427301073}]
["AIM/CGE 2.2","EN_NPi2020_500f",409.784088,{"$f":"CO2RFFromCO2PPM(C152)","v":2.1661285476348811},{"$f":"'Non-CO2 RF Calcs'!$S$17+('Non-CO2 RF Calcs'!$S$16-'Non-CO2 RF Calcs'!$S$17)*($O152-1)/9","v":0.37746913935875404},{"$f":"'Non-CO2 RF Calcs'!$S$19+('Non-CO2 RF Calcs'!$S$18-'Non-CO2 RF Calcs'!$S$19)*($O152-1)/9","v":0.34719097188301479},{"$f":"'Non-CO2 RF Calcs'!$S$21+('Non-CO2 RF Calcs'!$S$20-'Non-CO2 RF Calcs'!$S$21)*($O152-1)/9","v":6.1802824510487908E-2},{"$f":"'Non-CO2 RF Calcs'!$S$23+('Non-CO2 RF Calcs'!$S$22-'Non-CO2 RF Calcs'!$S$23)*($O152-1)/9","v":-0.2447762384668199},{"$f":"'Non-CO2 RF Calcs'!$S$25+('Non-CO2 RF Calcs'!$S$24-'Non-CO2 RF Calcs'!$S$25)*($O152-1)/9","v":6.1802824510487908E-2},2.7696180694308059,{"$f":"CFfromRFin2100(J152)","v":0.60248222221484105},1.6686456491570498,1.5586009999999999,0.11004464915704992,{"$f":"MitigationAggressiveness(D152,0)","v":9.4266493248287055},null,2.1148180000000001,0.31797199999999998,0.30118600000000001,-0.205287,2.5798830000000001,null,-5.1310547634880965E-2,{"$f":"R152-E152","v":-5.9497139358754059E-2},{"$f":"S152-F152","v":-4.6004971883014778E-2},{"$f":"T152-H152","v":3.9489238466819898E-2},{"$f":"U152-J152","v":-0.18973506943080576}]
["AIM/CGE 2.2","EN_NPi2020_600",422.13339200000001,{"$f":"CO2RFFromCO2PPM(C153)","v":2.3257422936932746},{"$f":"'Non-CO2 RF Calcs'!$S$17+('Non-CO2 RF Calcs'!$S$16-'Non-CO2 RF Calcs'!$S$17)*($O153-1)/9","v":0.38637550487124483},{"$f":"'Non-CO2 RF Calcs'!$S$19+('Non-CO2 RF Calcs'!$S$18-'Non-CO2 RF Calcs'!$S$19)*($O153-1)/9","v":0.34957684757585861},{"$f":"'Non-CO2 RF Calcs'!$S$21+('Non-CO2 RF Calcs'!$S$20-'Non-CO2 RF Calcs'!$S$21)*($O153-1)/9","v":7.2301280052862515E-2},{"$f":"'Non-CO2 RF Calcs'!$S$23+('Non-CO2 RF Calcs'!$S$22-'Non-CO2 RF Calcs'!$S$23)*($O153-1)/9","v":-0.25127262853199378},{"$f":"'Non-CO2 RF Calcs'!$S$25+('Non-CO2 RF Calcs'!$S$24-'Non-CO2 RF Calcs'!$S$25)*($O153-1)/9","v":7.2301280052862515E-2},2.9550245777141098,{"$f":"CFfromRFin2100(J153)","v":0.59945374517632},1.7714005501987966,1.615572,0.1558285501987966,{"$f":"MitigationAggressiveness(D153,0)","v":9.2910882059171254},null,2.298108,0.35157500000000003,0.30460599999999999,-0.25339400000000001,2.7821389999999999,null,-2.7634293693274525E-2,{"$f":"R153-E153","v":-3.4800504871244808E-2},{"$f":"S153-F153","v":-4.4970847575858619E-2},{"$f":"T153-H153","v":-2.1213714680062279E-3},{"$f":"U153-J153","v":-0.17288557771410984}]
["AIM/CGE 2.2","EN_NPi2020_600f",416.82388300000002,{"$f":"CO2RFFromCO2PPM(C154)","v":2.2573897144303579},{"$f":"'Non-CO2 RF Calcs'!$S$17+('Non-CO2 RF Calcs'!$S$16-'Non-CO2 RF Calcs'!$S$17)*($O154-1)/9","v":0.38259421402410687},{"$f":"'Non-CO2 RF Calcs'!$S$19+('Non-CO2 RF Calcs'!$S$18-'Non-CO2 RF Calcs'!$S$19)*($O154-1)/9","v":0.34856389903842133},{"$f":"'Non-CO2 RF Calcs'!$S$21+('Non-CO2 RF Calcs'!$S$20-'Non-CO2 RF Calcs'!$S$21)*($O154-1)/9","v":6.7844050693053437E-2},{"$f":"'Non-CO2 RF Calcs'!$S$23+('Non-CO2 RF Calcs'!$S$22-'Non-CO2 RF Calcs'!$S$23)*($O154-1)/9","v":-0.24851451802570157},{"$f":"'Non-CO2 RF Calcs'!$S$25+('Non-CO2 RF Calcs'!$S$24-'Non-CO2 RF Calcs'!$S$25)*($O154-1)/9","v":6.7844050693053437E-2},2.8757214108532914,{"$f":"CFfromRFin2100(J154)","v":0.6007378196456401},1.7275546102642902,1.61893,0.10862461026429027,{"$f":"MitigationAggressiveness(D154,0)","v":9.3486421000896964},null,2.210874,0.31756600000000001,0.30358400000000002,-0.20219999999999999,2.6798139999999999,null,-4.6515714430357846E-2,{"$f":"R154-E154","v":-6.5028214024106856E-2},{"$f":"S154-F154","v":-4.4979899038421312E-2},{"$f":"T154-H154","v":4.6314518025701579E-2},{"$f":"U154-J154","v":-0.19590741085329144}]
["AIM/CGE 2.2","EN_NPi2020_700",428.02237600000001,{"$f":"CO2RFFromCO2PPM(C155)","v":2.4010742173060473},{"$f":"'Non-CO2 RF Calcs'!$S$17+('Non-CO2 RF Calcs'!$S$16-'Non-CO2 RF Calcs'!$S$17)*($O155-1)/9","v":0.39048607129320445},{"$f":"'Non-CO2 RF Calcs'!$S$19+('Non-CO2 RF Calcs'!$S$18-'Non-CO2 RF Calcs'!$S$19)*($O155-1)/9","v":0.35067800387763165},{"$f":"'Non-CO2 RF Calcs'!$S$21+('Non-CO2 RF Calcs'!$S$20-'Non-CO2 RF Calcs'!$S$21)*($O155-1)/9","v":7.7146645850437068E-2},{"$f":"'Non-CO2 RF Calcs'!$S$23+('Non-CO2 RF Calcs'!$S$22-'Non-CO2 RF Calcs'!$S$23)*($O155-1)/9","v":-0.25427091586125328},{"$f":"'Non-CO2 RF Calcs'!$S$25+('Non-CO2 RF Calcs'!$S$24-'Non-CO2 RF Calcs'!$S$25)*($O155-1)/9","v":7.7146645850437068E-2},3.0422606683165041,{"$f":"CFfromRFin2100(J155)","v":0.59806070340816708},1.8194565552443689,1.6692709999999999,0.15018555524436894,{"$f":"MitigationAggressiveness(D155,0)","v":9.2285225069527481},null,2.372255,0.35113299999999997,0.30660399999999999,-0.244059,2.8608069999999999,null,-2.8819217306047307E-2,{"$f":"R155-E155","v":-3.9353071293204478E-2},{"$f":"S155-F155","v":-4.4074003877631662E-2},{"$f":"T155-H155","v":1.0211915861253279E-2},{"$f":"U155-J155","v":-0.18145366831650422}]
["AIM/CGE 2.2","EN_NPi2020_700f",423.98304100000001,{"$f":"CO2RFFromCO2PPM(C156)","v":2.349457463831456},{"$f":"'Non-CO2 RF Calcs'!$S$17+('Non-CO2 RF Calcs'!$S$16-'Non-CO2 RF Calcs'!$S$17)*($O156-1)/9","v":0.38767597464737569},{"$f":"'Non-CO2 RF Calcs'!$S$19+('Non-CO2 RF Calcs'!$S$18-'Non-CO2 RF Calcs'!$S$19)*($O156-1)/9","v":0.34992522304100171},{"$f":"'Non-CO2 RF Calcs'!$S$21+('Non-CO2 RF Calcs'!$S$20-'Non-CO2 RF Calcs'!$S$21)*($O156-1)/9","v":7.3834220073094481E-2},{"$f":"'Non-CO2 RF Calcs'!$S$23+('Non-CO2 RF Calcs'!$S$22-'Non-CO2 RF Calcs'!$S$23)*($O156-1)/9","v":-0.25222120389888908},{"$f":"'Non-CO2 RF Calcs'!$S$25+('Non-CO2 RF Calcs'!$S$24-'Non-CO2 RF Calcs'!$S$25)*($O156-1)/9","v":7.3834220073094481E-2},2.9825058977671337,{"$f":"CFfromRFin2100(J156)","v":0.59901270374663262},1.7865589217617686,1.6786190000000001,0.10793992176176848,{"$f":"MitigationAggressiveness(D156,0)","v":9.271294145397631},null,2.3069769999999998,0.316942,0.30601200000000001,-0.199542,2.7798980000000002,null,-4.2480463831456206E-2,{"$f":"R156-E156","v":-7.0733974647375686E-2},{"$f":"S156-F156","v":-4.3913223041001703E-2},{"$f":"T156-H156","v":5.2679203898889082E-2},{"$f":"U156-J156","v":-0.2026078977671335}]
["AIM/CGE 2.2","EN_NPi2020_800",434.40954599999998,{"$f":"CO2RFFromCO2PPM(C157)","v":2.4822075276197197},{"$f":"'Non-CO2 RF Calcs'!$S$17+('Non-CO2 RF Calcs'!$S$16-'Non-CO2 RF Calcs'!$S$17)*($O157-1)/9","v":0.39484655222536824},{"$f":"'Non-CO2 RF Calcs'!$S$19+('Non-CO2 RF Calcs'!$S$18-'Non-CO2 RF Calcs'!$S$19)*($O157-1)/9","v":0.35184610835869834},{"$f":"'Non-CO2 RF Calcs'!$S$21+('Non-CO2 RF Calcs'!$S$20-'Non-CO2 RF Calcs'!$S$21)*($O157-1)/9","v":8.2286600543009625E-2},{"$f":"'Non-CO2 RF Calcs'!$S$23+('Non-CO2 RF Calcs'!$S$22-'Non-CO2 RF Calcs'!$S$23)*($O157-1)/9","v":-0.25745149327718808},{"$f":"'Non-CO2 RF Calcs'!$S$25+('Non-CO2 RF Calcs'!$S$24-'Non-CO2 RF Calcs'!$S$25)*($O157-1)/9","v":8.2286600543009625E-2},3.1360218960126174,{"$f":"CFfromRFin2100(J157)","v":0.5965862215534159},1.8709074536509467,1.72366,0.14724745365094671,{"$f":"MitigationAggressiveness(D157,0)","v":9.1621529341648671},null,2.4545520000000001,0.35122999999999999,0.30890299999999998,-0.23137099999999999,2.9467660000000002,null,-2.7655527619719678E-2,{"$f":"R157-E157","v":-4.3616552225368255E-2},{"$f":"S157-F157","v":-4.2943108358698356E-2},{"$f":"T157-H157","v":2.6080493277188088E-2},{"$f":"U157-J157","v":-0.18925589601261716}]
["AIM/CGE 2.2","EN_NPi2020_800f",431.60642200000001,{"$f":"CO2RFFromCO2PPM(C158)","v":2.4466739346930821},{"$f":"'Non-CO2 RF Calcs'!$S$17+('Non-CO2 RF Calcs'!$S$16-'Non-CO2 RF Calcs'!$S$17)*($O158-1)/9","v":0.39294531833058244},{"$f":"'Non-CO2 RF Calcs'!$S$19+('Non-CO2 RF Calcs'!$S$18-'Non-CO2 RF Calcs'!$S$19)*($O158-1)/9","v":0.35133679760453962},{"$f":"'Non-CO2 RF Calcs'!$S$21+('Non-CO2 RF Calcs'!$S$20-'Non-CO2 RF Calcs'!$S$21)*($O158-1)/9","v":8.0045504610884333E-2},{"$f":"'Non-CO2 RF Calcs'!$S$23+('Non-CO2 RF Calcs'!$S$22-'Non-CO2 RF Calcs'!$S$23)*($O158-1)/9","v":-0.25606471468963332},{"$f":"'Non-CO2 RF Calcs'!$S$25+('Non-CO2 RF Calcs'!$S$24-'Non-CO2 RF Calcs'!$S$25)*($O158-1)/9","v":8.0045504610884333E-2},3.0949823451603398,{"$f":"CFfromRFin2100(J158)","v":0.59722870488665658},1.8484122976471768,1.7375210000000001,0.11089129764717676,{"$f":"MitigationAggressiveness(D158,0)","v":9.1910910451966146},null,2.4086430000000001,0.31679499999999999,0.30851899999999999,-0.19641,2.88069,null,-3.8030934693082052E-2,{"$f":"R158-E158","v":-7.6150318330582445E-2},{"$f":"S158-F158","v":-4.2817797604539631E-2},{"$f":"T158-H158","v":5.965471468963332E-2},{"$f":"U158-J158","v":-0.21429234516033979}]
["AIM/CGE 2.2","EN_NPi2020_900",441.439412,{"$f":"CO2RFFromCO2PPM(C159)","v":2.5708173556424283},{"$f":"'Non-CO2 RF Calcs'!$S$17+('Non-CO2 RF Calcs'!$S$16-'Non-CO2 RF Calcs'!$S$17)*($O159-1)/9","v":0.39952989357201529},{"$f":"'Non-CO2 RF Calcs'!$S$19+('Non-CO2 RF Calcs'!$S$18-'Non-CO2 RF Calcs'!$S$19)*($O159-1)/9","v":0.3531007020832187},{"$f":"'Non-CO2 RF Calcs'!$S$21+('Non-CO2 RF Calcs'!$S$20-'Non-CO2 RF Calcs'!$S$21)*($O159-1)/9","v":8.7807129747496382E-2},{"$f":"'Non-CO2 RF Calcs'!$S$23+('Non-CO2 RF Calcs'!$S$22-'Non-CO2 RF Calcs'!$S$23)*($O159-1)/9","v":-0.26086756823543072},{"$f":"'Non-CO2 RF Calcs'!$S$25+('Non-CO2 RF Calcs'!$S$24-'Non-CO2 RF Calcs'!$S$25)*($O159-1)/9","v":8.7807129747496382E-2},3.2381946425572243,{"$f":"CFfromRFin2100(J159)","v":0.59500630642983721},1.926746233768861,1.7819100000000001,0.1448362337688609,{"$f":"MitigationAggressiveness(D159,0)","v":9.0908691998171189},null,2.5468500000000001,0.35082200000000002,0.311247,-0.22611500000000001,3.0435140000000001,null,-2.3967355642428245E-2,{"$f":"R159-E159","v":-4.8707893572015271E-2},{"$f":"S159-F159","v":-4.1853702083218702E-2},{"$f":"T159-H159","v":3.4752568235430714E-2},{"$f":"U159-J159","v":-0.19468064255722428}]
["AIM/CGE 2.2","EN_NPi2020_900f",439.27279600000003,{"$f":"CO2RFFromCO2PPM(C160)","v":2.5435844511225523},{"$f":"'Non-CO2 RF Calcs'!$S$17+('Non-CO2 RF Calcs'!$S$16-'Non-CO2 RF Calcs'!$S$17)*($O160-1)/9","v":0.39809931365946971},{"$f":"'Non-CO2 RF Calcs'!$S$19+('Non-CO2 RF Calcs'!$S$18-'Non-CO2 RF Calcs'!$S$19)*($O160-1)/9","v":0.35271747215230848},{"$f":"'Non-CO2 RF Calcs'!$S$21+('Non-CO2 RF Calcs'!$S$20-'Non-CO2 RF Calcs'!$S$21)*($O160-1)/9","v":8.612082127625631E-2},{"$f":"'Non-CO2 RF Calcs'!$S$23+('Non-CO2 RF Calcs'!$S$22-'Non-CO2 RF Calcs'!$S$23)*($O160-1)/9","v":-0.2598240892631985},{"$f":"'Non-CO2 RF Calcs'!$S$25+('Non-CO2 RF Calcs'!$S$24-'Non-CO2 RF Calcs'!$S$25)*($O160-1)/9","v":8.612082127625631E-2},3.206818790223644,{"$f":"CFfromRFin2100(J160)","v":0.59548849796415748},1.9096237046335145,1.7982819999999999,0.11134170463351456,{"$f":"MitigationAggressiveness(D160,0)","v":9.1126436277097458},null,2.5069189999999999,0.31791999999999998,0.31083699999999997,-0.19480600000000001,2.9827360000000001,null,-3.6665451122552373E-2,{"$f":"R160-E160","v":-8.0179313659469731E-2},{"$f":"S160-F160","v":-4.1880472152308501E-2},{"$f":"T160-H160","v":6.5018089263198492E-2},{"$f":"U160-J160","v":-0.22408279022364397}]
["AIM/CGE 2.2","EN_NPi2100",787.34933699999999,{"$f":"CO2RFFromCO2PPM(C161)","v":6.0412344295944784},{"$f":"'Non-CO2 RF Calcs'!$S$17+('Non-CO2 RF Calcs'!$S$16-'Non-CO2 RF Calcs'!$S$17)*($O161-1)/9","v":0.51811126316116152},{"$f":"'Non-CO2 RF Calcs'!$S$19+('Non-CO2 RF Calcs'!$S$18-'Non-CO2 RF Calcs'!$S$19)*($O161-1)/9","v":0.38486679195793672},{"$f":"'Non-CO2 RF Calcs'!$S$21+('Non-CO2 RF Calcs'!$S$20-'Non-CO2 RF Calcs'!$S$21)*($O161-1)/9","v":0.22758594693612316},{"$f":"'Non-CO2 RF Calcs'!$S$23+('Non-CO2 RF Calcs'!$S$22-'Non-CO2 RF Calcs'!$S$23)*($O161-1)/9","v":-0.3473619783551648},{"$f":"'Non-CO2 RF Calcs'!$S$25+('Non-CO2 RF Calcs'!$S$24-'Non-CO2 RF Calcs'!$S$25)*($O161-1)/9","v":0.22758594693612316},7.0520224002306566,{"$f":"CFfromRFin2100(J161)","v":0.55606018787869071},3.9213489007969944,4.2648859999999997,-0.34353709920300535,{"$f":"MitigationAggressiveness(D161,0)","v":7.2859777296626858},null,6.003641,0.98130700000000004,0.48754599999999998,-0.37000699999999997,7.5858809999999997,null,-3.7593429594478422E-2,{"$f":"R161-E161","v":0.46319573683883852},{"$f":"S161-F161","v":0.10267920804206326},{"$f":"T161-H161","v":-2.2645021644835173E-2},{"$f":"U161-J161","v":0.53385859976934302}]
["AIM/Hub-Global 2.0","1.5C",395.97212000000002,{"$f":"CO2RFFromCO2PPM(C162)","v":1.9849767333575072},{"$f":"'Non-CO2 RF Calcs'!$S$17+('Non-CO2 RF Calcs'!$S$16-'Non-CO2 RF Calcs'!$S$17)*($O162-1)/9","v":0.3670368864419199},{"$f":"'Non-CO2 RF Calcs'!$S$19+('Non-CO2 RF Calcs'!$S$18-'Non-CO2 RF Calcs'!$S$19)*($O162-1)/9","v":0.34439633487637428},{"$f":"'Non-CO2 RF Calcs'!$S$21+('Non-CO2 RF Calcs'!$S$20-'Non-CO2 RF Calcs'!$S$21)*($O162-1)/9","v":4.9505715964853869E-2},{"$f":"'Non-CO2 RF Calcs'!$S$23+('Non-CO2 RF Calcs'!$S$22-'Non-CO2 RF Calcs'!$S$23)*($O162-1)/9","v":-0.23716685121325898},{"$f":"'Non-CO2 RF Calcs'!$S$25+('Non-CO2 RF Calcs'!$S$24-'Non-CO2 RF Calcs'!$S$25)*($O162-1)/9","v":4.9505715964853869E-2},2.5582545353922508,{"$f":"CFfromRFin2100(J162)","v":0.6060471478158902},1.550422864561539,1.3757330000000001,0.1746898645615389,{"$f":"MitigationAggressiveness(D162,0)","v":9.5854355183878255},null,1.931532,0.26903100000000002,0.27500400000000003,-0.202904,2.3246560000000001,null,-5.3444733357507213E-2,{"$f":"R162-E162","v":-9.8005886441919876E-2},{"$f":"S162-F162","v":-6.9392334876374251E-2},{"$f":"T162-H162","v":3.4262851213258977E-2},{"$f":"U162-J162","v":-0.23359853539225073}]
["AIM/Hub-Global 2.0","2.5C",585.372795,{"$f":"CO2RFFromCO2PPM(C163)","v":4.2267166701434729},{"$f":"'Non-CO2 RF Calcs'!$S$17+('Non-CO2 RF Calcs'!$S$16-'Non-CO2 RF Calcs'!$S$17)*($O163-1)/9","v":0.47188462341204684},{"$f":"'Non-CO2 RF Calcs'!$S$19+('Non-CO2 RF Calcs'!$S$18-'Non-CO2 RF Calcs'!$S$19)*($O163-1)/9","v":0.37248339987902629},{"$f":"'Non-CO2 RF Calcs'!$S$21+('Non-CO2 RF Calcs'!$S$20-'Non-CO2 RF Calcs'!$S$21)*($O163-1)/9","v":0.1730958946697051},{"$f":"'Non-CO2 RF Calcs'!$S$23+('Non-CO2 RF Calcs'!$S$22-'Non-CO2 RF Calcs'!$S$23)*($O163-1)/9","v":-0.3136438154534345},{"$f":"'Non-CO2 RF Calcs'!$S$25+('Non-CO2 RF Calcs'!$S$24-'Non-CO2 RF Calcs'!$S$25)*($O163-1)/9","v":0.1730958946697051},5.1036326673205226,{"$f":"CFfromRFin2100(J163)","v":0.57108279207131107},2.9145967933597565,2.76898,0.14561679335975652,{"$f":"MitigationAggressiveness(D163,0)","v":7.9895795523280535},null,4.18262,0.405665,0.36159200000000002,-0.25943100000000002,4.8029830000000002,null,-4.4096670143472849E-2,{"$f":"R163-E163","v":-6.6219623412046846E-2},{"$f":"S163-F163","v":-1.0891399879026264E-2},{"$f":"T163-H163","v":5.4212815453434482E-2},{"$f":"U163-J163","v":-0.30064966732052234}]
["AIM/Hub-Global 2.0","2C",512.53034500000001,{"$f":"CO2RFFromCO2PPM(C164)","v":3.4264296064507085},{"$f":"'Non-CO2 RF Calcs'!$S$17+('Non-CO2 RF Calcs'!$S$16-'Non-CO2 RF Calcs'!$S$17)*($O164-1)/9","v":0.44051073041254424},{"$f":"'Non-CO2 RF Calcs'!$S$19+('Non-CO2 RF Calcs'!$S$18-'Non-CO2 RF Calcs'!$S$19)*($O164-1)/9","v":0.36407882580305601},{"$f":"'Non-CO2 RF Calcs'!$S$21+('Non-CO2 RF Calcs'!$S$20-'Non-CO2 RF Calcs'!$S$21)*($O164-1)/9","v":0.13611364636824508},{"$f":"'Non-CO2 RF Calcs'!$S$23+('Non-CO2 RF Calcs'!$S$22-'Non-CO2 RF Calcs'!$S$23)*($O164-1)/9","v":-0.29075939121753819},{"$f":"'Non-CO2 RF Calcs'!$S$25+('Non-CO2 RF Calcs'!$S$24-'Non-CO2 RF Calcs'!$S$25)*($O164-1)/9","v":0.13611364636824508},4.212487064185261,{"$f":"CFfromRFin2100(J164)","v":0.58134708148545733},2.448917060559344,2.264103,0.18481406055934402,{"$f":"MitigationAggressiveness(D164,0)","v":8.4671121702809096},null,3.401068,0.35772599999999999,0.32098300000000002,-0.23275100000000001,3.9111180000000001,null,-2.5361606450708507E-2,{"$f":"R164-E164","v":-8.278473041254425E-2},{"$f":"S164-F164","v":-4.3095825803055987E-2},{"$f":"T164-H164","v":5.8008391217538174E-2},{"$f":"U164-J164","v":-0.30136906418526088}]
["AIM/Hub-Global 2.0","450ppmCancunP",447.91289399999999,{"$f":"CO2RFFromCO2PPM(C165)","v":2.6517770653882176},{"$f":"'Non-CO2 RF Calcs'!$S$17+('Non-CO2 RF Calcs'!$S$16-'Non-CO2 RF Calcs'!$S$17)*($O165-1)/9","v":0.40373682785493092},{"$f":"'Non-CO2 RF Calcs'!$S$19+('Non-CO2 RF Calcs'!$S$18-'Non-CO2 RF Calcs'!$S$19)*($O165-1)/9","v":0.35422767382415199},{"$f":"'Non-CO2 RF Calcs'!$S$21+('Non-CO2 RF Calcs'!$S$20-'Non-CO2 RF Calcs'!$S$21)*($O165-1)/9","v":9.2766089996426104E-2},{"$f":"'Non-CO2 RF Calcs'!$S$23+('Non-CO2 RF Calcs'!$S$22-'Non-CO2 RF Calcs'!$S$23)*($O165-1)/9","v":-0.26393614722447434},{"$f":"'Non-CO2 RF Calcs'!$S$25+('Non-CO2 RF Calcs'!$S$24-'Non-CO2 RF Calcs'!$S$25)*($O165-1)/9","v":9.2766089996426104E-2},3.331337599835678,{"$f":"CFfromRFin2100(J165)","v":0.59359041637401533},1.9774500729688729,1.8324510000000001,0.14499907296887282,{"$f":"MitigationAggressiveness(D165,0)","v":9.0268367145368202},null,2.6214140000000001,0.29097000000000001,0.30054500000000001,-0.149171,3.100657,null,-3.0363065388217425E-2,{"$f":"R165-E165","v":-0.11276682785493092},{"$f":"S165-F165","v":-5.3682673824151983E-2},{"$f":"T165-H165","v":0.11476514722447434},{"$f":"U165-J165","v":-0.23068059983567801}]
["AIM/Hub-Global 2.0","450ppmeINDC",448.99833599999999,{"$f":"CO2RFFromCO2PPM(C166)","v":2.6652922037587334},{"$f":"'Non-CO2 RF Calcs'!$S$17+('Non-CO2 RF Calcs'!$S$16-'Non-CO2 RF Calcs'!$S$17)*($O166-1)/9","v":0.40443241593522727},{"$f":"'Non-CO2 RF Calcs'!$S$19+('Non-CO2 RF Calcs'!$S$18-'Non-CO2 RF Calcs'!$S$19)*($O166-1)/9","v":0.35441401096590563},{"$f":"'Non-CO2 RF Calcs'!$S$21+('Non-CO2 RF Calcs'!$S$20-'Non-CO2 RF Calcs'!$S$21)*($O166-1)/9","v":9.3586020474976106E-2},{"$f":"'Non-CO2 RF Calcs'!$S$23+('Non-CO2 RF Calcs'!$S$22-'Non-CO2 RF Calcs'!$S$23)*($O166-1)/9","v":-0.26444351596966609},{"$f":"'Non-CO2 RF Calcs'!$S$25+('Non-CO2 RF Calcs'!$S$24-'Non-CO2 RF Calcs'!$S$25)*($O166-1)/9","v":9.3586020474976106E-2},3.3468671556401528,{"$f":"CFfromRFin2100(J166)","v":0.59335661072073553},1.9858857520031896,1.831334,0.1545517520031896,{"$f":"MitigationAggressiveness(D166,0)","v":9.0162493769371785},null,2.6290249999999999,0.225186,0.30108600000000002,-0.13731399999999999,3.0213739999999998,null,-3.6267203758733491E-2,{"$f":"R166-E166","v":-0.17924641593522728},{"$f":"S166-F166","v":-5.3328010965905615E-2},{"$f":"T166-H166","v":0.1271295159696661},{"$f":"U166-J166","v":-0.32549315564015302}]
["AIM/Hub-Global 2.0","450ppmRCP",445.938875,{"$f":"CO2RFFromCO2PPM(C167)","v":2.6271539968015891},{"$f":"'Non-CO2 RF Calcs'!$S$17+('Non-CO2 RF Calcs'!$S$16-'Non-CO2 RF Calcs'!$S$17)*($O167-1)/9","v":0.40246461425156388},{"$f":"'Non-CO2 RF Calcs'!$S$19+('Non-CO2 RF Calcs'!$S$18-'Non-CO2 RF Calcs'!$S$19)*($O167-1)/9","v":0.35388686774471118},{"$f":"'Non-CO2 RF Calcs'!$S$21+('Non-CO2 RF Calcs'!$S$20-'Non-CO2 RF Calcs'!$S$21)*($O167-1)/9","v":9.1266457184745464E-2},{"$f":"'Non-CO2 RF Calcs'!$S$23+('Non-CO2 RF Calcs'!$S$22-'Non-CO2 RF Calcs'!$S$23)*($O167-1)/9","v":-0.26300818218619904},{"$f":"'Non-CO2 RF Calcs'!$S$25+('Non-CO2 RF Calcs'!$S$24-'Non-CO2 RF Calcs'!$S$25)*($O167-1)/9","v":9.1266457184745464E-2},3.3030302109811567,{"$f":"CFfromRFin2100(J167)","v":0.59401826310274275},1.9620602689029125,1.8164910000000001,0.14556926890291244,{"$f":"MitigationAggressiveness(D167,0)","v":9.0462006963232291},null,2.5994820000000001,0.30724299999999999,0.296512,-0.14909500000000001,3.103497,null,-2.7671996801589049E-2,{"$f":"R167-E167","v":-9.5221614251563891E-2},{"$f":"S167-F167","v":-5.7374867744711178E-2},{"$f":"T167-H167","v":0.11391318218619903},{"$f":"U167-J167","v":-0.19953321098115673}]
["AIM/Hub-Global 2.0","Baseline",730.74464,{"$f":"CO2RFFromCO2PPM(C168)","v":5.5926757643822622},{"$f":"'Non-CO2 RF Calcs'!$S$17+('Non-CO2 RF Calcs'!$S$16-'Non-CO2 RF Calcs'!$S$17)*($O168-1)/9","v":0.50990043036167121},{"$f":"'Non-CO2 RF Calcs'!$S$19+('Non-CO2 RF Calcs'!$S$18-'Non-CO2 RF Calcs'!$S$19)*($O168-1)/9","v":0.38266723857481599},{"$f":"'Non-CO2 RF Calcs'!$S$21+('Non-CO2 RF Calcs'!$S$20-'Non-CO2 RF Calcs'!$S$21)*($O168-1)/9","v":0.2179073566076184},{"$f":"'Non-CO2 RF Calcs'!$S$23+('Non-CO2 RF Calcs'!$S$22-'Non-CO2 RF Calcs'!$S$23)*($O168-1)/9","v":-0.34137291664973574},{"$f":"'Non-CO2 RF Calcs'!$S$25+('Non-CO2 RF Calcs'!$S$24-'Non-CO2 RF Calcs'!$S$25)*($O168-1)/9","v":0.2179073566076184},6.5796852298842516,{"$f":"CFfromRFin2100(J168)","v":0.55876709555361193},3.6765116055594227,3.951759,-0.27524739444057733,{"$f":"MitigationAggressiveness(D168,0)","v":7.4109523537036361},null,5.5293489999999998,0.92205800000000004,0.47713,-0.36239900000000003,7.0367759999999997,null,-6.3326764382262368E-2,{"$f":"R168-E168","v":0.41215756963832884},{"$f":"S168-F168","v":9.4462761425184005E-2},{"$f":"T168-H168","v":-2.1026083350264291E-2},{"$f":"U168-J168","v":0.45709077011574806}]
["AIM/Hub-Global 2.0","INDCSamePrice",686.59804599999995,{"$f":"CO2RFFromCO2PPM(C169)","v":5.2104266451229861},{"$f":"'Non-CO2 RF Calcs'!$S$17+('Non-CO2 RF Calcs'!$S$16-'Non-CO2 RF Calcs'!$S$17)*($O169-1)/9","v":0.5012361680346461},{"$f":"'Non-CO2 RF Calcs'!$S$19+('Non-CO2 RF Calcs'!$S$18-'Non-CO2 RF Calcs'!$S$19)*($O169-1)/9","v":0.38034621852982908},{"$f":"'Non-CO2 RF Calcs'!$S$21+('Non-CO2 RF Calcs'!$S$20-'Non-CO2 RF Calcs'!$S$21)*($O169-1)/9","v":0.20769428229350295},{"$f":"'Non-CO2 RF Calcs'!$S$23+('Non-CO2 RF Calcs'!$S$22-'Non-CO2 RF Calcs'!$S$23)*($O169-1)/9","v":-0.33505311901461671},{"$f":"'Non-CO2 RF Calcs'!$S$25+('Non-CO2 RF Calcs'!$S$24-'Non-CO2 RF Calcs'!$S$25)*($O169-1)/9","v":0.20769428229350295},6.172344477259851,{"$f":"CFfromRFin2100(J169)","v":0.56158203529644635},3.4662777740903672,3.7340930000000001,-0.26781522590963291,{"$f":"MitigationAggressiveness(D169,0)","v":7.5428284926233475},null,5.1462839999999996,0.86360000000000003,0.44377100000000003,-0.246256,6.6613990000000003,null,-6.4142645122986508E-2,{"$f":"R169-E169","v":0.36236383196535393},{"$f":"S169-F169","v":6.3424781470170943E-2},{"$f":"T169-H169","v":8.8797119014616704E-2},{"$f":"U169-J169","v":0.48905452274014927}]
["AIM/Hub-Global 2.0","WB2C",435.36067600000001,{"$f":"CO2RFFromCO2PPM(C170)","v":2.4942384342466899},{"$f":"'Non-CO2 RF Calcs'!$S$17+('Non-CO2 RF Calcs'!$S$16-'Non-CO2 RF Calcs'!$S$17)*($O170-1)/9","v":0.39548726474368812},{"$f":"'Non-CO2 RF Calcs'!$S$19+('Non-CO2 RF Calcs'!$S$18-'Non-CO2 RF Calcs'!$S$19)*($O170-1)/9","v":0.35201774519770029},{"$f":"'Non-CO2 RF Calcs'!$S$21+('Non-CO2 RF Calcs'!$S$20-'Non-CO2 RF Calcs'!$S$21)*($O170-1)/9","v":8.3041845977254503E-2},{"$f":"'Non-CO2 RF Calcs'!$S$23+('Non-CO2 RF Calcs'!$S$22-'Non-CO2 RF Calcs'!$S$23)*($O170-1)/9","v":-0.25791883525106146},{"$f":"'Non-CO2 RF Calcs'!$S$25+('Non-CO2 RF Calcs'!$S$24-'Non-CO2 RF Calcs'!$S$25)*($O170-1)/9","v":8.3041845977254503E-2},3.1499083008915263,{"$f":"CFfromRFin2100(J170)","v":0.59636984959699146},1.8785103396469944,1.696499,0.18201133964699445,{"$f":"MitigationAggressiveness(D170,0)","v":9.1524008410397553},null,2.461649,0.26944699999999999,0.290244,-0.21393100000000001,2.8405860000000001,null,-3.2589434246689919E-2,{"$f":"R170-E170","v":-0.12604026474368812},{"$f":"S170-F170","v":-6.1773745197700292E-2},{"$f":"T170-H170","v":4.3987835251061452E-2},{"$f":"U170-J170","v":-0.30932230089152624}]
["BET EMF33","EMF33_1.5C_cost100",406.48871100000002,{"$f":"CO2RFFromCO2PPM(C171)","v":2.1231603609784946},{"$f":"'Non-CO2 RF Calcs'!$S$17+('Non-CO2 RF Calcs'!$S$16-'Non-CO2 RF Calcs'!$S$17)*($O171-1)/9","v":0.37502583884431595},{"$f":"'Non-CO2 RF Calcs'!$S$19+('Non-CO2 RF Calcs'!$S$18-'Non-CO2 RF Calcs'!$S$19)*($O171-1)/9","v":0.34653644997960364},{"$f":"'Non-CO2 RF Calcs'!$S$21+('Non-CO2 RF Calcs'!$S$20-'Non-CO2 RF Calcs'!$S$21)*($O171-1)/9","v":5.8922762852170019E-2},{"$f":"'Non-CO2 RF Calcs'!$S$23+('Non-CO2 RF Calcs'!$S$22-'Non-CO2 RF Calcs'!$S$23)*($O171-1)/9","v":-0.24299407118815058},{"$f":"'Non-CO2 RF Calcs'!$S$25+('Non-CO2 RF Calcs'!$S$24-'Non-CO2 RF Calcs'!$S$25)*($O171-1)/9","v":5.8922762852170019E-2},2.7195741043186041,{"$f":"CFfromRFin2100(J171)","v":0.60331545389841446},1.6407610851573526,1.5469869999999999,9.3774085157352749E-2,{"$f":"MitigationAggressiveness(D171,0)","v":9.4638380693407012},null,2.1313759999999999,0.28454200000000002,0.31692900000000002,-0.16408900000000001,2.6199620000000001,null,8.2156390215053499E-3,{"$f":"R171-E171","v":-9.0483838844315934E-2},{"$f":"S171-F171","v":-2.9607449979603628E-2},{"$f":"T171-H171","v":7.8905071188150572E-2},{"$f":"U171-J171","v":-9.9612104318604011E-2}]
["BET EMF33","EMF33_1.5C_full",407.29792400000002,{"$f":"CO2RFFromCO2PPM(C172)","v":2.1337262930695107},{"$f":"'Non-CO2 RF Calcs'!$S$17+('Non-CO2 RF Calcs'!$S$16-'Non-CO2 RF Calcs'!$S$17)*($O172-1)/9","v":0.37562844690318486},{"$f":"'Non-CO2 RF Calcs'!$S$19+('Non-CO2 RF Calcs'!$S$18-'Non-CO2 RF Calcs'!$S$19)*($O172-1)/9","v":0.34669787923129458},{"$f":"'Non-CO2 RF Calcs'!$S$21+('Non-CO2 RF Calcs'!$S$20-'Non-CO2 RF Calcs'!$S$21)*($O172-1)/9","v":5.963309232457259E-2},{"$f":"'Non-CO2 RF Calcs'!$S$23+('Non-CO2 RF Calcs'!$S$22-'Non-CO2 RF Calcs'!$S$23)*($O172-1)/9","v":-0.24343361939682673},{"$f":"'Non-CO2 RF Calcs'!$S$25+('Non-CO2 RF Calcs'!$S$24-'Non-CO2 RF Calcs'!$S$25)*($O172-1)/9","v":5.963309232457259E-2},2.731885184456309,{"$f":"CFfromRFin2100(J172)","v":0.60310985155849006},1.6476268680722828,1.5533440000000001,9.42828680722827E-2,{"$f":"MitigationAggressiveness(D172,0)","v":9.4546659527673533},null,2.138979,0.28431499999999998,0.31700899999999999,-0.161942,2.6312220000000002,null,5.2527069304892926E-3,{"$f":"R172-E172","v":-9.1313446903184881E-2},{"$f":"S172-F172","v":-2.9688879231294596E-2},{"$f":"T172-H172","v":8.1491619396826726E-2},{"$f":"U172-J172","v":-0.10066318445630884}]
["BET EMF33","EMF33_1.5C_nofuel",406.796627,{"$f":"CO2RFFromCO2PPM(C173)","v":2.1271819595102781},{"$f":"'Non-CO2 RF Calcs'!$S$17+('Non-CO2 RF Calcs'!$S$16-'Non-CO2 RF Calcs'!$S$17)*($O173-1)/9","v":0.37525534131951777},{"$f":"'Non-CO2 RF Calcs'!$S$19+('Non-CO2 RF Calcs'!$S$18-'Non-CO2 RF Calcs'!$S$19)*($O173-1)/9","v":0.34659793009472623},{"$f":"'Non-CO2 RF Calcs'!$S$21+('Non-CO2 RF Calcs'!$S$20-'Non-CO2 RF Calcs'!$S$21)*($O173-1)/9","v":5.9193290883990834E-2},{"$f":"'Non-CO2 RF Calcs'!$S$23+('Non-CO2 RF Calcs'!$S$22-'Non-CO2 RF Calcs'!$S$23)*($O173-1)/9","v":-0.24316147253696602},{"$f":"'Non-CO2 RF Calcs'!$S$25+('Non-CO2 RF Calcs'!$S$24-'Non-CO2 RF Calcs'!$S$25)*($O173-1)/9","v":5.9193290883990834E-2},2.7242603401555372,{"$f":"CFfromRFin2100(J173)","v":0.60323714306419174},1.6433750245585095,1.5491220000000001,9.4253024558509368E-2,{"$f":"MitigationAggressiveness(D173,0)","v":9.4603448809814648},null,2.135141,0.284582,0.31700499999999998,-0.16134200000000001,2.6256499999999998,null,7.959040489721847E-3,{"$f":"R173-E173","v":-9.0673341319517764E-2},{"$f":"S173-F173","v":-2.9592930094726244E-2},{"$f":"T173-H173","v":8.1819472536966004E-2},{"$f":"U173-J173","v":-9.8610340155537379E-2}]
["BET EMF33","EMF33_Baseline",859.887066,{"$f":"CO2RFFromCO2PPM(C174)","v":6.547785826032702},{"$f":"'Non-CO2 RF Calcs'!$S$17+('Non-CO2 RF Calcs'!$S$16-'Non-CO2 RF Calcs'!$S$17)*($O174-1)/9","v":0.52484371119833717},{"$f":"'Non-CO2 RF Calcs'!$S$19+('Non-CO2 RF Calcs'!$S$18-'Non-CO2 RF Calcs'!$S$19)*($O174-1)/9","v":0.38667030924034607},{"$f":"'Non-CO2 RF Calcs'!$S$21+('Non-CO2 RF Calcs'!$S$20-'Non-CO2 RF Calcs'!$S$21)*($O174-1)/9","v":0.23552187841238115},{"$f":"'Non-CO2 RF Calcs'!$S$23+('Non-CO2 RF Calcs'!$S$22-'Non-CO2 RF Calcs'!$S$23)*($O174-1)/9","v":-0.35227269176364417},{"$f":"'Non-CO2 RF Calcs'!$S$25+('Non-CO2 RF Calcs'!$S$24-'Non-CO2 RF Calcs'!$S$25)*($O174-1)/9","v":0.23552187841238115},7.578070911532504,{"$f":"CFfromRFin2100(J174)","v":0.55374975921382141},4.196354942566388,4.4544040000000003,-0.25804905743361228,{"$f":"MitigationAggressiveness(D174,0)","v":7.1835051567985211},null,6.5505800000000001,0.65225200000000005,0.41185500000000003,-0.31209999999999999,7.9167899999999998,null,2.7941739672980859E-3,{"$f":"R174-E174","v":0.12740828880166288},{"$f":"S174-F174","v":2.518469075965396E-2},{"$f":"T174-H174","v":4.0172691763644186E-2},{"$f":"U174-J174","v":0.33871908846749577}]
["BET EMF33","EMF33_Med2C_cost100",482.873786,{"$f":"CO2RFFromCO2PPM(C175)","v":3.0784540927908277},{"$f":"'Non-CO2 RF Calcs'!$S$17+('Non-CO2 RF Calcs'!$S$16-'Non-CO2 RF Calcs'!$S$17)*($O175-1)/9","v":0.42477127812650961},{"$f":"'Non-CO2 RF Calcs'!$S$19+('Non-CO2 RF Calcs'!$S$18-'Non-CO2 RF Calcs'!$S$19)*($O175-1)/9","v":0.35986247328807563},{"$f":"'Non-CO2 RF Calcs'!$S$21+('Non-CO2 RF Calcs'!$S$20-'Non-CO2 RF Calcs'!$S$21)*($O175-1)/9","v":0.11756063056684796},{"$f":"'Non-CO2 RF Calcs'!$S$23+('Non-CO2 RF Calcs'!$S$22-'Non-CO2 RF Calcs'!$S$23)*($O175-1)/9","v":-0.27927888086582719},{"$f":"'Non-CO2 RF Calcs'!$S$25+('Non-CO2 RF Calcs'!$S$24-'Non-CO2 RF Calcs'!$S$25)*($O175-1)/9","v":0.11756063056684796},3.8189302244732817,{"$f":"CFfromRFin2100(J175)","v":0.58655811620782139},2.2400245183961607,2.161673,7.8351518396160724E-2,{"$f":"MitigationAggressiveness(D175,0)","v":8.7066776540866115},null,3.0733830000000002,0.26245200000000002,0.31660100000000002,-6.7753999999999995E-2,3.6394150000000001,null,-5.0710927908275139E-3,{"$f":"R175-E175","v":-0.16231927812650959},{"$f":"S175-F175","v":-4.3261473288075614E-2},{"$f":"T175-H175","v":0.21152488086582721},{"$f":"U175-J175","v":-0.17951522447328161}]
["BET EMF33","EMF33_Med2C_full",483.09180199999997,{"$f":"CO2RFFromCO2PPM(C176)","v":3.0810589572849958},{"$f":"'Non-CO2 RF Calcs'!$S$17+('Non-CO2 RF Calcs'!$S$16-'Non-CO2 RF Calcs'!$S$17)*($O176-1)/9","v":0.42489382302443701},{"$f":"'Non-CO2 RF Calcs'!$S$19+('Non-CO2 RF Calcs'!$S$18-'Non-CO2 RF Calcs'!$S$19)*($O176-1)/9","v":0.35989530114505469},{"$f":"'Non-CO2 RF Calcs'!$S$21+('Non-CO2 RF Calcs'!$S$20-'Non-CO2 RF Calcs'!$S$21)*($O176-1)/9","v":0.11770508142741853},{"$f":"'Non-CO2 RF Calcs'!$S$23+('Non-CO2 RF Calcs'!$S$22-'Non-CO2 RF Calcs'!$S$23)*($O176-1)/9","v":-0.27936826631226064},{"$f":"'Non-CO2 RF Calcs'!$S$25+('Non-CO2 RF Calcs'!$S$24-'Non-CO2 RF Calcs'!$S$25)*($O176-1)/9","v":0.11770508142741853},3.8218899779970639,{"$f":"CFfromRFin2100(J176)","v":0.58651737620656164},2.2416048820449914,2.1619380000000001,7.9666882044991283E-2,{"$f":"MitigationAggressiveness(D176,0)","v":8.7048124349400755},null,3.0764529999999999,0.26231199999999999,0.31645899999999999,-6.7901000000000003E-2,3.6423559999999999,null,-4.6059572849959096E-3,{"$f":"R176-E176","v":-0.16258182302443702},{"$f":"S176-F176","v":-4.3436301145054701E-2},{"$f":"T176-H176","v":0.21146726631226065},{"$f":"U176-J176","v":-0.17953397799706394}]
["BET EMF33","EMF33_Med2C_limbio",479.09580499999998,{"$f":"CO2RFFromCO2PPM(C177)","v":3.0332045962550263},{"$f":"'Non-CO2 RF Calcs'!$S$17+('Non-CO2 RF Calcs'!$S$16-'Non-CO2 RF Calcs'!$S$17)*($O177-1)/9","v":0.42263116417403901},{"$f":"'Non-CO2 RF Calcs'!$S$19+('Non-CO2 RF Calcs'!$S$18-'Non-CO2 RF Calcs'!$S$19)*($O177-1)/9","v":0.35928917031146251},{"$f":"'Non-CO2 RF Calcs'!$S$21+('Non-CO2 RF Calcs'!$S$20-'Non-CO2 RF Calcs'!$S$21)*($O177-1)/9","v":0.11503795269627115},{"$f":"'Non-CO2 RF Calcs'!$S$23+('Non-CO2 RF Calcs'!$S$22-'Non-CO2 RF Calcs'!$S$23)*($O177-1)/9","v":-0.27771786082912736},{"$f":"'Non-CO2 RF Calcs'!$S$25+('Non-CO2 RF Calcs'!$S$24-'Non-CO2 RF Calcs'!$S$25)*($O177-1)/9","v":0.11503795269627115},3.7674829753039427,{"$f":"CFfromRFin2100(J177)","v":0.58727002368668102},2.2125298161459139,2.1008200000000001,0.1117098161459138,{"$f":"MitigationAggressiveness(D177,0)","v":8.7392516868487213},null,3.0221019999999998,0.26324900000000001,0.31526500000000002,-6.6017999999999993E-2,3.536187,null,-1.1102596255026409E-2,{"$f":"R177-E177","v":-0.159382164174039},{"$f":"S177-F177","v":-4.4024170311462496E-2},{"$f":"T177-H177","v":0.21169986082912737},{"$f":"U177-J177","v":-0.23129597530394275}]
["BET EMF33","EMF33_Med2C_nofuel",483.413591,{"$f":"CO2RFFromCO2PPM(C178)","v":3.0849024401594289},{"$f":"'Non-CO2 RF Calcs'!$S$17+('Non-CO2 RF Calcs'!$S$16-'Non-CO2 RF Calcs'!$S$17)*($O178-1)/9","v":0.42507450815866388},{"$f":"'Non-CO2 RF Calcs'!$S$19+('Non-CO2 RF Calcs'!$S$18-'Non-CO2 RF Calcs'!$S$19)*($O178-1)/9","v":0.35994370385985519},{"$f":"'Non-CO2 RF Calcs'!$S$21+('Non-CO2 RF Calcs'!$S$20-'Non-CO2 RF Calcs'!$S$21)*($O178-1)/9","v":0.11791806559544848},{"$f":"'Non-CO2 RF Calcs'!$S$23+('Non-CO2 RF Calcs'!$S$22-'Non-CO2 RF Calcs'!$S$23)*($O178-1)/9","v":-0.27950005981537585},{"$f":"'Non-CO2 RF Calcs'!$S$25+('Non-CO2 RF Calcs'!$S$24-'Non-CO2 RF Calcs'!$S$25)*($O178-1)/9","v":0.11791806559544848},3.8262567235534695,{"$f":"CFfromRFin2100(J178)","v":0.58645731234075327},2.2439362344209042,2.1643159999999999,7.9620234420904268E-2,{"$f":"MitigationAggressiveness(D178,0)","v":8.7020622806900469},null,3.081283,0.26233899999999999,0.31652799999999998,-6.7760000000000001E-2,3.6481430000000001,null,-3.6194401594289438E-3,{"$f":"R178-E178","v":-0.16273550815866389},{"$f":"S178-F178","v":-4.3415703859855215E-2},{"$f":"T178-H178","v":0.21174005981537586},{"$f":"U178-J178","v":-0.17811372355346933}]
["BET EMF33","EMF33_tax_hi_full",508.11019399999998,{"$f":"CO2RFFromCO2PPM(C179)","v":3.3753786345628427},{"$f":"'Non-CO2 RF Calcs'!$S$17+('Non-CO2 RF Calcs'!$S$16-'Non-CO2 RF Calcs'!$S$17)*($O179-1)/9","v":0.43828119727346715},{"$f":"'Non-CO2 RF Calcs'!$S$19+('Non-CO2 RF Calcs'!$S$18-'Non-CO2 RF Calcs'!$S$19)*($O179-1)/9","v":0.36348156882820432},{"$f":"'Non-CO2 RF Calcs'!$S$21+('Non-CO2 RF Calcs'!$S$20-'Non-CO2 RF Calcs'!$S$21)*($O179-1)/9","v":0.13348556485642915},{"$f":"'Non-CO2 RF Calcs'!$S$23+('Non-CO2 RF Calcs'!$S$22-'Non-CO2 RF Calcs'!$S$23)*($O179-1)/9","v":-0.28913314795204864},{"$f":"'Non-CO2 RF Calcs'!$S$25+('Non-CO2 RF Calcs'!$S$24-'Non-CO2 RF Calcs'!$S$25)*($O179-1)/9","v":0.13348556485642915},4.1549793824253252,{"$f":"CFfromRFin2100(J179)","v":0.5820826178178824},2.4185412759014615,2.2856190000000001,0.13292227590146144,{"$f":"MitigationAggressiveness(D179,0)","v":8.5010472256702112},null,3.3522029999999998,0.261432,0.32178000000000001,-0.116535,3.7974929999999998,null,-2.3175634562842884E-2,{"$f":"R179-E179","v":-0.17684919727346715},{"$f":"S179-F179","v":-4.1701568828204305E-2},{"$f":"T179-H179","v":0.17259814795204864},{"$f":"U179-J179","v":-0.35748638242532538}]
["BET EMF33","EMF33_tax_hi_none",540.356088,{"$f":"CO2RFFromCO2PPM(C180)","v":3.7412669563042336},{"$f":"'Non-CO2 RF Calcs'!$S$17+('Non-CO2 RF Calcs'!$S$16-'Non-CO2 RF Calcs'!$S$17)*($O180-1)/9","v":0.45365576664122881},{"$f":"'Non-CO2 RF Calcs'!$S$19+('Non-CO2 RF Calcs'!$S$18-'Non-CO2 RF Calcs'!$S$19)*($O180-1)/9","v":0.36760017492976604},{"$f":"'Non-CO2 RF Calcs'!$S$21+('Non-CO2 RF Calcs'!$S$20-'Non-CO2 RF Calcs'!$S$21)*($O180-1)/9","v":0.15160847175534664},{"$f":"'Non-CO2 RF Calcs'!$S$23+('Non-CO2 RF Calcs'!$S$22-'Non-CO2 RF Calcs'!$S$23)*($O180-1)/9","v":-0.30034750913641467},{"$f":"'Non-CO2 RF Calcs'!$S$25+('Non-CO2 RF Calcs'!$S$24-'Non-CO2 RF Calcs'!$S$25)*($O180-1)/9","v":0.15160847175534664},4.5653923322495071,{"$f":"CFfromRFin2100(J180)","v":0.57702756909497033},2.6343572394427501,2.4717030000000002,0.16265423944274993,{"$f":"MitigationAggressiveness(D180,0)","v":8.2670355153542037},null,3.711989,0.264872,0.32518799999999998,-5.5624E-2,4.2174699999999996,null,-2.9277956304233577E-2,{"$f":"R180-E180","v":-0.18878376664122881},{"$f":"S180-F180","v":-4.2412174929766067E-2},{"$f":"T180-H180","v":0.24472350913641466},{"$f":"U180-J180","v":-0.34792233224950753}]
["BET EMF33","EMF33_tax_lo_full",618.16088999999999,{"$f":"CO2RFFromCO2PPM(C181)","v":4.5617049404273775},{"$f":"'Non-CO2 RF Calcs'!$S$17+('Non-CO2 RF Calcs'!$S$16-'Non-CO2 RF Calcs'!$S$17)*($O181-1)/9","v":0.48302073396852663},{"$f":"'Non-CO2 RF Calcs'!$S$19+('Non-CO2 RF Calcs'!$S$18-'Non-CO2 RF Calcs'!$S$19)*($O181-1)/9","v":0.37546658931272558},{"$f":"'Non-CO2 RF Calcs'!$S$21+('Non-CO2 RF Calcs'!$S$20-'Non-CO2 RF Calcs'!$S$21)*($O181-1)/9","v":0.18622268150864718},{"$f":"'Non-CO2 RF Calcs'!$S$23+('Non-CO2 RF Calcs'!$S$22-'Non-CO2 RF Calcs'!$S$23)*($O181-1)/9","v":-0.32176660334961193},{"$f":"'Non-CO2 RF Calcs'!$S$25+('Non-CO2 RF Calcs'!$S$24-'Non-CO2 RF Calcs'!$S$25)*($O181-1)/9","v":0.18622268150864718},5.4708710233763131,{"$f":"CFfromRFin2100(J181)","v":0.56747262215838667},3.1045695251256928,3.1677059999999999,-6.3136474874307069E-2,{"$f":"MitigationAggressiveness(D181,0)","v":7.8200801526860477},null,4.5066290000000002,0.29733700000000002,0.34636400000000001,-6.9179000000000004E-2,5.477595,null,-5.507594042737729E-2,{"$f":"R181-E181","v":-0.18568373396852661},{"$f":"S181-F181","v":-2.910258931272558E-2},{"$f":"T181-H181","v":0.25258760334961194},{"$f":"U181-J181","v":6.7239766236868448E-3}]
["BET EMF33","EMF33_tax_lo_none",628.38140499999997,{"$f":"CO2RFFromCO2PPM(C182)","v":4.6629221757049057},{"$f":"'Non-CO2 RF Calcs'!$S$17+('Non-CO2 RF Calcs'!$S$16-'Non-CO2 RF Calcs'!$S$17)*($O182-1)/9","v":0.48615373898004027},{"$f":"'Non-CO2 RF Calcs'!$S$19+('Non-CO2 RF Calcs'!$S$18-'Non-CO2 RF Calcs'!$S$19)*($O182-1)/9","v":0.37630587223818429},{"$f":"'Non-CO2 RF Calcs'!$S$21+('Non-CO2 RF Calcs'!$S$20-'Non-CO2 RF Calcs'!$S$21)*($O182-1)/9","v":0.18991573832079833},{"$f":"'Non-CO2 RF Calcs'!$S$23+('Non-CO2 RF Calcs'!$S$22-'Non-CO2 RF Calcs'!$S$23)*($O182-1)/9","v":-0.32405184783035917},{"$f":"'Non-CO2 RF Calcs'!$S$25+('Non-CO2 RF Calcs'!$S$24-'Non-CO2 RF Calcs'!$S$25)*($O182-1)/9","v":0.18991573832079833},5.5811614157343676,{"$f":"CFfromRFin2100(J182)","v":0.56645902869251652},3.1614992745330404,3.2148379999999999,-5.3338725466959502E-2,{"$f":"MitigationAggressiveness(D182,0)","v":7.7723936228304371},null,4.6078469999999996,0.32593100000000003,0.349827,-9.0767E-2,5.6107360000000002,null,-5.5075175704906165E-2,{"$f":"R182-E182","v":-0.16022273898004025},{"$f":"S182-F182","v":-2.6478872238184292E-2},{"$f":"T182-H182","v":0.23328484783035919},{"$f":"U182-J182","v":2.9574584265632531E-2}]
["BET EMF33","EMF33_WB2C_cost100",437.39735899999999,{"$f":"CO2RFFromCO2PPM(C183)","v":2.5199562268690783},{"$f":"'Non-CO2 RF Calcs'!$S$17+('Non-CO2 RF Calcs'!$S$16-'Non-CO2 RF Calcs'!$S$17)*($O183-1)/9","v":0.39685178325399995},{"$f":"'Non-CO2 RF Calcs'!$S$19+('Non-CO2 RF Calcs'!$S$18-'Non-CO2 RF Calcs'!$S$19)*($O183-1)/9","v":0.35238327831461796},{"$f":"'Non-CO2 RF Calcs'!$S$21+('Non-CO2 RF Calcs'!$S$20-'Non-CO2 RF Calcs'!$S$21)*($O183-1)/9","v":8.4650283998034759E-2},{"$f":"'Non-CO2 RF Calcs'!$S$23+('Non-CO2 RF Calcs'!$S$22-'Non-CO2 RF Calcs'!$S$23)*($O183-1)/9","v":-0.25891412839074951},{"$f":"'Non-CO2 RF Calcs'!$S$25+('Non-CO2 RF Calcs'!$S$24-'Non-CO2 RF Calcs'!$S$25)*($O183-1)/9","v":8.4650283998034759E-2},3.1795777280430162,{"$f":"CFfromRFin2100(J183)","v":0.59590928635490181},1.8947398948280538,1.803615,9.112489482805386E-2,{"$f":"MitigationAggressiveness(D183,0)","v":9.1316319139421616},null,2.5254439999999998,0.27392499999999997,0.314025,-0.119327,3.0196209999999999,null,5.487773130921525E-3,{"$f":"R183-E183","v":-0.12292678325399997},{"$f":"S183-F183","v":-3.8358278314617966E-2},{"$f":"T183-H183","v":0.13958712839074949},{"$f":"U183-J183","v":-0.15995672804301631}]
["BET EMF33","EMF33_WB2C_full",438.68837400000001,{"$f":"CO2RFFromCO2PPM(C184)","v":2.536226943421716},{"$f":"'Non-CO2 RF Calcs'!$S$17+('Non-CO2 RF Calcs'!$S$16-'Non-CO2 RF Calcs'!$S$17)*($O184-1)/9","v":0.39771147812542063},{"$f":"'Non-CO2 RF Calcs'!$S$19+('Non-CO2 RF Calcs'!$S$18-'Non-CO2 RF Calcs'!$S$19)*($O184-1)/9","v":0.35261357709295893},{"$f":"'Non-CO2 RF Calcs'!$S$21+('Non-CO2 RF Calcs'!$S$20-'Non-CO2 RF Calcs'!$S$21)*($O184-1)/9","v":8.5663656778992237E-2},{"$f":"'Non-CO2 RF Calcs'!$S$23+('Non-CO2 RF Calcs'!$S$22-'Non-CO2 RF Calcs'!$S$23)*($O184-1)/9","v":-0.25954119823354288},{"$f":"'Non-CO2 RF Calcs'!$S$25+('Non-CO2 RF Calcs'!$S$24-'Non-CO2 RF Calcs'!$S$25)*($O184-1)/9","v":8.5663656778992237E-2},3.1983381139645375,{"$f":"CFfromRFin2100(J184)","v":0.59561928427854793},1.9049918583203587,1.8133090000000001,9.1682858320358607E-2,{"$f":"MitigationAggressiveness(D184,0)","v":9.1185467560818783},null,2.5491389999999998,0.27380300000000002,0.31411600000000001,-0.117426,3.044543,null,1.291205657828387E-2,{"$f":"R184-E184","v":-0.12390847812542061},{"$f":"S184-F184","v":-3.8497577092958923E-2},{"$f":"T184-H184","v":0.14211519823354288},{"$f":"U184-J184","v":-0.15379511396453749}]
["BET EMF33","EMF33_WB2C_limbio",432.73104999999998,{"$f":"CO2RFFromCO2PPM(C185)","v":2.4609439543943274},{"$f":"'Non-CO2 RF Calcs'!$S$17+('Non-CO2 RF Calcs'!$S$16-'Non-CO2 RF Calcs'!$S$17)*($O185-1)/9","v":0.39371043231854319},{"$f":"'Non-CO2 RF Calcs'!$S$19+('Non-CO2 RF Calcs'!$S$18-'Non-CO2 RF Calcs'!$S$19)*($O185-1)/9","v":0.35154175964697659},{"$f":"'Non-CO2 RF Calcs'!$S$21+('Non-CO2 RF Calcs'!$S$20-'Non-CO2 RF Calcs'!$S$21)*($O185-1)/9","v":8.0947389355698562E-2},{"$f":"'Non-CO2 RF Calcs'!$S$23+('Non-CO2 RF Calcs'!$S$22-'Non-CO2 RF Calcs'!$S$23)*($O185-1)/9","v":-0.25662279631149615},{"$f":"'Non-CO2 RF Calcs'!$S$25+('Non-CO2 RF Calcs'!$S$24-'Non-CO2 RF Calcs'!$S$25)*($O185-1)/9","v":8.0947389355698562E-2},3.1114681287597481,{"$f":"CFfromRFin2100(J185)","v":0.59697007344209141},1.8574533573384335,1.77041,8.7043357338433491E-2,{"$f":"MitigationAggressiveness(D185,0)","v":9.1794454746036038},null,2.4553759999999998,0.27222200000000002,0.311031,-6.7303000000000002E-2,3.0009459999999999,null,-5.5679543943276677E-3,{"$f":"R185-E185","v":-0.12148843231854317},{"$f":"S185-F185","v":-4.0510759646976591E-2},{"$f":"T185-H185","v":0.18931979631149615},{"$f":"U185-J185","v":-0.11052212875974821}]
["BET EMF33","EMF33_WB2C_nofuel",438.31446899999997,{"$f":"CO2RFFromCO2PPM(C186)","v":2.5315171018914677},{"$f":"'Non-CO2 RF Calcs'!$S$17+('Non-CO2 RF Calcs'!$S$16-'Non-CO2 RF Calcs'!$S$17)*($O186-1)/9","v":0.39746291036510473},{"$f":"'Non-CO2 RF Calcs'!$S$19+('Non-CO2 RF Calcs'!$S$18-'Non-CO2 RF Calcs'!$S$19)*($O186-1)/9","v":0.35254698968684695},{"$f":"'Non-CO2 RF Calcs'!$S$21+('Non-CO2 RF Calcs'!$S$20-'Non-CO2 RF Calcs'!$S$21)*($O186-1)/9","v":8.537065537709787E-2},{"$f":"'Non-CO2 RF Calcs'!$S$23+('Non-CO2 RF Calcs'!$S$22-'Non-CO2 RF Calcs'!$S$23)*($O186-1)/9","v":-0.25935989047940078},{"$f":"'Non-CO2 RF Calcs'!$S$25+('Non-CO2 RF Calcs'!$S$24-'Non-CO2 RF Calcs'!$S$25)*($O186-1)/9","v":8.537065537709787E-2},3.1929084222182142,{"$f":"CFfromRFin2100(J186)","v":0.59570312055649155},1.9020255107664941,1.8108850000000001,9.1140510766493987E-2,{"$f":"MitigationAggressiveness(D186,0)","v":9.1223301314291518},null,2.5438190000000001,0.273841,0.31410100000000002,-0.117949,3.0384850000000001,null,1.2301898108532328E-2,{"$f":"R186-E186","v":-0.12362191036510473},{"$f":"S186-F186","v":-3.8445989686846926E-2},{"$f":"T186-H186","v":0.14141089047940078},{"$f":"U186-J186","v":-0.15442342221821415}]
["C-ROADS-5.005","Ratchet-1.5-allCDR",391.00795599999998,{"$f":"CO2RFFromCO2PPM(C187)","v":1.9191896478722679},{"$f":"'Non-CO2 RF Calcs'!$S$17+('Non-CO2 RF Calcs'!$S$16-'Non-CO2 RF Calcs'!$S$17)*($O187-1)/9","v":0.36316302419663671},{"$f":"'Non-CO2 RF Calcs'!$S$19+('Non-CO2 RF Calcs'!$S$18-'Non-CO2 RF Calcs'!$S$19)*($O187-1)/9","v":0.34335858791264551},{"$f":"'Non-CO2 RF Calcs'!$S$21+('Non-CO2 RF Calcs'!$S$20-'Non-CO2 RF Calcs'!$S$21)*($O187-1)/9","v":4.493936726713299E-2},{"$f":"'Non-CO2 RF Calcs'!$S$23+('Non-CO2 RF Calcs'!$S$22-'Non-CO2 RF Calcs'!$S$23)*($O187-1)/9","v":-0.23434121822426757},{"$f":"'Non-CO2 RF Calcs'!$S$25+('Non-CO2 RF Calcs'!$S$24-'Non-CO2 RF Calcs'!$S$25)*($O187-1)/9","v":4.493936726713299E-2},2.4812487762915483,{"$f":"CFfromRFin2100(J187)","v":0.6073757301843502},1.5070502872691045,1.477352,2.9698287269104506E-2,{"$f":"MitigationAggressiveness(D187,0)","v":9.6443984140542351},null,1.8507530000000001,0.178232,0.30390200000000001,5.1506999999999997E-2,2.357237,null,-6.8436647872267775E-2,{"$f":"R187-E187","v":-0.18493102419663671},{"$f":"S187-F187","v":-3.9456587912645502E-2},{"$f":"T187-H187","v":0.28584821822426754},{"$f":"U187-J187","v":-0.12401177629154825}]
["C-ROADS-5.005","Ratchet-1.5-limCDR",399.01849099999998,{"$f":"CO2RFFromCO2PPM(C188)","v":2.0251706221614509},{"$f":"'Non-CO2 RF Calcs'!$S$17+('Non-CO2 RF Calcs'!$S$16-'Non-CO2 RF Calcs'!$S$17)*($O188-1)/9","v":0.36938133409829699},{"$f":"'Non-CO2 RF Calcs'!$S$19+('Non-CO2 RF Calcs'!$S$18-'Non-CO2 RF Calcs'!$S$19)*($O188-1)/9","v":0.34502437564885885},{"$f":"'Non-CO2 RF Calcs'!$S$21+('Non-CO2 RF Calcs'!$S$20-'Non-CO2 RF Calcs'!$S$21)*($O188-1)/9","v":5.2269253959940531E-2},{"$f":"'Non-CO2 RF Calcs'!$S$23+('Non-CO2 RF Calcs'!$S$22-'Non-CO2 RF Calcs'!$S$23)*($O188-1)/9","v":-0.23887691425096474},{"$f":"'Non-CO2 RF Calcs'!$S$25+('Non-CO2 RF Calcs'!$S$24-'Non-CO2 RF Calcs'!$S$25)*($O188-1)/9","v":5.2269253959940531E-2},2.6052379255775229,{"$f":"CFfromRFin2100(J188)","v":0.60524435406308941},1.5768055454468308,1.4970889999999999,7.9716545446830933E-2,{"$f":"MitigationAggressiveness(D188,0)","v":9.5497513835875658},null,1.969949,0.17715600000000001,0.300259,5.1520000000000003E-2,2.4731679999999998,null,-5.5221622161450989E-2,{"$f":"R188-E188","v":-0.19222533409829698},{"$f":"S188-F188","v":-4.4765375648858852E-2},{"$f":"T188-H188","v":0.29039691425096475},{"$f":"U188-J188","v":-0.13206992557752306}]
["C-ROADS-5.005","Ratchet-1.5-limCDR-noOS",370.73996799999998,{"$f":"CO2RFFromCO2PPM(C189)","v":1.6468633062575841},{"$f":"'Non-CO2 RF Calcs'!$S$17+('Non-CO2 RF Calcs'!$S$16-'Non-CO2 RF Calcs'!$S$17)*($O189-1)/9","v":0.34664373960719685},{"$f":"'Non-CO2 RF Calcs'!$S$19+('Non-CO2 RF Calcs'!$S$18-'Non-CO2 RF Calcs'!$S$19)*($O189-1)/9","v":0.33893333054926433},{"$f":"'Non-CO2 RF Calcs'!$S$21+('Non-CO2 RF Calcs'!$S$20-'Non-CO2 RF Calcs'!$S$21)*($O189-1)/9","v":2.5467117379022852E-2},{"$f":"'Non-CO2 RF Calcs'!$S$23+('Non-CO2 RF Calcs'!$S$22-'Non-CO2 RF Calcs'!$S$23)*($O189-1)/9","v":-0.22229189056753601},{"$f":"'Non-CO2 RF Calcs'!$S$25+('Non-CO2 RF Calcs'!$S$24-'Non-CO2 RF Calcs'!$S$25)*($O189-1)/9","v":2.5467117379022852E-2},2.1610827206045551,{"$f":"CFfromRFin2100(J189)","v":0.61307008629798543},1.3248951700181197,1.258132,6.6763170018119711E-2,{"$f":"MitigationAggressiveness(D189,0)","v":9.8958334915190722},null,1.5744579999999999,0.18388699999999999,0.29948599999999997,5.1534000000000003E-2,2.08169,null,-7.2405306257584234E-2,{"$f":"R189-E189","v":-0.16275673960719686},{"$f":"S189-F189","v":-3.9447330549264359E-2},{"$f":"T189-H189","v":0.27382589056753603},{"$f":"U189-J189","v":-7.9392720604555045E-2}]
["C-ROADS-5.005","Ratchet-1.5-noCDR",400.66344500000002,{"$f":"CO2RFFromCO2PPM(C190)","v":2.0468179452053996},{"$f":"'Non-CO2 RF Calcs'!$S$17+('Non-CO2 RF Calcs'!$S$16-'Non-CO2 RF Calcs'!$S$17)*($O190-1)/9","v":0.37063696118242251},{"$f":"'Non-CO2 RF Calcs'!$S$19+('Non-CO2 RF Calcs'!$S$18-'Non-CO2 RF Calcs'!$S$19)*($O190-1)/9","v":0.34536073845982707},{"$f":"'Non-CO2 RF Calcs'!$S$21+('Non-CO2 RF Calcs'!$S$20-'Non-CO2 RF Calcs'!$S$21)*($O190-1)/9","v":5.3749335268304499E-2},{"$f":"'Non-CO2 RF Calcs'!$S$23+('Non-CO2 RF Calcs'!$S$22-'Non-CO2 RF Calcs'!$S$23)*($O190-1)/9","v":-0.23979278091997097},{"$f":"'Non-CO2 RF Calcs'!$S$25+('Non-CO2 RF Calcs'!$S$24-'Non-CO2 RF Calcs'!$S$25)*($O190-1)/9","v":5.3749335268304499E-2},2.6305215344642869,{"$f":"CFfromRFin2100(J190)","v":0.60481478942751687},1.5909783279515664,1.497371,9.3607327951566344E-2,{"$f":"MitigationAggressiveness(D190,0)","v":9.5306398602371001},null,2.0057109999999998,0.17755299999999999,0.30013899999999999,5.1515999999999999E-2,2.4931549999999998,null,-4.1106945205399814E-2,{"$f":"R190-E190","v":-0.19308396118242252},{"$f":"S190-F190","v":-4.5221738459827077E-2},{"$f":"T190-H190","v":0.29130878091997098},{"$f":"U190-J190","v":-0.13736653446428715}]
["C-ROADS-5.005","Ratchet-1.5-noCDR-noOS",388.42804699999999,{"$f":"CO2RFFromCO2PPM(C191)","v":1.884857825852992},{"$f":"'Non-CO2 RF Calcs'!$S$17+('Non-CO2 RF Calcs'!$S$16-'Non-CO2 RF Calcs'!$S$17)*($O191-1)/9","v":0.36112335513476612},{"$f":"'Non-CO2 RF Calcs'!$S$19+('Non-CO2 RF Calcs'!$S$18-'Non-CO2 RF Calcs'!$S$19)*($O191-1)/9","v":0.34281219254751727},{"$f":"'Non-CO2 RF Calcs'!$S$21+('Non-CO2 RF Calcs'!$S$20-'Non-CO2 RF Calcs'!$S$21)*($O191-1)/9","v":4.2535089681941418E-2},{"$f":"'Non-CO2 RF Calcs'!$S$23+('Non-CO2 RF Calcs'!$S$22-'Non-CO2 RF Calcs'!$S$23)*($O191-1)/9","v":-0.23285346367262749},{"$f":"'Non-CO2 RF Calcs'!$S$25+('Non-CO2 RF Calcs'!$S$24-'Non-CO2 RF Calcs'!$S$25)*($O191-1)/9","v":4.2535089681941418E-2},2.441010089226531,{"$f":"CFfromRFin2100(J191)","v":0.60807629582048306},1.4843203731172958,1.3928499999999999,9.1470373117295889E-2,{"$f":"MitigationAggressiveness(D191,0)","v":9.675443605254701},null,1.835869,0.18,0.298987,5.1517E-2,2.3280400000000001,null,-4.8988825852992024E-2,{"$f":"R191-E191","v":-0.18112335513476613},{"$f":"S191-F191","v":-4.3825192547517267E-2},{"$f":"T191-H191","v":0.28437046367262747},{"$f":"U191-J191","v":-0.11297008922653085}]
["C-ROADS-5.005","Reference",928.21241699999996,{"$f":"CO2RFFromCO2PPM(C192)","v":6.9547823152042323},{"$f":"'Non-CO2 RF Calcs'!$S$17+('Non-CO2 RF Calcs'!$S$16-'Non-CO2 RF Calcs'!$S$17)*($O192-1)/9","v":0.52830105270998584},{"$f":"'Non-CO2 RF Calcs'!$S$19+('Non-CO2 RF Calcs'!$S$18-'Non-CO2 RF Calcs'!$S$19)*($O192-1)/9","v":0.38759647682946352},{"$f":"'Non-CO2 RF Calcs'!$S$21+('Non-CO2 RF Calcs'!$S$20-'Non-CO2 RF Calcs'!$S$21)*($O192-1)/9","v":0.23959724968520241},{"$f":"'Non-CO2 RF Calcs'!$S$23+('Non-CO2 RF Calcs'!$S$22-'Non-CO2 RF Calcs'!$S$23)*($O192-1)/9","v":-0.35479451045800253},{"$f":"'Non-CO2 RF Calcs'!$S$25+('Non-CO2 RF Calcs'!$S$24-'Non-CO2 RF Calcs'!$S$25)*($O192-1)/9","v":0.23959724968520241},7.9950798336560842,{"$f":"CFfromRFin2100(J192)","v":0.5524456034879861},4.4168467036387629,4.8633660000000001,-0.44651929636123722,{"$f":"MitigationAggressiveness(D192,0)","v":7.1308819983259379},null,7.0302819999999997,1.1114550000000001,0.53207400000000005,-0.247727,8.6544299999999996,null,7.5499684795767408E-2,{"$f":"R192-E192","v":0.58315394729001424},{"$f":"S192-F192","v":0.14447752317053653},{"$f":"T192-H192","v":0.10706751045800253},{"$f":"U192-J192","v":0.65935016634391541}]
["C3IAM 1.0","SSP1_5.0",609.40352099999996,{"$f":"CO2RFFromCO2PPM(C193)","v":4.4737665817174044},{"$f":"'Non-CO2 RF Calcs'!$S$17+('Non-CO2 RF Calcs'!$S$16-'Non-CO2 RF Calcs'!$S$17)*($O193-1)/9","v":0.48021142767771569},{"$f":"'Non-CO2 RF Calcs'!$S$19+('Non-CO2 RF Calcs'!$S$18-'Non-CO2 RF Calcs'!$S$19)*($O193-1)/9","v":0.37471402019981426},{"$f":"'Non-CO2 RF Calcs'!$S$21+('Non-CO2 RF Calcs'!$S$20-'Non-CO2 RF Calcs'!$S$21)*($O193-1)/9","v":0.18291118736913214},{"$f":"'Non-CO2 RF Calcs'!$S$23+('Non-CO2 RF Calcs'!$S$22-'Non-CO2 RF Calcs'!$S$23)*($O193-1)/9","v":-0.31971746787992356},{"$f":"'Non-CO2 RF Calcs'!$S$25+('Non-CO2 RF Calcs'!$S$24-'Non-CO2 RF Calcs'!$S$25)*($O193-1)/9","v":0.18291118736913214},5.3747969364532757,{"$f":"CFfromRFin2100(J193)","v":0.56838215162579253},3.0549386472930311,2.936893,0.11804564729303113,{"$f":"MitigationAggressiveness(D193,0)","v":7.8628397613741896},null,4.4486619999999997,0.86154600000000003,0.551145,-0.83756200000000003,5.3544989999999997,null,-2.5104581717404706E-2,{"$f":"R193-E193","v":0.38133457232228435},{"$f":"S193-F193","v":0.17643097980018574},{"$f":"T193-H193","v":-0.51784453212007642},{"$f":"U193-J193","v":-2.0297936453276044E-2}]
["C3IAM 1.0","SSP1_BAU",684.07517299999995,{"$f":"CO2RFFromCO2PPM(C194)","v":5.1877239772450237},{"$f":"'Non-CO2 RF Calcs'!$S$17+('Non-CO2 RF Calcs'!$S$16-'Non-CO2 RF Calcs'!$S$17)*($O194-1)/9","v":0.50067331293048201},{"$f":"'Non-CO2 RF Calcs'!$S$19+('Non-CO2 RF Calcs'!$S$18-'Non-CO2 RF Calcs'!$S$19)*($O194-1)/9","v":0.38019543847148374},{"$f":"'Non-CO2 RF Calcs'!$S$21+('Non-CO2 RF Calcs'!$S$20-'Non-CO2 RF Calcs'!$S$21)*($O194-1)/9","v":0.20703081196101125},{"$f":"'Non-CO2 RF Calcs'!$S$23+('Non-CO2 RF Calcs'!$S$22-'Non-CO2 RF Calcs'!$S$23)*($O194-1)/9","v":-0.33464256699969031},{"$f":"'Non-CO2 RF Calcs'!$S$25+('Non-CO2 RF Calcs'!$S$24-'Non-CO2 RF Calcs'!$S$25)*($O194-1)/9","v":0.20703081196101125},6.148011785569321,{"$f":"CFfromRFin2100(J194)","v":0.56176427261237949},3.4537333687326859,3.4746920000000001,-2.0958631267314232E-2,{"$f":"MitigationAggressiveness(D194,0)","v":7.5513955413929681},null,5.1397640000000004,0.86125799999999997,0.55350500000000002,-0.86960000000000004,6.3373670000000004,null,-4.7959977245023211E-2,{"$f":"R194-E194","v":0.36058468706951796},{"$f":"S194-F194","v":0.17330956152851629},{"$f":"T194-H194","v":-0.53495743300030973},{"$f":"U194-J194","v":0.18935521443067937}]
["C3IAM 1.0","SSP1_NDC",686.78910399999995,{"$f":"CO2RFFromCO2PPM(C195)","v":5.2121421469081346},{"$f":"'Non-CO2 RF Calcs'!$S$17+('Non-CO2 RF Calcs'!$S$16-'Non-CO2 RF Calcs'!$S$17)*($O195-1)/9","v":0.50127847964029848},{"$f":"'Non-CO2 RF Calcs'!$S$19+('Non-CO2 RF Calcs'!$S$18-'Non-CO2 RF Calcs'!$S$19)*($O195-1)/9","v":0.38035755314565078},{"$f":"'Non-CO2 RF Calcs'!$S$21+('Non-CO2 RF Calcs'!$S$20-'Non-CO2 RF Calcs'!$S$21)*($O195-1)/9","v":0.20774415746539499},{"$f":"'Non-CO2 RF Calcs'!$S$23+('Non-CO2 RF Calcs'!$S$22-'Non-CO2 RF Calcs'!$S$23)*($O195-1)/9","v":-0.33508398151337859},{"$f":"'Non-CO2 RF Calcs'!$S$25+('Non-CO2 RF Calcs'!$S$24-'Non-CO2 RF Calcs'!$S$25)*($O195-1)/9","v":0.20774415746539499},6.1741825131114965,{"$f":"CFfromRFin2100(J195)","v":0.56156833401236883},3.4672253877763235,3.48922,-2.1994612223676491E-2,{"$f":"MitigationAggressiveness(D195,0)","v":7.5421844803607527},null,5.1646700000000001,0.86105699999999996,0.55351899999999998,-0.87043000000000004,6.3599680000000003,null,-4.7472146908134505E-2,{"$f":"R195-E195","v":0.35977852035970148},{"$f":"S195-F195","v":0.1731614468543492},{"$f":"T195-H195","v":-0.53534601848662144},{"$f":"U195-J195","v":0.18578548688850383}]
["C3IAM 1.0","SSP2_5.0",594.17564000000004,{"$f":"CO2RFFromCO2PPM(C196)","v":4.3181919425888076},{"$f":"'Non-CO2 RF Calcs'!$S$17+('Non-CO2 RF Calcs'!$S$16-'Non-CO2 RF Calcs'!$S$17)*($O196-1)/9","v":0.47504250434895295},{"$f":"'Non-CO2 RF Calcs'!$S$19+('Non-CO2 RF Calcs'!$S$18-'Non-CO2 RF Calcs'!$S$19)*($O196-1)/9","v":0.3733293466749098},{"$f":"'Non-CO2 RF Calcs'!$S$21+('Non-CO2 RF Calcs'!$S$20-'Non-CO2 RF Calcs'!$S$21)*($O196-1)/9","v":0.17681827419452079},{"$f":"'Non-CO2 RF Calcs'!$S$23+('Non-CO2 RF Calcs'!$S$22-'Non-CO2 RF Calcs'!$S$23)*($O196-1)/9","v":-0.3159472046773269},{"$f":"'Non-CO2 RF Calcs'!$S$25+('Non-CO2 RF Calcs'!$S$24-'Non-CO2 RF Calcs'!$S$25)*($O196-1)/9","v":0.17681827419452079},5.2042531373243843,{"$f":"CFfromRFin2100(J196)","v":0.57005765813167142},2.9667243557875422,3.006812,-4.0087644212457807E-2,{"$f":"MitigationAggressiveness(D196,0)","v":7.9415143934710359},null,4.2969280000000003,0.96798499999999998,0.57636500000000002,-0.85883500000000002,5.5676940000000004,null,-2.1263942588807261E-2,{"$f":"R196-E196","v":0.49294249565104703},{"$f":"S196-F196","v":0.20303565332509022},{"$f":"T196-H196","v":-0.54288779532267317},{"$f":"U196-J196","v":0.36344086267561604}]
["C3IAM 1.0","SSP2_BAU",769.81522900000004,{"$f":"CO2RFFromCO2PPM(C197)","v":5.9072794514390425},{"$f":"'Non-CO2 RF Calcs'!$S$17+('Non-CO2 RF Calcs'!$S$16-'Non-CO2 RF Calcs'!$S$17)*($O197-1)/9","v":0.51588046990157421},{"$f":"'Non-CO2 RF Calcs'!$S$19+('Non-CO2 RF Calcs'!$S$18-'Non-CO2 RF Calcs'!$S$19)*($O197-1)/9","v":0.38426919741655563},{"$f":"'Non-CO2 RF Calcs'!$S$21+('Non-CO2 RF Calcs'!$S$20-'Non-CO2 RF Calcs'!$S$21)*($O197-1)/9","v":0.22495638004633389},{"$f":"'Non-CO2 RF Calcs'!$S$23+('Non-CO2 RF Calcs'!$S$22-'Non-CO2 RF Calcs'!$S$23)*($O197-1)/9","v":-0.34573481594545735},{"$f":"'Non-CO2 RF Calcs'!$S$25+('Non-CO2 RF Calcs'!$S$24-'Non-CO2 RF Calcs'!$S$25)*($O197-1)/9","v":0.22495638004633389},6.9116070629043822,{"$f":"CFfromRFin2100(J197)","v":0.55680239146206112},3.8483993414712323,3.9831240000000001,-0.1347246585287678,{"$f":"MitigationAggressiveness(D197,0)","v":7.3199319649684291},null,5.865577,0.98897400000000002,0.57835700000000001,-0.98211599999999999,7.3987990000000003,null,-4.1702451439042498E-2,{"$f":"R197-E197","v":0.47309353009842581},{"$f":"S197-F197","v":0.19408780258344438},{"$f":"T197-H197","v":-0.63638118405454258},{"$f":"U197-J197","v":0.48719193709561814}]
["C3IAM 1.0","SSP2_NDC",760.35778000000005,{"$f":"CO2RFFromCO2PPM(C198)","v":5.8331672759246844},{"$f":"'Non-CO2 RF Calcs'!$S$17+('Non-CO2 RF Calcs'!$S$16-'Non-CO2 RF Calcs'!$S$17)*($O198-1)/9","v":0.51456530299669012},{"$f":"'Non-CO2 RF Calcs'!$S$19+('Non-CO2 RF Calcs'!$S$18-'Non-CO2 RF Calcs'!$S$19)*($O198-1)/9","v":0.38391688482103115},{"$f":"'Non-CO2 RF Calcs'!$S$21+('Non-CO2 RF Calcs'!$S$20-'Non-CO2 RF Calcs'!$S$21)*($O198-1)/9","v":0.22340611565819884},{"$f":"'Non-CO2 RF Calcs'!$S$23+('Non-CO2 RF Calcs'!$S$22-'Non-CO2 RF Calcs'!$S$23)*($O198-1)/9","v":-0.34477552034918385},{"$f":"'Non-CO2 RF Calcs'!$S$25+('Non-CO2 RF Calcs'!$S$24-'Non-CO2 RF Calcs'!$S$25)*($O198-1)/9","v":0.22340611565819884},6.8336861747096203,{"$f":"CFfromRFin2100(J198)","v":0.55723707794990096},3.8079833156218252,3.8739520000000001,-6.5968684378174824E-2,{"$f":"MitigationAggressiveness(D198,0)","v":7.3399497260777764},null,5.7877729999999996,0.99210799999999999,0.57825800000000005,-0.97438499999999995,7.2086790000000001,null,-4.5394275924684813E-2,{"$f":"R198-E198","v":0.47754269700330987},{"$f":"S198-F198","v":0.1943411151789689},{"$f":"T198-H198","v":-0.62960947965081604},{"$f":"U198-J198","v":0.37499282529037981}]
["C3IAM 1.0","SSP3_5.5",635.69486099999995,{"$f":"CO2RFFromCO2PPM(C199)","v":4.7344153125007002},{"$f":"'Non-CO2 RF Calcs'!$S$17+('Non-CO2 RF Calcs'!$S$16-'Non-CO2 RF Calcs'!$S$17)*($O199-1)/9","v":0.48830186281209692},{"$f":"'Non-CO2 RF Calcs'!$S$19+('Non-CO2 RF Calcs'!$S$18-'Non-CO2 RF Calcs'!$S$19)*($O199-1)/9","v":0.37688132093596505},{"$f":"'Non-CO2 RF Calcs'!$S$21+('Non-CO2 RF Calcs'!$S$20-'Non-CO2 RF Calcs'!$S$21)*($O199-1)/9","v":0.19244785790636143},{"$f":"'Non-CO2 RF Calcs'!$S$23+('Non-CO2 RF Calcs'!$S$22-'Non-CO2 RF Calcs'!$S$23)*($O199-1)/9","v":-0.32561871035152612},{"$f":"'Non-CO2 RF Calcs'!$S$25+('Non-CO2 RF Calcs'!$S$24-'Non-CO2 RF Calcs'!$S$25)*($O199-1)/9","v":0.19244785790636143},5.658875501709959,{"$f":"CFfromRFin2100(J199)","v":0.56576441160514923},3.2015903685717286,3.637289,-0.43569863142827137,{"$f":"MitigationAggressiveness(D199,0)","v":7.7396976740928931},null,4.6854649999999998,1.0336430000000001,0.63458099999999995,-0.606958,6.5826659999999997,null,-4.8950312500700477E-2,{"$f":"R199-E199","v":0.54534113718790311},{"$f":"S199-F199","v":0.2576996790640349},{"$f":"T199-H199","v":-0.28133928964847388},{"$f":"U199-J199","v":0.92379049829004067}]
["C3IAM 1.0","SSP3_BAU",829.29126199999996,{"$f":"CO2RFFromCO2PPM(C200)","v":6.3434783693660881},{"$f":"'Non-CO2 RF Calcs'!$S$17+('Non-CO2 RF Calcs'!$S$16-'Non-CO2 RF Calcs'!$S$17)*($O200-1)/9","v":0.5224524930902088},{"$f":"'Non-CO2 RF Calcs'!$S$19+('Non-CO2 RF Calcs'!$S$18-'Non-CO2 RF Calcs'!$S$19)*($O200-1)/9","v":0.38602973939707269},{"$f":"'Non-CO2 RF Calcs'!$S$21+('Non-CO2 RF Calcs'!$S$20-'Non-CO2 RF Calcs'!$S$21)*($O200-1)/9","v":0.23270320934191713},{"$f":"'Non-CO2 RF Calcs'!$S$23+('Non-CO2 RF Calcs'!$S$22-'Non-CO2 RF Calcs'!$S$23)*($O200-1)/9","v":-0.35052851390124651},{"$f":"'Non-CO2 RF Calcs'!$S$25+('Non-CO2 RF Calcs'!$S$24-'Non-CO2 RF Calcs'!$S$25)*($O200-1)/9","v":0.23270320934191713},7.3668385066359576,{"$f":"CFfromRFin2100(J200)","v":0.55458832576777162},4.085562633596787,4.4533370000000003,-0.36777436640321337,{"$f":"MitigationAggressiveness(D200,0)","v":7.2199011706208696},null,6.3275309999999996,1.1256299999999999,0.63831099999999996,-0.88142600000000004,8.2370830000000002,null,-1.5947369366088537E-2,{"$f":"R200-E200","v":0.60317750690979111},{"$f":"S200-F200","v":0.25228126060292727},{"$f":"T200-H200","v":-0.53089748609875353},{"$f":"U200-J200","v":0.87024449336404253}]
["C3IAM 1.0","SSP3_NDC",782.04420500000003,{"$f":"CO2RFFromCO2PPM(C201)","v":6.0011777038303622},{"$f":"'Non-CO2 RF Calcs'!$S$17+('Non-CO2 RF Calcs'!$S$16-'Non-CO2 RF Calcs'!$S$17)*($O201-1)/9","v":0.51746393223941967},{"$f":"'Non-CO2 RF Calcs'!$S$19+('Non-CO2 RF Calcs'!$S$18-'Non-CO2 RF Calcs'!$S$19)*($O201-1)/9","v":0.38469338215241689},{"$f":"'Non-CO2 RF Calcs'!$S$21+('Non-CO2 RF Calcs'!$S$20-'Non-CO2 RF Calcs'!$S$21)*($O201-1)/9","v":0.22682290000148075},{"$f":"'Non-CO2 RF Calcs'!$S$23+('Non-CO2 RF Calcs'!$S$22-'Non-CO2 RF Calcs'!$S$23)*($O201-1)/9","v":-0.34688980885314008},{"$f":"'Non-CO2 RF Calcs'!$S$25+('Non-CO2 RF Calcs'!$S$24-'Non-CO2 RF Calcs'!$S$25)*($O201-1)/9","v":0.22682290000148075},7.0100910093720206,{"$f":"CFfromRFin2100(J201)","v":0.55627628993589717},3.8995474188064563,4.2908609999999996,-0.39131358119354331,{"$f":"MitigationAggressiveness(D201,0)","v":7.2958305595217698},null,5.9695080000000003,1.1044320000000001,0.63736800000000005,-0.82444399999999995,7.8932390000000003,null,-3.1669703830361939E-2,{"$f":"R201-E201","v":0.58696806776058041},{"$f":"S201-F201","v":0.25267461784758316},{"$f":"T201-H201","v":-0.47755419114685987},{"$f":"U201-J201","v":0.88314799062797977}]
["C3IAM 2.0","2C-hybrid",472.51307500000001,{"$f":"CO2RFFromCO2PPM(C202)","v":2.9538651417248731},{"$f":"'Non-CO2 RF Calcs'!$S$17+('Non-CO2 RF Calcs'!$S$16-'Non-CO2 RF Calcs'!$S$17)*($O202-1)/9","v":0.41882684254538749},{"$f":"'Non-CO2 RF Calcs'!$S$19+('Non-CO2 RF Calcs'!$S$18-'Non-CO2 RF Calcs'!$S$19)*($O202-1)/9","v":0.35827005218871877},{"$f":"'Non-CO2 RF Calcs'!$S$21+('Non-CO2 RF Calcs'!$S$20-'Non-CO2 RF Calcs'!$S$21)*($O202-1)/9","v":0.11055357560313728},{"$f":"'Non-CO2 RF Calcs'!$S$23+('Non-CO2 RF Calcs'!$S$22-'Non-CO2 RF Calcs'!$S$23)*($O202-1)/9","v":-0.2749429514456716},{"$f":"'Non-CO2 RF Calcs'!$S$25+('Non-CO2 RF Calcs'!$S$24-'Non-CO2 RF Calcs'!$S$25)*($O202-1)/9","v":0.11055357560313728},3.677126236219582,{"$f":"CFfromRFin2100(J202)","v":0.5885375280579952},2.1641267854218724,1.961762,0.20236478542187242,{"$f":"MitigationAggressiveness(D202,0)","v":8.7971561256409814},null,2.9469059999999998,0.51250099999999998,0.44303500000000001,-0.653366,3.5590860000000002,null,-6.95914172487333E-3,{"$f":"R202-E202","v":9.3674157454612494E-2},{"$f":"S202-F202","v":8.4764947811281244E-2},{"$f":"T202-H202","v":-0.3784230485543284},{"$f":"U202-J202","v":-0.11804023621958182}]
["C3IAM 2.0","2C-normal",468.572789,{"$f":"CO2RFFromCO2PPM(C203)","v":2.9060720188912619},{"$f":"'Non-CO2 RF Calcs'!$S$17+('Non-CO2 RF Calcs'!$S$16-'Non-CO2 RF Calcs'!$S$17)*($O203-1)/9","v":0.41650326708942575},{"$f":"'Non-CO2 RF Calcs'!$S$19+('Non-CO2 RF Calcs'!$S$18-'Non-CO2 RF Calcs'!$S$19)*($O203-1)/9","v":0.35764760275150526},{"$f":"'Non-CO2 RF Calcs'!$S$21+('Non-CO2 RF Calcs'!$S$20-'Non-CO2 RF Calcs'!$S$21)*($O203-1)/9","v":0.10781464089519655},{"$f":"'Non-CO2 RF Calcs'!$S$23+('Non-CO2 RF Calcs'!$S$22-'Non-CO2 RF Calcs'!$S$23)*($O203-1)/9","v":-0.27324811279497607},{"$f":"'Non-CO2 RF Calcs'!$S$25+('Non-CO2 RF Calcs'!$S$24-'Non-CO2 RF Calcs'!$S$25)*($O203-1)/9","v":0.10781464089519655},3.6226040577276093,{"$f":"CFfromRFin2100(J203)","v":0.58931294584320792},2.1348474688830157,1.9545600000000001,0.18028746888301561,{"$f":"MitigationAggressiveness(D203,0)","v":8.8325225709372024},null,2.9068679999999998,0.52295700000000001,0.44424400000000003,-0.59751100000000001,3.5649860000000002,null,7.9598110873790873E-4,{"$f":"R203-E203","v":0.10645373291057425},{"$f":"S203-F203","v":8.6596397248494772E-2},{"$f":"T203-H203","v":-0.32426288720502394},{"$f":"U203-J203","v":-5.7618057727609084E-2}]
["C3IAM 2.0","2C-with BECCS",469.51245299999999,{"$f":"CO2RFFromCO2PPM(C204)","v":2.917490083632063},{"$f":"'Non-CO2 RF Calcs'!$S$17+('Non-CO2 RF Calcs'!$S$16-'Non-CO2 RF Calcs'!$S$17)*($O204-1)/9","v":0.417060563683462},{"$f":"'Non-CO2 RF Calcs'!$S$19+('Non-CO2 RF Calcs'!$S$18-'Non-CO2 RF Calcs'!$S$19)*($O204-1)/9","v":0.35779689377212986},{"$f":"'Non-CO2 RF Calcs'!$S$21+('Non-CO2 RF Calcs'!$S$20-'Non-CO2 RF Calcs'!$S$21)*($O204-1)/9","v":0.10847155908569761},{"$f":"'Non-CO2 RF Calcs'!$S$23+('Non-CO2 RF Calcs'!$S$22-'Non-CO2 RF Calcs'!$S$23)*($O204-1)/9","v":-0.27365461037828032},{"$f":"'Non-CO2 RF Calcs'!$S$25+('Non-CO2 RF Calcs'!$S$24-'Non-CO2 RF Calcs'!$S$25)*($O204-1)/9","v":0.10847155908569761},3.6356360488807691,{"$f":"CFfromRFin2100(J204)","v":0.58912687898289839},2.1418509185948436,1.981611,0.16023991859484354,{"$f":"MitigationAggressiveness(D204,0)","v":8.8240401265835313},null,2.914072,0.52417499999999995,0.44623299999999999,-0.61403799999999997,3.5844900000000002,null,-3.4180836320629737E-3,{"$f":"R204-E204","v":0.10711443631653794},{"$f":"S204-F204","v":8.8436106227870126E-2},{"$f":"T204-H204","v":-0.34038338962171966},{"$f":"U204-J204","v":-5.1146048880768902E-2}]
["C3IAM 2.0","2C-with CCS",476.23010499999998,{"$f":"CO2RFFromCO2PPM(C205)","v":2.9987428932799678},{"$f":"'Non-CO2 RF Calcs'!$S$17+('Non-CO2 RF Calcs'!$S$16-'Non-CO2 RF Calcs'!$S$17)*($O205-1)/9","v":0.42098684699428424},{"$f":"'Non-CO2 RF Calcs'!$S$19+('Non-CO2 RF Calcs'!$S$18-'Non-CO2 RF Calcs'!$S$19)*($O205-1)/9","v":0.35884868351749472},{"$f":"'Non-CO2 RF Calcs'!$S$21+('Non-CO2 RF Calcs'!$S$20-'Non-CO2 RF Calcs'!$S$21)*($O205-1)/9","v":0.11309969956877408},{"$f":"'Non-CO2 RF Calcs'!$S$23+('Non-CO2 RF Calcs'!$S$22-'Non-CO2 RF Calcs'!$S$23)*($O205-1)/9","v":-0.27651847980489563},{"$f":"'Non-CO2 RF Calcs'!$S$25+('Non-CO2 RF Calcs'!$S$24-'Non-CO2 RF Calcs'!$S$25)*($O205-1)/9","v":0.11309969956877408},3.7282593431243991,{"$f":"CFfromRFin2100(J205)","v":0.58781755458762608},2.1915362899438535,1.97282,0.2187162899438535,{"$f":"MitigationAggressiveness(D205,0)","v":8.7642793455968917},null,2.994078,0.51403500000000002,0.44245200000000001,-0.64404600000000001,3.6067969999999998,null,-4.6648932799677745E-3,{"$f":"R205-E205","v":9.3048153005715784E-2},{"$f":"S205-F205","v":8.3603316482505297E-2},{"$f":"T205-H205","v":-0.36752752019510437},{"$f":"U205-J205","v":-0.1214623431243993}]
["C3IAM 2.0","SSP2 BAU",776.47141999999997,{"$f":"CO2RFFromCO2PPM(C206)","v":5.9586582772293397},{"$f":"'Non-CO2 RF Calcs'!$S$17+('Non-CO2 RF Calcs'!$S$16-'Non-CO2 RF Calcs'!$S$17)*($O206-1)/9","v":0.51675837053282614},{"$f":"'Non-CO2 RF Calcs'!$S$19+('Non-CO2 RF Calcs'!$S$18-'Non-CO2 RF Calcs'!$S$19)*($O206-1)/9","v":0.38450437323253789},{"$f":"'Non-CO2 RF Calcs'!$S$21+('Non-CO2 RF Calcs'!$S$20-'Non-CO2 RF Calcs'!$S$21)*($O206-1)/9","v":0.2259912130244881},{"$f":"'Non-CO2 RF Calcs'!$S$23+('Non-CO2 RF Calcs'!$S$22-'Non-CO2 RF Calcs'!$S$23)*($O206-1)/9","v":-0.34637516524743428},{"$f":"'Non-CO2 RF Calcs'!$S$25+('Non-CO2 RF Calcs'!$S$24-'Non-CO2 RF Calcs'!$S$25)*($O206-1)/9","v":0.2259912130244881},6.9655282817962458,{"$f":"CFfromRFin2100(J206)","v":0.55651112189766927},3.8763939587123732,4.0068919999999997,-0.13049804128762643,{"$f":"MitigationAggressiveness(D206,0)","v":7.3065697026967102},null,5.9035669999999998,0.90912199999999999,0.51615599999999995,-0.80615499999999995,7.382809,null,-5.509127722933993E-2,{"$f":"R206-E206","v":0.39236362946717385},{"$f":"S206-F206","v":0.13165162676746206},{"$f":"T206-H206","v":-0.45977983475256567},{"$f":"U206-J206","v":0.41728071820375412}]
["COFFEE 1.1","CO_2Deg2020",418.47965299999998,{"$f":"CO2RFFromCO2PPM(C207)","v":2.278749548923785},{"$f":"'Non-CO2 RF Calcs'!$S$17+('Non-CO2 RF Calcs'!$S$16-'Non-CO2 RF Calcs'!$S$17)*($O207-1)/9","v":0.38378111780887225},{"$f":"'Non-CO2 RF Calcs'!$S$19+('Non-CO2 RF Calcs'!$S$18-'Non-CO2 RF Calcs'!$S$19)*($O207-1)/9","v":0.34888185195488819},{"$f":"'Non-CO2 RF Calcs'!$S$21+('Non-CO2 RF Calcs'!$S$20-'Non-CO2 RF Calcs'!$S$21)*($O207-1)/9","v":6.9243123816647878E-2},{"$f":"'Non-CO2 RF Calcs'!$S$23+('Non-CO2 RF Calcs'!$S$22-'Non-CO2 RF Calcs'!$S$23)*($O207-1)/9","v":-0.24938025724837914},{"$f":"'Non-CO2 RF Calcs'!$S$25+('Non-CO2 RF Calcs'!$S$24-'Non-CO2 RF Calcs'!$S$25)*($O207-1)/9","v":6.9243123816647878E-2},2.9005185090724619,{"$f":"CFfromRFin2100(J207)","v":0.60033449329905497},1.7412813094485469,1.783155,-4.187369055145318E-2,{"$f":"MitigationAggressiveness(D207,0)","v":9.330576593472264},null,2.2380200000000001,0.43340800000000002,0.23564299999999999,-0.15839600000000001,2.8596349999999999,null,-4.0729548923784886E-2,{"$f":"R207-E207","v":4.9626882191127764E-2},{"$f":"S207-F207","v":-0.1132388519548882},{"$f":"T207-H207","v":9.0984257248379136E-2},{"$f":"U207-J207","v":-4.0883509072461965E-2}]
["COFFEE 1.1","CO_2Deg2030",419.00671299999999,{"$f":"CO2RFFromCO2PPM(C208)","v":2.285540366585689},{"$f":"'Non-CO2 RF Calcs'!$S$17+('Non-CO2 RF Calcs'!$S$16-'Non-CO2 RF Calcs'!$S$17)*($O208-1)/9","v":0.38415746017506247},{"$f":"'Non-CO2 RF Calcs'!$S$19+('Non-CO2 RF Calcs'!$S$18-'Non-CO2 RF Calcs'!$S$19)*($O208-1)/9","v":0.34898266817475038},{"$f":"'Non-CO2 RF Calcs'!$S$21+('Non-CO2 RF Calcs'!$S$20-'Non-CO2 RF Calcs'!$S$21)*($O208-1)/9","v":6.9686740642683098E-2},{"$f":"'Non-CO2 RF Calcs'!$S$23+('Non-CO2 RF Calcs'!$S$22-'Non-CO2 RF Calcs'!$S$23)*($O208-1)/9","v":-0.24965476504905199},{"$f":"'Non-CO2 RF Calcs'!$S$25+('Non-CO2 RF Calcs'!$S$24-'Non-CO2 RF Calcs'!$S$25)*($O208-1)/9","v":6.9686740642683098E-2},2.9083992111718162,{"$f":"CFfromRFin2100(J208)","v":0.60020665852839516},1.7456405722040562,1.795515,-4.9874427795943754E-2,{"$f":"MitigationAggressiveness(D208,0)","v":9.32484839916191},null,2.2489910000000002,0.42704999999999999,0.23663300000000001,-0.14522499999999999,2.8750309999999999,null,-3.6549366585688858E-2,{"$f":"R208-E208","v":4.2892539824937514E-2},{"$f":"S208-F208","v":-0.11234966817475037},{"$f":"T208-H208","v":0.10442976504905199},{"$f":"U208-J208","v":-3.336821117181632E-2}]
["COFFEE 1.1","CO_BAU",755.89669000000004,{"$f":"CO2RFFromCO2PPM(C209)","v":5.7977559797365616},{"$f":"'Non-CO2 RF Calcs'!$S$17+('Non-CO2 RF Calcs'!$S$16-'Non-CO2 RF Calcs'!$S$17)*($O209-1)/9","v":0.51391654658721164},{"$f":"'Non-CO2 RF Calcs'!$S$19+('Non-CO2 RF Calcs'!$S$18-'Non-CO2 RF Calcs'!$S$19)*($O209-1)/9","v":0.38374309314969446},{"$f":"'Non-CO2 RF Calcs'!$S$21+('Non-CO2 RF Calcs'!$S$20-'Non-CO2 RF Calcs'!$S$21)*($O209-1)/9","v":0.22264138841753173},{"$f":"'Non-CO2 RF Calcs'!$S$23+('Non-CO2 RF Calcs'!$S$22-'Non-CO2 RF Calcs'!$S$23)*($O209-1)/9","v":-0.34430231108246978},{"$f":"'Non-CO2 RF Calcs'!$S$25+('Non-CO2 RF Calcs'!$S$24-'Non-CO2 RF Calcs'!$S$25)*($O209-1)/9","v":0.22264138841753173},6.7963960852260605,{"$f":"CFfromRFin2100(J209)","v":0.55745086425873436},3.7886568715539464,3.5282100000000001,0.2604468715539463,{"$f":"MitigationAggressiveness(D209,0)","v":7.3498242528582702},null,5.7267140000000003,0.57569800000000004,0.26207900000000001,-0.51346099999999995,6.4022649999999999,null,-7.1041979736561345E-2,{"$f":"R209-E209","v":6.1781453412788401E-2},{"$f":"S209-F209","v":-0.12166409314969445},{"$f":"T209-H209","v":-0.16915868891753016},{"$f":"U209-J209","v":-0.39413108522606066}]
["COFFEE 1.1","CO_Bridge",420.54301400000003,{"$f":"CO2RFFromCO2PPM(C210)","v":2.3053114825323502},{"$f":"'Non-CO2 RF Calcs'!$S$17+('Non-CO2 RF Calcs'!$S$16-'Non-CO2 RF Calcs'!$S$17)*($O210-1)/9","v":0.38525040459432258},{"$f":"'Non-CO2 RF Calcs'!$S$19+('Non-CO2 RF Calcs'!$S$18-'Non-CO2 RF Calcs'!$S$19)*($O210-1)/9","v":0.34927545085022949},{"$f":"'Non-CO2 RF Calcs'!$S$21+('Non-CO2 RF Calcs'!$S$20-'Non-CO2 RF Calcs'!$S$21)*($O210-1)/9","v":7.0975058349810216E-2},{"$f":"'Non-CO2 RF Calcs'!$S$23+('Non-CO2 RF Calcs'!$S$22-'Non-CO2 RF Calcs'!$S$23)*($O210-1)/9","v":-0.25045196939207054},{"$f":"'Non-CO2 RF Calcs'!$S$25+('Non-CO2 RF Calcs'!$S$24-'Non-CO2 RF Calcs'!$S$25)*($O210-1)/9","v":7.0975058349810216E-2},{"$f":"SUM(D210:I210)","v":2.931335485284452},{"$f":"CFfromRFin2100(J210)","v":0.59983555154512802},{"$f":"K210*J210","v":1.7583192375794048},1.775326,{"$f":"L210-M210","v":-1.7006762420595178E-2},{"$f":"MitigationAggressiveness(D210,0)","v":9.3082130198733246},null,2.2665410000000001,0.42957299999999998,0.27046500000000001,-0.15199499999999999,2.880808,null,{"$f":"Q210-D210","v":-3.8770482532350048E-2},{"$f":"R210-E210","v":4.4322595405677401E-2},{"$f":"S210-F210","v":-7.8810450850229474E-2},{"$f":"T210-H210","v":9.8456969392070548E-2},{"$f":"U210-J210","v":-5.0527485284451945E-2}]
["COFFEE 1.1","CO_CurPol",674.71209799999997,{"$f":"CO2RFFromCO2PPM(C211)","v":5.1026571192013099},{"$f":"'Non-CO2 RF Calcs'!$S$17+('Non-CO2 RF Calcs'!$S$16-'Non-CO2 RF Calcs'!$S$17)*($O211-1)/9","v":0.4985161672975193},{"$f":"'Non-CO2 RF Calcs'!$S$19+('Non-CO2 RF Calcs'!$S$18-'Non-CO2 RF Calcs'!$S$19)*($O211-1)/9","v":0.37961757297467791},{"$f":"'Non-CO2 RF Calcs'!$S$21+('Non-CO2 RF Calcs'!$S$20-'Non-CO2 RF Calcs'!$S$21)*($O211-1)/9","v":0.20448805784943502},{"$f":"'Non-CO2 RF Calcs'!$S$23+('Non-CO2 RF Calcs'!$S$22-'Non-CO2 RF Calcs'!$S$23)*($O211-1)/9","v":-0.33306912388875365},{"$f":"'Non-CO2 RF Calcs'!$S$25+('Non-CO2 RF Calcs'!$S$24-'Non-CO2 RF Calcs'!$S$25)*($O211-1)/9","v":0.20448805784943502},6.0566978512836238,{"$f":"CFfromRFin2100(J211)","v":0.56246232055642709},3.4066643283421127,3.1972510000000001,0.20941332834211268,{"$f":"MitigationAggressiveness(D211,0)","v":7.5842288082569365},null,5.0479940000000001,0.58510700000000004,0.24184600000000001,-0.30895600000000001,5.6662249999999998,null,-5.466311920130984E-2,{"$f":"R211-E211","v":8.6590832702480747E-2},{"$f":"S211-F211","v":-0.1377715729746779},{"$f":"T211-H211","v":2.411312388875364E-2},{"$f":"U211-J211","v":-0.39047285128362397}]
["COFFEE 1.1","CO_GPP",524.03395499999999,{"$f":"CO2RFFromCO2PPM(C212)","v":3.5579567602161695},{"$f":"'Non-CO2 RF Calcs'!$S$17+('Non-CO2 RF Calcs'!$S$16-'Non-CO2 RF Calcs'!$S$17)*($O212-1)/9","v":0.44612880512970621},{"$f":"'Non-CO2 RF Calcs'!$S$19+('Non-CO2 RF Calcs'!$S$18-'Non-CO2 RF Calcs'!$S$19)*($O212-1)/9","v":0.36558381994342209},{"$f":"'Non-CO2 RF Calcs'!$S$21+('Non-CO2 RF Calcs'!$S$20-'Non-CO2 RF Calcs'!$S$21)*($O212-1)/9","v":0.14273600063488112},{"$f":"'Non-CO2 RF Calcs'!$S$23+('Non-CO2 RF Calcs'!$S$22-'Non-CO2 RF Calcs'!$S$23)*($O212-1)/9","v":-0.29485726983332028},{"$f":"'Non-CO2 RF Calcs'!$S$25+('Non-CO2 RF Calcs'!$S$24-'Non-CO2 RF Calcs'!$S$25)*($O212-1)/9","v":0.14273600063488112},4.3602841167257393,{"$f":"CFfromRFin2100(J212)","v":0.57949741410616162},2.5267733704107349,2.4255620000000002,0.10121137041073469,{"$f":"MitigationAggressiveness(D212,0)","v":8.3816011395782919},null,3.544378,0.42120099999999999,0.25498999999999999,-0.110009,4.2245759999999999,null,-1.3578760216169439E-2,{"$f":"R212-E212","v":-2.4927805129706215E-2},{"$f":"S212-F212","v":-0.1105938199434221},{"$f":"T212-H212","v":0.18484826983332028},{"$f":"U212-J212","v":-0.13570811672573946}]
["COFFEE 1.1","CO_NDCplus",637.61955599999999,{"$f":"CO2RFFromCO2PPM(C213)","v":4.7531007099963212},{"$f":"'Non-CO2 RF Calcs'!$S$17+('Non-CO2 RF Calcs'!$S$16-'Non-CO2 RF Calcs'!$S$17)*($O213-1)/9","v":0.48885444889776641},{"$f":"'Non-CO2 RF Calcs'!$S$19+('Non-CO2 RF Calcs'!$S$18-'Non-CO2 RF Calcs'!$S$19)*($O213-1)/9","v":0.37702935008524641},{"$f":"'Non-CO2 RF Calcs'!$S$21+('Non-CO2 RF Calcs'!$S$20-'Non-CO2 RF Calcs'!$S$21)*($O213-1)/9","v":0.19309922354429765},{"$f":"'Non-CO2 RF Calcs'!$S$23+('Non-CO2 RF Calcs'!$S$22-'Non-CO2 RF Calcs'!$S$23)*($O213-1)/9","v":-0.32602177204398214},{"$f":"'Non-CO2 RF Calcs'!$S$25+('Non-CO2 RF Calcs'!$S$24-'Non-CO2 RF Calcs'!$S$25)*($O213-1)/9","v":0.19309922354429765},5.6791611840239478,{"$f":"CFfromRFin2100(J213)","v":0.56558576183268161},3.2120527048367786,3.0587010000000001,0.15335170483677851,{"$f":"MitigationAggressiveness(D213,0)","v":7.7312869269746356},null,4.6954229999999999,0.58552700000000002,0.24864700000000001,-0.30093900000000001,5.4170249999999998,null,-5.7677709996321269E-2,{"$f":"R213-E213","v":9.6672551102233606E-2},{"$f":"S213-F213","v":-0.1283823500852464},{"$f":"T213-H213","v":2.5082772043982127E-2},{"$f":"U213-J213","v":-0.262136184023948}]
["COFFEE 1.1","EN_INDCi2030_1000",455.13732199999998,{"$f":"CO2RFFromCO2PPM(C214)","v":2.7414072098784188},{"$f":"'Non-CO2 RF Calcs'!$S$17+('Non-CO2 RF Calcs'!$S$16-'Non-CO2 RF Calcs'!$S$17)*($O214-1)/9","v":0.40831403658473275},{"$f":"'Non-CO2 RF Calcs'!$S$19+('Non-CO2 RF Calcs'!$S$18-'Non-CO2 RF Calcs'!$S$19)*($O214-1)/9","v":0.35545383628449462},{"$f":"'Non-CO2 RF Calcs'!$S$21+('Non-CO2 RF Calcs'!$S$20-'Non-CO2 RF Calcs'!$S$21)*($O214-1)/9","v":9.8161514458918742E-2},{"$f":"'Non-CO2 RF Calcs'!$S$23+('Non-CO2 RF Calcs'!$S$22-'Non-CO2 RF Calcs'!$S$23)*($O214-1)/9","v":-0.26727480801453612},{"$f":"'Non-CO2 RF Calcs'!$S$25+('Non-CO2 RF Calcs'!$S$24-'Non-CO2 RF Calcs'!$S$25)*($O214-1)/9","v":9.8161514458918742E-2},3.4342233036509477,{"$f":"CFfromRFin2100(J214)","v":0.59205347034285094},2.0332438248588338,2.0125540000000002,2.0689824858833639E-2,{"$f":"MitigationAggressiveness(D214,0)","v":8.9571683929264427},null,2.7196609999999999,0.3755,0.240288,-5.3860999999999999E-2,3.357774,null,-2.174620987841891E-2,{"$f":"R214-E214","v":-3.2814036584732753E-2},{"$f":"S214-F214","v":-0.11516583628449462},{"$f":"T214-H214","v":0.21341380801453613},{"$f":"U214-J214","v":-7.6449303650947709E-2}]
["COFFEE 1.1","EN_INDCi2030_1000_COV_NDCp",454.07823999999999,{"$f":"CO2RFFromCO2PPM(C215)","v":2.7283152527276657},{"$f":"'Non-CO2 RF Calcs'!$S$17+('Non-CO2 RF Calcs'!$S$16-'Non-CO2 RF Calcs'!$S$17)*($O215-1)/9","v":0.40765072046963702},{"$f":"'Non-CO2 RF Calcs'!$S$19+('Non-CO2 RF Calcs'!$S$18-'Non-CO2 RF Calcs'!$S$19)*($O215-1)/9","v":0.35527614429628029},{"$f":"'Non-CO2 RF Calcs'!$S$21+('Non-CO2 RF Calcs'!$S$20-'Non-CO2 RF Calcs'!$S$21)*($O215-1)/9","v":9.7379624839061374E-2},{"$f":"'Non-CO2 RF Calcs'!$S$23+('Non-CO2 RF Calcs'!$S$22-'Non-CO2 RF Calcs'!$S$23)*($O215-1)/9","v":-0.26679097875622271},{"$f":"'Non-CO2 RF Calcs'!$S$25+('Non-CO2 RF Calcs'!$S$24-'Non-CO2 RF Calcs'!$S$25)*($O215-1)/9","v":9.7379624839061374E-2},3.4192103884154834,{"$f":"CFfromRFin2100(J215)","v":0.59227596993496889},2.0251161492105023,2.0796269999999999,-5.4510850789497578E-2,{"$f":"MitigationAggressiveness(D215,0)","v":8.96726452862044},null,2.7117749999999998,0.47425800000000001,0.26607900000000001,-3.9149999999999997E-2,3.5100500000000001,null,-1.6540252727665905E-2,{"$f":"R215-E215","v":6.6607279530362995E-2},{"$f":"S215-F215","v":-8.9197144296280284E-2},{"$f":"T215-H215","v":0.22764097875622272},{"$f":"U215-J215","v":9.08396115845167E-2}]
["COFFEE 1.1","EN_INDCi2030_1000_NDCp",453.41130500000003,{"$f":"CO2RFFromCO2PPM(C216)","v":2.7200624743602955},{"$f":"'Non-CO2 RF Calcs'!$S$17+('Non-CO2 RF Calcs'!$S$16-'Non-CO2 RF Calcs'!$S$17)*($O216-1)/9","v":0.40723166104533859},{"$f":"'Non-CO2 RF Calcs'!$S$19+('Non-CO2 RF Calcs'!$S$18-'Non-CO2 RF Calcs'!$S$19)*($O216-1)/9","v":0.35516388484623984},{"$f":"'Non-CO2 RF Calcs'!$S$21+('Non-CO2 RF Calcs'!$S$20-'Non-CO2 RF Calcs'!$S$21)*($O216-1)/9","v":9.68856549105378E-2},{"$f":"'Non-CO2 RF Calcs'!$S$23+('Non-CO2 RF Calcs'!$S$22-'Non-CO2 RF Calcs'!$S$23)*($O216-1)/9","v":-0.26648531271580339},{"$f":"'Non-CO2 RF Calcs'!$S$25+('Non-CO2 RF Calcs'!$S$24-'Non-CO2 RF Calcs'!$S$25)*($O216-1)/9","v":9.68856549105378E-2},3.4097440173571463,{"$f":"CFfromRFin2100(J216)","v":0.59241657746713128},2.0199888808017472,2.026643,-6.6541191982527614E-3,{"$f":"MitigationAggressiveness(D216,0)","v":8.9736429064636436},null,2.6983990000000002,0.38761400000000001,0.27177400000000002,-4.5159999999999999E-2,3.3975849999999999,null,-2.1663474360295254E-2,{"$f":"R216-E216","v":-1.9617661045338575E-2},{"$f":"S216-F216","v":-8.3389884846239826E-2},{"$f":"T216-H216","v":0.22132531271580339},{"$f":"U216-J216","v":-1.2159017357146418E-2}]
["COFFEE 1.1","EN_INDCi2030_1000f",447.24746599999997,{"$f":"CO2RFFromCO2PPM(C217)","v":2.6434831469229896},{"$f":"'Non-CO2 RF Calcs'!$S$17+('Non-CO2 RF Calcs'!$S$16-'Non-CO2 RF Calcs'!$S$17)*($O217-1)/9","v":0.40330901241570605},{"$f":"'Non-CO2 RF Calcs'!$S$19+('Non-CO2 RF Calcs'!$S$18-'Non-CO2 RF Calcs'!$S$19)*($O217-1)/9","v":0.35411306877498366},{"$f":"'Non-CO2 RF Calcs'!$S$21+('Non-CO2 RF Calcs'!$S$20-'Non-CO2 RF Calcs'!$S$21)*($O217-1)/9","v":9.2261798839416764E-2},{"$f":"'Non-CO2 RF Calcs'!$S$23+('Non-CO2 RF Calcs'!$S$22-'Non-CO2 RF Calcs'!$S$23)*($O217-1)/9","v":-0.26362409446117713},{"$f":"'Non-CO2 RF Calcs'!$S$25+('Non-CO2 RF Calcs'!$S$24-'Non-CO2 RF Calcs'!$S$25)*($O217-1)/9","v":9.2261798839416764E-2},3.3218047313313361,{"$f":"CFfromRFin2100(J217)","v":0.59373425912462396},1.9722692711136813,1.975055,-2.7857288863186724E-3,{"$f":"MitigationAggressiveness(D217,0)","v":9.033348365057746},null,2.6120869999999998,0.37359999999999999,0.23552200000000001,-0.140903,3.1951149999999999,null,-3.1396146922989754E-2,{"$f":"R217-E217","v":-2.970901241570606E-2},{"$f":"S217-F217","v":-0.11859106877498365},{"$f":"T217-H217","v":0.12272109446117713},{"$f":"U217-J217","v":-0.12668973133133621}]
["COFFEE 1.1","EN_INDCi2030_1000f_COV_NDCp",447.71783199999999,{"$f":"CO2RFFromCO2PPM(C218)","v":2.6493464742540827},{"$f":"'Non-CO2 RF Calcs'!$S$17+('Non-CO2 RF Calcs'!$S$16-'Non-CO2 RF Calcs'!$S$17)*($O218-1)/9","v":0.40361152834912195},{"$f":"'Non-CO2 RF Calcs'!$S$19+('Non-CO2 RF Calcs'!$S$18-'Non-CO2 RF Calcs'!$S$19)*($O218-1)/9","v":0.35419410805090634},{"$f":"'Non-CO2 RF Calcs'!$S$21+('Non-CO2 RF Calcs'!$S$20-'Non-CO2 RF Calcs'!$S$21)*($O218-1)/9","v":9.2618392117940096E-2},{"$f":"'Non-CO2 RF Calcs'!$S$23+('Non-CO2 RF Calcs'!$S$22-'Non-CO2 RF Calcs'!$S$23)*($O218-1)/9","v":-0.26384475254012563},{"$f":"'Non-CO2 RF Calcs'!$S$25+('Non-CO2 RF Calcs'!$S$24-'Non-CO2 RF Calcs'!$S$25)*($O218-1)/9","v":9.2618392117940096E-2},3.3285441423498656,{"$f":"CFfromRFin2100(J218)","v":0.59363254198829085},1.9759321203433862,1.8871039999999999,8.8828120343386274E-2,{"$f":"MitigationAggressiveness(D218,0)","v":9.0287438607439583},null,2.6083289999999999,0.50283999999999995,0.26510299999999998,-0.35247499999999998,3.0703390000000002,null,-4.1017474254082753E-2,{"$f":"R218-E218","v":9.9228471650878003E-2},{"$f":"S218-F218","v":-8.9091108050906365E-2},{"$f":"T218-H218","v":-8.8630247459874356E-2},{"$f":"U218-J218","v":-0.25820514234986547}]
["COFFEE 1.1","EN_INDCi2030_1000f_NDCp",447.70262700000001,{"$f":"CO2RFFromCO2PPM(C219)","v":2.6491569874092242},{"$f":"'Non-CO2 RF Calcs'!$S$17+('Non-CO2 RF Calcs'!$S$16-'Non-CO2 RF Calcs'!$S$17)*($O219-1)/9","v":0.40360175749842131},{"$f":"'Non-CO2 RF Calcs'!$S$19+('Non-CO2 RF Calcs'!$S$18-'Non-CO2 RF Calcs'!$S$19)*($O219-1)/9","v":0.35419149059318444},{"$f":"'Non-CO2 RF Calcs'!$S$21+('Non-CO2 RF Calcs'!$S$20-'Non-CO2 RF Calcs'!$S$21)*($O219-1)/9","v":9.2606874642989445E-2},{"$f":"'Non-CO2 RF Calcs'!$S$23+('Non-CO2 RF Calcs'!$S$22-'Non-CO2 RF Calcs'!$S$23)*($O219-1)/9","v":-0.26383762558611384},{"$f":"'Non-CO2 RF Calcs'!$S$25+('Non-CO2 RF Calcs'!$S$24-'Non-CO2 RF Calcs'!$S$25)*($O219-1)/9","v":9.2606874642989445E-2},3.3283263592006955,{"$f":"CFfromRFin2100(J219)","v":0.59363582705907458},1.9758137709666235,2.0004909999999998,-2.4677229033376324E-2,{"$f":"MitigationAggressiveness(D219,0)","v":9.0288925799327036},null,2.6177359999999998,0.47353600000000001,0.27041199999999999,-0.145591,3.267862,null,-3.1420987409224388E-2,{"$f":"R219-E219","v":6.9934242501578703E-2},{"$f":"S219-F219","v":-8.3779490593184458E-2},{"$f":"T219-H219","v":0.11824662558611385},{"$f":"U219-J219","v":-6.0464359200695483E-2}]
["COFFEE 1.1","EN_INDCi2030_1200",468.72286600000001,{"$f":"CO2RFFromCO2PPM(C220)","v":2.9078965012154585},{"$f":"'Non-CO2 RF Calcs'!$S$17+('Non-CO2 RF Calcs'!$S$16-'Non-CO2 RF Calcs'!$S$17)*($O220-1)/9","v":0.41659240890199178},{"$f":"'Non-CO2 RF Calcs'!$S$19+('Non-CO2 RF Calcs'!$S$18-'Non-CO2 RF Calcs'!$S$19)*($O220-1)/9","v":0.35767148244558689},{"$f":"'Non-CO2 RF Calcs'!$S$21+('Non-CO2 RF Calcs'!$S$20-'Non-CO2 RF Calcs'!$S$21)*($O220-1)/9","v":0.10791971757938146},{"$f":"'Non-CO2 RF Calcs'!$S$23+('Non-CO2 RF Calcs'!$S$22-'Non-CO2 RF Calcs'!$S$23)*($O220-1)/9","v":-0.27331313370442933},{"$f":"'Non-CO2 RF Calcs'!$S$25+('Non-CO2 RF Calcs'!$S$24-'Non-CO2 RF Calcs'!$S$25)*($O220-1)/9","v":0.10791971757938146},3.6246866940173712,{"$f":"CFfromRFin2100(J220)","v":0.58928318000749269},2.1359669015814022,2.110662,2.5304901581402195E-2,{"$f":"MitigationAggressiveness(D220,0)","v":8.83116577013711},null,2.892773,0.38138300000000003,0.238479,-5.6564999999999997E-2,3.5230730000000001,null,-1.5123501215458468E-2,{"$f":"R220-E220","v":-3.5209408901991757E-2},{"$f":"S220-F220","v":-0.11919248244558689},{"$f":"T220-H220","v":0.21674813370442933},{"$f":"U220-J220","v":-0.10161369401737108}]
["COFFEE 1.1","EN_INDCi2030_1200f",463.41423400000002,{"$f":"CO2RFFromCO2PPM(C221)","v":2.8431600279216114},{"$f":"'Non-CO2 RF Calcs'!$S$17+('Non-CO2 RF Calcs'!$S$16-'Non-CO2 RF Calcs'!$S$17)*($O221-1)/9","v":0.41340808872798429},{"$f":"'Non-CO2 RF Calcs'!$S$19+('Non-CO2 RF Calcs'!$S$18-'Non-CO2 RF Calcs'!$S$19)*($O221-1)/9","v":0.3568184529925803},{"$f":"'Non-CO2 RF Calcs'!$S$21+('Non-CO2 RF Calcs'!$S$20-'Non-CO2 RF Calcs'!$S$21)*($O221-1)/9","v":0.10416617257467453},{"$f":"'Non-CO2 RF Calcs'!$S$23+('Non-CO2 RF Calcs'!$S$22-'Non-CO2 RF Calcs'!$S$23)*($O221-1)/9","v":-0.27099045944254974},{"$f":"'Non-CO2 RF Calcs'!$S$25+('Non-CO2 RF Calcs'!$S$24-'Non-CO2 RF Calcs'!$S$25)*($O221-1)/9","v":0.10416617257467453},3.5507284553489749,{"$f":"CFfromRFin2100(J221)","v":0.59034734796643673},2.0961631269642296,2.0477240000000001,4.8439126964229473E-2,{"$f":"MitigationAggressiveness(D221,0)","v":8.8796333526943023},null,2.812748,0.39133200000000001,0.234238,-0.139101,3.3215469999999998,null,-3.0412027921611351E-2,{"$f":"R221-E221","v":-2.2076088727984278E-2},{"$f":"S221-F221","v":-0.1225804529925803},{"$f":"T221-H221","v":0.13188945944254973},{"$f":"U221-J221","v":-0.22918145534897505}]
["COFFEE 1.1","EN_INDCi2030_1400",483.16462000000001,{"$f":"CO2RFFromCO2PPM(C222)","v":3.0819288355296526},{"$f":"'Non-CO2 RF Calcs'!$S$17+('Non-CO2 RF Calcs'!$S$16-'Non-CO2 RF Calcs'!$S$17)*($O222-1)/9","v":0.42493473026029271},{"$f":"'Non-CO2 RF Calcs'!$S$19+('Non-CO2 RF Calcs'!$S$18-'Non-CO2 RF Calcs'!$S$19)*($O222-1)/9","v":0.35990625955222455},{"$f":"'Non-CO2 RF Calcs'!$S$21+('Non-CO2 RF Calcs'!$S$20-'Non-CO2 RF Calcs'!$S$21)*($O222-1)/9","v":0.11775330118624039},{"$f":"'Non-CO2 RF Calcs'!$S$23+('Non-CO2 RF Calcs'!$S$22-'Non-CO2 RF Calcs'!$S$23)*($O222-1)/9","v":-0.27939810444996488},{"$f":"'Non-CO2 RF Calcs'!$S$25+('Non-CO2 RF Calcs'!$S$24-'Non-CO2 RF Calcs'!$S$25)*($O222-1)/9","v":0.11775330118624039},3.8228783232646859,{"$f":"CFfromRFin2100(J222)","v":0.58650377720257874},2.242132576380599,2.195284,4.6848576380599027E-2,{"$f":"MitigationAggressiveness(D222,0)","v":8.704189798169061},null,3.0597400000000001,0.400283,0.23391999999999999,-5.3079000000000001E-2,3.6488800000000001,null,-2.2188835529652451E-2,{"$f":"R222-E222","v":-2.4651730260292715E-2},{"$f":"S222-F222","v":-0.12598625955222456},{"$f":"T222-H222","v":0.22631910444996489},{"$f":"U222-J222","v":-0.17399832326468578}]
["COFFEE 1.1","EN_INDCi2030_1400f",480.51887099999999,{"$f":"CO2RFFromCO2PPM(C223)","v":3.0502733124247086},{"$f":"'Non-CO2 RF Calcs'!$S$17+('Non-CO2 RF Calcs'!$S$16-'Non-CO2 RF Calcs'!$S$17)*($O223-1)/9","v":0.42344096904601336},{"$f":"'Non-CO2 RF Calcs'!$S$19+('Non-CO2 RF Calcs'!$S$18-'Non-CO2 RF Calcs'!$S$19)*($O223-1)/9","v":0.35950610434109342},{"$f":"'Non-CO2 RF Calcs'!$S$21+('Non-CO2 RF Calcs'!$S$20-'Non-CO2 RF Calcs'!$S$21)*($O223-1)/9","v":0.11599251720796766},{"$f":"'Non-CO2 RF Calcs'!$S$23+('Non-CO2 RF Calcs'!$S$22-'Non-CO2 RF Calcs'!$S$23)*($O223-1)/9","v":-0.27830854041864633},{"$f":"'Non-CO2 RF Calcs'!$S$25+('Non-CO2 RF Calcs'!$S$24-'Non-CO2 RF Calcs'!$S$25)*($O223-1)/9","v":0.11599251720796766},3.7868968798091043,{"$f":"CFfromRFin2100(J223)","v":0.5870005474978145},2.2229105417657098,2.2268500000000002,-3.9394582342904272E-3,{"$f":"MitigationAggressiveness(D223,0)","v":8.7269258897106035},null,3.0248499999999998,0.39222099999999999,0.23339599999999999,-0.12842500000000001,3.6452589999999998,null,-2.5423312424708744E-2,{"$f":"R223-E223","v":-3.1219969046013374E-2},{"$f":"S223-F223","v":-0.12611010434109343},{"$f":"T223-H223","v":0.14988354041864632},{"$f":"U223-J223","v":-0.14163787980910447}]
["COFFEE 1.1","EN_INDCi2030_1600",498.411542,{"$f":"CO2RFFromCO2PPM(C224)","v":3.2623651905848292},{"$f":"'Non-CO2 RF Calcs'!$S$17+('Non-CO2 RF Calcs'!$S$16-'Non-CO2 RF Calcs'!$S$17)*($O224-1)/9","v":0.43324825662889932},{"$f":"'Non-CO2 RF Calcs'!$S$19+('Non-CO2 RF Calcs'!$S$18-'Non-CO2 RF Calcs'!$S$19)*($O224-1)/9","v":0.3621333229325514},{"$f":"'Non-CO2 RF Calcs'!$S$21+('Non-CO2 RF Calcs'!$S$20-'Non-CO2 RF Calcs'!$S$21)*($O224-1)/9","v":0.12755294244942128},{"$f":"'Non-CO2 RF Calcs'!$S$23+('Non-CO2 RF Calcs'!$S$22-'Non-CO2 RF Calcs'!$S$23)*($O224-1)/9","v":-0.28546207184854439},{"$f":"'Non-CO2 RF Calcs'!$S$25+('Non-CO2 RF Calcs'!$S$24-'Non-CO2 RF Calcs'!$S$25)*($O224-1)/9","v":0.12755294244942128},4.0273905831965777,{"$f":"CFfromRFin2100(J224)","v":0.583746176960668},2.3509738560683973,2.2980139999999998,5.2959856068397482E-2,{"$f":"MitigationAggressiveness(D224,0)","v":8.5776521061050328},null,3.2399779999999998,0.408217,0.23297599999999999,-4.8392999999999999E-2,3.8404769999999999,null,-2.2387190584829408E-2,{"$f":"R224-E224","v":-2.5031256628899323E-2},{"$f":"S224-F224","v":-0.12915732293255142},{"$f":"T224-H224","v":0.23706907184854439},{"$f":"U224-J224","v":-0.1869135831965778}]
["COFFEE 1.1","EN_INDCi2030_1600f",496.700964,{"$f":"CO2RFFromCO2PPM(C225)","v":3.2422904722006054},{"$f":"'Non-CO2 RF Calcs'!$S$17+('Non-CO2 RF Calcs'!$S$16-'Non-CO2 RF Calcs'!$S$17)*($O225-1)/9","v":0.43234022309637021},{"$f":"'Non-CO2 RF Calcs'!$S$19+('Non-CO2 RF Calcs'!$S$18-'Non-CO2 RF Calcs'!$S$19)*($O225-1)/9","v":0.36189007498472014},{"$f":"'Non-CO2 RF Calcs'!$S$21+('Non-CO2 RF Calcs'!$S$20-'Non-CO2 RF Calcs'!$S$21)*($O225-1)/9","v":0.12648259005271423},{"$f":"'Non-CO2 RF Calcs'!$S$23+('Non-CO2 RF Calcs'!$S$22-'Non-CO2 RF Calcs'!$S$23)*($O225-1)/9","v":-0.28479974331382452},{"$f":"'Non-CO2 RF Calcs'!$S$25+('Non-CO2 RF Calcs'!$S$24-'Non-CO2 RF Calcs'!$S$25)*($O225-1)/9","v":0.12648259005271423},4.0046862070733003,{"$f":"CFfromRFin2100(J225)","v":0.58404678256052511},2.3389240944056739,2.286152,5.2772094405673986E-2,{"$f":"MitigationAggressiveness(D225,0)","v":8.591473012231809},null,3.2103760000000001,0.40216400000000002,0.23183400000000001,-0.110613,3.7661229999999999,null,-3.1914472200605282E-2,{"$f":"R225-E225","v":-3.0176223096370192E-2},{"$f":"S225-F225","v":-0.13005607498472013},{"$f":"T225-H225","v":0.1741867433138245},{"$f":"U225-J225","v":-0.23856320707330037}]
["COFFEE 1.1","EN_INDCi2030_1800",515.85195299999998,{"$f":"CO2RFFromCO2PPM(C226)","v":3.4646054484168007},{"$f":"'Non-CO2 RF Calcs'!$S$17+('Non-CO2 RF Calcs'!$S$16-'Non-CO2 RF Calcs'!$S$17)*($O226-1)/9","v":0.44216008945070456},{"$f":"'Non-CO2 RF Calcs'!$S$19+('Non-CO2 RF Calcs'!$S$18-'Non-CO2 RF Calcs'!$S$19)*($O226-1)/9","v":0.36452066323184784},{"$f":"'Non-CO2 RF Calcs'!$S$21+('Non-CO2 RF Calcs'!$S$20-'Non-CO2 RF Calcs'!$S$21)*($O226-1)/9","v":0.13805784263003729},{"$f":"'Non-CO2 RF Calcs'!$S$23+('Non-CO2 RF Calcs'!$S$22-'Non-CO2 RF Calcs'!$S$23)*($O226-1)/9","v":-0.29196244982257546},{"$f":"'Non-CO2 RF Calcs'!$S$25+('Non-CO2 RF Calcs'!$S$24-'Non-CO2 RF Calcs'!$S$25)*($O226-1)/9","v":0.13805784263003729},4.2554394365368529,{"$f":"CFfromRFin2100(J226)","v":0.58080349728347602},2.4715741072186286,2.4503680000000001,2.1206107218628478E-2,{"$f":"MitigationAggressiveness(D226,0)","v":8.4420077709177388},null,3.4412410000000002,0.41684599999999999,0.231651,-4.7753999999999998E-2,4.1341419999999998,null,-2.3364448416800521E-2,{"$f":"R226-E226","v":-2.5314089450704569E-2},{"$f":"S226-F226","v":-0.13286966323184785},{"$f":"T226-H226","v":0.24420844982257547},{"$f":"U226-J226","v":-0.1212974365368531}]
["COFFEE 1.1","EN_INDCi2030_1800f",514.48874699999999,{"$f":"CO2RFFromCO2PPM(C227)","v":3.44895733059177},{"$f":"'Non-CO2 RF Calcs'!$S$17+('Non-CO2 RF Calcs'!$S$16-'Non-CO2 RF Calcs'!$S$17)*($O227-1)/9","v":0.4414858747400065},{"$f":"'Non-CO2 RF Calcs'!$S$19+('Non-CO2 RF Calcs'!$S$18-'Non-CO2 RF Calcs'!$S$19)*($O227-1)/9","v":0.36434005168073236},{"$f":"'Non-CO2 RF Calcs'!$S$21+('Non-CO2 RF Calcs'!$S$20-'Non-CO2 RF Calcs'!$S$21)*($O227-1)/9","v":0.13726310619615179},{"$f":"'Non-CO2 RF Calcs'!$S$23+('Non-CO2 RF Calcs'!$S$22-'Non-CO2 RF Calcs'!$S$23)*($O227-1)/9","v":-0.29147067102209501},{"$f":"'Non-CO2 RF Calcs'!$S$25+('Non-CO2 RF Calcs'!$S$24-'Non-CO2 RF Calcs'!$S$25)*($O227-1)/9","v":0.13726310619615179},4.2378387983827164,{"$f":"CFfromRFin2100(J227)","v":0.58102564398235801},2.46229301692374,2.418158,4.413501692374E-2,{"$f":"MitigationAggressiveness(D227,0)","v":8.4522697908674811},null,3.4187189999999998,0.41356199999999999,0.231464,-9.2912999999999996E-2,4.0100879999999997,null,-3.0238330591770168E-2,{"$f":"R227-E227","v":-2.7923874740006516E-2},{"$f":"S227-F227","v":-0.13287605168073235},{"$f":"T227-H227","v":0.19855767102209501},{"$f":"U227-J227","v":-0.22775079838271672}]
["COFFEE 1.1","EN_INDCi2030_2000",533.85747400000002,{"$f":"CO2RFFromCO2PPM(C228)","v":3.6687477161005559},{"$f":"'Non-CO2 RF Calcs'!$S$17+('Non-CO2 RF Calcs'!$S$16-'Non-CO2 RF Calcs'!$S$17)*($O228-1)/9","v":0.45072020948293645},{"$f":"'Non-CO2 RF Calcs'!$S$19+('Non-CO2 RF Calcs'!$S$18-'Non-CO2 RF Calcs'!$S$19)*($O228-1)/9","v":0.36681378518873187},{"$f":"'Non-CO2 RF Calcs'!$S$21+('Non-CO2 RF Calcs'!$S$20-'Non-CO2 RF Calcs'!$S$21)*($O228-1)/9","v":0.14814815831152828},{"$f":"'Non-CO2 RF Calcs'!$S$23+('Non-CO2 RF Calcs'!$S$22-'Non-CO2 RF Calcs'!$S$23)*($O228-1)/9","v":-0.29820628504987401},{"$f":"'Non-CO2 RF Calcs'!$S$25+('Non-CO2 RF Calcs'!$S$24-'Non-CO2 RF Calcs'!$S$25)*($O228-1)/9","v":0.14814815831152828},4.4843717423454077,{"$f":"CFfromRFin2100(J228)","v":0.57798971018201961},2.5919207237066604,2.636819,-4.4898276293339645E-2,{"$f":"MitigationAggressiveness(D228,0)","v":8.3117167506402367},null,3.6397040000000001,0.50205299999999997,0.25823000000000002,-6.0879000000000003E-2,4.4637479999999998,null,-2.9043716100555894E-2,{"$f":"R228-E228","v":5.133279051706352E-2},{"$f":"S228-F228","v":-0.10858378518873185},{"$f":"T228-H228","v":0.23732728504987399},{"$f":"U228-J228","v":-2.0623742345407869E-2}]
["COFFEE 1.1","EN_INDCi2030_2000f",533.69803400000001,{"$f":"CO2RFFromCO2PPM(C229)","v":3.6669607594183753},{"$f":"'Non-CO2 RF Calcs'!$S$17+('Non-CO2 RF Calcs'!$S$16-'Non-CO2 RF Calcs'!$S$17)*($O229-1)/9","v":0.45064717692676526},{"$f":"'Non-CO2 RF Calcs'!$S$19+('Non-CO2 RF Calcs'!$S$18-'Non-CO2 RF Calcs'!$S$19)*($O229-1)/9","v":0.3667942209118884},{"$f":"'Non-CO2 RF Calcs'!$S$21+('Non-CO2 RF Calcs'!$S$20-'Non-CO2 RF Calcs'!$S$21)*($O229-1)/9","v":0.14806207055294318},{"$f":"'Non-CO2 RF Calcs'!$S$23+('Non-CO2 RF Calcs'!$S$22-'Non-CO2 RF Calcs'!$S$23)*($O229-1)/9","v":-0.2981530143895042},{"$f":"'Non-CO2 RF Calcs'!$S$25+('Non-CO2 RF Calcs'!$S$24-'Non-CO2 RF Calcs'!$S$25)*($O229-1)/9","v":0.14806207055294318},4.4823732839734118,{"$f":"CFfromRFin2100(J229)","v":0.57801366489298855},2.5908730092878924,2.6104479999999999,-1.9574990712107443E-2,{"$f":"MitigationAggressiveness(D229,0)","v":8.3128283572790682},null,3.632943,0.49101499999999998,0.25741199999999997,-6.4878000000000005E-2,4.3857840000000001,null,-3.401775941837526E-2,{"$f":"R229-E229","v":4.0367823073234721E-2},{"$f":"S229-F229","v":-0.10938222091188843},{"$f":"T229-H229","v":0.23327501438950421},{"$f":"U229-J229","v":-9.658928397341171E-2}]
["COFFEE 1.1","EN_INDCi2030_2500",578.76272300000005,{"$f":"CO2RFFromCO2PPM(C230)","v":4.1572852709470354},{"$f":"'Non-CO2 RF Calcs'!$S$17+('Non-CO2 RF Calcs'!$S$16-'Non-CO2 RF Calcs'!$S$17)*($O230-1)/9","v":0.46942908313565135},{"$f":"'Non-CO2 RF Calcs'!$S$19+('Non-CO2 RF Calcs'!$S$18-'Non-CO2 RF Calcs'!$S$19)*($O230-1)/9","v":0.37182559913527347},{"$f":"'Non-CO2 RF Calcs'!$S$21+('Non-CO2 RF Calcs'!$S$20-'Non-CO2 RF Calcs'!$S$21)*($O230-1)/9","v":0.17020140528589378},{"$f":"'Non-CO2 RF Calcs'!$S$23+('Non-CO2 RF Calcs'!$S$22-'Non-CO2 RF Calcs'!$S$23)*($O230-1)/9","v":-0.31185272037274891},{"$f":"'Non-CO2 RF Calcs'!$S$25+('Non-CO2 RF Calcs'!$S$24-'Non-CO2 RF Calcs'!$S$25)*($O230-1)/9","v":0.17020140528589378},5.0270900434169974,{"$f":"CFfromRFin2100(J230)","v":0.57188080257001295},2.8748962886210339,2.851334,2.3562288621033822E-2,{"$f":"MitigationAggressiveness(D230,0)","v":8.0269545945867371},null,4.118919,0.51344199999999995,0.24913099999999999,-8.1628000000000006E-2,4.91906,null,-3.8366270947035375E-2,{"$f":"R230-E230","v":4.4012916864348606E-2},{"$f":"S230-F230","v":-0.12269459913527347},{"$f":"T230-H230","v":0.23022472037274891},{"$f":"U230-J230","v":-0.1080300434169974}]
["COFFEE 1.1","EN_INDCi2030_2500f",578.69372899999996,{"$f":"CO2RFFromCO2PPM(C231)","v":4.156557208098036},{"$f":"'Non-CO2 RF Calcs'!$S$17+('Non-CO2 RF Calcs'!$S$16-'Non-CO2 RF Calcs'!$S$17)*($O231-1)/9","v":0.46940306599207038},{"$f":"'Non-CO2 RF Calcs'!$S$19+('Non-CO2 RF Calcs'!$S$18-'Non-CO2 RF Calcs'!$S$19)*($O231-1)/9","v":0.37181862955038719},{"$f":"'Non-CO2 RF Calcs'!$S$21+('Non-CO2 RF Calcs'!$S$20-'Non-CO2 RF Calcs'!$S$21)*($O231-1)/9","v":0.17017073735239818},{"$f":"'Non-CO2 RF Calcs'!$S$23+('Non-CO2 RF Calcs'!$S$22-'Non-CO2 RF Calcs'!$S$23)*($O231-1)/9","v":-0.3118337432139015},{"$f":"'Non-CO2 RF Calcs'!$S$25+('Non-CO2 RF Calcs'!$S$24-'Non-CO2 RF Calcs'!$S$25)*($O231-1)/9","v":0.17017073735239818},5.0262866351313891,{"$f":"CFfromRFin2100(J231)","v":0.57188926199478929},2.874479354339563,2.842473,3.2006354339563003E-2,{"$f":"MitigationAggressiveness(D231,0)","v":8.0273505937280003},null,4.1174520000000001,0.49781900000000001,0.25195499999999998,-8.1628000000000006E-2,4.9022189999999997,null,-3.910520809803586E-2,{"$f":"R231-E231","v":2.8415934007929633E-2},{"$f":"S231-F231","v":-0.11986362955038721},{"$f":"T231-H231","v":0.2302057432139015},{"$f":"U231-J231","v":-0.12406763513138941}]
["COFFEE 1.1","EN_INDCi2030_400f",403.12046299999997,{"$f":"CO2RFFromCO2PPM(C232)","v":2.0790784484743461},{"$f":"'Non-CO2 RF Calcs'!$S$17+('Non-CO2 RF Calcs'!$S$16-'Non-CO2 RF Calcs'!$S$17)*($O232-1)/9","v":0.37249906312946368},{"$f":"'Non-CO2 RF Calcs'!$S$19+('Non-CO2 RF Calcs'!$S$18-'Non-CO2 RF Calcs'!$S$19)*($O232-1)/9","v":0.3458595663786691},{"$f":"'Non-CO2 RF Calcs'!$S$21+('Non-CO2 RF Calcs'!$S$20-'Non-CO2 RF Calcs'!$S$21)*($O232-1)/9","v":5.5944304077855778E-2},{"$f":"'Non-CO2 RF Calcs'!$S$23+('Non-CO2 RF Calcs'!$S$22-'Non-CO2 RF Calcs'!$S$23)*($O232-1)/9","v":-0.24115101628232316},{"$f":"'Non-CO2 RF Calcs'!$S$25+('Non-CO2 RF Calcs'!$S$24-'Non-CO2 RF Calcs'!$S$25)*($O232-1)/9","v":5.5944304077855778E-2},2.6681746698558673,{"$f":"CFfromRFin2100(J232)","v":0.6041782462904326},1.6120530928300718,1.5722970000000001,3.9756092830071754E-2,{"$f":"MitigationAggressiveness(D232,0)","v":9.5022973648483458},null,2.0159889999999998,0.3201,0.24157600000000001,-0.152866,2.4838390000000001,null,-6.3089448474346277E-2,{"$f":"R232-E232","v":-5.2399063129463685E-2},{"$f":"S232-F232","v":-0.10428356637866909},{"$f":"T232-H232","v":8.8285016282323159E-2},{"$f":"U232-J232","v":-0.18433566985586713}]
["COFFEE 1.1","EN_INDCi2030_500",419.077156,{"$f":"CO2RFFromCO2PPM(C233)","v":2.2864476710735122},{"$f":"'Non-CO2 RF Calcs'!$S$17+('Non-CO2 RF Calcs'!$S$16-'Non-CO2 RF Calcs'!$S$17)*($O233-1)/9","v":0.38420770568760276},{"$f":"'Non-CO2 RF Calcs'!$S$19+('Non-CO2 RF Calcs'!$S$18-'Non-CO2 RF Calcs'!$S$19)*($O233-1)/9","v":0.34899612815984488},{"$f":"'Non-CO2 RF Calcs'!$S$21+('Non-CO2 RF Calcs'!$S$20-'Non-CO2 RF Calcs'!$S$21)*($O233-1)/9","v":6.974596797608501E-2},{"$f":"'Non-CO2 RF Calcs'!$S$23+('Non-CO2 RF Calcs'!$S$22-'Non-CO2 RF Calcs'!$S$23)*($O233-1)/9","v":-0.24969141461705241},{"$f":"'Non-CO2 RF Calcs'!$S$25+('Non-CO2 RF Calcs'!$S$24-'Non-CO2 RF Calcs'!$S$25)*($O233-1)/9","v":6.974596797608501E-2},2.9094520262560772,{"$f":"CFfromRFin2100(J233)","v":0.60018959317339304},1.7462228279961391,1.664277,8.1945827996139142E-2,{"$f":"MitigationAggressiveness(D233,0)","v":9.3240836272815404},null,2.262016,0.31804100000000002,0.24357400000000001,-4.7314000000000002E-2,2.7966609999999998,null,-2.4431671073512184E-2,{"$f":"R233-E233","v":-6.6166705687602745E-2},{"$f":"S233-F233","v":-0.10542212815984486},{"$f":"T233-H233","v":0.20237741461705241},{"$f":"U233-J233","v":-0.1127910262560774}]
["COFFEE 1.1","EN_INDCi2030_500f",409.45831900000002,{"$f":"CO2RFFromCO2PPM(C234)","v":2.1618879187537696},{"$f":"'Non-CO2 RF Calcs'!$S$17+('Non-CO2 RF Calcs'!$S$16-'Non-CO2 RF Calcs'!$S$17)*($O234-1)/9","v":0.3772288666047322},{"$f":"'Non-CO2 RF Calcs'!$S$19+('Non-CO2 RF Calcs'!$S$18-'Non-CO2 RF Calcs'!$S$19)*($O234-1)/9","v":0.34712660657904548},{"$f":"'Non-CO2 RF Calcs'!$S$21+('Non-CO2 RF Calcs'!$S$20-'Non-CO2 RF Calcs'!$S$21)*($O234-1)/9","v":6.1519600919158202E-2},{"$f":"'Non-CO2 RF Calcs'!$S$23+('Non-CO2 RF Calcs'!$S$22-'Non-CO2 RF Calcs'!$S$23)*($O234-1)/9","v":-0.24460098117135287},{"$f":"'Non-CO2 RF Calcs'!$S$25+('Non-CO2 RF Calcs'!$S$24-'Non-CO2 RF Calcs'!$S$25)*($O234-1)/9","v":6.1519600919158202E-2},2.7646816126045106,{"$f":"CFfromRFin2100(J234)","v":0.60256411558573064},1.6658979307751685,1.6161989999999999,4.9698930775168515E-2,{"$f":"MitigationAggressiveness(D234,0)","v":9.4303064443724178},null,2.1042130000000001,0.31921300000000002,0.239704,-0.159001,2.5621849999999999,null,-5.7674918753769511E-2,{"$f":"R234-E234","v":-5.801586660473218E-2},{"$f":"S234-F234","v":-0.10742260657904548},{"$f":"T234-H234","v":8.5599981171352868E-2},{"$f":"U234-J234","v":-0.20249661260451068}]
["COFFEE 1.1","EN_INDCi2030_600",424.78497800000002,{"$f":"CO2RFFromCO2PPM(C235)","v":2.3597239575872453},{"$f":"'Non-CO2 RF Calcs'!$S$17+('Non-CO2 RF Calcs'!$S$16-'Non-CO2 RF Calcs'!$S$17)*($O235-1)/9","v":0.38823712726955995},{"$f":"'Non-CO2 RF Calcs'!$S$19+('Non-CO2 RF Calcs'!$S$18-'Non-CO2 RF Calcs'!$S$19)*($O235-1)/9","v":0.35007554703111499},{"$f":"'Non-CO2 RF Calcs'!$S$21+('Non-CO2 RF Calcs'!$S$20-'Non-CO2 RF Calcs'!$S$21)*($O235-1)/9","v":7.4495683590196538E-2},{"$f":"'Non-CO2 RF Calcs'!$S$23+('Non-CO2 RF Calcs'!$S$22-'Non-CO2 RF Calcs'!$S$23)*($O235-1)/9","v":-0.25263051410681753},{"$f":"'Non-CO2 RF Calcs'!$S$25+('Non-CO2 RF Calcs'!$S$24-'Non-CO2 RF Calcs'!$S$25)*($O235-1)/9","v":7.4495683590196538E-2},2.994397484961496,{"$f":"CFfromRFin2100(J235)","v":0.59882248624413204},1.7931125467478191,1.7261089999999999,6.7003546747819165E-2,{"$f":"MitigationAggressiveness(D235,0)","v":9.2627530095957393},null,2.3340320000000001,0.342476,0.24218999999999999,-5.2993999999999999E-2,2.8889710000000002,null,-2.5691957587245184E-2,{"$f":"R235-E235","v":-4.5761127269559942E-2},{"$f":"S235-F235","v":-0.107885547031115},{"$f":"T235-H235","v":0.19963651410681754},{"$f":"U235-J235","v":-0.10542648496149587}]
["COFFEE 1.1","EN_INDCi2030_600_COV_NDCp",426.29412400000001,{"$f":"CO2RFFromCO2PPM(C236)","v":2.3790188088064999},{"$f":"'Non-CO2 RF Calcs'!$S$17+('Non-CO2 RF Calcs'!$S$16-'Non-CO2 RF Calcs'!$S$17)*($O236-1)/9","v":0.38928876325076067},{"$f":"'Non-CO2 RF Calcs'!$S$19+('Non-CO2 RF Calcs'!$S$18-'Non-CO2 RF Calcs'!$S$19)*($O236-1)/9","v":0.35035726382364368},{"$f":"'Non-CO2 RF Calcs'!$S$21+('Non-CO2 RF Calcs'!$S$20-'Non-CO2 RF Calcs'!$S$21)*($O236-1)/9","v":7.5735308617926989E-2},{"$f":"'Non-CO2 RF Calcs'!$S$23+('Non-CO2 RF Calcs'!$S$22-'Non-CO2 RF Calcs'!$S$23)*($O236-1)/9","v":-0.2533975876713227},{"$f":"'Non-CO2 RF Calcs'!$S$25+('Non-CO2 RF Calcs'!$S$24-'Non-CO2 RF Calcs'!$S$25)*($O236-1)/9","v":7.5735308617926989E-2},3.0167378654454353,{"$f":"CFfromRFin2100(J236)","v":0.59846615566754691},1.805415512989851,1.877785,-7.2369487010149003E-2,{"$f":"MitigationAggressiveness(D236,0)","v":9.2467463736566096},null,2.3578700000000001,0.47805799999999998,0.26980999999999999,-4.7716000000000001E-2,3.1718410000000001,null,-2.1148808806499719E-2,{"$f":"R236-E236","v":8.8769236749239311E-2},{"$f":"S236-F236","v":-8.0547263823643689E-2},{"$f":"T236-H236","v":0.20568158767132269},{"$f":"U236-J236","v":0.15510313455456481}]
["COFFEE 1.1","EN_INDCi2030_600_NDCp",426.27125000000001,{"$f":"CO2RFFromCO2PPM(C237)","v":2.3787266061095509},{"$f":"'Non-CO2 RF Calcs'!$S$17+('Non-CO2 RF Calcs'!$S$16-'Non-CO2 RF Calcs'!$S$17)*($O237-1)/9","v":0.38927286634573055},{"$f":"'Non-CO2 RF Calcs'!$S$19+('Non-CO2 RF Calcs'!$S$18-'Non-CO2 RF Calcs'!$S$19)*($O237-1)/9","v":0.35035300529200697},{"$f":"'Non-CO2 RF Calcs'!$S$21+('Non-CO2 RF Calcs'!$S$20-'Non-CO2 RF Calcs'!$S$21)*($O237-1)/9","v":7.5716570003338646E-2},{"$f":"'Non-CO2 RF Calcs'!$S$23+('Non-CO2 RF Calcs'!$S$22-'Non-CO2 RF Calcs'!$S$23)*($O237-1)/9","v":-0.25338599231340025},{"$f":"'Non-CO2 RF Calcs'!$S$25+('Non-CO2 RF Calcs'!$S$24-'Non-CO2 RF Calcs'!$S$25)*($O237-1)/9","v":7.5716570003338646E-2},3.0163996254405658,{"$f":"CFfromRFin2100(J237)","v":0.59847154063872665},1.8052293310194933,1.8258430000000001,-2.0613668980506761E-2,{"$f":"MitigationAggressiveness(D237,0)","v":9.2469883356814222},null,2.3543090000000002,0.39161600000000002,0.27562999999999999,-4.9528000000000003E-2,3.0590190000000002,null,-2.4417606109550682E-2,{"$f":"R237-E237","v":2.3431336542694692E-3},{"$f":"S237-F237","v":-7.4723005292006983E-2},{"$f":"T237-H237","v":0.20385799231340024},{"$f":"U237-J237","v":4.261937455943432E-2}]
["COFFEE 1.1","EN_INDCi2030_600f",417.13878799999998,{"$f":"CO2RFFromCO2PPM(C238)","v":2.2614551424000764},{"$f":"'Non-CO2 RF Calcs'!$S$17+('Non-CO2 RF Calcs'!$S$16-'Non-CO2 RF Calcs'!$S$17)*($O238-1)/9","v":0.38282048712625849},{"$f":"'Non-CO2 RF Calcs'!$S$19+('Non-CO2 RF Calcs'!$S$18-'Non-CO2 RF Calcs'!$S$19)*($O238-1)/9","v":0.34862451405513167},{"$f":"'Non-CO2 RF Calcs'!$S$21+('Non-CO2 RF Calcs'!$S$20-'Non-CO2 RF Calcs'!$S$21)*($O238-1)/9","v":6.8110772073401105E-2},{"$f":"'Non-CO2 RF Calcs'!$S$23+('Non-CO2 RF Calcs'!$S$22-'Non-CO2 RF Calcs'!$S$23)*($O238-1)/9","v":-0.24867956383824669},{"$f":"'Non-CO2 RF Calcs'!$S$25+('Non-CO2 RF Calcs'!$S$24-'Non-CO2 RF Calcs'!$S$25)*($O238-1)/9","v":6.8110772073401105E-2},2.8804421238900222,{"$f":"CFfromRFin2100(J238)","v":0.60066090986107301},1.7301689869379424,1.7178720000000001,1.2296986937942345E-2,{"$f":"MitigationAggressiveness(D238,0)","v":9.3451980650493383},null,2.2152440000000002,0.34920899999999999,0.237566,-0.14679400000000001,2.742108,null,-4.6211142400076177E-2,{"$f":"R238-E238","v":-3.3611487126258499E-2},{"$f":"S238-F238","v":-0.11105851405513167},{"$f":"T238-H238","v":0.10188556383824668},{"$f":"U238-J238","v":-0.1383341238900222}]
["COFFEE 1.1","EN_INDCi2030_600f_COV_NDCp",416.88339400000001,{"$f":"CO2RFFromCO2PPM(C239)","v":2.2581581130365076},{"$f":"'Non-CO2 RF Calcs'!$S$17+('Non-CO2 RF Calcs'!$S$16-'Non-CO2 RF Calcs'!$S$17)*($O239-1)/9","v":0.38263699476164903},{"$f":"'Non-CO2 RF Calcs'!$S$19+('Non-CO2 RF Calcs'!$S$18-'Non-CO2 RF Calcs'!$S$19)*($O239-1)/9","v":0.34857535932732153},{"$f":"'Non-CO2 RF Calcs'!$S$21+('Non-CO2 RF Calcs'!$S$20-'Non-CO2 RF Calcs'!$S$21)*($O239-1)/9","v":6.7894478858226526E-2},{"$f":"'Non-CO2 RF Calcs'!$S$23+('Non-CO2 RF Calcs'!$S$22-'Non-CO2 RF Calcs'!$S$23)*($O239-1)/9","v":-0.24854572271384956},{"$f":"'Non-CO2 RF Calcs'!$S$25+('Non-CO2 RF Calcs'!$S$24-'Non-CO2 RF Calcs'!$S$25)*($O239-1)/9","v":6.7894478858226526E-2},2.8766137021280818,{"$f":"CFfromRFin2100(J239)","v":0.60072327786889701},1.7280488123049642,1.7076469999999999,2.0401812304964295E-2,{"$f":"MitigationAggressiveness(D239,0)","v":9.3479909473112777},null,2.2129629999999998,0.52171999999999996,0.26969500000000002,-0.31740099999999999,2.8157290000000001,null,-4.5195113036507806E-2,{"$f":"R239-E239","v":0.13908300523835093},{"$f":"S239-F239","v":-7.8880359327321514E-2},{"$f":"T239-H239","v":-6.8855277286150429E-2},{"$f":"U239-J239","v":-6.0884702128081614E-2}]
["COFFEE 1.1","EN_INDCi2030_600f_NDCp",418.29277999999999,{"$f":"CO2RFFromCO2PPM(C240)","v":2.2763408423088238},{"$f":"'Non-CO2 RF Calcs'!$S$17+('Non-CO2 RF Calcs'!$S$16-'Non-CO2 RF Calcs'!$S$17)*($O240-1)/9","v":0.38364751264164454},{"$f":"'Non-CO2 RF Calcs'!$S$19+('Non-CO2 RF Calcs'!$S$18-'Non-CO2 RF Calcs'!$S$19)*($O240-1)/9","v":0.34884606122515899},{"$f":"'Non-CO2 RF Calcs'!$S$21+('Non-CO2 RF Calcs'!$S$20-'Non-CO2 RF Calcs'!$S$21)*($O240-1)/9","v":6.908563556777636E-2},{"$f":"'Non-CO2 RF Calcs'!$S$23+('Non-CO2 RF Calcs'!$S$22-'Non-CO2 RF Calcs'!$S$23)*($O240-1)/9","v":-0.24928280433340316},{"$f":"'Non-CO2 RF Calcs'!$S$25+('Non-CO2 RF Calcs'!$S$24-'Non-CO2 RF Calcs'!$S$25)*($O240-1)/9","v":6.908563556777636E-2},2.8977228829777775,{"$f":"CFfromRFin2100(J240)","v":0.60037988184948132},1.7397345221147364,1.8351170000000001,-9.5382477885263661E-2,{"$f":"MitigationAggressiveness(D240,0)","v":9.3326101576614224},null,2.239036,0.48344700000000002,0.27484199999999998,-0.156558,2.9662190000000002,null,-3.7304842308823805E-2,{"$f":"R240-E240","v":9.9799487358355476E-2},{"$f":"S240-F240","v":-7.4004061225159012E-2},{"$f":"T240-H240","v":9.272480433340316E-2},{"$f":"U240-J240","v":6.8496117022222691E-2}]
["COFFEE 1.1","EN_INDCi2030_700",431.77242200000001,{"$f":"CO2RFFromCO2PPM(C241)","v":2.4487814115430244},{"$f":"'Non-CO2 RF Calcs'!$S$17+('Non-CO2 RF Calcs'!$S$16-'Non-CO2 RF Calcs'!$S$17)*($O241-1)/9","v":0.39305844923728617},{"$f":"'Non-CO2 RF Calcs'!$S$19+('Non-CO2 RF Calcs'!$S$18-'Non-CO2 RF Calcs'!$S$19)*($O241-1)/9","v":0.35136710360085599},{"$f":"'Non-CO2 RF Calcs'!$S$21+('Non-CO2 RF Calcs'!$S$20-'Non-CO2 RF Calcs'!$S$21)*($O241-1)/9","v":8.0178858647705797E-2},{"$f":"'Non-CO2 RF Calcs'!$S$23+('Non-CO2 RF Calcs'!$S$22-'Non-CO2 RF Calcs'!$S$23)*($O241-1)/9","v":-0.25614723347884583},{"$f":"'Non-CO2 RF Calcs'!$S$25+('Non-CO2 RF Calcs'!$S$24-'Non-CO2 RF Calcs'!$S$25)*($O241-1)/9","v":8.0178858647705797E-2},3.0974174481977323,{"$f":"CFfromRFin2100(J241)","v":0.59719045674302829},1.8497481406130289,1.79695,5.2798140613028899E-2,{"$f":"MitigationAggressiveness(D241,0)","v":9.1893691135877287},null,2.424944,0.35267700000000002,0.24152499999999999,-5.5442999999999999E-2,2.997312,null,-2.3837411543024434E-2,{"$f":"R241-E241","v":-4.0381449237286149E-2},{"$f":"S241-F241","v":-0.109842103600856},{"$f":"T241-H241","v":0.20070423347884583},{"$f":"U241-J241","v":-0.10010544819773237}]
["COFFEE 1.1","EN_INDCi2030_700f",424.31910599999998,{"$f":"CO2RFFromCO2PPM(C242)","v":2.3537609492647928},{"$f":"'Non-CO2 RF Calcs'!$S$17+('Non-CO2 RF Calcs'!$S$16-'Non-CO2 RF Calcs'!$S$17)*($O242-1)/9","v":0.38791133204340233},{"$f":"'Non-CO2 RF Calcs'!$S$19+('Non-CO2 RF Calcs'!$S$18-'Non-CO2 RF Calcs'!$S$19)*($O242-1)/9","v":0.3499882715976238},{"$f":"'Non-CO2 RF Calcs'!$S$21+('Non-CO2 RF Calcs'!$S$20-'Non-CO2 RF Calcs'!$S$21)*($O242-1)/9","v":7.4111649643584299E-2},{"$f":"'Non-CO2 RF Calcs'!$S$23+('Non-CO2 RF Calcs'!$S$22-'Non-CO2 RF Calcs'!$S$23)*($O242-1)/9","v":-0.25239287588418646},{"$f":"'Non-CO2 RF Calcs'!$S$25+('Non-CO2 RF Calcs'!$S$24-'Non-CO2 RF Calcs'!$S$25)*($O242-1)/9","v":7.4111649643584299E-2},2.9874909763088011,{"$f":"CFfromRFin2100(J242)","v":0.59893291639710844},1.789306683150675,1.7815540000000001,7.7526831506748994E-3,{"$f":"MitigationAggressiveness(D242,0)","v":9.2677118410441039},null,2.3140019999999999,0.35477599999999998,0.237986,-0.1449,2.840865,null,-3.9758949264792953E-2,{"$f":"R242-E242","v":-3.3135332043402355E-2},{"$f":"S242-F242","v":-0.1120022715976238},{"$f":"T242-H242","v":0.10749287588418646},{"$f":"U242-J242","v":-0.14662597630880114}]
["COFFEE 1.1","EN_INDCi2030_800",438.69830400000001,{"$f":"CO2RFFromCO2PPM(C243)","v":2.536351997488246},{"$f":"'Non-CO2 RF Calcs'!$S$17+('Non-CO2 RF Calcs'!$S$16-'Non-CO2 RF Calcs'!$S$17)*($O243-1)/9","v":0.39771807483555854},{"$f":"'Non-CO2 RF Calcs'!$S$19+('Non-CO2 RF Calcs'!$S$18-'Non-CO2 RF Calcs'!$S$19)*($O243-1)/9","v":0.35261534424818614},{"$f":"'Non-CO2 RF Calcs'!$S$21+('Non-CO2 RF Calcs'!$S$20-'Non-CO2 RF Calcs'!$S$21)*($O243-1)/9","v":8.5671432708243289E-2},{"$f":"'Non-CO2 RF Calcs'!$S$23+('Non-CO2 RF Calcs'!$S$22-'Non-CO2 RF Calcs'!$S$23)*($O243-1)/9","v":-0.25954600993840077},{"$f":"'Non-CO2 RF Calcs'!$S$25+('Non-CO2 RF Calcs'!$S$24-'Non-CO2 RF Calcs'!$S$25)*($O243-1)/9","v":8.5671432708243289E-2},3.1984822720500761,{"$f":"CFfromRFin2100(J243)","v":0.59561705950643917},1.9050706057619409,1.8420639999999999,6.3006605761940948E-2,{"$f":"MitigationAggressiveness(D243,0)","v":9.118446349534878},null,2.5129299999999999,0.356213,0.243005,-5.8285999999999998E-2,3.0714739999999998,null,-2.3421997488246138E-2,{"$f":"R243-E243","v":-4.1505074835558542E-2},{"$f":"S243-F243","v":-0.10961034424818614},{"$f":"T243-H243","v":0.20126000993840076},{"$f":"U243-J243","v":-0.12700827205007625}]
["COFFEE 1.1","EN_INDCi2030_800f",431.87647500000003,{"$f":"CO2RFFromCO2PPM(C244)","v":2.4501022265767984},{"$f":"'Non-CO2 RF Calcs'!$S$17+('Non-CO2 RF Calcs'!$S$16-'Non-CO2 RF Calcs'!$S$17)*($O244-1)/9","v":0.39312932778734333},{"$f":"'Non-CO2 RF Calcs'!$S$19+('Non-CO2 RF Calcs'!$S$18-'Non-CO2 RF Calcs'!$S$19)*($O244-1)/9","v":0.35138609085323047},{"$f":"'Non-CO2 RF Calcs'!$S$21+('Non-CO2 RF Calcs'!$S$20-'Non-CO2 RF Calcs'!$S$21)*($O244-1)/9","v":8.0262407352914344E-2},{"$f":"'Non-CO2 RF Calcs'!$S$23+('Non-CO2 RF Calcs'!$S$22-'Non-CO2 RF Calcs'!$S$23)*($O244-1)/9","v":-0.25619893298610041},{"$f":"'Non-CO2 RF Calcs'!$S$25+('Non-CO2 RF Calcs'!$S$24-'Non-CO2 RF Calcs'!$S$25)*($O244-1)/9","v":8.0262407352914344E-2},3.0989435269371004,{"$f":"CFfromRFin2100(J244)","v":0.59716649474311123},1.8505852433878824,1.8372889999999999,1.3296243387882489E-2,{"$f":"MitigationAggressiveness(D244,0)","v":9.1882902924300858},null,2.4071440000000002,0.36000399999999999,0.236291,-0.14463699999999999,2.9394680000000002,null,-4.2958226576798264E-2,{"$f":"R244-E244","v":-3.3125327787343339E-2},{"$f":"S244-F244","v":-0.11509509085323047},{"$f":"T244-H244","v":0.11156193298610043},{"$f":"U244-J244","v":-0.15947552693710021}]
["COFFEE 1.1","EN_INDCi2030_900",445.91663399999999,{"$f":"CO2RFFromCO2PPM(C245)","v":2.6268762485251544},{"$f":"'Non-CO2 RF Calcs'!$S$17+('Non-CO2 RF Calcs'!$S$16-'Non-CO2 RF Calcs'!$S$17)*($O245-1)/9","v":0.40245022737014613},{"$f":"'Non-CO2 RF Calcs'!$S$19+('Non-CO2 RF Calcs'!$S$18-'Non-CO2 RF Calcs'!$S$19)*($O245-1)/9","v":0.35388301372472714},{"$f":"'Non-CO2 RF Calcs'!$S$21+('Non-CO2 RF Calcs'!$S$20-'Non-CO2 RF Calcs'!$S$21)*($O245-1)/9","v":9.124949852357811E-2},{"$f":"'Non-CO2 RF Calcs'!$S$23+('Non-CO2 RF Calcs'!$S$22-'Non-CO2 RF Calcs'!$S$23)*($O245-1)/9","v":-0.26299768825426012},{"$f":"'Non-CO2 RF Calcs'!$S$25+('Non-CO2 RF Calcs'!$S$24-'Non-CO2 RF Calcs'!$S$25)*($O245-1)/9","v":9.124949852357811E-2},3.3027107984129245,{"$f":"CFfromRFin2100(J245)","v":0.59402310306598272},1.9618865170027746,1.906908,5.4978517002774563E-2,{"$f":"MitigationAggressiveness(D245,0)","v":9.0464196747314141},null,2.6065710000000002,0.359182,0.24507100000000001,-6.1915999999999999E-2,3.1753909999999999,null,-2.0305248525154251E-2,{"$f":"R245-E245","v":-4.3268227370146128E-2},{"$f":"S245-F245","v":-0.10881201372472712},{"$f":"T245-H245","v":0.20108168825426012},{"$f":"U245-J245","v":-0.12731979841292462}]
["COFFEE 1.1","EN_INDCi2030_900f",439.25144599999999,{"$f":"CO2RFFromCO2PPM(C246)","v":2.5433157555741817},{"$f":"'Non-CO2 RF Calcs'!$S$17+('Non-CO2 RF Calcs'!$S$16-'Non-CO2 RF Calcs'!$S$17)*($O246-1)/9","v":0.39808515993866611},{"$f":"'Non-CO2 RF Calcs'!$S$19+('Non-CO2 RF Calcs'!$S$18-'Non-CO2 RF Calcs'!$S$19)*($O246-1)/9","v":0.3527136805923976},{"$f":"'Non-CO2 RF Calcs'!$S$21+('Non-CO2 RF Calcs'!$S$20-'Non-CO2 RF Calcs'!$S$21)*($O246-1)/9","v":8.610413745518386E-2},{"$f":"'Non-CO2 RF Calcs'!$S$23+('Non-CO2 RF Calcs'!$S$22-'Non-CO2 RF Calcs'!$S$23)*($O246-1)/9","v":-0.25981376540089068},{"$f":"'Non-CO2 RF Calcs'!$S$25+('Non-CO2 RF Calcs'!$S$24-'Non-CO2 RF Calcs'!$S$25)*($O246-1)/9","v":8.610413745518386E-2},3.2065091056147224,{"$f":"CFfromRFin2100(J246)","v":0.59549327042921207},1.9094545939635588,1.88659,2.2864593963558777E-2,{"$f":"MitigationAggressiveness(D246,0)","v":9.1128590572501356},null,2.5036390000000002,0.36304599999999998,0.23410400000000001,-0.14299999999999999,3.0376569999999998,null,-3.9676755574181488E-2,{"$f":"R246-E246","v":-3.5039159938666131E-2},{"$f":"S246-F246","v":-0.1186096805923976},{"$f":"T246-H246","v":0.1168137654008907},{"$f":"U246-J246","v":-0.16885210561472253}]
["COFFEE 1.1","EN_INDCi2100",654.09544400000004,{"$f":"CO2RFFromCO2PPM(C247)","v":4.9108432332064504},{"$f":"'Non-CO2 RF Calcs'!$S$17+('Non-CO2 RF Calcs'!$S$16-'Non-CO2 RF Calcs'!$S$17)*($O247-1)/9","v":0.49337328836852029},{"$f":"'Non-CO2 RF Calcs'!$S$19+('Non-CO2 RF Calcs'!$S$18-'Non-CO2 RF Calcs'!$S$19)*($O247-1)/9","v":0.37823987633616374},{"$f":"'Non-CO2 RF Calcs'!$S$21+('Non-CO2 RF Calcs'!$S$20-'Non-CO2 RF Calcs'!$S$21)*($O247-1)/9","v":0.19842584473678104},{"$f":"'Non-CO2 RF Calcs'!$S$23+('Non-CO2 RF Calcs'!$S$22-'Non-CO2 RF Calcs'!$S$23)*($O247-1)/9","v":-0.32931785772593064},{"$f":"'Non-CO2 RF Calcs'!$S$25+('Non-CO2 RF Calcs'!$S$24-'Non-CO2 RF Calcs'!$S$25)*($O247-1)/9","v":0.19842584473678104},5.8499902296587658,{"$f":"CFfromRFin2100(J247)","v":0.56412510380206848},3.3001263455473375,3.168434,0.13169234554733755,{"$f":"MitigationAggressiveness(D247,0)","v":7.6625070263543336},null,4.8558009999999996,0.56004500000000002,0.24957499999999999,-0.281028,5.6025099999999997,null,-5.5042233206450852E-2,{"$f":"R247-E247","v":6.6671711631479724E-2},{"$f":"S247-F247","v":-0.12866487633616375},{"$f":"T247-H247","v":4.8289857725930641E-2},{"$f":"U247-J247","v":-0.24748022965876615}]
["COFFEE 1.1","EN_INDCi2100_COV_NDCp",618.46148900000003,{"$f":"CO2RFFromCO2PPM(C248)","v":4.5647036052545049},{"$f":"'Non-CO2 RF Calcs'!$S$17+('Non-CO2 RF Calcs'!$S$16-'Non-CO2 RF Calcs'!$S$17)*($O248-1)/9","v":0.48311509867520763},{"$f":"'Non-CO2 RF Calcs'!$S$19+('Non-CO2 RF Calcs'!$S$18-'Non-CO2 RF Calcs'!$S$19)*($O248-1)/9","v":0.37549186813825958},{"$f":"'Non-CO2 RF Calcs'!$S$21+('Non-CO2 RF Calcs'!$S$20-'Non-CO2 RF Calcs'!$S$21)*($O248-1)/9","v":0.18633391472453864},{"$f":"'Non-CO2 RF Calcs'!$S$23+('Non-CO2 RF Calcs'!$S$22-'Non-CO2 RF Calcs'!$S$23)*($O248-1)/9","v":-0.32183543388908681},{"$f":"'Non-CO2 RF Calcs'!$S$25+('Non-CO2 RF Calcs'!$S$24-'Non-CO2 RF Calcs'!$S$25)*($O248-1)/9","v":0.18633391472453864},5.4741429676279623,{"$f":"CFfromRFin2100(J248)","v":0.56744208269375607},3.1062590865141892,2.9428000000000001,0.16345908651418917,{"$f":"MitigationAggressiveness(D248,0)","v":7.8186438557807056},null,4.5169410000000001,0.39025900000000002,0.24882399999999999,-0.19871,5.2244970000000004,null,-4.776260525450482E-2,{"$f":"R248-E248","v":-9.285609867520761E-2},{"$f":"S248-F248","v":-0.12666786813825959},{"$f":"T248-H248","v":0.12312543388908681},{"$f":"U248-J248","v":-0.24964596762796187}]
["COFFEE 1.1","EN_INDCi2100_NDCp",635.30353400000001,{"$f":"CO2RFFromCO2PPM(C249)","v":4.7306096119548977},{"$f":"'Non-CO2 RF Calcs'!$S$17+('Non-CO2 RF Calcs'!$S$16-'Non-CO2 RF Calcs'!$S$17)*($O249-1)/9","v":0.48818886689754876},{"$f":"'Non-CO2 RF Calcs'!$S$19+('Non-CO2 RF Calcs'!$S$18-'Non-CO2 RF Calcs'!$S$19)*($O249-1)/9","v":0.37685105110193085},{"$f":"'Non-CO2 RF Calcs'!$S$21+('Non-CO2 RF Calcs'!$S$20-'Non-CO2 RF Calcs'!$S$21)*($O249-1)/9","v":0.19231466299271338},{"$f":"'Non-CO2 RF Calcs'!$S$23+('Non-CO2 RF Calcs'!$S$22-'Non-CO2 RF Calcs'!$S$23)*($O249-1)/9","v":-0.32553629002691148},{"$f":"'Non-CO2 RF Calcs'!$S$25+('Non-CO2 RF Calcs'!$S$24-'Non-CO2 RF Calcs'!$S$25)*($O249-1)/9","v":0.19231466299271338},5.6547425659128931,{"$f":"CFfromRFin2100(J249)","v":0.56580094443559337},3.1994586843336656,3.0593050000000002,0.14015368433366548,{"$f":"MitigationAggressiveness(D249,0)","v":7.7414175510266556},null,4.6749169999999998,0.53774,0.249167,-0.22662199999999999,5.4144259999999997,null,-5.5692611954897941E-2,{"$f":"R249-E249","v":4.9551133102451239E-2},{"$f":"S249-F249","v":-0.12768405110193085},{"$f":"T249-H249","v":9.8914290026911489E-2},{"$f":"U249-J249","v":-0.24031656591289341}]
["COFFEE 1.1","EN_NPi2020_1000",454.40769699999998,{"$f":"CO2RFFromCO2PPM(C250)","v":2.7323896229792495},{"$f":"'Non-CO2 RF Calcs'!$S$17+('Non-CO2 RF Calcs'!$S$16-'Non-CO2 RF Calcs'!$S$17)*($O250-1)/9","v":0.40785734509028748},{"$f":"'Non-CO2 RF Calcs'!$S$19+('Non-CO2 RF Calcs'!$S$18-'Non-CO2 RF Calcs'!$S$19)*($O250-1)/9","v":0.35533149579283196},{"$f":"'Non-CO2 RF Calcs'!$S$21+('Non-CO2 RF Calcs'!$S$20-'Non-CO2 RF Calcs'!$S$21)*($O250-1)/9","v":9.762318540153947E-2},{"$f":"'Non-CO2 RF Calcs'!$S$23+('Non-CO2 RF Calcs'!$S$22-'Non-CO2 RF Calcs'!$S$23)*($O250-1)/9","v":-0.26694169277429558},{"$f":"'Non-CO2 RF Calcs'!$S$25+('Non-CO2 RF Calcs'!$S$24-'Non-CO2 RF Calcs'!$S$25)*($O250-1)/9","v":9.762318540153947E-2},3.4238831418911526,{"$f":"CFfromRFin2100(J250)","v":0.59220665238671821},2.0276463736226784,2.0193129999999999,8.3333736226784971E-3,{"$f":"MitigationAggressiveness(D250,0)","v":8.9641195572254571},null,2.7114829999999999,0.376,0.245862,-3.0397E-2,3.3679860000000001,null,-2.0906622979249612E-2,{"$f":"R250-E250","v":-3.1857345090287481E-2},{"$f":"S250-F250","v":-0.10946949579283197},{"$f":"T250-H250","v":0.23654469277429557},{"$f":"U250-J250","v":-5.5897141891152469E-2}]
["COFFEE 1.1","EN_NPi2020_1000_COV",453.70546100000001,{"$f":"CO2RFFromCO2PPM(C251)","v":2.7237032148061777},{"$f":"'Non-CO2 RF Calcs'!$S$17+('Non-CO2 RF Calcs'!$S$16-'Non-CO2 RF Calcs'!$S$17)*($O251-1)/9","v":0.40741661864632572},{"$f":"'Non-CO2 RF Calcs'!$S$19+('Non-CO2 RF Calcs'!$S$18-'Non-CO2 RF Calcs'!$S$19)*($O251-1)/9","v":0.35521343208790462},{"$f":"'Non-CO2 RF Calcs'!$S$21+('Non-CO2 RF Calcs'!$S$20-'Non-CO2 RF Calcs'!$S$21)*($O251-1)/9","v":9.7103675285792335E-2},{"$f":"'Non-CO2 RF Calcs'!$S$23+('Non-CO2 RF Calcs'!$S$22-'Non-CO2 RF Calcs'!$S$23)*($O251-1)/9","v":-0.26662022259793722},{"$f":"'Non-CO2 RF Calcs'!$S$25+('Non-CO2 RF Calcs'!$S$24-'Non-CO2 RF Calcs'!$S$25)*($O251-1)/9","v":9.7103675285792335E-2},3.4139203935140556,{"$f":"CFfromRFin2100(J251)","v":0.59235451457114374},2.0222511574845465,2.0559889999999998,-3.3737842515453309E-2,{"$f":"MitigationAggressiveness(D251,0)","v":8.9708277222781465},null,2.7049439999999998,0.483099,0.23954500000000001,-3.5665000000000002E-2,3.4435229999999999,null,-1.8759214806177926E-2,{"$f":"R251-E251","v":7.5682381353674277E-2},{"$f":"S251-F251","v":-0.11566843208790462},{"$f":"T251-H251","v":0.23095522259793722},{"$f":"U251-J251","v":2.9602606485944261E-2}]
["COFFEE 1.1","EN_NPi2020_1000f",447.8947,{"$f":"CO2RFFromCO2PPM(C252)","v":2.6515503805354439},{"$f":"'Non-CO2 RF Calcs'!$S$17+('Non-CO2 RF Calcs'!$S$16-'Non-CO2 RF Calcs'!$S$17)*($O252-1)/9","v":0.40372514463732823},{"$f":"'Non-CO2 RF Calcs'!$S$19+('Non-CO2 RF Calcs'!$S$18-'Non-CO2 RF Calcs'!$S$19)*($O252-1)/9","v":0.35422454407331772},{"$f":"'Non-CO2 RF Calcs'!$S$21+('Non-CO2 RF Calcs'!$S$20-'Non-CO2 RF Calcs'!$S$21)*($O252-1)/9","v":9.2752318302414483E-2},{"$f":"'Non-CO2 RF Calcs'!$S$23+('Non-CO2 RF Calcs'!$S$22-'Non-CO2 RF Calcs'!$S$23)*($O252-1)/9","v":-0.26392762537135062},{"$f":"'Non-CO2 RF Calcs'!$S$25+('Non-CO2 RF Calcs'!$S$24-'Non-CO2 RF Calcs'!$S$25)*($O252-1)/9","v":9.2752318302414483E-2},3.3310770804795684,{"$f":"CFfromRFin2100(J252)","v":0.59359434414669021},1.977308514889341,1.976718,5.9051488934103169E-4,{"$f":"MitigationAggressiveness(D252,0)","v":9.0270145412887643},null,2.6196929999999998,0.37891000000000002,0.234039,-0.14939,3.1998289999999998,null,-3.1857380535444069E-2,{"$f":"R252-E252","v":-2.4815144637328201E-2},{"$f":"S252-F252","v":-0.12018554407331772},{"$f":"T252-H252","v":0.11453762537135062},{"$f":"U252-J252","v":-0.1312480804795686}]
["COFFEE 1.1","EN_NPi2020_1000f_COV",447.71419600000002,{"$f":"CO2RFFromCO2PPM(C253)","v":2.6493011622181184},{"$f":"'Non-CO2 RF Calcs'!$S$17+('Non-CO2 RF Calcs'!$S$16-'Non-CO2 RF Calcs'!$S$17)*($O253-1)/9","v":0.40360919187747935},{"$f":"'Non-CO2 RF Calcs'!$S$19+('Non-CO2 RF Calcs'!$S$18-'Non-CO2 RF Calcs'!$S$19)*($O253-1)/9","v":0.35419348214678292},{"$f":"'Non-CO2 RF Calcs'!$S$21+('Non-CO2 RF Calcs'!$S$20-'Non-CO2 RF Calcs'!$S$21)*($O253-1)/9","v":9.261563798174044E-2},{"$f":"'Non-CO2 RF Calcs'!$S$23+('Non-CO2 RF Calcs'!$S$22-'Non-CO2 RF Calcs'!$S$23)*($O253-1)/9","v":-0.26384304829487043},{"$f":"'Non-CO2 RF Calcs'!$S$25+('Non-CO2 RF Calcs'!$S$24-'Non-CO2 RF Calcs'!$S$25)*($O253-1)/9","v":9.261563798174044E-2},3.328492063910991,{"$f":"CFfromRFin2100(J253)","v":0.59363332753500742},1.975903819573346,1.993099,-1.7195180426653911E-2,{"$f":"MitigationAggressiveness(D253,0)","v":9.0287794234782428},null,2.616209,0.482238,0.240118,-0.14885999999999999,3.2405409999999999,null,-3.3092162218118393E-2,{"$f":"R253-E253","v":7.8628808122520655E-2},{"$f":"S253-F253","v":-0.11407548214678292},{"$f":"T253-H253","v":0.11498304829487044},{"$f":"U253-J253","v":-8.7951063910991056E-2}]
["COFFEE 1.1","EN_NPi2020_1200",468.91261800000001,{"$f":"CO2RFFromCO2PPM(C254)","v":2.9102028415978194},{"$f":"'Non-CO2 RF Calcs'!$S$17+('Non-CO2 RF Calcs'!$S$16-'Non-CO2 RF Calcs'!$S$17)*($O254-1)/9","v":0.41670504365139982},{"$f":"'Non-CO2 RF Calcs'!$S$19+('Non-CO2 RF Calcs'!$S$18-'Non-CO2 RF Calcs'!$S$19)*($O254-1)/9","v":0.35770165552914213},{"$f":"'Non-CO2 RF Calcs'!$S$21+('Non-CO2 RF Calcs'!$S$20-'Non-CO2 RF Calcs'!$S$21)*($O254-1)/9","v":0.10805248676649004},{"$f":"'Non-CO2 RF Calcs'!$S$23+('Non-CO2 RF Calcs'!$S$22-'Non-CO2 RF Calcs'!$S$23)*($O254-1)/9","v":-0.27339529059166023},{"$f":"'Non-CO2 RF Calcs'!$S$25+('Non-CO2 RF Calcs'!$S$24-'Non-CO2 RF Calcs'!$S$25)*($O254-1)/9","v":0.10805248676649004},3.627319223719681,{"$f":"CFfromRFin2100(J254)","v":0.58924557153004442},2.1373817891026206,2.138153,-7.7121089737941517E-4,{"$f":"MitigationAggressiveness(D254,0)","v":8.8294513903896537},null,2.893259,0.38878699999999999,0.24104800000000001,-2.5597000000000002E-2,3.5650249999999999,null,-1.6943841597819365E-2,{"$f":"R254-E254","v":-2.7918043651399826E-2},{"$f":"S254-F254","v":-0.11665365552914211},{"$f":"T254-H254","v":0.24779829059166023},{"$f":"U254-J254","v":-6.2294223719681074E-2}]
["COFFEE 1.1","EN_NPi2020_1200f",463.64705700000002,{"$f":"CO2RFFromCO2PPM(C255)","v":2.8460078159130213},{"$f":"'Non-CO2 RF Calcs'!$S$17+('Non-CO2 RF Calcs'!$S$16-'Non-CO2 RF Calcs'!$S$17)*($O255-1)/9","v":0.41354909373678217},{"$f":"'Non-CO2 RF Calcs'!$S$19+('Non-CO2 RF Calcs'!$S$18-'Non-CO2 RF Calcs'!$S$19)*($O255-1)/9","v":0.35685622602385642},{"$f":"'Non-CO2 RF Calcs'!$S$21+('Non-CO2 RF Calcs'!$S$20-'Non-CO2 RF Calcs'!$S$21)*($O255-1)/9","v":0.10433238345093365},{"$f":"'Non-CO2 RF Calcs'!$S$23+('Non-CO2 RF Calcs'!$S$22-'Non-CO2 RF Calcs'!$S$23)*($O255-1)/9","v":-0.27109330987430091},{"$f":"'Non-CO2 RF Calcs'!$S$25+('Non-CO2 RF Calcs'!$S$24-'Non-CO2 RF Calcs'!$S$25)*($O255-1)/9","v":0.10433238345093365},3.5539845927012261,{"$f":"CFfromRFin2100(J255)","v":0.59030018744124735},2.0979177712348389,2.0971500000000001,7.6777123483884324E-4,{"$f":"MitigationAggressiveness(D255,0)","v":8.8774871577354322},null,2.818295,0.38821499999999998,0.23172200000000001,-0.14341999999999999,3.4044189999999999,null,-2.7712815913021327E-2,{"$f":"R255-E255","v":-2.5334093736782193E-2},{"$f":"S255-F255","v":-0.1251342260238564},{"$f":"T255-H255","v":0.12767330987430092},{"$f":"U255-J255","v":-0.14956559270122627}]
["COFFEE 1.1","EN_NPi2020_1400",483.22414099999997,{"$f":"CO2RFFromCO2PPM(C256)","v":3.0826398114285896},{"$f":"'Non-CO2 RF Calcs'!$S$17+('Non-CO2 RF Calcs'!$S$16-'Non-CO2 RF Calcs'!$S$17)*($O256-1)/9","v":0.42496815899149853},{"$f":"'Non-CO2 RF Calcs'!$S$19+('Non-CO2 RF Calcs'!$S$18-'Non-CO2 RF Calcs'!$S$19)*($O256-1)/9","v":0.35991521458524162},{"$f":"'Non-CO2 RF Calcs'!$S$21+('Non-CO2 RF Calcs'!$S$20-'Non-CO2 RF Calcs'!$S$21)*($O256-1)/9","v":0.11779270559288746},{"$f":"'Non-CO2 RF Calcs'!$S$23+('Non-CO2 RF Calcs'!$S$22-'Non-CO2 RF Calcs'!$S$23)*($O256-1)/9","v":-0.2794224876932746},{"$f":"'Non-CO2 RF Calcs'!$S$25+('Non-CO2 RF Calcs'!$S$24-'Non-CO2 RF Calcs'!$S$25)*($O256-1)/9","v":0.11779270559288746},3.8236861084978297,{"$f":"CFfromRFin2100(J256)","v":0.58649266453578275},2.2425638541213502,2.2197559999999998,2.2807854121350335E-2,{"$f":"MitigationAggressiveness(D256,0)","v":8.7036809894749094},null,3.0621529999999999,0.39989400000000003,0.23803299999999999,-3.4696999999999999E-2,3.7041179999999998,null,-2.0486811428589657E-2,{"$f":"R256-E256","v":-2.5074158991498507E-2},{"$f":"S256-F256","v":-0.12188221458524162},{"$f":"T256-H256","v":0.2447254876932746},{"$f":"U256-J256","v":-0.11956810849782995}]
["COFFEE 1.1","EN_NPi2020_1400f",480.04269399999998,{"$f":"CO2RFFromCO2PPM(C257)","v":3.0445651765433057},{"$f":"'Non-CO2 RF Calcs'!$S$17+('Non-CO2 RF Calcs'!$S$16-'Non-CO2 RF Calcs'!$S$17)*($O257-1)/9","v":0.42317049379040994},{"$f":"'Non-CO2 RF Calcs'!$S$19+('Non-CO2 RF Calcs'!$S$18-'Non-CO2 RF Calcs'!$S$19)*($O257-1)/9","v":0.35943364826044466},{"$f":"'Non-CO2 RF Calcs'!$S$21+('Non-CO2 RF Calcs'!$S$20-'Non-CO2 RF Calcs'!$S$21)*($O257-1)/9","v":0.11567369215612333},{"$f":"'Non-CO2 RF Calcs'!$S$23+('Non-CO2 RF Calcs'!$S$22-'Non-CO2 RF Calcs'!$S$23)*($O257-1)/9","v":-0.2781112531232941},{"$f":"'Non-CO2 RF Calcs'!$S$25+('Non-CO2 RF Calcs'!$S$24-'Non-CO2 RF Calcs'!$S$25)*($O257-1)/9","v":0.11567369215612333},3.7804054497831125,{"$f":"CFfromRFin2100(J257)","v":0.58709053979938719},2.2194402761737129,2.226699,-7.2587238262871168E-3,{"$f":"MitigationAggressiveness(D257,0)","v":8.7310427124747338},null,3.018405,0.39141999999999999,0.23100699999999999,-0.119279,3.6411880000000001,null,-2.6160176543305713E-2,{"$f":"R257-E257","v":-3.175049379040995E-2},{"$f":"S257-F257","v":-0.12842664826044467},{"$f":"T257-H257","v":0.1588322531232941},{"$f":"U257-J257","v":-0.13921744978311246}]
["COFFEE 1.1","EN_NPi2020_1600",499.15205099999997,{"$f":"CO2RFFromCO2PPM(C258)","v":3.2710423064447869},{"$f":"'Non-CO2 RF Calcs'!$S$17+('Non-CO2 RF Calcs'!$S$16-'Non-CO2 RF Calcs'!$S$17)*($O258-1)/9","v":0.43363943618308232},{"$f":"'Non-CO2 RF Calcs'!$S$19+('Non-CO2 RF Calcs'!$S$18-'Non-CO2 RF Calcs'!$S$19)*($O258-1)/9","v":0.36223811380246956},{"$f":"'Non-CO2 RF Calcs'!$S$21+('Non-CO2 RF Calcs'!$S$20-'Non-CO2 RF Calcs'!$S$21)*($O258-1)/9","v":0.12801404873940181},{"$f":"'Non-CO2 RF Calcs'!$S$23+('Non-CO2 RF Calcs'!$S$22-'Non-CO2 RF Calcs'!$S$23)*($O258-1)/9","v":-0.2857474020391737},{"$f":"'Non-CO2 RF Calcs'!$S$25+('Non-CO2 RF Calcs'!$S$24-'Non-CO2 RF Calcs'!$S$25)*($O258-1)/9","v":0.12801404873940181},4.0372005518699687,{"$f":"CFfromRFin2100(J258)","v":0.58361672085401184},2.356177747512358,2.3513890000000002,4.7887475123578049E-3,{"$f":"MitigationAggressiveness(D258,0)","v":8.5716980794051398},null,3.2487750000000002,0.40252900000000003,0.23680499999999999,-3.0311999999999999E-2,3.9548269999999999,null,-2.2267306444786694E-2,{"$f":"R258-E258","v":-3.1110436183082291E-2},{"$f":"S258-F258","v":-0.12543311380246958},{"$f":"T258-H258","v":0.2554354020391737},{"$f":"U258-J258","v":-8.2373551869968864E-2}]
["COFFEE 1.1","EN_NPi2020_1600f",496.18606,{"$f":"CO2RFFromCO2PPM(C259)","v":3.2362393961799865},{"$f":"'Non-CO2 RF Calcs'!$S$17+('Non-CO2 RF Calcs'!$S$16-'Non-CO2 RF Calcs'!$S$17)*($O259-1)/9","v":0.43206568670198703},{"$f":"'Non-CO2 RF Calcs'!$S$19+('Non-CO2 RF Calcs'!$S$18-'Non-CO2 RF Calcs'!$S$19)*($O259-1)/9","v":0.36181653098866018},{"$f":"'Non-CO2 RF Calcs'!$S$21+('Non-CO2 RF Calcs'!$S$20-'Non-CO2 RF Calcs'!$S$21)*($O259-1)/9","v":0.12615897789833408},{"$f":"'Non-CO2 RF Calcs'!$S$23+('Non-CO2 RF Calcs'!$S$22-'Non-CO2 RF Calcs'!$S$23)*($O259-1)/9","v":-0.28459949378414845},{"$f":"'Non-CO2 RF Calcs'!$S$25+('Non-CO2 RF Calcs'!$S$24-'Non-CO2 RF Calcs'!$S$25)*($O259-1)/9","v":0.12615897789833408},3.9978400758831536,{"$f":"CFfromRFin2100(J259)","v":0.58413769652817404},2.3352890930144059,2.2859759999999998,4.9313093014406117E-2,{"$f":"MitigationAggressiveness(D259,0)","v":8.5956516483715824},null,3.2033320000000001,0.39555699999999999,0.229689,-0.10403800000000001,3.7556219999999998,null,-3.2907396179986392E-2,{"$f":"R259-E259","v":-3.6508686701987036E-2},{"$f":"S259-F259","v":-0.13212753098866017},{"$f":"T259-H259","v":0.18056149378414843},{"$f":"U259-J259","v":-0.2422180758831538}]
["COFFEE 1.1","EN_NPi2020_1800",515.82433600000002,{"$f":"CO2RFFromCO2PPM(C260)","v":3.4642887041819965},{"$f":"'Non-CO2 RF Calcs'!$S$17+('Non-CO2 RF Calcs'!$S$16-'Non-CO2 RF Calcs'!$S$17)*($O260-1)/9","v":0.44214646770437988},{"$f":"'Non-CO2 RF Calcs'!$S$19+('Non-CO2 RF Calcs'!$S$18-'Non-CO2 RF Calcs'!$S$19)*($O260-1)/9","v":0.36451701417955995},{"$f":"'Non-CO2 RF Calcs'!$S$21+('Non-CO2 RF Calcs'!$S$20-'Non-CO2 RF Calcs'!$S$21)*($O260-1)/9","v":0.13804178587849281},{"$f":"'Non-CO2 RF Calcs'!$S$23+('Non-CO2 RF Calcs'!$S$22-'Non-CO2 RF Calcs'!$S$23)*($O260-1)/9","v":-0.29195251398765271},{"$f":"'Non-CO2 RF Calcs'!$S$25+('Non-CO2 RF Calcs'!$S$24-'Non-CO2 RF Calcs'!$S$25)*($O260-1)/9","v":0.13804178587849281},4.2550832438352693,{"$f":"CFfromRFin2100(J260)","v":0.58080798473772},2.4713863237432032,2.4397859999999998,3.1600323743203429E-2,{"$f":"MitigationAggressiveness(D260,0)","v":8.442215103434096},null,3.438733,0.411777,0.231491,-4.4625999999999999E-2,4.0812920000000004,null,-2.5555704181996486E-2,{"$f":"R260-E260","v":-3.0369467704379871E-2},{"$f":"S260-F260","v":-0.13302601417955995},{"$f":"T260-H260","v":0.24732651398765271},{"$f":"U260-J260","v":-0.17379124383526889}]
["COFFEE 1.1","EN_NPi2020_1800f",514.265761,{"$f":"CO2RFFromCO2PPM(C261)","v":3.4463951169777114},{"$f":"'Non-CO2 RF Calcs'!$S$17+('Non-CO2 RF Calcs'!$S$16-'Non-CO2 RF Calcs'!$S$17)*($O261-1)/9","v":0.44137523426858655},{"$f":"'Non-CO2 RF Calcs'!$S$19+('Non-CO2 RF Calcs'!$S$18-'Non-CO2 RF Calcs'!$S$19)*($O261-1)/9","v":0.36431041283298515},{"$f":"'Non-CO2 RF Calcs'!$S$21+('Non-CO2 RF Calcs'!$S$20-'Non-CO2 RF Calcs'!$S$21)*($O261-1)/9","v":0.13713268778150645},{"$f":"'Non-CO2 RF Calcs'!$S$23+('Non-CO2 RF Calcs'!$S$22-'Non-CO2 RF Calcs'!$S$23)*($O261-1)/9","v":-0.29138996878072271},{"$f":"'Non-CO2 RF Calcs'!$S$25+('Non-CO2 RF Calcs'!$S$24-'Non-CO2 RF Calcs'!$S$25)*($O261-1)/9","v":0.13713268778150645},4.2349561708615733,{"$f":"CFfromRFin2100(J261)","v":0.58106210628583066},2.4607725526690021,2.420569,4.0203552669002107E-2,{"$f":"MitigationAggressiveness(D261,0)","v":8.4539538163076635},null,3.415289,0.40317900000000001,0.22917199999999999,-8.4328E-2,4.0061,null,-3.1106116977711373E-2,{"$f":"R261-E261","v":-3.8196234268586537E-2},{"$f":"S261-F261","v":-0.13513841283298517},{"$f":"T261-H261","v":0.20706196878072269},{"$f":"U261-J261","v":-0.22885617086157328}]
["COFFEE 1.1","EN_NPi2020_2000",533.57150999999999,{"$f":"CO2RFFromCO2PPM(C262)","v":3.6655424519233506},{"$f":"'Non-CO2 RF Calcs'!$S$17+('Non-CO2 RF Calcs'!$S$16-'Non-CO2 RF Calcs'!$S$17)*($O262-1)/9","v":0.45058918712186125},{"$f":"'Non-CO2 RF Calcs'!$S$19+('Non-CO2 RF Calcs'!$S$18-'Non-CO2 RF Calcs'!$S$19)*($O262-1)/9","v":0.36677868635227939},{"$f":"'Non-CO2 RF Calcs'!$S$21+('Non-CO2 RF Calcs'!$S$20-'Non-CO2 RF Calcs'!$S$21)*($O262-1)/9","v":0.1479937145677952},{"$f":"'Non-CO2 RF Calcs'!$S$23+('Non-CO2 RF Calcs'!$S$22-'Non-CO2 RF Calcs'!$S$23)*($O262-1)/9","v":-0.29811071605895267},{"$f":"'Non-CO2 RF Calcs'!$S$25+('Non-CO2 RF Calcs'!$S$24-'Non-CO2 RF Calcs'!$S$25)*($O262-1)/9","v":0.1479937145677952},4.4807870384741282,{"$f":"CFfromRFin2100(J262)","v":0.57803268620045323},2.5900413681413741,2.635707,-4.5665631858625932E-2,{"$f":"MitigationAggressiveness(D262,0)","v":8.313711002711397},null,3.634207,0.49316700000000002,0.25294299999999997,-5.4329000000000002E-2,4.4501390000000001,null,-3.1335451923350632E-2,{"$f":"R262-E262","v":4.2577812878138777E-2},{"$f":"S262-F262","v":-0.11383568635227942},{"$f":"T262-H262","v":0.24378171605895266},{"$f":"U262-J262","v":-3.0648038474128114E-2}]
["COFFEE 1.1","EN_NPi2020_2000f",533.16212800000005,{"$f":"CO2RFFromCO2PPM(C263)","v":3.6609517667858795},{"$f":"'Non-CO2 RF Calcs'!$S$17+('Non-CO2 RF Calcs'!$S$16-'Non-CO2 RF Calcs'!$S$17)*($O263-1)/9","v":0.45040134468701148},{"$f":"'Non-CO2 RF Calcs'!$S$19+('Non-CO2 RF Calcs'!$S$18-'Non-CO2 RF Calcs'!$S$19)*($O263-1)/9","v":0.36672836630884936},{"$f":"'Non-CO2 RF Calcs'!$S$21+('Non-CO2 RF Calcs'!$S$20-'Non-CO2 RF Calcs'!$S$21)*($O263-1)/9","v":0.14777229366962119},{"$f":"'Non-CO2 RF Calcs'!$S$23+('Non-CO2 RF Calcs'!$S$22-'Non-CO2 RF Calcs'!$S$23)*($O263-1)/9","v":-0.29797370195080003},{"$f":"'Non-CO2 RF Calcs'!$S$25+('Non-CO2 RF Calcs'!$S$24-'Non-CO2 RF Calcs'!$S$25)*($O263-1)/9","v":0.14777229366962119},4.4756523631701812,{"$f":"CFfromRFin2100(J263)","v":0.57809430443377086},2.5873491397742288,2.6143860000000001,-2.7036860225771342E-2,{"$f":"MitigationAggressiveness(D263,0)","v":8.316570096088105},null,3.6270280000000001,0.48371999999999998,0.25361499999999998,-6.0014999999999999E-2,4.3749310000000001,null,-3.3923766785879383E-2,{"$f":"R263-E263","v":3.3318655312988499E-2},{"$f":"S263-F263","v":-0.11311336630884938},{"$f":"T263-H263","v":0.23795870195080004},{"$f":"U263-J263","v":-0.1007213631701811}]
["COFFEE 1.1","EN_NPi2020_2500",578.16046800000004,{"$f":"CO2RFFromCO2PPM(C264)","v":4.1509276026291841},{"$f":"'Non-CO2 RF Calcs'!$S$17+('Non-CO2 RF Calcs'!$S$16-'Non-CO2 RF Calcs'!$S$17)*($O264-1)/9","v":0.46920170555257057},{"$f":"'Non-CO2 RF Calcs'!$S$19+('Non-CO2 RF Calcs'!$S$18-'Non-CO2 RF Calcs'!$S$19)*($O264-1)/9","v":0.37176468824543746},{"$f":"'Non-CO2 RF Calcs'!$S$21+('Non-CO2 RF Calcs'!$S$20-'Non-CO2 RF Calcs'!$S$21)*($O264-1)/9","v":0.16993338198907759},{"$f":"'Non-CO2 RF Calcs'!$S$23+('Non-CO2 RF Calcs'!$S$22-'Non-CO2 RF Calcs'!$S$23)*($O264-1)/9","v":-0.31168686894101749},{"$f":"'Non-CO2 RF Calcs'!$S$25+('Non-CO2 RF Calcs'!$S$24-'Non-CO2 RF Calcs'!$S$25)*($O264-1)/9","v":0.16993338198907759},5.0200738914643299,{"$f":"CFfromRFin2100(J264)","v":0.57195473704744659},2.8712550425512329,2.890495,-1.9239957448767164E-2,{"$f":"MitigationAggressiveness(D264,0)","v":8.0304154406001444},null,4.1165529999999997,0.50189899999999998,0.246776,-3.7635000000000002E-2,4.9389399999999997,null,-3.4374602629184459E-2,{"$f":"R264-E264","v":3.2697294447429415E-2},{"$f":"S264-F264","v":-0.12498868824543746},{"$f":"T264-H264","v":0.27405186894101752},{"$f":"U264-J264","v":-8.1133891464330254E-2}]
["COFFEE 1.1","EN_NPi2020_2500f",577.92670999999996,{"$f":"CO2RFFromCO2PPM(C265)","v":4.1484585263463156},{"$f":"'Non-CO2 RF Calcs'!$S$17+('Non-CO2 RF Calcs'!$S$16-'Non-CO2 RF Calcs'!$S$17)*($O265-1)/9","v":0.46911328634302724},{"$f":"'Non-CO2 RF Calcs'!$S$19+('Non-CO2 RF Calcs'!$S$18-'Non-CO2 RF Calcs'!$S$19)*($O265-1)/9","v":0.37174100212537714},{"$f":"'Non-CO2 RF Calcs'!$S$21+('Non-CO2 RF Calcs'!$S$20-'Non-CO2 RF Calcs'!$S$21)*($O265-1)/9","v":0.16982915707946888},{"$f":"'Non-CO2 RF Calcs'!$S$23+('Non-CO2 RF Calcs'!$S$22-'Non-CO2 RF Calcs'!$S$23)*($O265-1)/9","v":-0.31162237510527252},{"$f":"'Non-CO2 RF Calcs'!$S$25+('Non-CO2 RF Calcs'!$S$24-'Non-CO2 RF Calcs'!$S$25)*($O265-1)/9","v":0.16982915707946888},5.0173487538683847,{"$f":"CFfromRFin2100(J265)","v":0.57198348947342992},2.8698406481428038,2.878984,-9.1433518571961692E-3,{"$f":"MitigationAggressiveness(D265,0)","v":8.0317612428762981},null,4.1145909999999999,0.48668400000000001,0.24720800000000001,-3.7635000000000002E-2,4.9160599999999999,null,-3.3867526346315735E-2,{"$f":"R265-E265","v":1.757071365697277E-2},{"$f":"S265-F265","v":-0.12453300212537713},{"$f":"T265-H265","v":0.27398737510527249},{"$f":"U265-J265","v":-0.10128875386838487}]
["COFFEE 1.1","EN_NPi2020_400",412.57111099999997,{"$f":"CO2RFFromCO2PPM(C266)","v":2.202344806429831},{"$f":"'Non-CO2 RF Calcs'!$S$17+('Non-CO2 RF Calcs'!$S$16-'Non-CO2 RF Calcs'!$S$17)*($O266-1)/9","v":0.37951344961383893},{"$f":"'Non-CO2 RF Calcs'!$S$19+('Non-CO2 RF Calcs'!$S$18-'Non-CO2 RF Calcs'!$S$19)*($O266-1)/9","v":0.3477386105510436},{"$f":"'Non-CO2 RF Calcs'!$S$21+('Non-CO2 RF Calcs'!$S$20-'Non-CO2 RF Calcs'!$S$21)*($O266-1)/9","v":6.4212572942407675E-2},{"$f":"'Non-CO2 RF Calcs'!$S$23+('Non-CO2 RF Calcs'!$S$22-'Non-CO2 RF Calcs'!$S$23)*($O266-1)/9","v":-0.24626737835015849},{"$f":"'Non-CO2 RF Calcs'!$S$25+('Non-CO2 RF Calcs'!$S$24-'Non-CO2 RF Calcs'!$S$25)*($O266-1)/9","v":6.4212572942407675E-2},2.8117546341293704,{"$f":"CFfromRFin2100(J266)","v":0.60178585736825652},1.6920741732087117,1.626797,6.5277173208711625E-2,{"$f":"MitigationAggressiveness(D266,0)","v":9.3955334914179769},null,2.1736710000000001,0.31558399999999998,0.24664700000000001,-2.8965999999999999E-2,2.7433109999999998,null,-2.8673806429830861E-2,{"$f":"R266-E266","v":-6.3929449613838951E-2},{"$f":"S266-F266","v":-0.1010916105510436},{"$f":"T266-H266","v":0.2173013783501585},{"$f":"U266-J266","v":-6.8443634129370601E-2}]
["COFFEE 1.1","EN_NPi2020_400_lowBECCS",413.67512099999999,{"$f":"CO2RFFromCO2PPM(C267)","v":2.2166596734253745},{"$f":"'Non-CO2 RF Calcs'!$S$17+('Non-CO2 RF Calcs'!$S$16-'Non-CO2 RF Calcs'!$S$17)*($O267-1)/9","v":0.38031768784391051},{"$f":"'Non-CO2 RF Calcs'!$S$19+('Non-CO2 RF Calcs'!$S$18-'Non-CO2 RF Calcs'!$S$19)*($O267-1)/9","v":0.3479540533645788},{"$f":"'Non-CO2 RF Calcs'!$S$21+('Non-CO2 RF Calcs'!$S$20-'Non-CO2 RF Calcs'!$S$21)*($O267-1)/9","v":6.516057572671341E-2},{"$f":"'Non-CO2 RF Calcs'!$S$23+('Non-CO2 RF Calcs'!$S$22-'Non-CO2 RF Calcs'!$S$23)*($O267-1)/9","v":-0.24685399757665927},{"$f":"'Non-CO2 RF Calcs'!$S$25+('Non-CO2 RF Calcs'!$S$24-'Non-CO2 RF Calcs'!$S$25)*($O267-1)/9","v":6.516057572671341E-2},2.8283985685106314,{"$f":"CFfromRFin2100(J267)","v":0.60151210534950661},1.7013159777123605,1.6664319999999999,3.4883977712360625E-2,{"$f":"MitigationAggressiveness(D267,0)","v":9.3832924224671146},null,2.1894420000000001,0.387627,0.20555699999999999,-4.1887000000000001E-2,2.7948559999999998,null,-2.72176734253744E-2,{"$f":"R267-E267","v":7.3093121560894869E-3},{"$f":"S267-F267","v":-0.14239705336457881},{"$f":"T267-H267","v":0.20496699757665926},{"$f":"U267-J267","v":-3.3542568510631643E-2}]
["COFFEE 1.1","EN_NPi2020_400f",402.88537600000001,{"$f":"CO2RFFromCO2PPM(C268)","v":2.0759955764577973},{"$f":"'Non-CO2 RF Calcs'!$S$17+('Non-CO2 RF Calcs'!$S$16-'Non-CO2 RF Calcs'!$S$17)*($O268-1)/9","v":0.37232158952873806},{"$f":"'Non-CO2 RF Calcs'!$S$19+('Non-CO2 RF Calcs'!$S$18-'Non-CO2 RF Calcs'!$S$19)*($O268-1)/9","v":0.34581202398334537},{"$f":"'Non-CO2 RF Calcs'!$S$21+('Non-CO2 RF Calcs'!$S$20-'Non-CO2 RF Calcs'!$S$21)*($O268-1)/9","v":5.5735105532775941E-2},{"$f":"'Non-CO2 RF Calcs'!$S$23+('Non-CO2 RF Calcs'!$S$22-'Non-CO2 RF Calcs'!$S$23)*($O268-1)/9","v":-0.24102156530313673},{"$f":"'Non-CO2 RF Calcs'!$S$25+('Non-CO2 RF Calcs'!$S$24-'Non-CO2 RF Calcs'!$S$25)*($O268-1)/9","v":5.5735105532775941E-2},2.6645778357322962,{"$f":"CFfromRFin2100(J268)","v":0.60423888811846005},1.6100415487679753,1.560093,4.9948548767975387E-2,{"$f":"MitigationAggressiveness(D268,0)","v":9.5049986373099227},null,2.0133580000000002,0.328988,0.24148600000000001,-0.171316,2.473678,null,-6.2637576457797106E-2,{"$f":"R268-E268","v":-4.3333589528738059E-2},{"$f":"S268-F268","v":-0.10432602398334537},{"$f":"T268-H268","v":6.9705565303136735E-2},{"$f":"U268-J268","v":-0.19089983573229619}]
["COFFEE 1.1","EN_NPi2020_400f_lowBECCS",407.21630699999997,{"$f":"CO2RFFromCO2PPM(C269)","v":2.1326610488352591},{"$f":"'Non-CO2 RF Calcs'!$S$17+('Non-CO2 RF Calcs'!$S$16-'Non-CO2 RF Calcs'!$S$17)*($O269-1)/9","v":0.37556774583363806},{"$f":"'Non-CO2 RF Calcs'!$S$19+('Non-CO2 RF Calcs'!$S$18-'Non-CO2 RF Calcs'!$S$19)*($O269-1)/9","v":0.34668161836639311},{"$f":"'Non-CO2 RF Calcs'!$S$21+('Non-CO2 RF Calcs'!$S$20-'Non-CO2 RF Calcs'!$S$21)*($O269-1)/9","v":5.956154041272721E-2},{"$f":"'Non-CO2 RF Calcs'!$S$23+('Non-CO2 RF Calcs'!$S$22-'Non-CO2 RF Calcs'!$S$23)*($O269-1)/9","v":-0.24338934344334195},{"$f":"'Non-CO2 RF Calcs'!$S$25+('Non-CO2 RF Calcs'!$S$24-'Non-CO2 RF Calcs'!$S$25)*($O269-1)/9","v":5.956154041272721E-2},2.7306441504174028,{"$f":"CFfromRFin2100(J269)","v":0.60313055913992364},1.64693493325341,1.706283,-5.9348066746589989E-2,{"$f":"MitigationAggressiveness(D269,0)","v":9.4555898655458446},null,2.0847669999999998,0.39434999999999998,0.24041999999999999,-9.9296999999999996E-2,2.7736879999999999,null,-4.7894048835259273E-2,{"$f":"R269-E269","v":1.8782254166361922E-2},{"$f":"S269-F269","v":-0.10626161836639311},{"$f":"T269-H269","v":0.14409234344334196},{"$f":"U269-J269","v":4.3043849582597105E-2}]
["COFFEE 1.1","EN_NPi2020_500",418.92281400000002,{"$f":"CO2RFFromCO2PPM(C270)","v":2.2844596547093055},{"$f":"'Non-CO2 RF Calcs'!$S$17+('Non-CO2 RF Calcs'!$S$16-'Non-CO2 RF Calcs'!$S$17)*($O270-1)/9","v":0.38409760027523887},{"$f":"'Non-CO2 RF Calcs'!$S$19+('Non-CO2 RF Calcs'!$S$18-'Non-CO2 RF Calcs'!$S$19)*($O270-1)/9","v":0.34896663264603056},{"$f":"'Non-CO2 RF Calcs'!$S$21+('Non-CO2 RF Calcs'!$S$20-'Non-CO2 RF Calcs'!$S$21)*($O270-1)/9","v":6.961618026693972E-2},{"$f":"'Non-CO2 RF Calcs'!$S$23+('Non-CO2 RF Calcs'!$S$22-'Non-CO2 RF Calcs'!$S$23)*($O270-1)/9","v":-0.24961110265298586},{"$f":"'Non-CO2 RF Calcs'!$S$25+('Non-CO2 RF Calcs'!$S$24-'Non-CO2 RF Calcs'!$S$25)*($O270-1)/9","v":6.961618026693972E-2},2.9071451455114685,{"$f":"CFfromRFin2100(J270)","v":0.60022698988609613},1.7449469798523256,1.67317,7.1776979852325562E-2,{"$f":"MitigationAggressiveness(D270,0)","v":9.3257595087482663},null,2.2580469999999999,0.315604,0.24639900000000001,-3.6405E-2,2.8143799999999999,null,-2.6412654709305539E-2,{"$f":"R270-E270","v":-6.8493600275238875E-2},{"$f":"S270-F270","v":-0.10256763264603055},{"$f":"T270-H270","v":0.21320610265298587},{"$f":"U270-J270","v":-9.2765145511468639E-2}]
["COFFEE 1.1","EN_NPi2020_500f",409.86448200000001,{"$f":"CO2RFFromCO2PPM(C271)","v":2.1671748215238211},{"$f":"'Non-CO2 RF Calcs'!$S$17+('Non-CO2 RF Calcs'!$S$16-'Non-CO2 RF Calcs'!$S$17)*($O271-1)/9","v":0.37752839188214737},{"$f":"'Non-CO2 RF Calcs'!$S$19+('Non-CO2 RF Calcs'!$S$18-'Non-CO2 RF Calcs'!$S$19)*($O271-1)/9","v":0.34720684470511104},{"$f":"'Non-CO2 RF Calcs'!$S$21+('Non-CO2 RF Calcs'!$S$20-'Non-CO2 RF Calcs'!$S$21)*($O271-1)/9","v":6.1872668935999742E-2},{"$f":"'Non-CO2 RF Calcs'!$S$23+('Non-CO2 RF Calcs'!$S$22-'Non-CO2 RF Calcs'!$S$23)*($O271-1)/9","v":-0.24481945783658071},{"$f":"'Non-CO2 RF Calcs'!$S$25+('Non-CO2 RF Calcs'!$S$24-'Non-CO2 RF Calcs'!$S$25)*($O271-1)/9","v":6.1872668935999742E-2},2.7708359381464982,{"$f":"CFfromRFin2100(J271)","v":0.60246202842776697},1.6693234397362939,1.6087739999999999,6.0549439736294008E-2,{"$f":"MitigationAggressiveness(D271,0)","v":9.4257474599368738},null,2.1085150000000001,0.32703700000000002,0.239035,-0.17419899999999999,2.5586980000000001,null,-5.8659821523820987E-2,{"$f":"R271-E271","v":-5.0491391882147352E-2},{"$f":"S271-F271","v":-0.10817184470511104},{"$f":"T271-H271","v":7.0620457836580719E-2},{"$f":"U271-J271","v":-0.21213793814649806}]
["COFFEE 1.1","EN_NPi2020_600",426.01077700000002,{"$f":"CO2RFFromCO2PPM(C272)","v":2.3753986697701617},{"$f":"'Non-CO2 RF Calcs'!$S$17+('Non-CO2 RF Calcs'!$S$16-'Non-CO2 RF Calcs'!$S$17)*($O272-1)/9","v":0.38909175107984573},{"$f":"'Non-CO2 RF Calcs'!$S$19+('Non-CO2 RF Calcs'!$S$18-'Non-CO2 RF Calcs'!$S$19)*($O272-1)/9","v":0.35030448735167863},{"$f":"'Non-CO2 RF Calcs'!$S$21+('Non-CO2 RF Calcs'!$S$20-'Non-CO2 RF Calcs'!$S$21)*($O272-1)/9","v":7.5503078813888735E-2},{"$f":"'Non-CO2 RF Calcs'!$S$23+('Non-CO2 RF Calcs'!$S$22-'Non-CO2 RF Calcs'!$S$23)*($O272-1)/9","v":-0.25325388506804913},{"$f":"'Non-CO2 RF Calcs'!$S$25+('Non-CO2 RF Calcs'!$S$24-'Non-CO2 RF Calcs'!$S$25)*($O272-1)/9","v":7.5503078813888735E-2},3.0125471807614144,{"$f":"CFfromRFin2100(J272)","v":0.59853289537511412},1.8031085865552665,1.7590600000000001,4.4048586555266445E-2,{"$f":"MitigationAggressiveness(D272,0)","v":9.2497450368364422},null,2.350622,0.35186699999999999,0.24204300000000001,-3.6914000000000002E-2,2.9419200000000001,null,-2.4776669770161686E-2,{"$f":"R272-E272","v":-3.7224751079845741E-2},{"$f":"S272-F272","v":-0.10826148735167862},{"$f":"T272-H272","v":0.21633988506804913},{"$f":"U272-J272","v":-7.0627180761414277E-2}]
["COFFEE 1.1","EN_NPi2020_600_COV",426.44508300000001,{"$f":"CO2RFFromCO2PPM(C273)","v":2.3809470352904958},{"$f":"'Non-CO2 RF Calcs'!$S$17+('Non-CO2 RF Calcs'!$S$16-'Non-CO2 RF Calcs'!$S$17)*($O273-1)/9","v":0.38939364341008853},{"$f":"'Non-CO2 RF Calcs'!$S$19+('Non-CO2 RF Calcs'!$S$18-'Non-CO2 RF Calcs'!$S$19)*($O273-1)/9","v":0.35038535957408767},{"$f":"'Non-CO2 RF Calcs'!$S$21+('Non-CO2 RF Calcs'!$S$20-'Non-CO2 RF Calcs'!$S$21)*($O273-1)/9","v":7.585893701476687E-2},{"$f":"'Non-CO2 RF Calcs'!$S$23+('Non-CO2 RF Calcs'!$S$22-'Non-CO2 RF Calcs'!$S$23)*($O273-1)/9","v":-0.25347408828474743},{"$f":"'Non-CO2 RF Calcs'!$S$25+('Non-CO2 RF Calcs'!$S$24-'Non-CO2 RF Calcs'!$S$25)*($O273-1)/9","v":7.585893701476687E-2},3.0189698240194582,{"$f":"CFfromRFin2100(J273)","v":0.59843062932404278},1.8066440116982592,1.8633789999999999,-5.673498830174073E-2,{"$f":"MitigationAggressiveness(D273,0)","v":9.2451500241995657},null,2.3581300000000001,0.48645100000000002,0.245228,-3.5933E-2,3.130652,null,-2.2817035290495724E-2,{"$f":"R273-E273","v":9.7057356589911492E-2},{"$f":"S273-F273","v":-0.10515735957408767},{"$f":"T273-H273","v":0.21754108828474744},{"$f":"U273-J273","v":0.11168217598054175}]
["COFFEE 1.1","EN_NPi2020_600f",417.724199,{"$f":"CO2RFFromCO2PPM(C274)","v":2.2690089657138617},{"$f":"'Non-CO2 RF Calcs'!$S$17+('Non-CO2 RF Calcs'!$S$16-'Non-CO2 RF Calcs'!$S$17)*($O274-1)/9","v":0.38324045614065916},{"$f":"'Non-CO2 RF Calcs'!$S$19+('Non-CO2 RF Calcs'!$S$18-'Non-CO2 RF Calcs'!$S$19)*($O274-1)/9","v":0.34873701717010053},{"$f":"'Non-CO2 RF Calcs'!$S$21+('Non-CO2 RF Calcs'!$S$20-'Non-CO2 RF Calcs'!$S$21)*($O274-1)/9","v":6.8605814189141467E-2},{"$f":"'Non-CO2 RF Calcs'!$S$23+('Non-CO2 RF Calcs'!$S$22-'Non-CO2 RF Calcs'!$S$23)*($O274-1)/9","v":-0.24898589334257787},{"$f":"'Non-CO2 RF Calcs'!$S$25+('Non-CO2 RF Calcs'!$S$24-'Non-CO2 RF Calcs'!$S$25)*($O274-1)/9","v":6.8605814189141467E-2},{"$f":"SUM(D274:I274)","v":2.8892121740603267},{"$f":"CFfromRFin2100(J274)","v":0.60051818699785364},{"$f":"K274*J274","v":1.7350244566188346},1.717606,{"$f":"L274-M274","v":1.7418456618834677E-2},{"$f":"MitigationAggressiveness(D274,0)","v":9.3388058426079272},null,2.2234530000000001,0.36047000000000001,0.23719100000000001,-0.15839600000000001,2.7519879999999999,null,{"$f":"Q274-D274","v":-4.5555965713861557E-2},{"$f":"R274-E274","v":-2.2770456140659145E-2},{"$f":"S274-F274","v":-0.11154601717010051},{"$f":"T274-H274","v":9.058989334257786E-2},{"$f":"U274-J274","v":-0.13722417406032683}]
["COFFEE 1.1","EN_NPi2020_600f_COV",418.03895899999998,{"$f":"CO2RFFromCO2PPM(C275)","v":2.2730683917501584},{"$f":"'Non-CO2 RF Calcs'!$S$17+('Non-CO2 RF Calcs'!$S$16-'Non-CO2 RF Calcs'!$S$17)*($O275-1)/9","v":0.38346590007226278},{"$f":"'Non-CO2 RF Calcs'!$S$19+('Non-CO2 RF Calcs'!$S$18-'Non-CO2 RF Calcs'!$S$19)*($O275-1)/9","v":0.34879741006502019},{"$f":"'Non-CO2 RF Calcs'!$S$21+('Non-CO2 RF Calcs'!$S$20-'Non-CO2 RF Calcs'!$S$21)*($O275-1)/9","v":6.8871558177519221E-2},{"$f":"'Non-CO2 RF Calcs'!$S$23+('Non-CO2 RF Calcs'!$S$22-'Non-CO2 RF Calcs'!$S$23)*($O275-1)/9","v":-0.24915033435002015},{"$f":"'Non-CO2 RF Calcs'!$S$25+('Non-CO2 RF Calcs'!$S$24-'Non-CO2 RF Calcs'!$S$25)*($O275-1)/9","v":6.8871558177519221E-2},2.8939244838924596,{"$f":"CFfromRFin2100(J275)","v":0.60044158456692942},1.7376326027254219,1.823472,-8.5839397274578122E-2,{"$f":"MitigationAggressiveness(D275,0)","v":9.3353744281238544},null,2.2334670000000001,0.49191699999999999,0.24451999999999999,-0.16111600000000001,2.9391590000000001,null,-3.960139175015831E-2,{"$f":"R275-E275","v":0.10845109992773722},{"$f":"S275-F275","v":-0.1042774100650202},{"$f":"T275-H275","v":8.8034334350020144E-2},{"$f":"U275-J275","v":4.5234516107540479E-2}]
["COFFEE 1.1","EN_NPi2020_700",432.65738199999998,{"$f":"CO2RFFromCO2PPM(C276)","v":2.4600097705745965},{"$f":"'Non-CO2 RF Calcs'!$S$17+('Non-CO2 RF Calcs'!$S$16-'Non-CO2 RF Calcs'!$S$17)*($O276-1)/9","v":0.39366040969639304},{"$f":"'Non-CO2 RF Calcs'!$S$19+('Non-CO2 RF Calcs'!$S$18-'Non-CO2 RF Calcs'!$S$19)*($O276-1)/9","v":0.35152835937072324},{"$f":"'Non-CO2 RF Calcs'!$S$21+('Non-CO2 RF Calcs'!$S$20-'Non-CO2 RF Calcs'!$S$21)*($O276-1)/9","v":8.0888424756275779E-2},{"$f":"'Non-CO2 RF Calcs'!$S$23+('Non-CO2 RF Calcs'!$S$22-'Non-CO2 RF Calcs'!$S$23)*($O276-1)/9","v":-0.25658630932192511},{"$f":"'Non-CO2 RF Calcs'!$S$25+('Non-CO2 RF Calcs'!$S$24-'Non-CO2 RF Calcs'!$S$25)*($O276-1)/9","v":8.0888424756275779E-2},3.1103890798323395,{"$f":"CFfromRFin2100(J276)","v":0.5969869794298136},1.8568617816205857,1.8091539999999999,4.7707781620585754E-2,{"$f":"MitigationAggressiveness(D276,0)","v":9.1802068539361787},null,2.4372690000000001,0.35335299999999997,0.24105599999999999,-4.0703000000000003E-2,3.021557,null,-2.2740770574596336E-2,{"$f":"R276-E276","v":-4.0307409696393071E-2},{"$f":"S276-F276","v":-0.11047235937072325},{"$f":"T276-H276","v":0.21588330932192512},{"$f":"U276-J276","v":-8.8832079832339428E-2}]
["COFFEE 1.1","EN_NPi2020_700f",424.90629999999999,{"$f":"CO2RFFromCO2PPM(C277)","v":2.3612763201126086},{"$f":"'Non-CO2 RF Calcs'!$S$17+('Non-CO2 RF Calcs'!$S$16-'Non-CO2 RF Calcs'!$S$17)*($O277-1)/9","v":0.38832188097981479},{"$f":"'Non-CO2 RF Calcs'!$S$19+('Non-CO2 RF Calcs'!$S$18-'Non-CO2 RF Calcs'!$S$19)*($O277-1)/9","v":0.35009825122138116},{"$f":"'Non-CO2 RF Calcs'!$S$21+('Non-CO2 RF Calcs'!$S$20-'Non-CO2 RF Calcs'!$S$21)*($O277-1)/9","v":7.4595587760748927E-2},{"$f":"'Non-CO2 RF Calcs'!$S$23+('Non-CO2 RF Calcs'!$S$22-'Non-CO2 RF Calcs'!$S$23)*($O277-1)/9","v":-0.25269233429155102},{"$f":"'Non-CO2 RF Calcs'!$S$25+('Non-CO2 RF Calcs'!$S$24-'Non-CO2 RF Calcs'!$S$25)*($O277-1)/9","v":7.4595587760748927E-2},2.9961952935437512,{"$f":"CFfromRFin2100(J277)","v":0.59879376155061004},1.7941030501612971,1.7807010000000001,1.340205016129703E-2,{"$f":"MitigationAggressiveness(D277,0)","v":9.2614629987851629},null,2.3204410000000002,0.36160599999999998,0.234988,-0.156301,2.8427030000000002,null,-4.0835320112608375E-2,{"$f":"R277-E277","v":-2.671588097981481E-2},{"$f":"S277-F277","v":-0.11511025122138116},{"$f":"T277-H277","v":9.6391334291551029E-2},{"$f":"U277-J277","v":-0.15349229354375105}]
["COFFEE 1.1","EN_NPi2020_800",439.70900599999999,{"$f":"CO2RFFromCO2PPM(C278)","v":2.5490728179127617},{"$f":"'Non-CO2 RF Calcs'!$S$17+('Non-CO2 RF Calcs'!$S$16-'Non-CO2 RF Calcs'!$S$17)*($O278-1)/9","v":0.39838825123536137},{"$f":"'Non-CO2 RF Calcs'!$S$19+('Non-CO2 RF Calcs'!$S$18-'Non-CO2 RF Calcs'!$S$19)*($O278-1)/9","v":0.35279487399912268},{"$f":"'Non-CO2 RF Calcs'!$S$21+('Non-CO2 RF Calcs'!$S$20-'Non-CO2 RF Calcs'!$S$21)*($O278-1)/9","v":8.6461408948159679E-2},{"$f":"'Non-CO2 RF Calcs'!$S$23+('Non-CO2 RF Calcs'!$S$22-'Non-CO2 RF Calcs'!$S$23)*($O278-1)/9","v":-0.26003484315543945},{"$f":"'Non-CO2 RF Calcs'!$S$25+('Non-CO2 RF Calcs'!$S$24-'Non-CO2 RF Calcs'!$S$25)*($O278-1)/9","v":8.6461408948159679E-2},3.213143917888126,{"$f":"CFfromRFin2100(J278)","v":0.59539107942308755},1.9130772256131399,1.864846,4.8231225613139861E-2,{"$f":"MitigationAggressiveness(D278,0)","v":9.1082457955043932},null,2.525903,0.360931,0.23888100000000001,-4.0322999999999998E-2,3.1081650000000001,null,-2.3169817912761737E-2,{"$f":"R278-E278","v":-3.7457251235361366E-2},{"$f":"S278-F278","v":-0.11391387399912267},{"$f":"T278-H278","v":0.21971184315543946},{"$f":"U278-J278","v":-0.10497891788812597}]
["COFFEE 1.1","EN_NPi2020_800f",432.552998,{"$f":"CO2RFFromCO2PPM(C279)","v":2.4586859417517983},{"$f":"'Non-CO2 RF Calcs'!$S$17+('Non-CO2 RF Calcs'!$S$16-'Non-CO2 RF Calcs'!$S$17)*($O279-1)/9","v":0.39358950710989515},{"$f":"'Non-CO2 RF Calcs'!$S$19+('Non-CO2 RF Calcs'!$S$18-'Non-CO2 RF Calcs'!$S$19)*($O279-1)/9","v":0.35150936567936308},{"$f":"'Non-CO2 RF Calcs'!$S$21+('Non-CO2 RF Calcs'!$S$20-'Non-CO2 RF Calcs'!$S$21)*($O279-1)/9","v":8.0804847717904416E-2},{"$f":"'Non-CO2 RF Calcs'!$S$23+('Non-CO2 RF Calcs'!$S$22-'Non-CO2 RF Calcs'!$S$23)*($O279-1)/9","v":-0.25653459228225567},{"$f":"'Non-CO2 RF Calcs'!$S$25+('Non-CO2 RF Calcs'!$S$24-'Non-CO2 RF Calcs'!$S$25)*($O279-1)/9","v":8.0804847717904416E-2},3.1088599176946099,{"$f":"CFfromRFin2100(J279)","v":0.59701094290993906},1.8560233908377746,1.833086,2.2937390837774574E-2,{"$f":"MitigationAggressiveness(D279,0)","v":9.1812860409452792},null,2.4137590000000002,0.36674600000000002,0.23314799999999999,-0.15482399999999999,2.9431509999999999,null,-4.4926941751798122E-2,{"$f":"R279-E279","v":-2.6843507109895137E-2},{"$f":"S279-F279","v":-0.11836136567936309},{"$f":"T279-H279","v":0.10171059228225568},{"$f":"U279-J279","v":-0.16570891769461005}]
["COFFEE 1.1","EN_NPi2020_900",447.09189099999998,{"$f":"CO2RFFromCO2PPM(C280)","v":2.6415431237270428},{"$f":"'Non-CO2 RF Calcs'!$S$17+('Non-CO2 RF Calcs'!$S$16-'Non-CO2 RF Calcs'!$S$17)*($O280-1)/9","v":0.403208838250667},{"$f":"'Non-CO2 RF Calcs'!$S$19+('Non-CO2 RF Calcs'!$S$18-'Non-CO2 RF Calcs'!$S$19)*($O280-1)/9","v":0.35408623368663228},{"$f":"'Non-CO2 RF Calcs'!$S$21+('Non-CO2 RF Calcs'!$S$20-'Non-CO2 RF Calcs'!$S$21)*($O280-1)/9","v":9.2143717674132986E-2},{"$f":"'Non-CO2 RF Calcs'!$S$23+('Non-CO2 RF Calcs'!$S$22-'Non-CO2 RF Calcs'!$S$23)*($O280-1)/9","v":-0.26355102644598788},{"$f":"'Non-CO2 RF Calcs'!$S$25+('Non-CO2 RF Calcs'!$S$24-'Non-CO2 RF Calcs'!$S$25)*($O280-1)/9","v":9.2143717674132986E-2},3.3195746045666206,{"$f":"CFfromRFin2100(J280)","v":0.59376794498938623},1.9710569911924767,1.9480569999999999,2.2999991192476754E-2,{"$f":"MitigationAggressiveness(D280,0)","v":9.0348730859868045},null,2.6185890000000001,0.363645,0.237094,-3.6131000000000003E-2,3.248939,null,-2.2954123727042752E-2,{"$f":"R280-E280","v":-3.9563838250667005E-2},{"$f":"S280-F280","v":-0.11699223368663228},{"$f":"T280-H280","v":0.22742002644598788},{"$f":"U280-J280","v":-7.0635604566620547E-2}]
["COFFEE 1.1","EN_NPi2020_900f",439.842783,{"$f":"CO2RFFromCO2PPM(C281)","v":2.5507554360343243},{"$f":"'Non-CO2 RF Calcs'!$S$17+('Non-CO2 RF Calcs'!$S$16-'Non-CO2 RF Calcs'!$S$17)*($O281-1)/9","v":0.39847677009000282},{"$f":"'Non-CO2 RF Calcs'!$S$19+('Non-CO2 RF Calcs'!$S$18-'Non-CO2 RF Calcs'!$S$19)*($O281-1)/9","v":0.35281858681254263},{"$f":"'Non-CO2 RF Calcs'!$S$21+('Non-CO2 RF Calcs'!$S$20-'Non-CO2 RF Calcs'!$S$21)*($O281-1)/9","v":8.656575131529165E-2},{"$f":"'Non-CO2 RF Calcs'!$S$23+('Non-CO2 RF Calcs'!$S$22-'Non-CO2 RF Calcs'!$S$23)*($O281-1)/9","v":-0.26009940967329315},{"$f":"'Non-CO2 RF Calcs'!$S$25+('Non-CO2 RF Calcs'!$S$24-'Non-CO2 RF Calcs'!$S$25)*($O281-1)/9","v":8.656575131529165E-2},3.21508288589416,{"$f":"CFfromRFin2100(J281)","v":0.59536123725540557},1.9141357248246271,1.8851960000000001,2.8939724824627033E-2,{"$f":"MitigationAggressiveness(D281,0)","v":9.1068984765600778},null,2.5103689999999999,0.36821500000000001,0.23234099999999999,-0.15349399999999999,3.0401349999999998,null,-4.0386436034324458E-2,{"$f":"R281-E281","v":-3.0261770090002804E-2},{"$f":"S281-F281","v":-0.12047758681254264},{"$f":"T281-H281","v":0.10660540967329316},{"$f":"U281-J281","v":-0.17494788589416022}]
["COFFEE 1.1","EN_NPi2100",674.48943199999997,{"$f":"CO2RFFromCO2PPM(C282)","v":5.100618565022156},{"$f":"'Non-CO2 RF Calcs'!$S$17+('Non-CO2 RF Calcs'!$S$16-'Non-CO2 RF Calcs'!$S$17)*($O282-1)/9","v":0.49846354094606876},{"$f":"'Non-CO2 RF Calcs'!$S$19+('Non-CO2 RF Calcs'!$S$18-'Non-CO2 RF Calcs'!$S$19)*($O282-1)/9","v":0.37960347520016452},{"$f":"'Non-CO2 RF Calcs'!$S$21+('Non-CO2 RF Calcs'!$S$20-'Non-CO2 RF Calcs'!$S$21)*($O282-1)/9","v":0.2044260240815321},{"$f":"'Non-CO2 RF Calcs'!$S$23+('Non-CO2 RF Calcs'!$S$22-'Non-CO2 RF Calcs'!$S$23)*($O282-1)/9","v":-0.33303073771357927},{"$f":"'Non-CO2 RF Calcs'!$S$25+('Non-CO2 RF Calcs'!$S$24-'Non-CO2 RF Calcs'!$S$25)*($O282-1)/9","v":0.2044260240815321},6.0545068916178746,{"$f":"CFfromRFin2100(J282)","v":0.56247934403793265},3.4055350648703646,3.1876709999999999,0.21786406487036469,{"$f":"MitigationAggressiveness(D282,0)","v":7.5850298181724698},null,5.0444069999999996,0.57431500000000002,0.242034,-0.30895600000000001,5.6499389999999998,null,-5.6211565022156407E-2,{"$f":"R282-E282","v":7.5851459053931258E-2},{"$f":"S282-F282","v":-0.13756947520016452},{"$f":"T282-H282","v":2.4074737713579264E-2},{"$f":"U282-J282","v":-0.40456789161787476}]
["COFFEE 1.1","EN_NPi2100_COV",647.85577899999998,{"$f":"CO2RFFromCO2PPM(C283)","v":4.8515692393895513},{"$f":"'Non-CO2 RF Calcs'!$S$17+('Non-CO2 RF Calcs'!$S$16-'Non-CO2 RF Calcs'!$S$17)*($O283-1)/9","v":0.491705911584709},{"$f":"'Non-CO2 RF Calcs'!$S$19+('Non-CO2 RF Calcs'!$S$18-'Non-CO2 RF Calcs'!$S$19)*($O283-1)/9","v":0.37779321223578199},{"$f":"'Non-CO2 RF Calcs'!$S$21+('Non-CO2 RF Calcs'!$S$20-'Non-CO2 RF Calcs'!$S$21)*($O283-1)/9","v":0.19646040990113667},{"$f":"'Non-CO2 RF Calcs'!$S$23+('Non-CO2 RF Calcs'!$S$22-'Non-CO2 RF Calcs'!$S$23)*($O283-1)/9","v":-0.32810165680109071},{"$f":"'Non-CO2 RF Calcs'!$S$25+('Non-CO2 RF Calcs'!$S$24-'Non-CO2 RF Calcs'!$S$25)*($O283-1)/9","v":0.19646040990113667},5.7858875262112246,{"$f":"CFfromRFin2100(J283)","v":0.56466403368700357},3.2670825890097488,3.104034,0.16304858900974883,{"$f":"MitigationAggressiveness(D283,0)","v":7.6878856684214769},null,4.79528,0.55359899999999995,0.21736800000000001,-0.29590100000000003,5.5530160000000004,null,-5.6289239389551327E-2,{"$f":"R283-E283","v":6.1893088415290953E-2},{"$f":"S283-F283","v":-0.16042521223578199},{"$f":"T283-H283","v":3.2200656801090688E-2},{"$f":"U283-J283","v":-0.2328715262112242}]
["COPPE-COFFEE 1.0","CD-LINKS_INDC2030i_1600",468.72224899999998,{"$f":"CO2RFFromCO2PPM(C284)","v":2.9078890010339662},{"$f":"'Non-CO2 RF Calcs'!$S$17+('Non-CO2 RF Calcs'!$S$16-'Non-CO2 RF Calcs'!$S$17)*($O284-1)/9","v":0.41659204252450788},{"$f":"'Non-CO2 RF Calcs'!$S$19+('Non-CO2 RF Calcs'!$S$18-'Non-CO2 RF Calcs'!$S$19)*($O284-1)/9","v":0.35767138429880274},{"$f":"'Non-CO2 RF Calcs'!$S$21+('Non-CO2 RF Calcs'!$S$20-'Non-CO2 RF Calcs'!$S$21)*($O284-1)/9","v":0.10791928570874676},{"$f":"'Non-CO2 RF Calcs'!$S$23+('Non-CO2 RF Calcs'!$S$22-'Non-CO2 RF Calcs'!$S$23)*($O284-1)/9","v":-0.27331286646511121},{"$f":"'Non-CO2 RF Calcs'!$S$25+('Non-CO2 RF Calcs'!$S$24-'Non-CO2 RF Calcs'!$S$25)*($O284-1)/9","v":0.10791928570874676},3.6246781328096591,{"$f":"CFfromRFin2100(J284)","v":0.58928330234374149},2.1359623000352226,1.9613929999999999,0.17456930003522264,{"$f":"MitigationAggressiveness(D284,0)","v":8.8311713466589357},null,2.8678870000000001,0.21401500000000001,0.28672799999999998,-0.147812,3.1918869999999999,null,-4.0002001033966117E-2,{"$f":"R284-E284","v":-0.20257704252450787},{"$f":"S284-F284","v":-7.0943384298802759E-2},{"$f":"T284-H284","v":0.12550086646511122},{"$f":"U284-J284","v":-0.4327911328096592}]
["COPPE-COFFEE 1.0","CD-LINKS_INDCi",788.99523899999997,{"$f":"CO2RFFromCO2PPM(C285)","v":6.0535785397190507},{"$f":"'Non-CO2 RF Calcs'!$S$17+('Non-CO2 RF Calcs'!$S$16-'Non-CO2 RF Calcs'!$S$17)*($O285-1)/9","v":0.5183073525516253},{"$f":"'Non-CO2 RF Calcs'!$S$19+('Non-CO2 RF Calcs'!$S$18-'Non-CO2 RF Calcs'!$S$19)*($O285-1)/9","v":0.38491932123148564},{"$f":"'Non-CO2 RF Calcs'!$S$21+('Non-CO2 RF Calcs'!$S$20-'Non-CO2 RF Calcs'!$S$21)*($O285-1)/9","v":0.22781708900470626},{"$f":"'Non-CO2 RF Calcs'!$S$23+('Non-CO2 RF Calcs'!$S$22-'Non-CO2 RF Calcs'!$S$23)*($O285-1)/9","v":-0.34750500787335697},{"$f":"'Non-CO2 RF Calcs'!$S$25+('Non-CO2 RF Calcs'!$S$24-'Non-CO2 RF Calcs'!$S$25)*($O285-1)/9","v":0.22781708900470626},7.0649343836382181,{"$f":"CFfromRFin2100(J285)","v":0.55599459292475994},3.9280653166710708,3.783623,0.14444231667107088,{"$f":"MitigationAggressiveness(D285,0)","v":7.2829931118474081},null,6.002281,0.57085600000000003,0.28188999999999997,-0.31919199999999998,6.8511879999999996,null,-5.1297539719050711E-2,{"$f":"R285-E285","v":5.254864744837473E-2},{"$f":"S285-F285","v":-0.10302932123148567},{"$f":"T285-H285","v":2.8313007873356999E-2},{"$f":"U285-J285","v":-0.21374638363821852}]
["COPPE-COFFEE 1.0","CD-LINKS_NDC2030i_1000",424.65371399999998,{"$f":"CO2RFFromCO2PPM(C286)","v":2.3580441416561579},{"$f":"'Non-CO2 RF Calcs'!$S$17+('Non-CO2 RF Calcs'!$S$16-'Non-CO2 RF Calcs'!$S$17)*($O286-1)/9","v":0.38814538653333153},{"$f":"'Non-CO2 RF Calcs'!$S$19+('Non-CO2 RF Calcs'!$S$18-'Non-CO2 RF Calcs'!$S$19)*($O286-1)/9","v":0.35005097112612837},{"$f":"'Non-CO2 RF Calcs'!$S$21+('Non-CO2 RF Calcs'!$S$20-'Non-CO2 RF Calcs'!$S$21)*($O286-1)/9","v":7.438754340221887E-2},{"$f":"'Non-CO2 RF Calcs'!$S$23+('Non-CO2 RF Calcs'!$S$22-'Non-CO2 RF Calcs'!$S$23)*($O286-1)/9","v":-0.25256359751704027},{"$f":"'Non-CO2 RF Calcs'!$S$25+('Non-CO2 RF Calcs'!$S$24-'Non-CO2 RF Calcs'!$S$25)*($O286-1)/9","v":7.438754340221887E-2},2.9924519886030159,{"$f":"CFfromRFin2100(J286)","v":0.59885358040204317},1.79204058755613,1.6400140000000001,0.15202658755612997,{"$f":"MitigationAggressiveness(D286,0)","v":9.264149367833614},null,2.3071950000000001,0.19744800000000001,0.29793599999999998,-0.17310400000000001,2.6156100000000002,null,-5.0849141656157837E-2,{"$f":"R286-E286","v":-0.19069738653333151},{"$f":"S286-F286","v":-5.2114971126128395E-2},{"$f":"T286-H286","v":7.9459597517040265E-2},{"$f":"U286-J286","v":-0.37684198860301565}]
["COPPE-COFFEE 1.0","CD-LINKS_NPi",798.10727799999995,{"$f":"CO2RFFromCO2PPM(C287)","v":6.1212036046537266},{"$f":"'Non-CO2 RF Calcs'!$S$17+('Non-CO2 RF Calcs'!$S$16-'Non-CO2 RF Calcs'!$S$17)*($O287-1)/9","v":0.51935320352661496},{"$f":"'Non-CO2 RF Calcs'!$S$19+('Non-CO2 RF Calcs'!$S$18-'Non-CO2 RF Calcs'!$S$19)*($O287-1)/9","v":0.38519948831154371},{"$f":"'Non-CO2 RF Calcs'!$S$21+('Non-CO2 RF Calcs'!$S$20-'Non-CO2 RF Calcs'!$S$21)*($O287-1)/9","v":0.22904989490622474},{"$f":"'Non-CO2 RF Calcs'!$S$23+('Non-CO2 RF Calcs'!$S$22-'Non-CO2 RF Calcs'!$S$23)*($O287-1)/9","v":-0.34826786179778291},{"$f":"'Non-CO2 RF Calcs'!$S$25+('Non-CO2 RF Calcs'!$S$24-'Non-CO2 RF Calcs'!$S$25)*($O287-1)/9","v":0.22904989490622474},7.1355882245065505,{"$f":"CFfromRFin2100(J287)","v":0.55564357763570305},3.9648437696000141,3.836748,0.12809576960001401,{"$f":"MitigationAggressiveness(D287,0)","v":7.2670745277531967},null,6.0720090000000004,0.57228199999999996,0.28557399999999999,-0.319133,6.9249000000000001,null,-4.9194604653726159E-2,{"$f":"R287-E287","v":5.2928796473384998E-2},{"$f":"S287-F287","v":-9.962548831154372E-2},{"$f":"T287-H287","v":2.9134861797782907E-2},{"$f":"U287-J287","v":-0.21068822450655045}]
["COPPE-COFFEE 1.0","CD-LINKS_NPi2020_1000",425.22218800000002,{"$f":"CO2RFFromCO2PPM(C288)","v":2.3653172243689862},{"$f":"'Non-CO2 RF Calcs'!$S$17+('Non-CO2 RF Calcs'!$S$16-'Non-CO2 RF Calcs'!$S$17)*($O288-1)/9","v":0.38854238194244217},{"$f":"'Non-CO2 RF Calcs'!$S$19+('Non-CO2 RF Calcs'!$S$18-'Non-CO2 RF Calcs'!$S$19)*($O288-1)/9","v":0.35015731997240462},{"$f":"'Non-CO2 RF Calcs'!$S$21+('Non-CO2 RF Calcs'!$S$20-'Non-CO2 RF Calcs'!$S$21)*($O288-1)/9","v":7.4855505181603554E-2},{"$f":"'Non-CO2 RF Calcs'!$S$23+('Non-CO2 RF Calcs'!$S$22-'Non-CO2 RF Calcs'!$S$23)*($O288-1)/9","v":-0.25285316984910422},{"$f":"'Non-CO2 RF Calcs'!$S$25+('Non-CO2 RF Calcs'!$S$24-'Non-CO2 RF Calcs'!$S$25)*($O288-1)/9","v":7.4855505181603554E-2},3.0008747667979363,{"$f":"CFfromRFin2100(J288)","v":0.59871903537422688},1.7966808456561185,1.6530260000000001,0.14365484565611841,{"$f":"MitigationAggressiveness(D288,0)","v":9.258106819749738},null,2.315312,0.206761,0.29834899999999998,-0.173571,2.63523,null,-5.0005224368986134E-2,{"$f":"R288-E288","v":-0.18178138194244217},{"$f":"S288-F288","v":-5.1808319972404648E-2},{"$f":"T288-H288","v":7.9282169849104217E-2},{"$f":"U288-J288","v":-0.36564476679793634}]
["COPPE-COFFEE 1.0","CD-LINKS_NPi2020_1600",469.84512599999999,{"$f":"CO2RFFromCO2PPM(C289)","v":2.9215293821129884},{"$f":"'Non-CO2 RF Calcs'!$S$17+('Non-CO2 RF Calcs'!$S$16-'Non-CO2 RF Calcs'!$S$17)*($O289-1)/9","v":0.41725738728540962},{"$f":"'Non-CO2 RF Calcs'!$S$19+('Non-CO2 RF Calcs'!$S$18-'Non-CO2 RF Calcs'!$S$19)*($O289-1)/9","v":0.35784961972942481},{"$f":"'Non-CO2 RF Calcs'!$S$21+('Non-CO2 RF Calcs'!$S$20-'Non-CO2 RF Calcs'!$S$21)*($O289-1)/9","v":0.10870356661243097},{"$f":"'Non-CO2 RF Calcs'!$S$23+('Non-CO2 RF Calcs'!$S$22-'Non-CO2 RF Calcs'!$S$23)*($O289-1)/9","v":-0.27379817543750573},{"$f":"'Non-CO2 RF Calcs'!$S$25+('Non-CO2 RF Calcs'!$S$24-'Non-CO2 RF Calcs'!$S$25)*($O289-1)/9","v":0.10870356661243097},3.6402453469151794,{"$f":"CFfromRFin2100(J289)","v":0.58906117785029377},2.1443272117179069,2.0279690000000001,0.11635821171790672,{"$f":"MitigationAggressiveness(D289,0)","v":8.8210443335554096},null,2.8828580000000001,0.217469,0.29645700000000003,-0.14932899999999999,3.3034780000000001,null,-3.8671382112988262E-2,{"$f":"R289-E289","v":-0.19978838728540962},{"$f":"S289-F289","v":-6.139261972942478E-2},{"$f":"T289-H289","v":0.12446917543750574},{"$f":"U289-J289","v":-0.33676734691517929}]
["COPPE-COFFEE 1.0","CD-LINKS_NPi2020_400",383.96467200000001,{"$f":"CO2RFFromCO2PPM(C290)","v":1.8252329156545315},{"$f":"'Non-CO2 RF Calcs'!$S$17+('Non-CO2 RF Calcs'!$S$16-'Non-CO2 RF Calcs'!$S$17)*($O290-1)/9","v":0.3575516018204945},{"$f":"'Non-CO2 RF Calcs'!$S$19+('Non-CO2 RF Calcs'!$S$18-'Non-CO2 RF Calcs'!$S$19)*($O290-1)/9","v":0.34185537583014775},{"$f":"'Non-CO2 RF Calcs'!$S$21+('Non-CO2 RF Calcs'!$S$20-'Non-CO2 RF Calcs'!$S$21)*($O290-1)/9","v":3.8324854505132233E-2},{"$f":"'Non-CO2 RF Calcs'!$S$23+('Non-CO2 RF Calcs'!$S$22-'Non-CO2 RF Calcs'!$S$23)*($O290-1)/9","v":-0.23024819189105244},{"$f":"'Non-CO2 RF Calcs'!$S$25+('Non-CO2 RF Calcs'!$S$24-'Non-CO2 RF Calcs'!$S$25)*($O290-1)/9","v":3.8324854505132233E-2},2.371041410424386,{"$f":"CFfromRFin2100(J290)","v":0.60930480860739933},1.4446869327788487,1.384638,6.0048932778848707E-2,{"$f":"MitigationAggressiveness(D290,0)","v":9.7298081914688801},null,1.751509,0.265233,0.31582900000000003,-0.173648,2.204005,null,-7.3723915654531513E-2,{"$f":"R290-E290","v":-9.2318601820494506E-2},{"$f":"S290-F290","v":-2.6026375830147719E-2},{"$f":"T290-H290","v":5.6600191891052448E-2},{"$f":"U290-J290","v":-0.16703641042438599}]
["DNE21+ V.14E1","EMF30_Baseline",780.77878899999996,{"$f":"CO2RFFromCO2PPM(C291)","v":5.9915625106719785},{"$f":"'Non-CO2 RF Calcs'!$S$17+('Non-CO2 RF Calcs'!$S$16-'Non-CO2 RF Calcs'!$S$17)*($O291-1)/9","v":0.51730603995105673},{"$f":"'Non-CO2 RF Calcs'!$S$19+('Non-CO2 RF Calcs'!$S$18-'Non-CO2 RF Calcs'!$S$19)*($O291-1)/9","v":0.38465108528369252},{"$f":"'Non-CO2 RF Calcs'!$S$21+('Non-CO2 RF Calcs'!$S$20-'Non-CO2 RF Calcs'!$S$21)*($O291-1)/9","v":0.22663678309806617},{"$f":"'Non-CO2 RF Calcs'!$S$23+('Non-CO2 RF Calcs'!$S$22-'Non-CO2 RF Calcs'!$S$23)*($O291-1)/9","v":-0.34677464067459962},{"$f":"'Non-CO2 RF Calcs'!$S$25+('Non-CO2 RF Calcs'!$S$24-'Non-CO2 RF Calcs'!$S$25)*($O291-1)/9","v":0.22663678309806617},7.0000185614282611,{"$f":"CFfromRFin2100(J291)","v":0.55632890279426217},3.8943126458188542,3.782168,0.11214464581885419,{"$f":"MitigationAggressiveness(D291,0)","v":7.2982337906992889},null,5.9330379999999998,0.83374499999999996,0.453907,-0.77993800000000002,6.8345950000000002,null,-5.8524510671978724E-2,{"$f":"R291-E291","v":0.31643896004894323},{"$f":"S291-F291","v":6.9255914716307487E-2},{"$f":"T291-H291","v":-0.4331633593254004},{"$f":"U291-J291","v":-0.16542356142826087}]
["DNE21+ V.14E1","EMF30_BCOC-EndU",785.77000299999997,{"$f":"CO2RFFromCO2PPM(C292)","v":6.0293524526860072},{"$f":"'Non-CO2 RF Calcs'!$S$17+('Non-CO2 RF Calcs'!$S$16-'Non-CO2 RF Calcs'!$S$17)*($O292-1)/9","v":0.51792100369023986},{"$f":"'Non-CO2 RF Calcs'!$S$19+('Non-CO2 RF Calcs'!$S$18-'Non-CO2 RF Calcs'!$S$19)*($O292-1)/9","v":0.38481582442843565},{"$f":"'Non-CO2 RF Calcs'!$S$21+('Non-CO2 RF Calcs'!$S$20-'Non-CO2 RF Calcs'!$S$21)*($O292-1)/9","v":0.22736167693573006},{"$f":"'Non-CO2 RF Calcs'!$S$23+('Non-CO2 RF Calcs'!$S$22-'Non-CO2 RF Calcs'!$S$23)*($O292-1)/9","v":-0.34722320123727457},{"$f":"'Non-CO2 RF Calcs'!$S$25+('Non-CO2 RF Calcs'!$S$24-'Non-CO2 RF Calcs'!$S$25)*($O292-1)/9","v":0.22736167693573006},7.0395894334388673,{"$f":"CFfromRFin2100(J292)","v":0.55612377191754547},3.9148830284749199,3.7851699999999999,0.12971302847491994,{"$f":"MitigationAggressiveness(D292,0)","v":7.2888736120207023},null,5.9719230000000003,0.90664500000000003,0.45175799999999999,-0.66975700000000005,6.8752060000000004,null,-5.7429452686006854E-2,{"$f":"R292-E292","v":0.38872399630976018},{"$f":"S292-F292","v":6.6942175571564344E-2},{"$f":"T292-H292","v":-0.32253379876272548},{"$f":"U292-J292","v":-0.16438343343886697}]
["DNE21+ V.14E1","EMF30_CH4-Only",769.97678499999995,{"$f":"CO2RFFromCO2PPM(C293)","v":5.9085341410065961},{"$f":"'Non-CO2 RF Calcs'!$S$17+('Non-CO2 RF Calcs'!$S$16-'Non-CO2 RF Calcs'!$S$17)*($O293-1)/9","v":0.515902238717169},{"$f":"'Non-CO2 RF Calcs'!$S$19+('Non-CO2 RF Calcs'!$S$18-'Non-CO2 RF Calcs'!$S$19)*($O293-1)/9","v":0.38427502894097676},{"$f":"'Non-CO2 RF Calcs'!$S$21+('Non-CO2 RF Calcs'!$S$20-'Non-CO2 RF Calcs'!$S$21)*($O293-1)/9","v":0.22498204022639406},{"$f":"'Non-CO2 RF Calcs'!$S$23+('Non-CO2 RF Calcs'!$S$22-'Non-CO2 RF Calcs'!$S$23)*($O293-1)/9","v":-0.34575069433234396},{"$f":"'Non-CO2 RF Calcs'!$S$25+('Non-CO2 RF Calcs'!$S$24-'Non-CO2 RF Calcs'!$S$25)*($O293-1)/9","v":0.22498204022639406},6.9129247947851864,{"$f":"CFfromRFin2100(J293)","v":0.55679518043422804},3.8490832084406668,3.4102920000000001,0.43879120844066666,{"$f":"MitigationAggressiveness(D293,0)","v":7.3196006283535917},null,5.8291769999999996,0.42419699999999999,0.46580199999999999,-0.77993800000000002,6.2250500000000004,null,-7.9357141006596521E-2,{"$f":"R293-E293","v":-9.1705238717169013E-2},{"$f":"S293-F293","v":8.1526971059023234E-2},{"$f":"T293-H293","v":-0.43418730566765606},{"$f":"U293-J293","v":-0.68787479478518598}]
["DNE21+ V.14E1","EMF30_ClimPolicy",455.975954,{"$f":"CO2RFFromCO2PPM(C294)","v":2.7517624524777116},{"$f":"'Non-CO2 RF Calcs'!$S$17+('Non-CO2 RF Calcs'!$S$16-'Non-CO2 RF Calcs'!$S$17)*($O294-1)/9","v":0.40883741985772659},{"$f":"'Non-CO2 RF Calcs'!$S$19+('Non-CO2 RF Calcs'!$S$18-'Non-CO2 RF Calcs'!$S$19)*($O294-1)/9","v":0.35559404245808202},{"$f":"'Non-CO2 RF Calcs'!$S$21+('Non-CO2 RF Calcs'!$S$20-'Non-CO2 RF Calcs'!$S$21)*($O294-1)/9","v":9.877845702830268E-2},{"$f":"'Non-CO2 RF Calcs'!$S$23+('Non-CO2 RF Calcs'!$S$22-'Non-CO2 RF Calcs'!$S$23)*($O294-1)/9","v":-0.26765656888996692},{"$f":"'Non-CO2 RF Calcs'!$S$25+('Non-CO2 RF Calcs'!$S$24-'Non-CO2 RF Calcs'!$S$25)*($O294-1)/9","v":9.877845702830268E-2},3.4460942599601583,{"$f":"CFfromRFin2100(J294)","v":0.59187796425877581},2.0396672552290709,1.9032469999999999,0.13642025522907097,{"$f":"MitigationAggressiveness(D294,0)","v":8.9492021330635225},null,2.7339989999999998,0.27523799999999998,0.382969,-0.312884,3.2270089999999998,null,-1.7763452477711716E-2,{"$f":"R294-E294","v":-0.13359941985772661},{"$f":"S294-F294","v":2.7374957541917988E-2},{"$f":"T294-H294","v":-4.5227431110033078E-2},{"$f":"U294-J294","v":-0.21908525996015848}]
["DNE21+ V.14E1","EMF30_ClimPolicy+SLCF",458.62673599999999,{"$f":"CO2RFFromCO2PPM(C295)","v":2.7844263157813867},{"$f":"'Non-CO2 RF Calcs'!$S$17+('Non-CO2 RF Calcs'!$S$16-'Non-CO2 RF Calcs'!$S$17)*($O295-1)/9","v":0.41048096705018478},{"$f":"'Non-CO2 RF Calcs'!$S$19+('Non-CO2 RF Calcs'!$S$18-'Non-CO2 RF Calcs'!$S$19)*($O295-1)/9","v":0.35603432298452442},{"$f":"'Non-CO2 RF Calcs'!$S$21+('Non-CO2 RF Calcs'!$S$20-'Non-CO2 RF Calcs'!$S$21)*($O295-1)/9","v":0.10071580252660028},{"$f":"'Non-CO2 RF Calcs'!$S$23+('Non-CO2 RF Calcs'!$S$22-'Non-CO2 RF Calcs'!$S$23)*($O295-1)/9","v":-0.26885538827793792},{"$f":"'Non-CO2 RF Calcs'!$S$25+('Non-CO2 RF Calcs'!$S$24-'Non-CO2 RF Calcs'!$S$25)*($O295-1)/9","v":0.10071580252660028},3.4835178225913586,{"$f":"CFfromRFin2100(J295)","v":0.59132714966139677},2.0598986648276232,2.0231680000000001,3.6730664827623105E-2,{"$f":"MitigationAggressiveness(D295,0)","v":8.9241861940611145},null,2.7735690000000002,0.36038700000000001,0.38084200000000001,-0.120223,3.4035820000000001,null,-1.085731578138649E-2,{"$f":"R295-E295","v":-5.0093967050184762E-2},{"$f":"S295-F295","v":2.4807677015475593E-2},{"$f":"T295-H295","v":0.14863238827793793},{"$f":"U295-J295","v":-7.9935822591358452E-2}]
["DNE21+ V.14E1","EMF30_D_BCOC-Red",780.07116900000005,{"$f":"CO2RFFromCO2PPM(C296)","v":5.9861755249094921},{"$f":"'Non-CO2 RF Calcs'!$S$17+('Non-CO2 RF Calcs'!$S$16-'Non-CO2 RF Calcs'!$S$17)*($O296-1)/9","v":0.51721715531087176},{"$f":"'Non-CO2 RF Calcs'!$S$19+('Non-CO2 RF Calcs'!$S$18-'Non-CO2 RF Calcs'!$S$19)*($O296-1)/9","v":0.38462727448206002},{"$f":"'Non-CO2 RF Calcs'!$S$21+('Non-CO2 RF Calcs'!$S$20-'Non-CO2 RF Calcs'!$S$21)*($O296-1)/9","v":0.22653200955805453},{"$f":"'Non-CO2 RF Calcs'!$S$23+('Non-CO2 RF Calcs'!$S$22-'Non-CO2 RF Calcs'!$S$23)*($O296-1)/9","v":-0.34670980734919499},{"$f":"'Non-CO2 RF Calcs'!$S$25+('Non-CO2 RF Calcs'!$S$24-'Non-CO2 RF Calcs'!$S$25)*($O296-1)/9","v":0.22653200955805453},6.9943741664693375,{"$f":"CFfromRFin2100(J296)","v":0.55635850493285399},3.8913795541978575,3.758016,0.1333635541978575,{"$f":"MitigationAggressiveness(D296,0)","v":7.2995866771556805},null,5.9268549999999998,0.90248300000000004,0.45201999999999998,-0.66825400000000001,6.8286090000000002,null,-5.9320524909492356E-2,{"$f":"R296-E296","v":0.38526584468912828},{"$f":"S296-F296","v":6.7392725517939955E-2},{"$f":"T296-H296","v":-0.32154419265080503},{"$f":"U296-J296","v":-0.16576516646933737}]
["DNE21+ V.14E1","EMF30_D_CH4-ClimPolicy",771.93642699999998,{"$f":"CO2RFFromCO2PPM(C297)","v":5.9237229821678348},{"$f":"'Non-CO2 RF Calcs'!$S$17+('Non-CO2 RF Calcs'!$S$16-'Non-CO2 RF Calcs'!$S$17)*($O297-1)/9","v":0.51616445333490268},{"$f":"'Non-CO2 RF Calcs'!$S$19+('Non-CO2 RF Calcs'!$S$18-'Non-CO2 RF Calcs'!$S$19)*($O297-1)/9","v":0.38434527212624486},{"$f":"'Non-CO2 RF Calcs'!$S$21+('Non-CO2 RF Calcs'!$S$20-'Non-CO2 RF Calcs'!$S$21)*($O297-1)/9","v":0.2252911279797517},{"$f":"'Non-CO2 RF Calcs'!$S$23+('Non-CO2 RF Calcs'!$S$22-'Non-CO2 RF Calcs'!$S$23)*($O297-1)/9","v":-0.34594195623768564},{"$f":"'Non-CO2 RF Calcs'!$S$25+('Non-CO2 RF Calcs'!$S$24-'Non-CO2 RF Calcs'!$S$25)*($O297-1)/9","v":0.2252911279797517},6.9288730073508003,{"$f":"CFfromRFin2100(J297)","v":0.5567082762453246},3.8573609482450224,3.356995,0.50036594824502245,{"$f":"MitigationAggressiveness(D297,0)","v":7.3156095382815423},null,5.8463399999999996,0.33898600000000001,0.46785599999999999,-0.81349800000000005,6.0959630000000002,null,-7.7382982167835124E-2,{"$f":"R297-E297","v":-0.17717845333490267},{"$f":"S297-F297","v":8.3510727873755131E-2},{"$f":"T297-H297","v":-0.46755604376231441},{"$f":"U297-J297","v":-0.83291000735080001}]
["DNE21+ V.14E1","EMF30_D_CO2-Only",462.01862399999999,{"$f":"CO2RFFromCO2PPM(C298)","v":2.8260729814913135},{"$f":"'Non-CO2 RF Calcs'!$S$17+('Non-CO2 RF Calcs'!$S$16-'Non-CO2 RF Calcs'!$S$17)*($O298-1)/9","v":0.41256025466635082},{"$f":"'Non-CO2 RF Calcs'!$S$19+('Non-CO2 RF Calcs'!$S$18-'Non-CO2 RF Calcs'!$S$19)*($O298-1)/9","v":0.3565913315392355},{"$f":"'Non-CO2 RF Calcs'!$S$21+('Non-CO2 RF Calcs'!$S$20-'Non-CO2 RF Calcs'!$S$21)*($O298-1)/9","v":0.10316678082605524},{"$f":"'Non-CO2 RF Calcs'!$S$23+('Non-CO2 RF Calcs'!$S$22-'Non-CO2 RF Calcs'!$S$23)*($O298-1)/9","v":-0.27037204099035528},{"$f":"'Non-CO2 RF Calcs'!$S$25+('Non-CO2 RF Calcs'!$S$24-'Non-CO2 RF Calcs'!$S$25)*($O298-1)/9","v":0.10316678082605524},3.531186088358655,{"$f":"CFfromRFin2100(J298)","v":0.59063098886303866},2.0856279312266777,2.33643,-0.25080206877332234,{"$f":"MitigationAggressiveness(D298,0)","v":8.8925379807252547},null,2.8156690000000002,0.660381,0.467941,-0.312884,4.0042400000000002,null,-1.0403981491313274E-2,{"$f":"R298-E298","v":0.24782074533364917},{"$f":"S298-F298","v":0.11134966846076449},{"$f":"T298-H298","v":-4.2511959009644718E-2},{"$f":"U298-J298","v":0.47305391164134525}]
["DNE21+ V.14E1","EMF30_D_Frozen-EF-EndU",780.88686299999995,{"$f":"CO2RFFromCO2PPM(C299)","v":5.9923846164655847},{"$f":"'Non-CO2 RF Calcs'!$S$17+('Non-CO2 RF Calcs'!$S$16-'Non-CO2 RF Calcs'!$S$17)*($O299-1)/9","v":0.5173195778033195},{"$f":"'Non-CO2 RF Calcs'!$S$19+('Non-CO2 RF Calcs'!$S$18-'Non-CO2 RF Calcs'!$S$19)*($O299-1)/9","v":0.38465471186207645},{"$f":"'Non-CO2 RF Calcs'!$S$21+('Non-CO2 RF Calcs'!$S$20-'Non-CO2 RF Calcs'!$S$21)*($O299-1)/9","v":0.22665274095875809},{"$f":"'Non-CO2 RF Calcs'!$S$23+('Non-CO2 RF Calcs'!$S$22-'Non-CO2 RF Calcs'!$S$23)*($O299-1)/9","v":-0.3467845153163735},{"$f":"'Non-CO2 RF Calcs'!$S$25+('Non-CO2 RF Calcs'!$S$24-'Non-CO2 RF Calcs'!$S$25)*($O299-1)/9","v":0.22665274095875809},7.0008798727321233,{"$f":"CFfromRFin2100(J299)","v":0.55632439314467186},3.8947602466764462,3.7139229999999999,0.18083724667644629,{"$f":"MitigationAggressiveness(D299,0)","v":7.2980277351092937},null,5.9257,0.768845,0.455679,-1.031401,6.7432829999999999,null,-6.6684616465584767E-2,{"$f":"R299-E299","v":0.2515254221966805},{"$f":"S299-F299","v":7.1024288137923552E-2},{"$f":"T299-H299","v":-0.68461648468362646},{"$f":"U299-J299","v":-0.25759687273212339}]
["DNE21+ V.14E1","EMF30_SLCF",773.95494699999995,{"$f":"CO2RFFromCO2PPM(C300)","v":5.9393096577502789},{"$f":"'Non-CO2 RF Calcs'!$S$17+('Non-CO2 RF Calcs'!$S$16-'Non-CO2 RF Calcs'!$S$17)*($O300-1)/9","v":0.51643101773583844},{"$f":"'Non-CO2 RF Calcs'!$S$19+('Non-CO2 RF Calcs'!$S$18-'Non-CO2 RF Calcs'!$S$19)*($O300-1)/9","v":0.38441668055023981},{"$f":"'Non-CO2 RF Calcs'!$S$21+('Non-CO2 RF Calcs'!$S$20-'Non-CO2 RF Calcs'!$S$21)*($O300-1)/9","v":0.22560534307775981},{"$f":"'Non-CO2 RF Calcs'!$S$23+('Non-CO2 RF Calcs'!$S$22-'Non-CO2 RF Calcs'!$S$23)*($O300-1)/9","v":-0.34613639091741433},{"$f":"'Non-CO2 RF Calcs'!$S$25+('Non-CO2 RF Calcs'!$S$24-'Non-CO2 RF Calcs'!$S$25)*($O300-1)/9","v":0.22560534307775981},6.9452316512744625,{"$f":"CFfromRFin2100(J300)","v":0.55661984426835731},3.8658537601400575,3.4067099999999999,0.45914376014005764,{"$f":"MitigationAggressiveness(D300,0)","v":7.3115522414636471},null,5.8690949999999997,0.48326999999999998,0.46401599999999998,-0.67925000000000002,6.2521880000000003,null,-7.021465775027913E-2,{"$f":"R300-E300","v":-3.3161017735838461E-2},{"$f":"S300-F300","v":7.9599319449760175E-2},{"$f":"T300-H300","v":-0.33311360908258569},{"$f":"U300-J300","v":-0.69304365127446221}]
["DNE21+ V.14E1","EMF30_Slower-Action",649.20584399999996,{"$f":"CO2RFFromCO2PPM(C301)","v":4.8644423527465017},{"$f":"'Non-CO2 RF Calcs'!$S$17+('Non-CO2 RF Calcs'!$S$16-'Non-CO2 RF Calcs'!$S$17)*($O301-1)/9","v":0.49207116797397787},{"$f":"'Non-CO2 RF Calcs'!$S$19+('Non-CO2 RF Calcs'!$S$18-'Non-CO2 RF Calcs'!$S$19)*($O301-1)/9","v":0.37789105869622541},{"$f":"'Non-CO2 RF Calcs'!$S$21+('Non-CO2 RF Calcs'!$S$20-'Non-CO2 RF Calcs'!$S$21)*($O301-1)/9","v":0.19689095903578979},{"$f":"'Non-CO2 RF Calcs'!$S$23+('Non-CO2 RF Calcs'!$S$22-'Non-CO2 RF Calcs'!$S$23)*($O301-1)/9","v":-0.32836807838183096},{"$f":"'Non-CO2 RF Calcs'!$S$25+('Non-CO2 RF Calcs'!$S$24-'Non-CO2 RF Calcs'!$S$25)*($O301-1)/9","v":0.19689095903578979},5.7998184191064546,{"$f":"CFfromRFin2100(J301)","v":0.5645459753833022},3.2742641464604954,3.1622880000000002,0.11197614646049514,{"$f":"MitigationAggressiveness(D301,0)","v":7.6823262104417376},null,4.8043940000000003,0.47448299999999999,0.40067900000000001,-0.29485699999999998,5.5881990000000004,null,-6.0048352746501443E-2,{"$f":"R301-E301","v":-1.7588167973977886E-2},{"$f":"S301-F301","v":2.2787941303774595E-2},{"$f":"T301-H301","v":3.3511078381830983E-2},{"$f":"U301-J301","v":-0.21161941910645421}]
["DNE21+ V.14E1","EMF30_Slower-Action+SLCF",651.75549899999999,{"$f":"CO2RFFromCO2PPM(C302)","v":4.8886813140067469},{"$f":"'Non-CO2 RF Calcs'!$S$17+('Non-CO2 RF Calcs'!$S$16-'Non-CO2 RF Calcs'!$S$17)*($O302-1)/9","v":0.49275419169017037},{"$f":"'Non-CO2 RF Calcs'!$S$19+('Non-CO2 RF Calcs'!$S$18-'Non-CO2 RF Calcs'!$S$19)*($O302-1)/9","v":0.37807403004181128},{"$f":"'Non-CO2 RF Calcs'!$S$21+('Non-CO2 RF Calcs'!$S$20-'Non-CO2 RF Calcs'!$S$21)*($O302-1)/9","v":0.19769607916125276},{"$f":"'Non-CO2 RF Calcs'!$S$23+('Non-CO2 RF Calcs'!$S$22-'Non-CO2 RF Calcs'!$S$23)*($O302-1)/9","v":-0.32886628255702771},{"$f":"'Non-CO2 RF Calcs'!$S$25+('Non-CO2 RF Calcs'!$S$24-'Non-CO2 RF Calcs'!$S$25)*($O302-1)/9","v":0.19769607916125276},5.8260354115042059,{"$f":"CFfromRFin2100(J302)","v":0.56432520916856388},3.2877786522205712,3.1456,0.14217865222057124,{"$f":"MitigationAggressiveness(D302,0)","v":7.6719301112607248},null,4.8214880000000004,0.47047699999999998,0.40076000000000001,-0.15360799999999999,5.5605380000000002,null,-6.7193314006746441E-2,{"$f":"R302-E302","v":-2.2277191690170395E-2},{"$f":"S302-F302","v":2.2685969958188723E-2},{"$f":"T302-H302","v":0.17525828255702772},{"$f":"U302-J302","v":-0.26549741150420569}]
["DNE21+ V.14E1","EMF30_Slower-to-faster",440.78741600000001,{"$f":"CO2RFFromCO2PPM(C303)","v":2.5626294014534849},{"$f":"'Non-CO2 RF Calcs'!$S$17+('Non-CO2 RF Calcs'!$S$16-'Non-CO2 RF Calcs'!$S$17)*($O303-1)/9","v":0.39910058833925843},{"$f":"'Non-CO2 RF Calcs'!$S$19+('Non-CO2 RF Calcs'!$S$18-'Non-CO2 RF Calcs'!$S$19)*($O303-1)/9","v":0.35298569794171919},{"$f":"'Non-CO2 RF Calcs'!$S$21+('Non-CO2 RF Calcs'!$S$20-'Non-CO2 RF Calcs'!$S$21)*($O303-1)/9","v":8.7301082483448478E-2},{"$f":"'Non-CO2 RF Calcs'!$S$23+('Non-CO2 RF Calcs'!$S$22-'Non-CO2 RF Calcs'!$S$23)*($O303-1)/9","v":-0.26055442880216839},{"$f":"'Non-CO2 RF Calcs'!$S$25+('Non-CO2 RF Calcs'!$S$24-'Non-CO2 RF Calcs'!$S$25)*($O303-1)/9","v":8.7301082483448478E-2},3.2287634238991916,{"$f":"CFfromRFin2100(J303)","v":0.59515097009366635},1.9216016839365515,2.0988560000000001,-0.17725431606344855,{"$f":"MitigationAggressiveness(D303,0)","v":9.0974035260386845},null,2.5659860000000001,0.363259,0.36651,0.14982599999999999,3.459673,null,3.3565985465151549E-3,{"$f":"R303-E303","v":-3.5841588339258434E-2},{"$f":"S303-F303","v":1.3524302058280813E-2},{"$f":"T303-H303","v":0.41038042880216841},{"$f":"U303-J303","v":0.23090957610080842}]
["DNE21+ V.14E1","EMF30_Slower-to-faster+SLCF",441.51557000000003,{"$f":"CO2RFFromCO2PPM(C304)","v":2.5717733656888937},{"$f":"'Non-CO2 RF Calcs'!$S$17+('Non-CO2 RF Calcs'!$S$16-'Non-CO2 RF Calcs'!$S$17)*($O304-1)/9","v":0.39957997254647171},{"$f":"'Non-CO2 RF Calcs'!$S$19+('Non-CO2 RF Calcs'!$S$18-'Non-CO2 RF Calcs'!$S$19)*($O304-1)/9","v":0.35311411745537147},{"$f":"'Non-CO2 RF Calcs'!$S$21+('Non-CO2 RF Calcs'!$S$20-'Non-CO2 RF Calcs'!$S$21)*($O304-1)/9","v":8.7866160772688717E-2},{"$f":"'Non-CO2 RF Calcs'!$S$23+('Non-CO2 RF Calcs'!$S$22-'Non-CO2 RF Calcs'!$S$23)*($O304-1)/9","v":-0.26090409632892492},{"$f":"'Non-CO2 RF Calcs'!$S$25+('Non-CO2 RF Calcs'!$S$24-'Non-CO2 RF Calcs'!$S$25)*($O304-1)/9","v":8.7866160772688717E-2},3.2392956809071896,{"$f":"CFfromRFin2100(J304)","v":0.59498943336342669},1.9273467016795642,2.1346720000000001,-0.20732529832043589,{"$f":"MitigationAggressiveness(D304,0)","v":9.0901069627629862},null,2.5771989999999998,0.36657600000000001,0.36647299999999999,0.218941,3.5023749999999998,null,5.4256343111060978E-3,{"$f":"R304-E304","v":-3.3003972546471694E-2},{"$f":"S304-F304","v":1.3358882544628525E-2},{"$f":"T304-H304","v":0.47984509632892491},{"$f":"U304-J304","v":0.26307931909281024}]
["DNE21+ V.14E1","EMF30_Slower-to-faster+SLCF+HFC",440.63246600000002,{"$f":"CO2RFFromCO2PPM(C305)","v":2.5606825833724272},{"$f":"'Non-CO2 RF Calcs'!$S$17+('Non-CO2 RF Calcs'!$S$16-'Non-CO2 RF Calcs'!$S$17)*($O305-1)/9","v":0.39899841051839835},{"$f":"'Non-CO2 RF Calcs'!$S$19+('Non-CO2 RF Calcs'!$S$18-'Non-CO2 RF Calcs'!$S$19)*($O305-1)/9","v":0.35295832610538524},{"$f":"'Non-CO2 RF Calcs'!$S$21+('Non-CO2 RF Calcs'!$S$20-'Non-CO2 RF Calcs'!$S$21)*($O305-1)/9","v":8.7180639491499456E-2},{"$f":"'Non-CO2 RF Calcs'!$S$23+('Non-CO2 RF Calcs'!$S$22-'Non-CO2 RF Calcs'!$S$23)*($O305-1)/9","v":-0.26047989930083754},{"$f":"'Non-CO2 RF Calcs'!$S$25+('Non-CO2 RF Calcs'!$S$24-'Non-CO2 RF Calcs'!$S$25)*($O305-1)/9","v":8.7180639491499456E-2},3.226520699678372,{"$f":"CFfromRFin2100(J305)","v":0.59518540592195512},1.9203780323536626,2.1287820000000002,-0.20840396764633762,{"$f":"MitigationAggressiveness(D305,0)","v":9.0989587440122008},null,2.5669569999999999,0.36715999999999999,0.36647600000000002,0.217195,3.4910489999999998,null,6.2744166275727764E-3,{"$f":"R305-E305","v":-3.1838410518398363E-2},{"$f":"S305-F305","v":1.3517673894614779E-2},{"$f":"T305-H305","v":0.47767489930083751},{"$f":"U305-J305","v":0.26452830032162788}]
["DNE21+ V.14E2","EMF33_1.5C_cost100",379.543699,{"$f":"CO2RFFromCO2PPM(C306)","v":1.7658882067591164},{"$f":"'Non-CO2 RF Calcs'!$S$17+('Non-CO2 RF Calcs'!$S$16-'Non-CO2 RF Calcs'!$S$17)*($O306-1)/9","v":0.35395956859173261},{"$f":"'Non-CO2 RF Calcs'!$S$19+('Non-CO2 RF Calcs'!$S$18-'Non-CO2 RF Calcs'!$S$19)*($O306-1)/9","v":0.3408931264416209},{"$f":"'Non-CO2 RF Calcs'!$S$21+('Non-CO2 RF Calcs'!$S$20-'Non-CO2 RF Calcs'!$S$21)*($O306-1)/9","v":3.4090714203344419E-2},{"$f":"'Non-CO2 RF Calcs'!$S$23+('Non-CO2 RF Calcs'!$S$22-'Non-CO2 RF Calcs'!$S$23)*($O306-1)/9","v":-0.22762812774161045},{"$f":"'Non-CO2 RF Calcs'!$S$25+('Non-CO2 RF Calcs'!$S$24-'Non-CO2 RF Calcs'!$S$25)*($O306-1)/9","v":3.4090714203344419E-2},2.3012942024575485,{"$f":"CFfromRFin2100(J306)","v":0.61054250056819281},1.4050379169115166,1.466583,-6.1545083088483388E-2,{"$f":"MitigationAggressiveness(D306,0)","v":9.7844814521806303},null,1.705214,0.305705,0.39339400000000002,-0.15273500000000001,2.3919260000000002,null,-6.0674206759116389E-2,{"$f":"R306-E306","v":-4.8254568591732605E-2},{"$f":"S306-F306","v":5.2500873558379124E-2},{"$f":"T306-H306","v":7.4893127741610444E-2},{"$f":"U306-J306","v":9.0631797542451764E-2}]
["DNE21+ V.14E2","EMF33_1.5C_full",380.20369499999998,{"$f":"CO2RFFromCO2PPM(C307)","v":1.7747657191473931},{"$f":"'Non-CO2 RF Calcs'!$S$17+('Non-CO2 RF Calcs'!$S$16-'Non-CO2 RF Calcs'!$S$17)*($O307-1)/9","v":0.35449926120801034},{"$f":"'Non-CO2 RF Calcs'!$S$19+('Non-CO2 RF Calcs'!$S$18-'Non-CO2 RF Calcs'!$S$19)*($O307-1)/9","v":0.34103770163258729},{"$f":"'Non-CO2 RF Calcs'!$S$21+('Non-CO2 RF Calcs'!$S$20-'Non-CO2 RF Calcs'!$S$21)*($O307-1)/9","v":3.4726881552483047E-2},{"$f":"'Non-CO2 RF Calcs'!$S$23+('Non-CO2 RF Calcs'!$S$22-'Non-CO2 RF Calcs'!$S$23)*($O307-1)/9","v":-0.22802178481145763},{"$f":"'Non-CO2 RF Calcs'!$S$25+('Non-CO2 RF Calcs'!$S$24-'Non-CO2 RF Calcs'!$S$25)*($O307-1)/9","v":3.4726881552483047E-2},2.3117346602814992,{"$f":"CFfromRFin2100(J307)","v":0.61035640015611314},1.4109820453655311,1.4779500000000001,-6.6967954634469029E-2,{"$f":"MitigationAggressiveness(D307,0)","v":9.7762669526939057},null,1.720164,0.30743900000000002,0.39410000000000001,-0.149863,2.4130120000000002,null,-5.4601719147393091E-2,{"$f":"R307-E307","v":-4.7060261208010323E-2},{"$f":"S307-F307","v":5.3062298367412719E-2},{"$f":"T307-H307","v":7.8158784811457632E-2},{"$f":"U307-J307","v":0.10127733971850095}]
["DNE21+ V.14E2","EMF33_1.5C_limbio",374.242816,{"$f":"CO2RFFromCO2PPM(C308)","v":1.694356513102915},{"$f":"'Non-CO2 RF Calcs'!$S$17+('Non-CO2 RF Calcs'!$S$16-'Non-CO2 RF Calcs'!$S$17)*($O308-1)/9","v":0.34958073011340274},{"$f":"'Non-CO2 RF Calcs'!$S$19+('Non-CO2 RF Calcs'!$S$18-'Non-CO2 RF Calcs'!$S$19)*($O308-1)/9","v":0.33972010426173349},{"$f":"'Non-CO2 RF Calcs'!$S$21+('Non-CO2 RF Calcs'!$S$20-'Non-CO2 RF Calcs'!$S$21)*($O308-1)/9","v":2.8929120394117325E-2},{"$f":"'Non-CO2 RF Calcs'!$S$23+('Non-CO2 RF Calcs'!$S$22-'Non-CO2 RF Calcs'!$S$23)*($O308-1)/9","v":-0.22443416015205575},{"$f":"'Non-CO2 RF Calcs'!$S$25+('Non-CO2 RF Calcs'!$S$24-'Non-CO2 RF Calcs'!$S$25)*($O308-1)/9","v":2.8929120394117325E-2},2.2170814281142306,{"$f":"CFfromRFin2100(J308)","v":0.61205427635851939},1.3569741691123682,1.275987,8.0987169112368251E-2,{"$f":"MitigationAggressiveness(D308,0)","v":9.8511304396742361},null,1.6218459999999999,0.19409100000000001,0.35107699999999997,-6.7396999999999999E-2,2.1691180000000001,null,-7.251051310291512E-2,{"$f":"R308-E308","v":-0.15548973011340272},{"$f":"S308-F308","v":1.1356895738266481E-2},{"$f":"T308-H308","v":0.15703716015205577},{"$f":"U308-J308","v":-4.7963428114230489E-2}]
["DNE21+ V.14E2","EMF33_1.5C_nofuel",380.15888699999999,{"$f":"CO2RFFromCO2PPM(C309)","v":1.7741632139905672},{"$f":"'Non-CO2 RF Calcs'!$S$17+('Non-CO2 RF Calcs'!$S$16-'Non-CO2 RF Calcs'!$S$17)*($O309-1)/9","v":0.35446265915019892},{"$f":"'Non-CO2 RF Calcs'!$S$19+('Non-CO2 RF Calcs'!$S$18-'Non-CO2 RF Calcs'!$S$19)*($O309-1)/9","v":0.34102789651512178},{"$f":"'Non-CO2 RF Calcs'!$S$21+('Non-CO2 RF Calcs'!$S$20-'Non-CO2 RF Calcs'!$S$21)*($O309-1)/9","v":3.4683736559595113E-2},{"$f":"'Non-CO2 RF Calcs'!$S$23+('Non-CO2 RF Calcs'!$S$22-'Non-CO2 RF Calcs'!$S$23)*($O309-1)/9","v":-0.22799508691270221},{"$f":"'Non-CO2 RF Calcs'!$S$25+('Non-CO2 RF Calcs'!$S$24-'Non-CO2 RF Calcs'!$S$25)*($O309-1)/9","v":3.4683736559595113E-2},2.3110261558623764,{"$f":"CFfromRFin2100(J309)","v":0.61036901995020876},1.410578769833017,1.4751989999999999,-6.4620230166982928E-2,{"$f":"MitigationAggressiveness(D309,0)","v":9.7768240616408075},null,1.7171270000000001,0.30693700000000002,0.39389600000000002,-0.15019099999999999,2.4083329999999998,null,-5.7036213990567131E-2,{"$f":"R309-E309","v":-4.7525659150198907E-2},{"$f":"S309-F309","v":5.2868103484878248E-2},{"$f":"T309-H309","v":7.7804086912702214E-2},{"$f":"U309-J309","v":9.7306844137623472E-2}]
["DNE21+ V.14E2","EMF33_Baseline",840.54470400000002,{"$f":"CO2RFFromCO2PPM(C310)","v":6.4202109471688802},{"$f":"'Non-CO2 RF Calcs'!$S$17+('Non-CO2 RF Calcs'!$S$16-'Non-CO2 RF Calcs'!$S$17)*($O310-1)/9","v":0.52340196401412398},{"$f":"'Non-CO2 RF Calcs'!$S$19+('Non-CO2 RF Calcs'!$S$18-'Non-CO2 RF Calcs'!$S$19)*($O310-1)/9","v":0.38628408777242895},{"$f":"'Non-CO2 RF Calcs'!$S$21+('Non-CO2 RF Calcs'!$S$20-'Non-CO2 RF Calcs'!$S$21)*($O310-1)/9","v":0.23382240642287233},{"$f":"'Non-CO2 RF Calcs'!$S$23+('Non-CO2 RF Calcs'!$S$22-'Non-CO2 RF Calcs'!$S$23)*($O310-1)/9","v":-0.35122106727429669},{"$f":"'Non-CO2 RF Calcs'!$S$25+('Non-CO2 RF Calcs'!$S$24-'Non-CO2 RF Calcs'!$S$25)*($O310-1)/9","v":0.23382240642287233},7.4463207445268811,{"$f":"CFfromRFin2100(J310)","v":0.55425874842049305},4.1271884161990231,4.2118549999999999,-8.4666583800976802E-2,{"$f":"MitigationAggressiveness(D310,0)","v":7.2054495583847187},null,6.4052879999999996,0.61622299999999997,0.50440099999999999,-0.32507999999999998,7.5914700000000002,null,-1.492294716888054E-2,{"$f":"R310-E310","v":9.2821035985875988E-2},{"$f":"S310-F310","v":0.11811691222757104},{"$f":"T310-H310","v":2.6141067274296714E-2},{"$f":"U310-J310","v":0.14514925547311908}]
["DNE21+ V.14E2","EMF33_Med2C_cost100",465.43335100000002,{"$f":"CO2RFFromCO2PPM(C311)","v":2.8678306902037045},{"$f":"'Non-CO2 RF Calcs'!$S$17+('Non-CO2 RF Calcs'!$S$16-'Non-CO2 RF Calcs'!$S$17)*($O311-1)/9","v":0.41462680229730675},{"$f":"'Non-CO2 RF Calcs'!$S$19+('Non-CO2 RF Calcs'!$S$18-'Non-CO2 RF Calcs'!$S$19)*($O311-1)/9","v":0.35714492725163777},{"$f":"'Non-CO2 RF Calcs'!$S$21+('Non-CO2 RF Calcs'!$S$20-'Non-CO2 RF Calcs'!$S$21)*($O311-1)/9","v":0.10560274175752205},{"$f":"'Non-CO2 RF Calcs'!$S$23+('Non-CO2 RF Calcs'!$S$22-'Non-CO2 RF Calcs'!$S$23)*($O311-1)/9","v":-0.27187940103302621},{"$f":"'Non-CO2 RF Calcs'!$S$25+('Non-CO2 RF Calcs'!$S$24-'Non-CO2 RF Calcs'!$S$25)*($O311-1)/9","v":0.10560274175752205},3.5789285022346666,{"$f":"CFfromRFin2100(J311)","v":0.58993985362237178},2.1113525567332534,2.1417510000000002,-3.0398443266746789E-2,{"$f":"MitigationAggressiveness(D311,0)","v":8.8610836788842189},null,2.8385509999999998,0.33060200000000001,0.40784100000000001,-9.3381000000000006E-2,3.5972240000000002,null,-2.9279690203704689E-2,{"$f":"R311-E311","v":-8.4024802297306744E-2},{"$f":"S311-F311","v":5.0696072748362242E-2},{"$f":"T311-H311","v":0.17849840103302622},{"$f":"U311-J311","v":1.8295497765333568E-2}]
["DNE21+ V.14E2","EMF33_Med2C_full",466.16036300000002,{"$f":"CO2RFFromCO2PPM(C312)","v":2.8766991663033448},{"$f":"'Non-CO2 RF Calcs'!$S$17+('Non-CO2 RF Calcs'!$S$16-'Non-CO2 RF Calcs'!$S$17)*($O312-1)/9","v":0.41506333733465295},{"$f":"'Non-CO2 RF Calcs'!$S$19+('Non-CO2 RF Calcs'!$S$18-'Non-CO2 RF Calcs'!$S$19)*($O312-1)/9","v":0.35726186814444283},{"$f":"'Non-CO2 RF Calcs'!$S$21+('Non-CO2 RF Calcs'!$S$20-'Non-CO2 RF Calcs'!$S$21)*($O312-1)/9","v":0.10611731121639278},{"$f":"'Non-CO2 RF Calcs'!$S$23+('Non-CO2 RF Calcs'!$S$22-'Non-CO2 RF Calcs'!$S$23)*($O312-1)/9","v":-0.27219781395642789},{"$f":"'Non-CO2 RF Calcs'!$S$25+('Non-CO2 RF Calcs'!$S$24-'Non-CO2 RF Calcs'!$S$25)*($O312-1)/9","v":0.10611731121639278},3.5890611802587986,{"$f":"CFfromRFin2100(J312)","v":0.58979395596952011},2.1168065917214718,2.1442999999999999,-2.7493408278528086E-2,{"$f":"MitigationAggressiveness(D312,0)","v":8.8544393099748415},null,2.8483649999999998,0.33573700000000001,0.40952100000000002,-8.9704999999999993E-2,3.6002390000000002,null,-2.8334166303344954E-2,{"$f":"R312-E312","v":-7.9326337334652941E-2},{"$f":"S312-F312","v":5.2259131855557195E-2},{"$f":"T312-H312","v":0.18249281395642791},{"$f":"U312-J312","v":1.1177819741201578E-2}]
["DNE21+ V.14E2","EMF33_Med2C_limbio",459.704609,{"$f":"CO2RFFromCO2PPM(C313)","v":2.7976789554483976},{"$f":"'Non-CO2 RF Calcs'!$S$17+('Non-CO2 RF Calcs'!$S$16-'Non-CO2 RF Calcs'!$S$17)*($O313-1)/9","v":0.41114460534524333},{"$f":"'Non-CO2 RF Calcs'!$S$19+('Non-CO2 RF Calcs'!$S$18-'Non-CO2 RF Calcs'!$S$19)*($O313-1)/9","v":0.35621210127969993},{"$f":"'Non-CO2 RF Calcs'!$S$21+('Non-CO2 RF Calcs'!$S$20-'Non-CO2 RF Calcs'!$S$21)*($O313-1)/9","v":0.10149807191888138},{"$f":"'Non-CO2 RF Calcs'!$S$23+('Non-CO2 RF Calcs'!$S$22-'Non-CO2 RF Calcs'!$S$23)*($O313-1)/9","v":-0.26933945253746572},{"$f":"'Non-CO2 RF Calcs'!$S$25+('Non-CO2 RF Calcs'!$S$24-'Non-CO2 RF Calcs'!$S$25)*($O313-1)/9","v":0.10149807191888138},3.498692353373638,{"$f":"CFfromRFin2100(J313)","v":0.59110487531729305},2.0680941073144909,2.0577839999999998,1.0310107314491113E-2,{"$f":"MitigationAggressiveness(D313,0)","v":8.9140851545625051},null,2.7812320000000001,0.31627300000000003,0.4027,-6.1674E-2,3.473725,null,-1.6446955448397471E-2,{"$f":"R313-E313","v":-9.4871605345243304E-2},{"$f":"S313-F313","v":4.6487898720300069E-2},{"$f":"T313-H313","v":0.20766545253746571},{"$f":"U313-J313","v":-2.496735337363809E-2}]
["DNE21+ V.14E2","EMF33_Med2C_nobeccs",461.55755599999998,{"$f":"CO2RFFromCO2PPM(C314)","v":2.8204216914921503},{"$f":"'Non-CO2 RF Calcs'!$S$17+('Non-CO2 RF Calcs'!$S$16-'Non-CO2 RF Calcs'!$S$17)*($O314-1)/9","v":0.41227917137590431},{"$f":"'Non-CO2 RF Calcs'!$S$19+('Non-CO2 RF Calcs'!$S$18-'Non-CO2 RF Calcs'!$S$19)*($O314-1)/9","v":0.35651603373235796},{"$f":"'Non-CO2 RF Calcs'!$S$21+('Non-CO2 RF Calcs'!$S$20-'Non-CO2 RF Calcs'!$S$21)*($O314-1)/9","v":0.10283545146119621},{"$f":"'Non-CO2 RF Calcs'!$S$23+('Non-CO2 RF Calcs'!$S$22-'Non-CO2 RF Calcs'!$S$23)*($O314-1)/9","v":-0.27016701609069432},{"$f":"'Non-CO2 RF Calcs'!$S$25+('Non-CO2 RF Calcs'!$S$24-'Non-CO2 RF Calcs'!$S$25)*($O314-1)/9","v":0.10283545146119621},3.5247207834321106,{"$f":"CFfromRFin2100(J314)","v":0.59072505277116483},2.0821408707965547,2.0355629999999998,4.6577870796554954E-2,{"$f":"MitigationAggressiveness(D314,0)","v":8.8968162652069349},null,2.7965209999999998,0.298705,0.39630599999999999,-6.0421999999999997E-2,3.4663729999999999,null,-2.3900691492150461E-2,{"$f":"R314-E314","v":-0.11357417137590431},{"$f":"S314-F314","v":3.978996626764203E-2},{"$f":"T314-H314","v":0.20974501609069432},{"$f":"U314-J314","v":-5.8347783432110667E-2}]
["DNE21+ V.14E2","EMF33_Med2C_nofuel",466.18076300000001,{"$f":"CO2RFFromCO2PPM(C315)","v":2.8769479051566478},{"$f":"'Non-CO2 RF Calcs'!$S$17+('Non-CO2 RF Calcs'!$S$16-'Non-CO2 RF Calcs'!$S$17)*($O315-1)/9","v":0.41507556915878141},{"$f":"'Non-CO2 RF Calcs'!$S$19+('Non-CO2 RF Calcs'!$S$18-'Non-CO2 RF Calcs'!$S$19)*($O315-1)/9","v":0.35726514485836458},{"$f":"'Non-CO2 RF Calcs'!$S$21+('Non-CO2 RF Calcs'!$S$20-'Non-CO2 RF Calcs'!$S$21)*($O315-1)/9","v":0.10613172958510164},{"$f":"'Non-CO2 RF Calcs'!$S$23+('Non-CO2 RF Calcs'!$S$22-'Non-CO2 RF Calcs'!$S$23)*($O315-1)/9","v":-0.27220673596851419},{"$f":"'Non-CO2 RF Calcs'!$S$25+('Non-CO2 RF Calcs'!$S$24-'Non-CO2 RF Calcs'!$S$25)*($O315-1)/9","v":0.10613172958510164},3.5893453423754824,{"$f":"CFfromRFin2100(J315)","v":0.58978986836656477},2.1169595170017783,2.1442969999999999,-2.7337482998221585E-2,{"$f":"MitigationAggressiveness(D315,0)","v":8.8542531330474663},null,2.8486370000000001,0.33560699999999999,0.40946300000000002,-8.9797000000000002E-2,3.6001940000000001,null,-2.8310905156647692E-2,{"$f":"R315-E315","v":-7.9468569158781421E-2},{"$f":"S315-F315","v":5.2197855141635441E-2},{"$f":"T315-H315","v":0.18240973596851418},{"$f":"U315-J315","v":1.0848657624517699E-2}]
["DNE21+ V.14E2","EMF33_Med2C_none",459.92000100000001,{"$f":"CO2RFFromCO2PPM(C316)","v":2.8003252082841827},{"$f":"'Non-CO2 RF Calcs'!$S$17+('Non-CO2 RF Calcs'!$S$16-'Non-CO2 RF Calcs'!$S$17)*($O316-1)/9","v":0.41127689805091461},{"$f":"'Non-CO2 RF Calcs'!$S$19+('Non-CO2 RF Calcs'!$S$18-'Non-CO2 RF Calcs'!$S$19)*($O316-1)/9","v":0.35624754042155399},{"$f":"'Non-CO2 RF Calcs'!$S$21+('Non-CO2 RF Calcs'!$S$20-'Non-CO2 RF Calcs'!$S$21)*($O316-1)/9","v":0.1016540130923177},{"$f":"'Non-CO2 RF Calcs'!$S$23+('Non-CO2 RF Calcs'!$S$22-'Non-CO2 RF Calcs'!$S$23)*($O316-1)/9","v":-0.26943594813015298},{"$f":"'Non-CO2 RF Calcs'!$S$25+('Non-CO2 RF Calcs'!$S$24-'Non-CO2 RF Calcs'!$S$25)*($O316-1)/9","v":0.1016540130923177},3.5017217248111336,{"$f":"CFfromRFin2100(J316)","v":0.59106057547153701},2.0697296578080517,2.017706,5.2023657808051738E-2,{"$f":"MitigationAggressiveness(D316,0)","v":8.9120715669571595},null,2.78321,0.29409200000000002,0.39466800000000002,-6.0520999999999998E-2,3.422714,null,-1.7115208284182781E-2,{"$f":"R316-E316","v":-0.11718489805091459},{"$f":"S316-F316","v":3.8420459578446031E-2},{"$f":"T316-H316","v":0.20891494813015299},{"$f":"U316-J316","v":-7.9007724811133606E-2}]
["DNE21+ V.14E2","EMF33_tax_hi_full",473.56032099999999,{"$f":"CO2RFFromCO2PPM(C317)","v":2.9665294950662289},{"$f":"'Non-CO2 RF Calcs'!$S$17+('Non-CO2 RF Calcs'!$S$16-'Non-CO2 RF Calcs'!$S$17)*($O317-1)/9","v":0.41943853040489165},{"$f":"'Non-CO2 RF Calcs'!$S$19+('Non-CO2 RF Calcs'!$S$18-'Non-CO2 RF Calcs'!$S$19)*($O317-1)/9","v":0.3584339137766529},{"$f":"'Non-CO2 RF Calcs'!$S$21+('Non-CO2 RF Calcs'!$S$20-'Non-CO2 RF Calcs'!$S$21)*($O317-1)/9","v":0.11127460796923627},{"$f":"'Non-CO2 RF Calcs'!$S$23+('Non-CO2 RF Calcs'!$S$22-'Non-CO2 RF Calcs'!$S$23)*($O317-1)/9","v":-0.27538912254968673},{"$f":"'Non-CO2 RF Calcs'!$S$25+('Non-CO2 RF Calcs'!$S$24-'Non-CO2 RF Calcs'!$S$25)*($O317-1)/9","v":0.11127460796923627},3.691562032636559,{"$f":"CFfromRFin2100(J317)","v":0.58833355618728145},2.171869818547016,2.1583009999999998,1.3568818547016193E-2,{"$f":"MitigationAggressiveness(D317,0)","v":8.7878458081447235},null,2.9419550000000001,0.32698199999999999,0.40847299999999997,-0.141511,3.5953430000000002,null,-2.4574495066228774E-2,{"$f":"R317-E317","v":-9.2456530404891657E-2},{"$f":"S317-F317","v":5.0039086223347073E-2},{"$f":"T317-H317","v":0.13387812254968673},{"$f":"U317-J317","v":-9.6219032636558843E-2}]
["DNE21+ V.14E2","EMF33_tax_hi_none",524.81528400000002,{"$f":"CO2RFFromCO2PPM(C318)","v":3.5668201784028231},{"$f":"'Non-CO2 RF Calcs'!$S$17+('Non-CO2 RF Calcs'!$S$16-'Non-CO2 RF Calcs'!$S$17)*($O318-1)/9","v":0.44650086619499896},{"$f":"'Non-CO2 RF Calcs'!$S$19+('Non-CO2 RF Calcs'!$S$18-'Non-CO2 RF Calcs'!$S$19)*($O318-1)/9","v":0.36568348926989319},{"$f":"'Non-CO2 RF Calcs'!$S$21+('Non-CO2 RF Calcs'!$S$20-'Non-CO2 RF Calcs'!$S$21)*($O318-1)/9","v":0.14317457084037588},{"$f":"'Non-CO2 RF Calcs'!$S$23+('Non-CO2 RF Calcs'!$S$22-'Non-CO2 RF Calcs'!$S$23)*($O318-1)/9","v":-0.29512865481126849},{"$f":"'Non-CO2 RF Calcs'!$S$25+('Non-CO2 RF Calcs'!$S$24-'Non-CO2 RF Calcs'!$S$25)*($O318-1)/9","v":0.14317457084037588},4.3702250207371982,{"$f":"CFfromRFin2100(J318)","v":0.57937510731452679},2.5319995903782444,2.4698150000000001,6.2184590378244309E-2,{"$f":"MitigationAggressiveness(D318,0)","v":8.3759381096651602},null,3.5362529999999999,0.31514300000000001,0.40729399999999999,-5.5440000000000003E-2,4.2227160000000001,null,-3.0567178402823192E-2,{"$f":"R318-E318","v":-0.13135786619499895},{"$f":"S318-F318","v":4.1610510730106798E-2},{"$f":"T318-H318","v":0.2396886548112685},{"$f":"U318-J318","v":-0.14750902073719807}]
["DNE21+ V.14E2","EMF33_tax_lo_full",580.57573400000001,{"$f":"CO2RFFromCO2PPM(C319)","v":4.1763923001584855},{"$f":"'Non-CO2 RF Calcs'!$S$17+('Non-CO2 RF Calcs'!$S$16-'Non-CO2 RF Calcs'!$S$17)*($O319-1)/9","v":0.4701098784043547},{"$f":"'Non-CO2 RF Calcs'!$S$19+('Non-CO2 RF Calcs'!$S$18-'Non-CO2 RF Calcs'!$S$19)*($O319-1)/9","v":0.37200797351471299},{"$f":"'Non-CO2 RF Calcs'!$S$21+('Non-CO2 RF Calcs'!$S$20-'Non-CO2 RF Calcs'!$S$21)*($O319-1)/9","v":0.17100389860956389},{"$f":"'Non-CO2 RF Calcs'!$S$23+('Non-CO2 RF Calcs'!$S$22-'Non-CO2 RF Calcs'!$S$23)*($O319-1)/9","v":-0.31234929909656378},{"$f":"'Non-CO2 RF Calcs'!$S$25+('Non-CO2 RF Calcs'!$S$24-'Non-CO2 RF Calcs'!$S$25)*($O319-1)/9","v":0.17100389860956389},5.0481686502001182,{"$f":"CFfromRFin2100(J319)","v":0.57165947555272256},2.8858334430750947,2.8433600000000001,4.2473443075094597E-2,{"$f":"MitigationAggressiveness(D319,0)","v":8.0165924139367633},null,4.1397060000000003,0.36074800000000001,0.42073100000000002,-6.5407000000000007E-2,4.9236969999999998,null,-3.6686300158485174E-2,{"$f":"R319-E319","v":-0.10936187840435468},{"$f":"S319-F319","v":4.8723026485287035E-2},{"$f":"T319-H319","v":0.24694229909656379},{"$f":"U319-J319","v":-0.12447165020011841}]
["DNE21+ V.14E2","EMF33_tax_lo_none",609.35627999999997,{"$f":"CO2RFFromCO2PPM(C320)","v":4.4732891733857523},{"$f":"'Non-CO2 RF Calcs'!$S$17+('Non-CO2 RF Calcs'!$S$16-'Non-CO2 RF Calcs'!$S$17)*($O320-1)/9","v":0.48019595464397502},{"$f":"'Non-CO2 RF Calcs'!$S$19+('Non-CO2 RF Calcs'!$S$18-'Non-CO2 RF Calcs'!$S$19)*($O320-1)/9","v":0.37470987521665089},{"$f":"'Non-CO2 RF Calcs'!$S$21+('Non-CO2 RF Calcs'!$S$20-'Non-CO2 RF Calcs'!$S$21)*($O320-1)/9","v":0.18289294839650028},{"$f":"'Non-CO2 RF Calcs'!$S$23+('Non-CO2 RF Calcs'!$S$22-'Non-CO2 RF Calcs'!$S$23)*($O320-1)/9","v":-0.31970618169786308},{"$f":"'Non-CO2 RF Calcs'!$S$25+('Non-CO2 RF Calcs'!$S$24-'Non-CO2 RF Calcs'!$S$25)*($O320-1)/9","v":0.18289294839650028},5.3742747183415158,{"$f":"CFfromRFin2100(J320)","v":0.56838716308924442},3.0546687608203822,3.1389260000000001,-8.4257239179617915E-2,{"$f":"MitigationAggressiveness(D320,0)","v":7.8630752717812022},null,4.4369459999999998,0.35222700000000001,0.42006399999999999,-0.10294399999999999,5.4953430000000001,null,-3.6343173385752436E-2,{"$f":"R320-E320","v":-0.12796895464397501},{"$f":"S320-F320","v":4.5354124783349103E-2},{"$f":"T320-H320","v":0.2167621816978631},{"$f":"U320-J320","v":0.12106828165848427}]
["DNE21+ V.14E2","EMF33_WB2C_cost100",420.50852900000001,{"$f":"CO2RFFromCO2PPM(C321)","v":2.3048680621987847},{"$f":"'Non-CO2 RF Calcs'!$S$17+('Non-CO2 RF Calcs'!$S$16-'Non-CO2 RF Calcs'!$S$17)*($O321-1)/9","v":0.38522593737532507},{"$f":"'Non-CO2 RF Calcs'!$S$19+('Non-CO2 RF Calcs'!$S$18-'Non-CO2 RF Calcs'!$S$19)*($O321-1)/9","v":0.34926889646584053},{"$f":"'Non-CO2 RF Calcs'!$S$21+('Non-CO2 RF Calcs'!$S$20-'Non-CO2 RF Calcs'!$S$21)*($O321-1)/9","v":7.0946217403351053E-2},{"$f":"'Non-CO2 RF Calcs'!$S$23+('Non-CO2 RF Calcs'!$S$22-'Non-CO2 RF Calcs'!$S$23)*($O321-1)/9","v":-0.25043412276336496},{"$f":"'Non-CO2 RF Calcs'!$S$25+('Non-CO2 RF Calcs'!$S$24-'Non-CO2 RF Calcs'!$S$25)*($O321-1)/9","v":7.0946217403351053E-2},2.9308212080832874,{"$f":"CFfromRFin2100(J321)","v":0.59984385704369192},1.758035097762132,1.756488,1.5470977621319104E-3,{"$f":"MitigationAggressiveness(D321,0)","v":9.3085854280772438},null,2.2663190000000002,0.32752900000000001,0.40310800000000002,-0.13911000000000001,2.8985069999999999,null,-3.8549062198784512E-2,{"$f":"R321-E321","v":-5.7696937375325053E-2},{"$f":"S321-F321","v":5.3839103534159494E-2},{"$f":"T321-H321","v":0.11132412276336495},{"$f":"U321-J321","v":-3.2314208083287443E-2}]
["DNE21+ V.14E2","EMF33_WB2C_full",421.748806,{"$f":"CO2RFFromCO2PPM(C322)","v":2.3208050842010248},{"$f":"'Non-CO2 RF Calcs'!$S$17+('Non-CO2 RF Calcs'!$S$16-'Non-CO2 RF Calcs'!$S$17)*($O322-1)/9","v":0.38610402025087498},{"$f":"'Non-CO2 RF Calcs'!$S$19+('Non-CO2 RF Calcs'!$S$18-'Non-CO2 RF Calcs'!$S$19)*($O322-1)/9","v":0.34950412110221313},{"$f":"'Non-CO2 RF Calcs'!$S$21+('Non-CO2 RF Calcs'!$S$20-'Non-CO2 RF Calcs'!$S$21)*($O322-1)/9","v":7.1981265203551192E-2},{"$f":"'Non-CO2 RF Calcs'!$S$23+('Non-CO2 RF Calcs'!$S$22-'Non-CO2 RF Calcs'!$S$23)*($O322-1)/9","v":-0.25107460499611434},{"$f":"'Non-CO2 RF Calcs'!$S$25+('Non-CO2 RF Calcs'!$S$24-'Non-CO2 RF Calcs'!$S$25)*($O322-1)/9","v":7.1981265203551192E-2},2.9493011509651015,{"$f":"CFfromRFin2100(J322)","v":0.5995458539954287},1.7682412772450726,1.770573,-2.3317227549273234E-3,{"$f":"MitigationAggressiveness(D322,0)","v":9.2952203919197096},null,2.2837839999999998,0.33054499999999998,0.40432200000000001,-0.13126299999999999,2.923832,null,-3.7021084201025012E-2,{"$f":"R322-E322","v":-5.5559020250875002E-2},{"$f":"S322-F322","v":5.4817878897786887E-2},{"$f":"T322-H322","v":0.11981160499611435},{"$f":"U322-J322","v":-2.5469150965101495E-2}]
["DNE21+ V.14E2","EMF33_WB2C_limbio",415.07179500000001,{"$f":"CO2RFFromCO2PPM(C323)","v":2.2347438416875605},{"$f":"'Non-CO2 RF Calcs'!$S$17+('Non-CO2 RF Calcs'!$S$16-'Non-CO2 RF Calcs'!$S$17)*($O323-1)/9","v":0.38133061712413541},{"$f":"'Non-CO2 RF Calcs'!$S$19+('Non-CO2 RF Calcs'!$S$18-'Non-CO2 RF Calcs'!$S$19)*($O323-1)/9","v":0.34822540123873336},{"$f":"'Non-CO2 RF Calcs'!$S$21+('Non-CO2 RF Calcs'!$S$20-'Non-CO2 RF Calcs'!$S$21)*($O323-1)/9","v":6.6354574895183926E-2},{"$f":"'Non-CO2 RF Calcs'!$S$23+('Non-CO2 RF Calcs'!$S$22-'Non-CO2 RF Calcs'!$S$23)*($O323-1)/9","v":-0.24759283809511173},{"$f":"'Non-CO2 RF Calcs'!$S$25+('Non-CO2 RF Calcs'!$S$24-'Non-CO2 RF Calcs'!$S$25)*($O323-1)/9","v":6.6354574895183926E-2},2.8494161717456858,{"$f":"CFfromRFin2100(J323)","v":0.60116747864927389},1.7129763355908203,1.7465930000000001,-3.3616664409179764E-2,{"$f":"MitigationAggressiveness(D323,0)","v":9.3678749296174217},null,2.1900110000000002,0.29323500000000002,0.39223599999999997,-6.6625000000000004E-2,2.916814,null,-4.473284168756031E-2,{"$f":"R323-E323","v":-8.8095617124135384E-2},{"$f":"S323-F323","v":4.4010598761266617E-2},{"$f":"T323-H323","v":0.18096783809511174},{"$f":"U323-J323","v":6.7397828254314174E-2}]
["DNE21+ V.14E2","EMF33_WB2C_nobeccs",417.53989899999999,{"$f":"CO2RFFromCO2PPM(C324)","v":2.2666313980559036},{"$f":"'Non-CO2 RF Calcs'!$S$17+('Non-CO2 RF Calcs'!$S$16-'Non-CO2 RF Calcs'!$S$17)*($O324-1)/9","v":0.38310833540421918},{"$f":"'Non-CO2 RF Calcs'!$S$19+('Non-CO2 RF Calcs'!$S$18-'Non-CO2 RF Calcs'!$S$19)*($O324-1)/9","v":0.34870162409610744},{"$f":"'Non-CO2 RF Calcs'!$S$21+('Non-CO2 RF Calcs'!$S$20-'Non-CO2 RF Calcs'!$S$21)*($O324-1)/9","v":6.8450075725927095E-2},{"$f":"'Non-CO2 RF Calcs'!$S$23+('Non-CO2 RF Calcs'!$S$22-'Non-CO2 RF Calcs'!$S$23)*($O324-1)/9","v":-0.24888952318592888},{"$f":"'Non-CO2 RF Calcs'!$S$25+('Non-CO2 RF Calcs'!$S$24-'Non-CO2 RF Calcs'!$S$25)*($O324-1)/9","v":6.8450075725927095E-2},2.8864519858221556,{"$f":"CFfromRFin2100(J324)","v":0.60056308376254264},1.7334965057378688,1.6876370000000001,4.5859505737868789E-2,{"$f":"MitigationAggressiveness(D324,0)","v":9.3408168127211688},null,2.2306110000000001,0.24401700000000001,0.374143,-6.3223000000000001E-2,2.876414,null,-3.6020398055903513E-2,{"$f":"R324-E324","v":-0.13909133540421917},{"$f":"S324-F324","v":2.544137590389256E-2},{"$f":"T324-H324","v":0.18566652318592888},{"$f":"U324-J324","v":-1.0037985822155537E-2}]
["DNE21+ V.14E2","EMF33_WB2C_nofuel",421.75643200000002,{"$f":"CO2RFFromCO2PPM(C325)","v":2.3209030056449058},{"$f":"'Non-CO2 RF Calcs'!$S$17+('Non-CO2 RF Calcs'!$S$16-'Non-CO2 RF Calcs'!$S$17)*($O325-1)/9","v":0.38610940719031195},{"$f":"'Non-CO2 RF Calcs'!$S$19+('Non-CO2 RF Calcs'!$S$18-'Non-CO2 RF Calcs'!$S$19)*($O325-1)/9","v":0.34950556417883549},{"$f":"'Non-CO2 RF Calcs'!$S$21+('Non-CO2 RF Calcs'!$S$20-'Non-CO2 RF Calcs'!$S$21)*($O325-1)/9","v":7.1987615105102987E-2},{"$f":"'Non-CO2 RF Calcs'!$S$23+('Non-CO2 RF Calcs'!$S$22-'Non-CO2 RF Calcs'!$S$23)*($O325-1)/9","v":-0.25107853428239735},{"$f":"'Non-CO2 RF Calcs'!$S$25+('Non-CO2 RF Calcs'!$S$24-'Non-CO2 RF Calcs'!$S$25)*($O325-1)/9","v":7.1987615105102987E-2},2.9494146729418613,{"$f":"CFfromRFin2100(J325)","v":0.59954402619827862},1.7683039479438427,1.7702199999999999,-1.9160520561571914E-3,{"$f":"MitigationAggressiveness(D325,0)","v":9.2951383989298026},null,2.2839879999999999,0.33019100000000001,0.40418300000000001,-0.13133600000000001,2.9233220000000002,null,-3.6915005644905907E-2,{"$f":"R325-E325","v":-5.5918407190311936E-2},{"$f":"S325-F325","v":5.4677435821164522E-2},{"$f":"T325-H325","v":0.11974253428239734},{"$f":"U325-J325","v":-2.6092672941861128E-2}]
["DNE21+ V.14E2","EMF33_WB2C_none",416.262362,{"$f":"CO2RFFromCO2PPM(C326)","v":2.2501368840302973},{"$f":"'Non-CO2 RF Calcs'!$S$17+('Non-CO2 RF Calcs'!$S$16-'Non-CO2 RF Calcs'!$S$17)*($O326-1)/9","v":0.38219010590366276},{"$f":"'Non-CO2 RF Calcs'!$S$19+('Non-CO2 RF Calcs'!$S$18-'Non-CO2 RF Calcs'!$S$19)*($O326-1)/9","v":0.34845564480828717},{"$f":"'Non-CO2 RF Calcs'!$S$21+('Non-CO2 RF Calcs'!$S$20-'Non-CO2 RF Calcs'!$S$21)*($O326-1)/9","v":6.7367704743535928E-2},{"$f":"'Non-CO2 RF Calcs'!$S$23+('Non-CO2 RF Calcs'!$S$22-'Non-CO2 RF Calcs'!$S$23)*($O326-1)/9","v":-0.24821975761246362},{"$f":"'Non-CO2 RF Calcs'!$S$25+('Non-CO2 RF Calcs'!$S$24-'Non-CO2 RF Calcs'!$S$25)*($O326-1)/9","v":6.7367704743535928E-2},2.8672982866168555,{"$f":"CFfromRFin2100(J326)","v":0.60087519752185126},1.7228884243249687,1.6729830000000001,4.9905424324968584E-2,{"$f":"MitigationAggressiveness(D326,0)","v":9.3547929086200501},null,2.2128809999999999,0.23610500000000001,0.37120999999999998,-6.3220999999999999E-2,2.847553,null,-3.7255884030297448E-2,{"$f":"R326-E326","v":-0.14608510590366275},{"$f":"S326-F326","v":2.2754355191712816E-2},{"$f":"T326-H326","v":0.18499875761246362},{"$f":"U326-J326","v":-1.9745286616855484E-2}]
["En-ROADS-96","Ratchet-1.5-allCDR",389.41140200000001,{"$f":"CO2RFFromCO2PPM(C327)","v":1.8979551429134081},{"$f":"'Non-CO2 RF Calcs'!$S$17+('Non-CO2 RF Calcs'!$S$16-'Non-CO2 RF Calcs'!$S$17)*($O327-1)/9","v":0.36190293271993601},{"$f":"'Non-CO2 RF Calcs'!$S$19+('Non-CO2 RF Calcs'!$S$18-'Non-CO2 RF Calcs'!$S$19)*($O327-1)/9","v":0.34302102916089611},{"$f":"'Non-CO2 RF Calcs'!$S$21+('Non-CO2 RF Calcs'!$S$20-'Non-CO2 RF Calcs'!$S$21)*($O327-1)/9","v":4.3454023517326856E-2},{"$f":"'Non-CO2 RF Calcs'!$S$23+('Non-CO2 RF Calcs'!$S$22-'Non-CO2 RF Calcs'!$S$23)*($O327-1)/9","v":-0.23342209518367729},{"$f":"'Non-CO2 RF Calcs'!$S$25+('Non-CO2 RF Calcs'!$S$24-'Non-CO2 RF Calcs'!$S$25)*($O327-1)/9","v":4.3454023517326856E-2},2.4563650566452164,{"$f":"CFfromRFin2100(J327)","v":0.6078084496048034},1.492999436742944,1.1490180000000001,0.3439814367429439,{"$f":"MitigationAggressiveness(D327,0)","v":9.6635778885854489},null,1.8353459999999999,0.197827,0.25464500000000001,-0.51200900000000005,1.994829,null,-6.2609142913408133E-2,{"$f":"R327-E327","v":-0.16407593271993601},{"$f":"S327-F327","v":-8.8376029160896097E-2},{"$f":"T327-H327","v":-0.27858690481632276},{"$f":"U327-J327","v":-0.46153605664521646}]
["En-ROADS-96","Ratchet-1.5-limCDR",388.18216899999999,{"$f":"CO2RFFromCO2PPM(C328)","v":1.8815807712328168},{"$f":"'Non-CO2 RF Calcs'!$S$17+('Non-CO2 RF Calcs'!$S$16-'Non-CO2 RF Calcs'!$S$17)*($O328-1)/9","v":0.36092801681518505},{"$f":"'Non-CO2 RF Calcs'!$S$19+('Non-CO2 RF Calcs'!$S$18-'Non-CO2 RF Calcs'!$S$19)*($O328-1)/9","v":0.34275986447408308},{"$f":"'Non-CO2 RF Calcs'!$S$21+('Non-CO2 RF Calcs'!$S$20-'Non-CO2 RF Calcs'!$S$21)*($O328-1)/9","v":4.2304832944671023E-2},{"$f":"'Non-CO2 RF Calcs'!$S$23+('Non-CO2 RF Calcs'!$S$22-'Non-CO2 RF Calcs'!$S$23)*($O328-1)/9","v":-0.23271098199287898},{"$f":"'Non-CO2 RF Calcs'!$S$25+('Non-CO2 RF Calcs'!$S$24-'Non-CO2 RF Calcs'!$S$25)*($O328-1)/9","v":4.2304832944671023E-2},2.4371673364185482,{"$f":"CFfromRFin2100(J328)","v":0.60814342626832529},1.4821472943588241,1.1073470000000001,0.374800294358824,{"$f":"MitigationAggressiveness(D328,0)","v":9.6784167912452794},null,1.820776,0.17726500000000001,0.24613499999999999,-0.51200900000000005,1.9485520000000001,null,-6.0804771232816801E-2,{"$f":"R328-E328","v":-0.18366301681518504},{"$f":"S328-F328","v":-9.6624864474083083E-2},{"$f":"T328-H328","v":-0.27929801800712106},{"$f":"U328-J328","v":-0.48861533641854815}]
["En-ROADS-96","Reference",927.75794900000005,{"$f":"CO2RFFromCO2PPM(C329)","v":6.9522999505631793},{"$f":"'Non-CO2 RF Calcs'!$S$17+('Non-CO2 RF Calcs'!$S$16-'Non-CO2 RF Calcs'!$S$17)*($O329-1)/9","v":0.52828523722869458},{"$f":"'Non-CO2 RF Calcs'!$S$19+('Non-CO2 RF Calcs'!$S$18-'Non-CO2 RF Calcs'!$S$19)*($O329-1)/9","v":0.38759224010996995},{"$f":"'Non-CO2 RF Calcs'!$S$21+('Non-CO2 RF Calcs'!$S$20-'Non-CO2 RF Calcs'!$S$21)*($O329-1)/9","v":0.23957860704955208},{"$f":"'Non-CO2 RF Calcs'!$S$23+('Non-CO2 RF Calcs'!$S$22-'Non-CO2 RF Calcs'!$S$23)*($O329-1)/9","v":-0.35478297449135121},{"$f":"'Non-CO2 RF Calcs'!$S$25+('Non-CO2 RF Calcs'!$S$24-'Non-CO2 RF Calcs'!$S$25)*($O329-1)/9","v":0.23957860704955208},7.9925516675095976,{"$f":"CFfromRFin2100(J329)","v":0.55245210488505081},4.4155019921181999,4.657864,-0.24236200788180007,{"$f":"MitigationAggressiveness(D329,0)","v":7.1311227210244352},null,7.0357409999999998,0.97319100000000003,0.51408399999999999,-0.51203699999999996,8.3828580000000006,null,8.3441049436820514E-2,{"$f":"R329-E329","v":0.44490576277130545},{"$f":"S329-F329","v":0.12649175989003003},{"$f":"T329-H329","v":-0.15725402550864875},{"$f":"U329-J329","v":0.39030633249040303}]
["EPPA 6","1.5CNow_Gradual",438.48806000000002,{"$f":"CO2RFFromCO2PPM(C330)","v":2.5337039698148378},{"$f":"'Non-CO2 RF Calcs'!$S$17+('Non-CO2 RF Calcs'!$S$16-'Non-CO2 RF Calcs'!$S$17)*($O330-1)/9","v":0.39757835401248365},{"$f":"'Non-CO2 RF Calcs'!$S$19+('Non-CO2 RF Calcs'!$S$18-'Non-CO2 RF Calcs'!$S$19)*($O330-1)/9","v":0.3525779152301326},{"$f":"'Non-CO2 RF Calcs'!$S$21+('Non-CO2 RF Calcs'!$S$20-'Non-CO2 RF Calcs'!$S$21)*($O330-1)/9","v":8.5506735577035475E-2},{"$f":"'Non-CO2 RF Calcs'!$S$23+('Non-CO2 RF Calcs'!$S$22-'Non-CO2 RF Calcs'!$S$23)*($O330-1)/9","v":-0.25944409620426889},{"$f":"'Non-CO2 RF Calcs'!$S$25+('Non-CO2 RF Calcs'!$S$24-'Non-CO2 RF Calcs'!$S$25)*($O330-1)/9","v":8.5506735577035475E-2},3.195429614007256,{"$f":"CFfromRFin2100(J330)","v":0.59566418266870969},1.9034029693030226,1.7954639999999999,0.1079389693030226,{"$f":"MitigationAggressiveness(D330,0)","v":9.1205729982879191},null,2.5083880000000001,0.31620599999999999,0.25935999999999998,-0.33631499999999998,3.1146210000000001,null,-2.5315969814837747E-2,{"$f":"R330-E330","v":-8.1372354012483661E-2},{"$f":"S330-F330","v":-9.321791523013262E-2},{"$f":"T330-H330","v":-7.6870903795731083E-2},{"$f":"U330-J330","v":-8.0808614007255919E-2}]
["EPPA 6","1.5CNow_OptTax",435.46835299999998,{"$f":"CO2RFFromCO2PPM(C331)","v":2.4955996169392192},{"$f":"'Non-CO2 RF Calcs'!$S$17+('Non-CO2 RF Calcs'!$S$16-'Non-CO2 RF Calcs'!$S$17)*($O331-1)/9","v":0.3955596595733557},{"$f":"'Non-CO2 RF Calcs'!$S$19+('Non-CO2 RF Calcs'!$S$18-'Non-CO2 RF Calcs'!$S$19)*($O331-1)/9","v":0.35203713863761127},{"$f":"'Non-CO2 RF Calcs'!$S$21+('Non-CO2 RF Calcs'!$S$20-'Non-CO2 RF Calcs'!$S$21)*($O331-1)/9","v":8.3127182010195977E-2},{"$f":"'Non-CO2 RF Calcs'!$S$23+('Non-CO2 RF Calcs'!$S$22-'Non-CO2 RF Calcs'!$S$23)*($O331-1)/9","v":-0.25797164074748574},{"$f":"'Non-CO2 RF Calcs'!$S$25+('Non-CO2 RF Calcs'!$S$24-'Non-CO2 RF Calcs'!$S$25)*($O331-1)/9","v":8.3127182010195977E-2},3.1514791384230922,{"$f":"CFfromRFin2100(J331)","v":0.59634540604637043},1.8793701064495847,1.73445,0.14492010644958464,{"$f":"MitigationAggressiveness(D331,0)","v":9.1512989410448142},null,2.4670909999999999,0.32534200000000002,0.26853700000000003,-0.35129700000000003,3.0127350000000002,null,-2.8508616939219245E-2,{"$f":"R331-E331","v":-7.0217659573355684E-2},{"$f":"S331-F331","v":-8.3500138637611243E-2},{"$f":"T331-H331","v":-9.3325359252514284E-2},{"$f":"U331-J331","v":-0.13874413842309208}]
["EPPA 6","2CNow_Gradual",481.023843,{"$f":"CO2RFFromCO2PPM(C332)","v":3.0563230155852446},{"$f":"'Non-CO2 RF Calcs'!$S$17+('Non-CO2 RF Calcs'!$S$16-'Non-CO2 RF Calcs'!$S$17)*($O332-1)/9","v":0.42372725575345815},{"$f":"'Non-CO2 RF Calcs'!$S$19+('Non-CO2 RF Calcs'!$S$18-'Non-CO2 RF Calcs'!$S$19)*($O332-1)/9","v":0.35958279606180921},{"$f":"'Non-CO2 RF Calcs'!$S$21+('Non-CO2 RF Calcs'!$S$20-'Non-CO2 RF Calcs'!$S$21)*($O332-1)/9","v":0.11632998014571327},{"$f":"'Non-CO2 RF Calcs'!$S$23+('Non-CO2 RF Calcs'!$S$22-'Non-CO2 RF Calcs'!$S$23)*($O332-1)/9","v":-0.27851736074152966},{"$f":"'Non-CO2 RF Calcs'!$S$25+('Non-CO2 RF Calcs'!$S$24-'Non-CO2 RF Calcs'!$S$25)*($O332-1)/9","v":0.11632998014571327},3.7937756669504088,{"$f":"CFfromRFin2100(J332)","v":0.58690530850159917},2.2265870781973898,2.1614070000000001,6.518007819738969E-2,{"$f":"MitigationAggressiveness(D332,0)","v":8.7225684055790236},null,3.0387650000000002,0.43648900000000002,0.313863,-0.45335599999999998,3.7401330000000002,null,-1.7558015585244391E-2,{"$f":"R332-E332","v":1.2761744246541862E-2},{"$f":"S332-F332","v":-4.5719796061809204E-2},{"$f":"T332-H332","v":-0.17483863925847032},{"$f":"U332-J332","v":-5.3642666950408646E-2}]
["EPPA 6","2CNow_OptTax",480.89348799999999,{"$f":"CO2RFFromCO2PPM(C333)","v":3.054761682778421},{"$f":"'Non-CO2 RF Calcs'!$S$17+('Non-CO2 RF Calcs'!$S$16-'Non-CO2 RF Calcs'!$S$17)*($O333-1)/9","v":0.42365340646733207},{"$f":"'Non-CO2 RF Calcs'!$S$19+('Non-CO2 RF Calcs'!$S$18-'Non-CO2 RF Calcs'!$S$19)*($O333-1)/9","v":0.359563012995815},{"$f":"'Non-CO2 RF Calcs'!$S$21+('Non-CO2 RF Calcs'!$S$20-'Non-CO2 RF Calcs'!$S$21)*($O333-1)/9","v":0.11624292965961514},{"$f":"'Non-CO2 RF Calcs'!$S$23+('Non-CO2 RF Calcs'!$S$22-'Non-CO2 RF Calcs'!$S$23)*($O333-1)/9","v":-0.27846349435034723},{"$f":"'Non-CO2 RF Calcs'!$S$25+('Non-CO2 RF Calcs'!$S$24-'Non-CO2 RF Calcs'!$S$25)*($O333-1)/9","v":0.11624292965961514},3.7920004672104515,{"$f":"CFfromRFin2100(J333)","v":0.58692987455740764},2.2256383585414614,2.1415009999999999,8.4137358541461538E-2,{"$f":"MitigationAggressiveness(D333,0)","v":8.723692443419603},null,3.0353439999999998,0.43746299999999999,0.31681599999999999,-0.45519799999999999,3.7186840000000001,null,-1.9417682778421153E-2,{"$f":"R333-E333","v":1.3809593532667919E-2},{"$f":"S333-F333","v":-4.2747012995815015E-2},{"$f":"T333-H333","v":-0.17673450564965276},{"$f":"U333-J333","v":-7.3316467210451375E-2}]
["EPPA 6","Paris1.5C_OptTax",439.86836299999999,{"$f":"CO2RFFromCO2PPM(C334)","v":2.551077146025686},{"$f":"'Non-CO2 RF Calcs'!$S$17+('Non-CO2 RF Calcs'!$S$16-'Non-CO2 RF Calcs'!$S$17)*($O334-1)/9","v":0.39849369116297984},{"$f":"'Non-CO2 RF Calcs'!$S$19+('Non-CO2 RF Calcs'!$S$18-'Non-CO2 RF Calcs'!$S$19)*($O334-1)/9","v":0.35282311970271607},{"$f":"'Non-CO2 RF Calcs'!$S$21+('Non-CO2 RF Calcs'!$S$20-'Non-CO2 RF Calcs'!$S$21)*($O334-1)/9","v":8.6585697176724041E-2},{"$f":"'Non-CO2 RF Calcs'!$S$23+('Non-CO2 RF Calcs'!$S$22-'Non-CO2 RF Calcs'!$S$23)*($O334-1)/9","v":-0.26011175206932724},{"$f":"'Non-CO2 RF Calcs'!$S$25+('Non-CO2 RF Calcs'!$S$24-'Non-CO2 RF Calcs'!$S$25)*($O334-1)/9","v":8.6585697176724041E-2},3.2154535991755031,{"$f":"CFfromRFin2100(J334)","v":0.59535553284896936},1.9143380908882679,1.768656,0.14568209088826789,{"$f":"MitigationAggressiveness(D334,0)","v":9.1066409259820418},null,2.5246599999999999,0.27197100000000002,0.248304,-0.24981600000000001,3.0326490000000002,null,-2.6417146025686122E-2,{"$f":"R334-E334","v":-0.12652269116297982},{"$f":"S334-F334","v":-0.10451911970271607},{"$f":"T334-H334","v":1.029575206932723E-2},{"$f":"U334-J334","v":-0.18280459917550296}]
["EPPA 6","Paris2C_Gradual",483.34986099999998,{"$f":"CO2RFFromCO2PPM(C335)","v":3.0841413619470943},{"$f":"'Non-CO2 RF Calcs'!$S$17+('Non-CO2 RF Calcs'!$S$16-'Non-CO2 RF Calcs'!$S$17)*($O335-1)/9","v":0.4250387415928647},{"$f":"'Non-CO2 RF Calcs'!$S$19+('Non-CO2 RF Calcs'!$S$18-'Non-CO2 RF Calcs'!$S$19)*($O335-1)/9","v":0.35993412255760149},{"$f":"'Non-CO2 RF Calcs'!$S$21+('Non-CO2 RF Calcs'!$S$20-'Non-CO2 RF Calcs'!$S$21)*($O335-1)/9","v":0.11787590544601168},{"$f":"'Non-CO2 RF Calcs'!$S$23+('Non-CO2 RF Calcs'!$S$22-'Non-CO2 RF Calcs'!$S$23)*($O335-1)/9","v":-0.27947397133266116},{"$f":"'Non-CO2 RF Calcs'!$S$25+('Non-CO2 RF Calcs'!$S$24-'Non-CO2 RF Calcs'!$S$25)*($O335-1)/9","v":0.11787590544601168},3.8253920656569225,{"$f":"CFfromRFin2100(J335)","v":0.58646920150699544},2.243474630197011,2.1485970000000001,9.4877630197010898E-2,{"$f":"MitigationAggressiveness(D335,0)","v":8.7026066728635509},null,3.0596809999999999,0.36741800000000002,0.30894500000000003,-0.39259300000000003,3.664282,null,-2.4460361947094444E-2,{"$f":"R335-E335","v":-5.7620741592864677E-2},{"$f":"S335-F335","v":-5.0989122557601463E-2},{"$f":"T335-H335","v":-0.11311902866733886},{"$f":"U335-J335","v":-0.16111006565692243}]
["EPPA 6","Paris2C_OptTax",479.66398900000002,{"$f":"CO2RFFromCO2PPM(C336)","v":3.0400231195978429},{"$f":"'Non-CO2 RF Calcs'!$S$17+('Non-CO2 RF Calcs'!$S$16-'Non-CO2 RF Calcs'!$S$17)*($O336-1)/9","v":0.42295502779556526},{"$f":"'Non-CO2 RF Calcs'!$S$19+('Non-CO2 RF Calcs'!$S$18-'Non-CO2 RF Calcs'!$S$19)*($O336-1)/9","v":0.35937592829835541},{"$f":"'Non-CO2 RF Calcs'!$S$21+('Non-CO2 RF Calcs'!$S$20-'Non-CO2 RF Calcs'!$S$21)*($O336-1)/9","v":0.11541970974718241},{"$f":"'Non-CO2 RF Calcs'!$S$23+('Non-CO2 RF Calcs'!$S$22-'Non-CO2 RF Calcs'!$S$23)*($O336-1)/9","v":-0.2779540901204588},{"$f":"'Non-CO2 RF Calcs'!$S$25+('Non-CO2 RF Calcs'!$S$24-'Non-CO2 RF Calcs'!$S$25)*($O336-1)/9","v":0.11541970974718241},3.7752394050656699,{"$f":"CFfromRFin2100(J336)","v":0.58716223871538498},2.2166780207648968,2.154633,6.2045020764896819E-2,{"$f":"MitigationAggressiveness(D336,0)","v":8.7343222557752629},null,3.0193729999999999,0.42366900000000002,0.31685200000000002,-0.412416,3.7025510000000001,null,-2.065011959784302E-2,{"$f":"R336-E336","v":7.1397220443475407E-4},{"$f":"S336-F336","v":-4.2523928298355385E-2},{"$f":"T336-H336","v":-0.13446190987954121},{"$f":"U336-J336","v":-7.2688405065669759E-2}]
["EPPA 6","ParisFlat",628.26754600000004,{"$f":"CO2RFFromCO2PPM(C337)","v":4.6618029772851495},{"$f":"'Non-CO2 RF Calcs'!$S$17+('Non-CO2 RF Calcs'!$S$16-'Non-CO2 RF Calcs'!$S$17)*($O337-1)/9","v":0.48611968425983676},{"$f":"'Non-CO2 RF Calcs'!$S$19+('Non-CO2 RF Calcs'!$S$18-'Non-CO2 RF Calcs'!$S$19)*($O337-1)/9","v":0.37629674951252856},{"$f":"'Non-CO2 RF Calcs'!$S$21+('Non-CO2 RF Calcs'!$S$20-'Non-CO2 RF Calcs'!$S$21)*($O337-1)/9","v":0.18987559602419457},{"$f":"'Non-CO2 RF Calcs'!$S$23+('Non-CO2 RF Calcs'!$S$22-'Non-CO2 RF Calcs'!$S$23)*($O337-1)/9","v":-0.32402700798455536},{"$f":"'Non-CO2 RF Calcs'!$S$25+('Non-CO2 RF Calcs'!$S$24-'Non-CO2 RF Calcs'!$S$25)*($O337-1)/9","v":0.18987559602419457},5.5799435951213479,{"$f":"CFfromRFin2100(J337)","v":0.56647004261121192},3.1608708860965491,3.0600930000000002,0.10077788609654892,{"$f":"MitigationAggressiveness(D337,0)","v":7.7729119595154224},null,4.6102670000000003,0.60279400000000005,0.37672499999999998,-0.63849199999999995,5.4874270000000003,null,-5.1535977285149137E-2,{"$f":"R337-E337","v":0.11667431574016329},{"$f":"S337-F337","v":4.2825048747141548E-4},{"$f":"T337-H337","v":-0.31446499201544459},{"$f":"U337-J337","v":-9.2516595121347578E-2}]
["EPPA 6","ParisForever",698.72083899999996,{"$f":"CO2RFFromCO2PPM(C338)","v":5.318222588676516},{"$f":"'Non-CO2 RF Calcs'!$S$17+('Non-CO2 RF Calcs'!$S$16-'Non-CO2 RF Calcs'!$S$17)*($O338-1)/9","v":0.5038348445582308},{"$f":"'Non-CO2 RF Calcs'!$S$19+('Non-CO2 RF Calcs'!$S$18-'Non-CO2 RF Calcs'!$S$19)*($O338-1)/9","v":0.38104236323021101},{"$f":"'Non-CO2 RF Calcs'!$S$21+('Non-CO2 RF Calcs'!$S$20-'Non-CO2 RF Calcs'!$S$21)*($O338-1)/9","v":0.21075749476929961},{"$f":"'Non-CO2 RF Calcs'!$S$23+('Non-CO2 RF Calcs'!$S$22-'Non-CO2 RF Calcs'!$S$23)*($O338-1)/9","v":-0.3369486190731692},{"$f":"'Non-CO2 RF Calcs'!$S$25+('Non-CO2 RF Calcs'!$S$24-'Non-CO2 RF Calcs'!$S$25)*($O338-1)/9","v":0.21075749476929961},{"$f":"SUM(D338:I338)","v":6.2876661669303875},{"$f":"CFfromRFin2100(J338)","v":0.56073994181952103},{"$f":"K338*J338","v":3.5257455606251162},3.6779510000000002,{"$f":"L338-M338","v":-0.15220543937488396},{"$f":"MitigationAggressiveness(D338,0)","v":7.5032748164652849},null,5.253387,0.79262699999999997,0.46510299999999999,-0.80812499999999998,6.6673809999999998,null,{"$f":"Q338-D338","v":-6.4835588676515954E-2},{"$f":"R338-E338","v":0.28879215544176917},{"$f":"S338-F338","v":8.4060636769788977E-2},{"$f":"T338-H338","v":-0.47117638092683078},{"$f":"U338-J338","v":0.37971483306961229}]
["EPPA 6","Ref",784.48508300000003,{"$f":"CO2RFFromCO2PPM(C339)","v":6.019658652495556},{"$f":"'Non-CO2 RF Calcs'!$S$17+('Non-CO2 RF Calcs'!$S$16-'Non-CO2 RF Calcs'!$S$17)*($O339-1)/9","v":0.51776468426226896},{"$f":"'Non-CO2 RF Calcs'!$S$19+('Non-CO2 RF Calcs'!$S$18-'Non-CO2 RF Calcs'!$S$19)*($O339-1)/9","v":0.38477394890435213},{"$f":"'Non-CO2 RF Calcs'!$S$21+('Non-CO2 RF Calcs'!$S$20-'Non-CO2 RF Calcs'!$S$21)*($O339-1)/9","v":0.22717741405513536},{"$f":"'Non-CO2 RF Calcs'!$S$23+('Non-CO2 RF Calcs'!$S$22-'Non-CO2 RF Calcs'!$S$23)*($O339-1)/9","v":-0.34710918031847898},{"$f":"'Non-CO2 RF Calcs'!$S$25+('Non-CO2 RF Calcs'!$S$24-'Non-CO2 RF Calcs'!$S$25)*($O339-1)/9","v":0.22717741405513536},7.0294429334539688,{"$f":"CFfromRFin2100(J339)","v":0.55617596985207052},3.9096072410335445,4.2008739999999998,-0.29126675896645526,{"$f":"MitigationAggressiveness(D339,0)","v":7.2912529031618112},null,5.9714210000000003,0.83736999999999995,0.52678000000000003,-0.83658600000000005,7.5948019999999996,null,-4.8237652495555672E-2,{"$f":"R339-E339","v":0.31960531573773099},{"$f":"S339-F339","v":0.1420060510956479},{"$f":"T339-H339","v":-0.48947681968152107},{"$f":"U339-J339","v":0.56535906654603085}]
["FARM 3.2","EMF33_Baseline",689.70696399999997,{"$f":"CO2RFFromCO2PPM(C340)","v":5.238275381983053},{"$f":"'Non-CO2 RF Calcs'!$S$17+('Non-CO2 RF Calcs'!$S$16-'Non-CO2 RF Calcs'!$S$17)*($O340-1)/9","v":0.50191921618832391},{"$f":"'Non-CO2 RF Calcs'!$S$19+('Non-CO2 RF Calcs'!$S$18-'Non-CO2 RF Calcs'!$S$19)*($O340-1)/9","v":0.38052919642183414},{"$f":"'Non-CO2 RF Calcs'!$S$21+('Non-CO2 RF Calcs'!$S$20-'Non-CO2 RF Calcs'!$S$21)*($O340-1)/9","v":0.20849943122486347},{"$f":"'Non-CO2 RF Calcs'!$S$23+('Non-CO2 RF Calcs'!$S$22-'Non-CO2 RF Calcs'!$S$23)*($O340-1)/9","v":-0.33555134101475409},{"$f":"'Non-CO2 RF Calcs'!$S$25+('Non-CO2 RF Calcs'!$S$24-'Non-CO2 RF Calcs'!$S$25)*($O340-1)/9","v":0.20849943122486347},6.2021713160281848,{"$f":"CFfromRFin2100(J340)","v":0.56136081636458668},3.4816559531986049,3.459317,2.2338953198604905E-2,{"$f":"MitigationAggressiveness(D340,0)","v":7.5324320214866978},null,5.1759050000000002,0.50722,0.37539400000000001,-0.22656699999999999,6.1610519999999998,null,-6.2370381983052781E-2,{"$f":"R340-E340","v":5.3007838116760908E-3},{"$f":"S340-F340","v":-5.1351964218341317E-3},{"$f":"T340-H340","v":0.1089843410147541},{"$f":"U340-J340","v":-4.1119316028185082E-2}]
["FARM 3.2","EMF33_Med2C_full",489.25606599999998,{"$f":"CO2RFFromCO2PPM(C341)","v":3.1544231419946804},{"$f":"'Non-CO2 RF Calcs'!$S$17+('Non-CO2 RF Calcs'!$S$16-'Non-CO2 RF Calcs'!$S$17)*($O341-1)/9","v":0.42831595477896811},{"$f":"'Non-CO2 RF Calcs'!$S$19+('Non-CO2 RF Calcs'!$S$18-'Non-CO2 RF Calcs'!$S$19)*($O341-1)/9","v":0.36081203659223499},{"$f":"'Non-CO2 RF Calcs'!$S$21+('Non-CO2 RF Calcs'!$S$20-'Non-CO2 RF Calcs'!$S$21)*($O341-1)/9","v":0.12173894889386216},{"$f":"'Non-CO2 RF Calcs'!$S$23+('Non-CO2 RF Calcs'!$S$22-'Non-CO2 RF Calcs'!$S$23)*($O341-1)/9","v":-0.28186440266559937},{"$f":"'Non-CO2 RF Calcs'!$S$25+('Non-CO2 RF Calcs'!$S$24-'Non-CO2 RF Calcs'!$S$25)*($O341-1)/9","v":0.12173894889386216},3.9051646284880088,{"$f":"CFfromRFin2100(J341)","v":0.58538075885544583},2.2860082336797558,2.1544099999999999,0.13159823367975587,{"$f":"MitigationAggressiveness(D341,0)","v":8.652725193623013},null,3.1563910000000002,0.26345499999999999,0.315274,-5.9950000000000003E-2,3.6794920000000002,null,1.9678580053197336E-3,{"$f":"R341-E341","v":-0.16486095477896812},{"$f":"S341-F341","v":-4.5538036592234987E-2},{"$f":"T341-H341","v":0.22191440266559936},{"$f":"U341-J341","v":-0.22567262848800862}]
["FARM 3.2","EMF33_Med2C_nobeccs",488.86298799999997,{"$f":"CO2RFFromCO2PPM(C342)","v":3.1497614435188455},{"$f":"'Non-CO2 RF Calcs'!$S$17+('Non-CO2 RF Calcs'!$S$16-'Non-CO2 RF Calcs'!$S$17)*($O342-1)/9","v":0.4281001874495094},{"$f":"'Non-CO2 RF Calcs'!$S$19+('Non-CO2 RF Calcs'!$S$18-'Non-CO2 RF Calcs'!$S$19)*($O342-1)/9","v":0.36075423590732669},{"$f":"'Non-CO2 RF Calcs'!$S$21+('Non-CO2 RF Calcs'!$S$20-'Non-CO2 RF Calcs'!$S$21)*($O342-1)/9","v":0.12148461128413324},{"$f":"'Non-CO2 RF Calcs'!$S$23+('Non-CO2 RF Calcs'!$S$22-'Non-CO2 RF Calcs'!$S$23)*($O342-1)/9","v":-0.28170701986635105},{"$f":"'Non-CO2 RF Calcs'!$S$25+('Non-CO2 RF Calcs'!$S$24-'Non-CO2 RF Calcs'!$S$25)*($O342-1)/9","v":0.12148461128413324},3.8998780695775963,{"$f":"CFfromRFin2100(J342)","v":0.58545236232347675},2.2831928286077239,2.1510980000000002,0.1320948286077237,{"$f":"MitigationAggressiveness(D342,0)","v":8.6560093234473463},null,3.147297,0.26355400000000001,0.31528400000000001,-5.9950000000000003E-2,3.6701519999999999,null,-2.4644435188454494E-3,{"$f":"R342-E342","v":-0.16454618744950938},{"$f":"S342-F342","v":-4.5470235907326684E-2},{"$f":"T342-H342","v":0.22175701986635105},{"$f":"U342-J342","v":-0.22972606957759645}]
["FARM 3.2","EMF33_Med2C_nofuel",489.27008899999998,{"$f":"CO2RFFromCO2PPM(C343)","v":3.1545894058013926},{"$f":"'Non-CO2 RF Calcs'!$S$17+('Non-CO2 RF Calcs'!$S$16-'Non-CO2 RF Calcs'!$S$17)*($O343-1)/9","v":0.42832364610708684},{"$f":"'Non-CO2 RF Calcs'!$S$19+('Non-CO2 RF Calcs'!$S$18-'Non-CO2 RF Calcs'!$S$19)*($O343-1)/9","v":0.36081409697845856},{"$f":"'Non-CO2 RF Calcs'!$S$21+('Non-CO2 RF Calcs'!$S$20-'Non-CO2 RF Calcs'!$S$21)*($O343-1)/9","v":0.1217480151135456},{"$f":"'Non-CO2 RF Calcs'!$S$23+('Non-CO2 RF Calcs'!$S$22-'Non-CO2 RF Calcs'!$S$23)*($O343-1)/9","v":-0.28187001279551255},{"$f":"'Non-CO2 RF Calcs'!$S$25+('Non-CO2 RF Calcs'!$S$24-'Non-CO2 RF Calcs'!$S$25)*($O343-1)/9","v":0.1217480151135456},3.9053531663185166,{"$f":"CFfromRFin2100(J343)","v":0.58537820660080297},2.2861086326423008,2.1545839999999998,0.13152463264230096,{"$f":"MitigationAggressiveness(D343,0)","v":8.652608126223944},null,3.1566480000000001,0.26345000000000002,0.31527500000000003,-5.9950000000000003E-2,3.6798570000000002,null,2.058594198607544E-3,{"$f":"R343-E343","v":-0.16487364610708682},{"$f":"S343-F343","v":-4.5539096978458538E-2},{"$f":"T343-H343","v":0.22192001279551254},{"$f":"U343-J343","v":-0.22549616631851643}]
["FARM 3.2","EMF33_Med2C_none",488.62775199999999,{"$f":"CO2RFFromCO2PPM(C344)","v":3.1469705910927042},{"$f":"'Non-CO2 RF Calcs'!$S$17+('Non-CO2 RF Calcs'!$S$16-'Non-CO2 RF Calcs'!$S$17)*($O344-1)/9","v":0.4279709032852127},{"$f":"'Non-CO2 RF Calcs'!$S$19+('Non-CO2 RF Calcs'!$S$18-'Non-CO2 RF Calcs'!$S$19)*($O344-1)/9","v":0.36071960270654102},{"$f":"'Non-CO2 RF Calcs'!$S$21+('Non-CO2 RF Calcs'!$S$20-'Non-CO2 RF Calcs'!$S$21)*($O344-1)/9","v":0.12133221645491821},{"$f":"'Non-CO2 RF Calcs'!$S$23+('Non-CO2 RF Calcs'!$S$22-'Non-CO2 RF Calcs'!$S$23)*($O344-1)/9","v":-0.28161271873315102},{"$f":"'Non-CO2 RF Calcs'!$S$25+('Non-CO2 RF Calcs'!$S$24-'Non-CO2 RF Calcs'!$S$25)*($O344-1)/9","v":0.12133221645491821},3.8967128112611431,{"$f":"CFfromRFin2100(J344)","v":0.58549526984236067},2.2815069189275268,2.1489750000000001,0.13253191892752669,{"$f":"MitigationAggressiveness(D344,0)","v":8.6579771189465351},null,3.1406200000000002,0.26362200000000002,0.31529099999999999,-5.9950000000000003E-2,3.666296,null,-6.3505910927039722E-3,{"$f":"R344-E344","v":-0.16434890328521268},{"$f":"S344-F344","v":-4.5428602706541032E-2},{"$f":"T344-H344","v":0.22166271873315102},{"$f":"U344-J344","v":-0.23041681126114311}]
["FARM 3.2","EMF33_tax_hi_full",489.097105,{"$f":"CO2RFFromCO2PPM(C345)","v":3.1525382192932954},{"$f":"'Non-CO2 RF Calcs'!$S$17+('Non-CO2 RF Calcs'!$S$16-'Non-CO2 RF Calcs'!$S$17)*($O345-1)/9","v":0.42822873836056286},{"$f":"'Non-CO2 RF Calcs'!$S$19+('Non-CO2 RF Calcs'!$S$18-'Non-CO2 RF Calcs'!$S$19)*($O345-1)/9","v":0.36078867268106407},{"$f":"'Non-CO2 RF Calcs'!$S$21+('Non-CO2 RF Calcs'!$S$20-'Non-CO2 RF Calcs'!$S$21)*($O345-1)/9","v":0.12163614178473248},{"$f":"'Non-CO2 RF Calcs'!$S$23+('Non-CO2 RF Calcs'!$S$22-'Non-CO2 RF Calcs'!$S$23)*($O345-1)/9","v":-0.2818007861574679},{"$f":"'Non-CO2 RF Calcs'!$S$25+('Non-CO2 RF Calcs'!$S$24-'Non-CO2 RF Calcs'!$S$25)*($O345-1)/9","v":0.12163614178473248},3.9030271277469195,{"$f":"CFfromRFin2100(J345)","v":0.58540970107473267},2.2848699441408966,2.2050179999999999,7.9851944140896691E-2,{"$f":"MitigationAggressiveness(D345,0)","v":8.6540526885759075},null,3.1462759999999999,0.26143300000000003,0.31640099999999999,-6.5332000000000001E-2,3.717101,null,-6.2622192932955123E-3,{"$f":"R345-E345","v":-0.16679573836056283},{"$f":"S345-F345","v":-4.4387672681064083E-2},{"$f":"T345-H345","v":0.2164687861574679},{"$f":"U345-J345","v":-0.18592612774691952}]
["FARM 3.2","EMF33_tax_hi_none",511.764882,{"$f":"CO2RFFromCO2PPM(C346)","v":3.4176092026847398},{"$f":"'Non-CO2 RF Calcs'!$S$17+('Non-CO2 RF Calcs'!$S$16-'Non-CO2 RF Calcs'!$S$17)*($O346-1)/9","v":0.44012747519211509},{"$f":"'Non-CO2 RF Calcs'!$S$19+('Non-CO2 RF Calcs'!$S$18-'Non-CO2 RF Calcs'!$S$19)*($O346-1)/9","v":0.36397615773791819},{"$f":"'Non-CO2 RF Calcs'!$S$21+('Non-CO2 RF Calcs'!$S$20-'Non-CO2 RF Calcs'!$S$21)*($O346-1)/9","v":0.13566188095535958},{"$f":"'Non-CO2 RF Calcs'!$S$23+('Non-CO2 RF Calcs'!$S$22-'Non-CO2 RF Calcs'!$S$23)*($O346-1)/9","v":-0.2904798411134098},{"$f":"'Non-CO2 RF Calcs'!$S$25+('Non-CO2 RF Calcs'!$S$24-'Non-CO2 RF Calcs'!$S$25)*($O346-1)/9","v":0.13566188095535958},4.2025567564120827,{"$f":"CFfromRFin2100(J346)","v":0.58147345881483925},2.4436752130166055,2.282486,0.16118921301660549,{"$f":"MitigationAggressiveness(D346,0)","v":8.4729455830728302},null,3.398666,0.266453,0.319656,-5.8413E-2,3.9180709999999999,null,-1.8943202684739813E-2,{"$f":"R346-E346","v":-0.1736744751921151},{"$f":"S346-F346","v":-4.4320157737918198E-2},{"$f":"T346-H346","v":0.23206684111340981},{"$f":"U346-J346","v":-0.28448575641208285}]
["FARM 3.2","EMF33_tax_lo_full",565.28777200000002,{"$f":"CO2RFFromCO2PPM(C347)","v":4.013773687295898},{"$f":"'Non-CO2 RF Calcs'!$S$17+('Non-CO2 RF Calcs'!$S$16-'Non-CO2 RF Calcs'!$S$17)*($O347-1)/9","v":0.46419315769298813},{"$f":"'Non-CO2 RF Calcs'!$S$19+('Non-CO2 RF Calcs'!$S$18-'Non-CO2 RF Calcs'!$S$19)*($O347-1)/9","v":0.37042297679446867},{"$f":"'Non-CO2 RF Calcs'!$S$21+('Non-CO2 RF Calcs'!$S$20-'Non-CO2 RF Calcs'!$S$21)*($O347-1)/9","v":0.16402951278879196},{"$f":"'Non-CO2 RF Calcs'!$S$23+('Non-CO2 RF Calcs'!$S$22-'Non-CO2 RF Calcs'!$S$23)*($O347-1)/9","v":-0.3080335851733228},{"$f":"'Non-CO2 RF Calcs'!$S$25+('Non-CO2 RF Calcs'!$S$24-'Non-CO2 RF Calcs'!$S$25)*($O347-1)/9","v":0.16402951278879196},4.8684152621876162,{"$f":"CFfromRFin2100(J347)","v":0.57358514860801402},2.7924506916474074,2.6075740000000001,0.18487669164740739,{"$f":"MitigationAggressiveness(D347,0)","v":8.1066490457688261},null,3.9803030000000001,0.301701,0.33165899999999998,-7.6914999999999997E-2,4.5251659999999996,null,-3.3470687295897861E-2,{"$f":"R347-E347","v":-0.16249215769298814},{"$f":"S347-F347","v":-3.8763976794468691E-2},{"$f":"T347-H347","v":0.23111858517332279},{"$f":"U347-J347","v":-0.34324926218761664}]
["FARM 3.2","EMF33_tax_lo_none",570.142246,{"$f":"CO2RFFromCO2PPM(C348)","v":4.0657800106819568},{"$f":"'Non-CO2 RF Calcs'!$S$17+('Non-CO2 RF Calcs'!$S$16-'Non-CO2 RF Calcs'!$S$17)*($O348-1)/9","v":0.46611555730128285},{"$f":"'Non-CO2 RF Calcs'!$S$19+('Non-CO2 RF Calcs'!$S$18-'Non-CO2 RF Calcs'!$S$19)*($O348-1)/9","v":0.37093795751145475},{"$f":"'Non-CO2 RF Calcs'!$S$21+('Non-CO2 RF Calcs'!$S$20-'Non-CO2 RF Calcs'!$S$21)*($O348-1)/9","v":0.1662955579891664},{"$f":"'Non-CO2 RF Calcs'!$S$23+('Non-CO2 RF Calcs'!$S$22-'Non-CO2 RF Calcs'!$S$23)*($O348-1)/9","v":-0.3094358022392073},{"$f":"'Non-CO2 RF Calcs'!$S$25+('Non-CO2 RF Calcs'!$S$24-'Non-CO2 RF Calcs'!$S$25)*($O348-1)/9","v":0.1662955579891664},4.9259888392338205,{"$f":"CFfromRFin2100(J348)","v":0.5729589378465042},2.8223893331711438,2.6830850000000002,0.13930433317114366,{"$f":"MitigationAggressiveness(D348,0)","v":8.0773887777582516},null,4.0331409999999996,0.30803700000000001,0.332982,-8.3656999999999995E-2,4.6558989999999998,null,-3.2639010681957181E-2,{"$f":"R348-E348","v":-0.15807855730128284},{"$f":"S348-F348","v":-3.7955957511454752E-2},{"$f":"T348-H348","v":0.22577880223920732},{"$f":"U348-J348","v":-0.27008983923382068}]
["FARM 3.2","EMF33_WB2C_full",445.85297600000001,{"$f":"CO2RFFromCO2PPM(C349)","v":2.6260812399343796},{"$f":"'Non-CO2 RF Calcs'!$S$17+('Non-CO2 RF Calcs'!$S$16-'Non-CO2 RF Calcs'!$S$17)*($O349-1)/9","v":0.40240904281973466},{"$f":"'Non-CO2 RF Calcs'!$S$19+('Non-CO2 RF Calcs'!$S$18-'Non-CO2 RF Calcs'!$S$19)*($O349-1)/9","v":0.35387198102933537},{"$f":"'Non-CO2 RF Calcs'!$S$21+('Non-CO2 RF Calcs'!$S$20-'Non-CO2 RF Calcs'!$S$21)*($O349-1)/9","v":9.120095187782018E-2},{"$f":"'Non-CO2 RF Calcs'!$S$23+('Non-CO2 RF Calcs'!$S$22-'Non-CO2 RF Calcs'!$S$23)*($O349-1)/9","v":-0.26296764784060811},{"$f":"'Non-CO2 RF Calcs'!$S$25+('Non-CO2 RF Calcs'!$S$24-'Non-CO2 RF Calcs'!$S$25)*($O349-1)/9","v":9.120095187782018E-2},3.301796519698482,{"$f":"CFfromRFin2100(J349)","v":0.59403695837081782},1.9613891617210384,1.887972,7.3417161721038404E-2,{"$f":"MitigationAggressiveness(D349,0)","v":9.0470465324241296},null,2.6370019999999998,0.26856799999999997,0.309805,-6.2010000000000003E-2,3.240332,null,1.0920760065620261E-2,{"$f":"R349-E349","v":-0.13384104281973469},{"$f":"S349-F349","v":-4.4066981029335373E-2},{"$f":"T349-H349","v":0.2009576478406081},{"$f":"U349-J349","v":-6.146451969848199E-2}]
["FARM 3.2","EMF33_WB2C_nobeccs",445.36429700000002,{"$f":"CO2RFFromCO2PPM(C350)","v":2.619976285034757},{"$f":"'Non-CO2 RF Calcs'!$S$17+('Non-CO2 RF Calcs'!$S$16-'Non-CO2 RF Calcs'!$S$17)*($O350-1)/9","v":0.4020925611650854},{"$f":"'Non-CO2 RF Calcs'!$S$19+('Non-CO2 RF Calcs'!$S$18-'Non-CO2 RF Calcs'!$S$19)*($O350-1)/9","v":0.35378720055563934},{"$f":"'Non-CO2 RF Calcs'!$S$21+('Non-CO2 RF Calcs'!$S$20-'Non-CO2 RF Calcs'!$S$21)*($O350-1)/9","v":9.0827896384347184E-2},{"$f":"'Non-CO2 RF Calcs'!$S$23+('Non-CO2 RF Calcs'!$S$22-'Non-CO2 RF Calcs'!$S$23)*($O350-1)/9","v":-0.262736803028076},{"$f":"'Non-CO2 RF Calcs'!$S$25+('Non-CO2 RF Calcs'!$S$24-'Non-CO2 RF Calcs'!$S$25)*($O350-1)/9","v":9.0827896384347184E-2},3.2947750364961004,{"$f":"CFfromRFin2100(J350)","v":0.59414343914633116},1.9575689713972719,1.8833029999999999,7.4265971397271979E-2,{"$f":"MitigationAggressiveness(D350,0)","v":9.0518636047932208},null,2.6235010000000001,0.268812,0.30981900000000001,-6.2010000000000003E-2,3.232723,null,3.524714965243092E-3,{"$f":"R350-E350","v":-0.13328056116508541},{"$f":"S350-F350","v":-4.3968200555639325E-2},{"$f":"T350-H350","v":0.200726803028076},{"$f":"U350-J350","v":-6.205203649610036E-2}]
["FARM 3.2","EMF33_WB2C_nofuel",445.86738500000001,{"$f":"CO2RFFromCO2PPM(C351)","v":2.6262611954464403},{"$f":"'Non-CO2 RF Calcs'!$S$17+('Non-CO2 RF Calcs'!$S$16-'Non-CO2 RF Calcs'!$S$17)*($O351-1)/9","v":0.40241836579925339},{"$f":"'Non-CO2 RF Calcs'!$S$19+('Non-CO2 RF Calcs'!$S$18-'Non-CO2 RF Calcs'!$S$19)*($O351-1)/9","v":0.35387447850938902},{"$f":"'Non-CO2 RF Calcs'!$S$21+('Non-CO2 RF Calcs'!$S$20-'Non-CO2 RF Calcs'!$S$21)*($O351-1)/9","v":9.1211941420733189E-2},{"$f":"'Non-CO2 RF Calcs'!$S$23+('Non-CO2 RF Calcs'!$S$22-'Non-CO2 RF Calcs'!$S$23)*($O351-1)/9","v":-0.2629744481130018},{"$f":"'Non-CO2 RF Calcs'!$S$25+('Non-CO2 RF Calcs'!$S$24-'Non-CO2 RF Calcs'!$S$25)*($O351-1)/9","v":9.1211941420733189E-2},3.3020034744835476,{"$f":"CFfromRFin2100(J351)","v":0.59403382190809295},1.9615017439012639,1.8882030000000001,7.3298743901263785E-2,{"$f":"MitigationAggressiveness(D351,0)","v":9.0469046301483509},null,2.6374490000000002,0.26855800000000002,0.309805,-6.2010999999999997E-2,3.2406990000000002,null,1.1187804553559832E-2,{"$f":"R351-E351","v":-0.13386036579925337},{"$f":"S351-F351","v":-4.4069478509389026E-2},{"$f":"T351-H351","v":0.20096344811300182},{"$f":"U351-J351","v":-6.1304474483547367E-2}]
["FARM 3.2","EMF33_WB2C_none",445.068466,{"$f":"CO2RFFromCO2PPM(C352)","v":2.6162788447603367},{"$f":"'Non-CO2 RF Calcs'!$S$17+('Non-CO2 RF Calcs'!$S$16-'Non-CO2 RF Calcs'!$S$17)*($O352-1)/9","v":0.40190069510719417},{"$f":"'Non-CO2 RF Calcs'!$S$19+('Non-CO2 RF Calcs'!$S$18-'Non-CO2 RF Calcs'!$S$19)*($O352-1)/9","v":0.35373580264667609},{"$f":"'Non-CO2 RF Calcs'!$S$21+('Non-CO2 RF Calcs'!$S$20-'Non-CO2 RF Calcs'!$S$21)*($O352-1)/9","v":9.0601732605638974E-2},{"$f":"'Non-CO2 RF Calcs'!$S$23+('Non-CO2 RF Calcs'!$S$22-'Non-CO2 RF Calcs'!$S$23)*($O352-1)/9","v":-0.26259685404994565},{"$f":"'Non-CO2 RF Calcs'!$S$25+('Non-CO2 RF Calcs'!$S$24-'Non-CO2 RF Calcs'!$S$25)*($O352-1)/9","v":9.0601732605638974E-2},3.2905219536755395,{"$f":"CFfromRFin2100(J352)","v":0.59420800144003594},1.9552544737881048,1.880234,7.5020473788104836E-2,{"$f":"MitigationAggressiveness(D352,0)","v":9.0547839405297683},null,2.6199940000000002,0.26891599999999999,0.30982500000000002,-6.2010999999999997E-2,3.2297880000000001,null,3.7151552396634813E-3,{"$f":"R352-E352","v":-0.13298469510719418},{"$f":"S352-F352","v":-4.3910802646676073E-2},{"$f":"T352-H352","v":0.20058585404994567},{"$f":"U352-J352","v":-6.0733953675539354E-2}]
["GCAM 4.0","20% abatement (FF&I)",580.84139700000003,{"$f":"CO2RFFromCO2PPM(C353)","v":4.1791880551240554},{"$f":"'Non-CO2 RF Calcs'!$S$17+('Non-CO2 RF Calcs'!$S$16-'Non-CO2 RF Calcs'!$S$17)*($O353-1)/9","v":0.47020917140998497},{"$f":"'Non-CO2 RF Calcs'!$S$19+('Non-CO2 RF Calcs'!$S$18-'Non-CO2 RF Calcs'!$S$19)*($O353-1)/9","v":0.37203457255427297},{"$f":"'Non-CO2 RF Calcs'!$S$21+('Non-CO2 RF Calcs'!$S$20-'Non-CO2 RF Calcs'!$S$21)*($O353-1)/9","v":0.1711209411005572},{"$f":"'Non-CO2 RF Calcs'!$S$23+('Non-CO2 RF Calcs'!$S$22-'Non-CO2 RF Calcs'!$S$23)*($O353-1)/9","v":-0.31242172438546673},{"$f":"'Non-CO2 RF Calcs'!$S$25+('Non-CO2 RF Calcs'!$S$24-'Non-CO2 RF Calcs'!$S$25)*($O353-1)/9","v":0.1711209411005572},5.0512519569039593,{"$f":"CFfromRFin2100(J353)","v":0.57162720049416005},2.8874330151156578,2.9409010000000002,-5.3467984884342457E-2,{"$f":"MitigationAggressiveness(D353,0)","v":8.0150811048708537},null,4.1463799999999997,0.64167099999999999,0.41720699999999999,-0.22774,5.201028,null,-3.2808055124055713E-2,{"$f":"R353-E353","v":0.17146182859001502},{"$f":"S353-F353","v":4.5172427445727026E-2},{"$f":"T353-H353","v":8.4681724385466728E-2},{"$f":"U353-J353","v":0.14977604309604065}]
["GCAM 4.0","20% abatement (GHG)",573.04631600000005,{"$f":"CO2RFFromCO2PPM(C354)","v":4.0967273207883323},{"$f":"'Non-CO2 RF Calcs'!$S$17+('Non-CO2 RF Calcs'!$S$16-'Non-CO2 RF Calcs'!$S$17)*($O354-1)/9","v":0.46724603886128496},{"$f":"'Non-CO2 RF Calcs'!$S$19+('Non-CO2 RF Calcs'!$S$18-'Non-CO2 RF Calcs'!$S$19)*($O354-1)/9","v":0.37124079579845687},{"$f":"'Non-CO2 RF Calcs'!$S$21+('Non-CO2 RF Calcs'!$S$20-'Non-CO2 RF Calcs'!$S$21)*($O354-1)/9","v":0.16762812292629059},{"$f":"'Non-CO2 RF Calcs'!$S$23+('Non-CO2 RF Calcs'!$S$22-'Non-CO2 RF Calcs'!$S$23)*($O354-1)/9","v":-0.31026038653961135},{"$f":"'Non-CO2 RF Calcs'!$S$25+('Non-CO2 RF Calcs'!$S$24-'Non-CO2 RF Calcs'!$S$25)*($O354-1)/9","v":0.16762812292629059},4.960210014761044,{"$f":"CFfromRFin2100(J354)","v":0.57259093676228101},2.8401712988896737,2.8388279999999999,1.3432988896737719E-3,{"$f":"MitigationAggressiveness(D354,0)","v":8.0601820569058606},null,4.0644629999999999,0.64183999999999997,0.41854000000000002,-0.22025800000000001,5.0009160000000001,null,-3.2264320788332412E-2,{"$f":"R354-E354","v":0.174593961138715},{"$f":"S354-F354","v":4.7299204201543155E-2},{"$f":"T354-H354","v":9.0002386539611345E-2},{"$f":"U354-J354","v":4.0705985238956188E-2}]
["GCAM 4.0","450 concentration",466.339606,{"$f":"CO2RFFromCO2PPM(C355)","v":2.8788844832429374},{"$f":"'Non-CO2 RF Calcs'!$S$17+('Non-CO2 RF Calcs'!$S$16-'Non-CO2 RF Calcs'!$S$17)*($O355-1)/9","v":0.41517077887728249},{"$f":"'Non-CO2 RF Calcs'!$S$19+('Non-CO2 RF Calcs'!$S$18-'Non-CO2 RF Calcs'!$S$19)*($O355-1)/9","v":0.3572906500493177},{"$f":"'Non-CO2 RF Calcs'!$S$21+('Non-CO2 RF Calcs'!$S$20-'Non-CO2 RF Calcs'!$S$21)*($O355-1)/9","v":0.10624395886600013},{"$f":"'Non-CO2 RF Calcs'!$S$23+('Non-CO2 RF Calcs'!$S$22-'Non-CO2 RF Calcs'!$S$23)*($O355-1)/9","v":-0.2722761828678707},{"$f":"'Non-CO2 RF Calcs'!$S$25+('Non-CO2 RF Calcs'!$S$24-'Non-CO2 RF Calcs'!$S$25)*($O355-1)/9","v":0.10624395886600013},3.591557647033667,{"$f":"CFfromRFin2100(J355)","v":0.58975805230824097},2.1181500426673443,2.3980480000000002,-0.27989795733265588,{"$f":"MitigationAggressiveness(D355,0)","v":8.8528039744705858},null,2.8543799999999999,0.55332999999999999,0.41550100000000001,1.4999E-2,3.9628930000000002,null,-2.4504483242937525E-2,{"$f":"R355-E355","v":0.1381592211227175},{"$f":"S355-F355","v":5.8210349950682305E-2},{"$f":"T355-H355","v":0.28727518286787068},{"$f":"U355-J355","v":0.37133535296633324}]
["GCAM 4.0","50% abatement (FF&I)",516.26001599999995,{"$f":"CO2RFFromCO2PPM(C356)","v":3.4692842991934372},{"$f":"'Non-CO2 RF Calcs'!$S$17+('Non-CO2 RF Calcs'!$S$16-'Non-CO2 RF Calcs'!$S$17)*($O356-1)/9","v":0.44236118309142336},{"$f":"'Non-CO2 RF Calcs'!$S$19+('Non-CO2 RF Calcs'!$S$18-'Non-CO2 RF Calcs'!$S$19)*($O356-1)/9","v":0.36457453306558679},{"$f":"'Non-CO2 RF Calcs'!$S$21+('Non-CO2 RF Calcs'!$S$20-'Non-CO2 RF Calcs'!$S$21)*($O356-1)/9","v":0.13829488350198216},{"$f":"'Non-CO2 RF Calcs'!$S$23+('Non-CO2 RF Calcs'!$S$22-'Non-CO2 RF Calcs'!$S$23)*($O356-1)/9","v":-0.29210912948982054},{"$f":"'Non-CO2 RF Calcs'!$S$25+('Non-CO2 RF Calcs'!$S$24-'Non-CO2 RF Calcs'!$S$25)*($O356-1)/9","v":0.13829488350198216},4.2607006528645908,{"$f":"CFfromRFin2100(J356)","v":0.58073725406557142},2.4743475975399698,2.562967,-8.8619402460030194E-2,{"$f":"MitigationAggressiveness(D356,0)","v":8.4389469849098422},null,3.4578280000000001,0.62095100000000003,0.41825499999999999,-0.19050300000000001,4.4729520000000003,null,-1.1456299193437047E-2,{"$f":"R356-E356","v":0.17858981690857667},{"$f":"S356-F356","v":5.3680466934413196E-2},{"$f":"T356-H356","v":0.10160612948982053},{"$f":"U356-J356","v":0.2122513471354095}]
["GCAM 4.0","50% abatement (GHG)",489.199163,{"$f":"CO2RFFromCO2PPM(C357)","v":3.1537484417284953},{"$f":"'Non-CO2 RF Calcs'!$S$17+('Non-CO2 RF Calcs'!$S$16-'Non-CO2 RF Calcs'!$S$17)*($O357-1)/9","v":0.42828474031028463},{"$f":"'Non-CO2 RF Calcs'!$S$19+('Non-CO2 RF Calcs'!$S$18-'Non-CO2 RF Calcs'!$S$19)*($O357-1)/9","v":0.36080367472543395},{"$f":"'Non-CO2 RF Calcs'!$S$21+('Non-CO2 RF Calcs'!$S$20-'Non-CO2 RF Calcs'!$S$21)*($O357-1)/9","v":0.12170215456835509},{"$f":"'Non-CO2 RF Calcs'!$S$23+('Non-CO2 RF Calcs'!$S$22-'Non-CO2 RF Calcs'!$S$23)*($O357-1)/9","v":-0.28184163452701805},{"$f":"'Non-CO2 RF Calcs'!$S$25+('Non-CO2 RF Calcs'!$S$24-'Non-CO2 RF Calcs'!$S$25)*($O357-1)/9","v":0.12170215456835509},3.9043995313739064,{"$f":"CFfromRFin2100(J357)","v":0.58539111702667601},2.2856008029894013,2.3846029999999998,-9.9002197010598536E-2,{"$f":"MitigationAggressiveness(D357,0)","v":8.6532002996912532},null,3.1477189999999999,0.61851199999999995,0.41845100000000002,-0.15654199999999999,4.1396059999999997,null,-6.0294417284953994E-3,{"$f":"R357-E357","v":0.19022725968971532},{"$f":"S357-F357","v":5.7647325274566064E-2},{"$f":"T357-H357","v":0.12529963452701806},{"$f":"U357-J357","v":0.23520646862609329}]
["GCAM 4.0","550 concentration",479.43530600000003,{"$f":"CO2RFFromCO2PPM(C358)","v":3.037279362466204},{"$f":"'Non-CO2 RF Calcs'!$S$17+('Non-CO2 RF Calcs'!$S$16-'Non-CO2 RF Calcs'!$S$17)*($O358-1)/9","v":0.42282476455974316},{"$f":"'Non-CO2 RF Calcs'!$S$19+('Non-CO2 RF Calcs'!$S$18-'Non-CO2 RF Calcs'!$S$19)*($O358-1)/9","v":0.35934103281965724},{"$f":"'Non-CO2 RF Calcs'!$S$21+('Non-CO2 RF Calcs'!$S$20-'Non-CO2 RF Calcs'!$S$21)*($O358-1)/9","v":0.11526616082892094},{"$f":"'Non-CO2 RF Calcs'!$S$23+('Non-CO2 RF Calcs'!$S$22-'Non-CO2 RF Calcs'!$S$23)*($O358-1)/9","v":-0.27785907484291766},{"$f":"'Non-CO2 RF Calcs'!$S$25+('Non-CO2 RF Calcs'!$S$24-'Non-CO2 RF Calcs'!$S$25)*($O358-1)/9","v":0.11526616082892094},3.7721184066605291,{"$f":"CFfromRFin2100(J358)","v":0.5872055893619299},2.2150090121260799,2.4371900000000002,-0.22218098787392027,{"$f":"MitigationAggressiveness(D358,0)","v":8.7363049534285668},null,3.0202209999999998,0.52179900000000001,0.414497,-2.3828999999999999E-2,3.9502190000000001,null,-1.705836246620418E-2,{"$f":"R358-E358","v":9.8974235440256852E-2},{"$f":"S358-F358","v":5.5155967180342769E-2},{"$f":"T358-H358","v":0.25403007484291767},{"$f":"U358-J358","v":0.17810059333947104}]
["GCAM 4.0","650 concentration",622.37847599999998,{"$f":"CO2RFFromCO2PPM(C359)","v":4.60365763264344},{"$f":"'Non-CO2 RF Calcs'!$S$17+('Non-CO2 RF Calcs'!$S$16-'Non-CO2 RF Calcs'!$S$17)*($O359-1)/9","v":0.4843323599410525},{"$f":"'Non-CO2 RF Calcs'!$S$19+('Non-CO2 RF Calcs'!$S$18-'Non-CO2 RF Calcs'!$S$19)*($O359-1)/9","v":0.37581795334798362},{"$f":"'Non-CO2 RF Calcs'!$S$21+('Non-CO2 RF Calcs'!$S$20-'Non-CO2 RF Calcs'!$S$21)*($O359-1)/9","v":0.18776877199207442},{"$f":"'Non-CO2 RF Calcs'!$S$23+('Non-CO2 RF Calcs'!$S$22-'Non-CO2 RF Calcs'!$S$23)*($O359-1)/9","v":-0.32272331615521044},{"$f":"'Non-CO2 RF Calcs'!$S$25+('Non-CO2 RF Calcs'!$S$24-'Non-CO2 RF Calcs'!$S$25)*($O359-1)/9","v":0.18776877199207442},5.5166221737614141,{"$f":"CFfromRFin2100(J359)","v":0.5670481991847911},3.1281906692142978,3.2567249999999999,-0.12853433078570209,{"$f":"MitigationAggressiveness(D359,0)","v":7.8001162870463849},null,4.5465650000000002,0.59849699999999995,0.42432500000000001,-5.4878999999999997E-2,5.6452580000000001,null,-5.7092632643439778E-2,{"$f":"R359-E359","v":0.11416464005894744},{"$f":"S359-F359","v":4.8507046652016383E-2},{"$f":"T359-H359","v":0.26784431615521043},{"$f":"U359-J359","v":0.12863582623858605}]
["GCAM 4.0","Core baseline",857.65847699999995,{"$f":"CO2RFFromCO2PPM(C360)","v":6.5333648408805276},{"$f":"'Non-CO2 RF Calcs'!$S$17+('Non-CO2 RF Calcs'!$S$16-'Non-CO2 RF Calcs'!$S$17)*($O360-1)/9","v":0.52468930363090371},{"$f":"'Non-CO2 RF Calcs'!$S$19+('Non-CO2 RF Calcs'!$S$18-'Non-CO2 RF Calcs'!$S$19)*($O360-1)/9","v":0.38662894587372765},{"$f":"'Non-CO2 RF Calcs'!$S$21+('Non-CO2 RF Calcs'!$S$20-'Non-CO2 RF Calcs'!$S$21)*($O360-1)/9","v":0.23533986915396571},{"$f":"'Non-CO2 RF Calcs'!$S$23+('Non-CO2 RF Calcs'!$S$22-'Non-CO2 RF Calcs'!$S$23)*($O360-1)/9","v":-0.35216006537461314},{"$f":"'Non-CO2 RF Calcs'!$S$25+('Non-CO2 RF Calcs'!$S$24-'Non-CO2 RF Calcs'!$S$25)*($O360-1)/9","v":0.23533986915396571},7.5632027633184773,{"$f":"CFfromRFin2100(J360)","v":0.55380486877835056},4.188538513883648,4.3633069999999998,-0.17476848611635187,{"$f":"MitigationAggressiveness(D360,0)","v":7.1858553480836571},null,6.5461749999999999,0.89235600000000004,0.49259999999999998,-0.46620899999999998,7.9131270000000002,null,1.2810159119472253E-2,{"$f":"R360-E360","v":0.36766669636909632},{"$f":"S360-F360","v":0.10597105412627233},{"$f":"T360-H360","v":-0.11404893462538684},{"$f":"U360-J360","v":0.34992423668152295}]
["GCAM 4.0","High CO2 price",380.77005600000001,{"$f":"CO2RFFromCO2PPM(C361)","v":1.7823786988477051},{"$f":"'Non-CO2 RF Calcs'!$S$17+('Non-CO2 RF Calcs'!$S$16-'Non-CO2 RF Calcs'!$S$17)*($O361-1)/9","v":0.35496141972862805},{"$f":"'Non-CO2 RF Calcs'!$S$19+('Non-CO2 RF Calcs'!$S$18-'Non-CO2 RF Calcs'!$S$19)*($O361-1)/9","v":0.34116150665485317},{"$f":"'Non-CO2 RF Calcs'!$S$21+('Non-CO2 RF Calcs'!$S$20-'Non-CO2 RF Calcs'!$S$21)*($O361-1)/9","v":3.5271654914347472E-2},{"$f":"'Non-CO2 RF Calcs'!$S$23+('Non-CO2 RF Calcs'!$S$22-'Non-CO2 RF Calcs'!$S$23)*($O361-1)/9","v":-0.22835888775402885},{"$f":"'Non-CO2 RF Calcs'!$S$25+('Non-CO2 RF Calcs'!$S$24-'Non-CO2 RF Calcs'!$S$25)*($O361-1)/9","v":3.5271654914347472E-2},2.3206860473058524,{"$f":"CFfromRFin2100(J361)","v":0.61019707510028376},1.41607583829207,1.7331730000000001,-0.31709716170793012,{"$f":"MitigationAggressiveness(D361,0)","v":9.7692325764287968},null,1.71977,0.54310099999999994,0.413634,3.2315999999999998E-2,2.755906,null,-6.2608698847705035E-2,{"$f":"R361-E361","v":0.1881395802713719},{"$f":"S361-F361","v":7.2472493345146827E-2},{"$f":"T361-H361","v":0.26067488775402886},{"$f":"U361-J361","v":0.43521995269414759}]
["GCAM 4.0","Low CO2 price",585.37604799999997,{"$f":"CO2RFFromCO2PPM(C362)","v":4.2267506824861485},{"$f":"'Non-CO2 RF Calcs'!$S$17+('Non-CO2 RF Calcs'!$S$16-'Non-CO2 RF Calcs'!$S$17)*($O362-1)/9","v":0.47188581390326689},{"$f":"'Non-CO2 RF Calcs'!$S$19+('Non-CO2 RF Calcs'!$S$18-'Non-CO2 RF Calcs'!$S$19)*($O362-1)/9","v":0.37248371879296038},{"$f":"'Non-CO2 RF Calcs'!$S$21+('Non-CO2 RF Calcs'!$S$20-'Non-CO2 RF Calcs'!$S$21)*($O362-1)/9","v":0.17309729797154927},{"$f":"'Non-CO2 RF Calcs'!$S$23+('Non-CO2 RF Calcs'!$S$22-'Non-CO2 RF Calcs'!$S$23)*($O362-1)/9","v":-0.3136446838093675},{"$f":"'Non-CO2 RF Calcs'!$S$25+('Non-CO2 RF Calcs'!$S$24-'Non-CO2 RF Calcs'!$S$25)*($O362-1)/9","v":0.17309729797154927},5.1036701273161063,{"$f":"CFfromRFin2100(J362)","v":0.57108240537151622},2.9146162125304342,3.0381149999999999,-0.12349878746956566,{"$f":"MitigationAggressiveness(D362,0)","v":7.9895614322181592},null,4.1836859999999998,0.59794199999999997,0.41989399999999999,-0.10063900000000001,5.2454799999999997,null,-4.3064682486148698E-2,{"$f":"R362-E362","v":0.12605618609673308},{"$f":"S362-F362","v":4.7410281207039606E-2},{"$f":"T362-H362","v":0.21300568380936749},{"$f":"U362-J362","v":0.14180987268389345}]
["GCAM 4.0","Policy baseline",608.30500800000004,{"$f":"CO2RFFromCO2PPM(C363)","v":4.4626568077370852},{"$f":"'Non-CO2 RF Calcs'!$S$17+('Non-CO2 RF Calcs'!$S$16-'Non-CO2 RF Calcs'!$S$17)*($O363-1)/9","v":0.47985073442959042},{"$f":"'Non-CO2 RF Calcs'!$S$19+('Non-CO2 RF Calcs'!$S$18-'Non-CO2 RF Calcs'!$S$19)*($O363-1)/9","v":0.37461739613334544},{"$f":"'Non-CO2 RF Calcs'!$S$21+('Non-CO2 RF Calcs'!$S$20-'Non-CO2 RF Calcs'!$S$21)*($O363-1)/9","v":0.18248601707665246},{"$f":"'Non-CO2 RF Calcs'!$S$23+('Non-CO2 RF Calcs'!$S$22-'Non-CO2 RF Calcs'!$S$23)*($O363-1)/9","v":-0.31945437469893856},{"$f":"'Non-CO2 RF Calcs'!$S$25+('Non-CO2 RF Calcs'!$S$24-'Non-CO2 RF Calcs'!$S$25)*($O363-1)/9","v":0.18248601707665246},5.3626425977543875,{"$f":"CFfromRFin2100(J363)","v":0.56849898026682555},3.0486568483588097,3.267754,-0.21909715164119037,{"$f":"MitigationAggressiveness(D363,0)","v":7.8683297651508299},null,4.4240050000000002,0.62060400000000004,0.421541,-0.19497900000000001,5.7600769999999999,null,-3.8651807737084987E-2,{"$f":"R363-E363","v":0.14075326557040962},{"$f":"S363-F363","v":4.6923603866654562E-2},{"$f":"T363-H363","v":0.12447537469893855},{"$f":"U363-J363","v":0.39743440224561244}]
["GCAM 4.2","ADVANCE_2020_1.5C-2100",409.73878300000001,{"$f":"CO2RFFromCO2PPM(C364)","v":2.1655388920019458},{"$f":"'Non-CO2 RF Calcs'!$S$17+('Non-CO2 RF Calcs'!$S$16-'Non-CO2 RF Calcs'!$S$17)*($O364-1)/9","v":0.37743574095029431},{"$f":"'Non-CO2 RF Calcs'!$S$19+('Non-CO2 RF Calcs'!$S$18-'Non-CO2 RF Calcs'!$S$19)*($O364-1)/9","v":0.347182024972986},{"$f":"'Non-CO2 RF Calcs'!$S$21+('Non-CO2 RF Calcs'!$S$20-'Non-CO2 RF Calcs'!$S$21)*($O364-1)/9","v":6.1763455847040571E-2},{"$f":"'Non-CO2 RF Calcs'!$S$23+('Non-CO2 RF Calcs'!$S$22-'Non-CO2 RF Calcs'!$S$23)*($O364-1)/9","v":-0.24475187734121751},{"$f":"'Non-CO2 RF Calcs'!$S$25+('Non-CO2 RF Calcs'!$S$24-'Non-CO2 RF Calcs'!$S$25)*($O364-1)/9","v":6.1763455847040571E-2},2.7689316922780898,{"$f":"CFfromRFin2100(J364)","v":0.60249360495953996},1.6682636371673458,1.7606299999999999,-9.2366362832654092E-2,{"$f":"MitigationAggressiveness(D364,0)","v":9.4271576719894323},null,2.167456,0.53382499999999999,0.26168200000000003,-0.31537999999999999,2.9998490000000002,null,1.9171079980542238E-3,{"$f":"R364-E364","v":0.15638925904970569},{"$f":"S364-F364","v":-8.5500024972985977E-2},{"$f":"T364-H364","v":-7.0628122658782488E-2},{"$f":"U364-J364","v":0.23091730772191044}]
["GCAM 4.2","ADVANCE_2020_Med2C",496.39790799999997,{"$f":"CO2RFFromCO2PPM(C365)","v":3.238729470565302},{"$f":"'Non-CO2 RF Calcs'!$S$17+('Non-CO2 RF Calcs'!$S$16-'Non-CO2 RF Calcs'!$S$17)*($O365-1)/9","v":0.43217870754750359},{"$f":"'Non-CO2 RF Calcs'!$S$19+('Non-CO2 RF Calcs'!$S$18-'Non-CO2 RF Calcs'!$S$19)*($O365-1)/9","v":0.36184680750130993},{"$f":"'Non-CO2 RF Calcs'!$S$21+('Non-CO2 RF Calcs'!$S$20-'Non-CO2 RF Calcs'!$S$21)*($O365-1)/9","v":0.12629220219957715},{"$f":"'Non-CO2 RF Calcs'!$S$23+('Non-CO2 RF Calcs'!$S$22-'Non-CO2 RF Calcs'!$S$23)*($O365-1)/9","v":-0.28468193229365518},{"$f":"'Non-CO2 RF Calcs'!$S$25+('Non-CO2 RF Calcs'!$S$24-'Non-CO2 RF Calcs'!$S$25)*($O365-1)/9","v":0.12629220219957715},4.0006574577196146,{"$f":"CFfromRFin2100(J365)","v":0.58410026756875844},2.3367850915049759,2.3988369999999999,-6.2051908495023955E-2,{"$f":"MitigationAggressiveness(D365,0)","v":8.5939313919710258},null,3.2283659999999998,0.578098,0.27563199999999999,-0.31529699999999999,4.0835309999999998,null,-1.036347056530218E-2,{"$f":"R365-E365","v":0.14591929245249641},{"$f":"S365-F365","v":-8.6214807501309942E-2},{"$f":"T365-H365","v":-3.0615067706344812E-2},{"$f":"U365-J365","v":8.2873542280385237E-2}]
["GCAM 4.2","ADVANCE_2020_WB2C",447.11222199999997,{"$f":"CO2RFFromCO2PPM(C366)","v":2.6417966717200714},{"$f":"'Non-CO2 RF Calcs'!$S$17+('Non-CO2 RF Calcs'!$S$16-'Non-CO2 RF Calcs'!$S$17)*($O366-1)/9","v":0.40322193258562222},{"$f":"'Non-CO2 RF Calcs'!$S$19+('Non-CO2 RF Calcs'!$S$18-'Non-CO2 RF Calcs'!$S$19)*($O366-1)/9","v":0.35408974145368266},{"$f":"'Non-CO2 RF Calcs'!$S$21+('Non-CO2 RF Calcs'!$S$20-'Non-CO2 RF Calcs'!$S$21)*($O366-1)/9","v":9.2159152734954564E-2},{"$f":"'Non-CO2 RF Calcs'!$S$23+('Non-CO2 RF Calcs'!$S$22-'Non-CO2 RF Calcs'!$S$23)*($O366-1)/9","v":-0.26356057758190238},{"$f":"'Non-CO2 RF Calcs'!$S$25+('Non-CO2 RF Calcs'!$S$24-'Non-CO2 RF Calcs'!$S$25)*($O366-1)/9","v":9.2159152734954564E-2},3.3198660736473831,{"$f":"CFfromRFin2100(J366)","v":0.59376354161731915},1.9712154375840538,2.0567600000000001,-8.5544562415946324E-2,{"$f":"MitigationAggressiveness(D366,0)","v":9.0346737810407571},null,2.647348,0.55568899999999999,0.26760600000000001,-0.31930700000000001,3.4894590000000001,null,5.5513282799286578E-3,{"$f":"R366-E366","v":0.15246706741437777},{"$f":"S366-F366","v":-8.648374145368265E-2},{"$f":"T366-H366","v":-5.574642241809763E-2},{"$f":"U366-J366","v":0.16959292635261702}]
["GCAM 4.2","ADVANCE_2030_1.5C-2100",409.61152399999997,{"$f":"CO2RFFromCO2PPM(C367)","v":2.1638824250200286},{"$f":"'Non-CO2 RF Calcs'!$S$17+('Non-CO2 RF Calcs'!$S$16-'Non-CO2 RF Calcs'!$S$17)*($O367-1)/9","v":0.37734189824730158},{"$f":"'Non-CO2 RF Calcs'!$S$19+('Non-CO2 RF Calcs'!$S$18-'Non-CO2 RF Calcs'!$S$19)*($O367-1)/9","v":0.34715688598405647},{"$f":"'Non-CO2 RF Calcs'!$S$21+('Non-CO2 RF Calcs'!$S$20-'Non-CO2 RF Calcs'!$S$21)*($O367-1)/9","v":6.1652837947520966E-2},{"$f":"'Non-CO2 RF Calcs'!$S$23+('Non-CO2 RF Calcs'!$S$22-'Non-CO2 RF Calcs'!$S$23)*($O367-1)/9","v":-0.24468342755633549},{"$f":"'Non-CO2 RF Calcs'!$S$25+('Non-CO2 RF Calcs'!$S$24-'Non-CO2 RF Calcs'!$S$25)*($O367-1)/9","v":6.1652837947520966E-2},2.7670034575900928,{"$f":"CFfromRFin2100(J367)","v":0.60252558918792143},1.6671903885694865,1.763682,-9.6491611430513435E-2,{"$f":"MitigationAggressiveness(D367,0)","v":9.4285860236331569},null,2.1630980000000002,0.515208,0.264708,-0.31293799999999999,2.9814919999999998,null,-7.8442502002840087E-4,{"$f":"R367-E367","v":0.13786610175269842},{"$f":"S367-F367","v":-8.2448885984056475E-2},{"$f":"T367-H367","v":-6.8254572443664507E-2},{"$f":"U367-J367","v":0.214488542409907}]
["GCAM 4.2","ADVANCE_2030_Med2C",499.945356,{"$f":"CO2RFFromCO2PPM(C368)","v":3.2803292065108192},{"$f":"'Non-CO2 RF Calcs'!$S$17+('Non-CO2 RF Calcs'!$S$16-'Non-CO2 RF Calcs'!$S$17)*($O368-1)/9","v":0.4340572300445108},{"$f":"'Non-CO2 RF Calcs'!$S$19+('Non-CO2 RF Calcs'!$S$18-'Non-CO2 RF Calcs'!$S$19)*($O368-1)/9","v":0.36235003422805767},{"$f":"'Non-CO2 RF Calcs'!$S$21+('Non-CO2 RF Calcs'!$S$20-'Non-CO2 RF Calcs'!$S$21)*($O368-1)/9","v":0.12850652687472353},{"$f":"'Non-CO2 RF Calcs'!$S$23+('Non-CO2 RF Calcs'!$S$22-'Non-CO2 RF Calcs'!$S$23)*($O368-1)/9","v":-0.28605214496566467},{"$f":"'Non-CO2 RF Calcs'!$S$25+('Non-CO2 RF Calcs'!$S$24-'Non-CO2 RF Calcs'!$S$25)*($O368-1)/9","v":0.12850652687472353},4.04769737956717,{"$f":"CFfromRFin2100(J368)","v":0.58347848653587286},2.3617443409850707,2.4270909999999999,-6.5346659014929198E-2,{"$f":"MitigationAggressiveness(D368,0)","v":8.565338964314904},null,3.2667679999999999,0.57909900000000003,0.278472,-0.31613000000000002,4.1297550000000003,null,-1.3561206510819268E-2,{"$f":"R368-E368","v":0.14504176995548923},{"$f":"S368-F368","v":-8.3878034228057674E-2},{"$f":"T368-H368","v":-3.0077855034335355E-2},{"$f":"U368-J368","v":8.2057620432830269E-2}]
["GCAM 4.2","ADVANCE_2030_Price1.5C",420.23119400000002,{"$f":"CO2RFFromCO2PPM(C369)","v":2.3013013604125723},{"$f":"'Non-CO2 RF Calcs'!$S$17+('Non-CO2 RF Calcs'!$S$16-'Non-CO2 RF Calcs'!$S$17)*($O369-1)/9","v":0.38502905743402749},{"$f":"'Non-CO2 RF Calcs'!$S$19+('Non-CO2 RF Calcs'!$S$18-'Non-CO2 RF Calcs'!$S$19)*($O369-1)/9","v":0.34921615541611695},{"$f":"'Non-CO2 RF Calcs'!$S$21+('Non-CO2 RF Calcs'!$S$20-'Non-CO2 RF Calcs'!$S$21)*($O369-1)/9","v":7.0714143466120705E-2},{"$f":"'Non-CO2 RF Calcs'!$S$23+('Non-CO2 RF Calcs'!$S$22-'Non-CO2 RF Calcs'!$S$23)*($O369-1)/9","v":-0.25029051660966695},{"$f":"'Non-CO2 RF Calcs'!$S$25+('Non-CO2 RF Calcs'!$S$24-'Non-CO2 RF Calcs'!$S$25)*($O369-1)/9","v":7.0714143466120705E-2},2.9266843435852916,{"$f":"CFfromRFin2100(J369)","v":0.59991069257838348},1.7557492315185639,1.8472630000000001,-9.151376848143622E-2,{"$f":"MitigationAggressiveness(D369,0)","v":9.3115820786297174},null,2.305841,0.52932900000000005,0.266123,-0.315496,3.1299980000000001,null,4.5396395874277573E-3,{"$f":"R369-E369","v":0.14429994256597256},{"$f":"S369-F369","v":-8.3093155416116948E-2},{"$f":"T369-H369","v":-6.5205483390333052E-2},{"$f":"U369-J369","v":0.20331365641470844}]
["GCAM 4.2","ADVANCE_2030_WB2C",447.57525500000003,{"$f":"CO2RFFromCO2PPM(C370)","v":2.6475695273182396},{"$f":"'Non-CO2 RF Calcs'!$S$17+('Non-CO2 RF Calcs'!$S$16-'Non-CO2 RF Calcs'!$S$17)*($O370-1)/9","v":0.40351988563207097},{"$f":"'Non-CO2 RF Calcs'!$S$19+('Non-CO2 RF Calcs'!$S$18-'Non-CO2 RF Calcs'!$S$19)*($O370-1)/9","v":0.35416955840372066},{"$f":"'Non-CO2 RF Calcs'!$S$21+('Non-CO2 RF Calcs'!$S$20-'Non-CO2 RF Calcs'!$S$21)*($O370-1)/9","v":9.2510367470917343E-2},{"$f":"'Non-CO2 RF Calcs'!$S$23+('Non-CO2 RF Calcs'!$S$22-'Non-CO2 RF Calcs'!$S$23)*($O370-1)/9","v":-0.26377790744649454},{"$f":"'Non-CO2 RF Calcs'!$S$25+('Non-CO2 RF Calcs'!$S$24-'Non-CO2 RF Calcs'!$S$25)*($O370-1)/9","v":9.2510367470917343E-2},3.326501798849371,{"$f":"CFfromRFin2100(J370)","v":0.59366335397382797},1.9748222149048897,2.0618259999999999,-8.7003785095110198E-2,{"$f":"MitigationAggressiveness(D370,0)","v":9.030138727061324},null,2.6518489999999999,0.551593,0.27012999999999998,-0.319384,3.490132,null,4.2794726817603213E-3,{"$f":"R370-E370","v":0.14807311436792903},{"$f":"S370-F370","v":-8.4039558403720682E-2},{"$f":"T370-H370","v":-5.560609255350546E-2},{"$f":"U370-J370","v":0.16363020115062898}]
["GCAM 4.2","ADVANCE_NoPolicy",888.31488000000002,{"$f":"CO2RFFromCO2PPM(C371)","v":6.7253884609136021},{"$f":"'Non-CO2 RF Calcs'!$S$17+('Non-CO2 RF Calcs'!$S$16-'Non-CO2 RF Calcs'!$S$17)*($O371-1)/9","v":0.5265662881949823},{"$f":"'Non-CO2 RF Calcs'!$S$19+('Non-CO2 RF Calcs'!$S$18-'Non-CO2 RF Calcs'!$S$19)*($O371-1)/9","v":0.38713176061235444},{"$f":"'Non-CO2 RF Calcs'!$S$21+('Non-CO2 RF Calcs'!$S$20-'Non-CO2 RF Calcs'!$S$21)*($O371-1)/9","v":0.2375523809773426},{"$f":"'Non-CO2 RF Calcs'!$S$23+('Non-CO2 RF Calcs'!$S$22-'Non-CO2 RF Calcs'!$S$23)*($O371-1)/9","v":-0.35352915626331111},{"$f":"'Non-CO2 RF Calcs'!$S$25+('Non-CO2 RF Calcs'!$S$24-'Non-CO2 RF Calcs'!$S$25)*($O371-1)/9","v":0.2375523809773426},7.7606621154123143,{"$f":"CFfromRFin2100(J371)","v":0.553121324292563},4.2925877066639826,4.4573619999999998,-0.16477429333601723,{"$f":"MitigationAggressiveness(D371,0)","v":7.1572863288434965},null,6.7479480000000001,0.85982899999999995,0.56319900000000001,-0.76112599999999997,8.0843790000000002,null,2.2559539086397962E-2,{"$f":"R371-E371","v":0.33326271180501765},{"$f":"S371-F371","v":0.17606723938764557},{"$f":"T371-H371","v":-0.40759684373668886},{"$f":"U371-J371","v":0.32371688458768588}]
["GCAM 4.2","EMF30_Baseline",940.03633400000001,{"$f":"CO2RFFromCO2PPM(C372)","v":7.0183081328550143},{"$f":"'Non-CO2 RF Calcs'!$S$17+('Non-CO2 RF Calcs'!$S$16-'Non-CO2 RF Calcs'!$S$17)*($O372-1)/9","v":0.52868377054301585},{"$f":"'Non-CO2 RF Calcs'!$S$19+('Non-CO2 RF Calcs'!$S$18-'Non-CO2 RF Calcs'!$S$19)*($O372-1)/9","v":0.38769900093694187},{"$f":"'Non-CO2 RF Calcs'!$S$21+('Non-CO2 RF Calcs'!$S$20-'Non-CO2 RF Calcs'!$S$21)*($O372-1)/9","v":0.24004838164803322},{"$f":"'Non-CO2 RF Calcs'!$S$23+('Non-CO2 RF Calcs'!$S$22-'Non-CO2 RF Calcs'!$S$23)*($O372-1)/9","v":-0.35507366858650891},{"$f":"'Non-CO2 RF Calcs'!$S$25+('Non-CO2 RF Calcs'!$S$24-'Non-CO2 RF Calcs'!$S$25)*($O372-1)/9","v":0.24004838164803322},8.0597139990445292,{"$f":"CFfromRFin2100(J372)","v":0.55228521241885664},4.4512608579975401,4.5842109999999998,-0.13295014200245969,{"$f":"MitigationAggressiveness(D372,0)","v":7.1250567649464864},null,7.1195409999999999,0.86460099999999995,0.48765700000000001,-0.85246500000000003,8.3688520000000004,null,0.10123286714498558,{"$f":"R372-E372","v":0.3359172294569841},{"$f":"S372-F372","v":9.9957999063058134E-2},{"$f":"T372-H372","v":-0.49739133141349112},{"$f":"U372-J372","v":0.30913800095547117}]
["GCAM 4.2","EMF30_BCOC-EndU",937.23604799999998,{"$f":"CO2RFFromCO2PPM(C373)","v":7.0034473104378927},{"$f":"'Non-CO2 RF Calcs'!$S$17+('Non-CO2 RF Calcs'!$S$16-'Non-CO2 RF Calcs'!$S$17)*($O373-1)/9","v":0.52859803668139937},{"$f":"'Non-CO2 RF Calcs'!$S$19+('Non-CO2 RF Calcs'!$S$18-'Non-CO2 RF Calcs'!$S$19)*($O373-1)/9","v":0.38767603417949209},{"$f":"'Non-CO2 RF Calcs'!$S$21+('Non-CO2 RF Calcs'!$S$20-'Non-CO2 RF Calcs'!$S$21)*($O373-1)/9","v":0.23994732211556802},{"$f":"'Non-CO2 RF Calcs'!$S$23+('Non-CO2 RF Calcs'!$S$22-'Non-CO2 RF Calcs'!$S$23)*($O373-1)/9","v":-0.35501113346979118},{"$f":"'Non-CO2 RF Calcs'!$S$25+('Non-CO2 RF Calcs'!$S$24-'Non-CO2 RF Calcs'!$S$25)*($O373-1)/9","v":0.23994732211556802},8.0446048920601303,{"$f":"CFfromRFin2100(J373)","v":0.55232170254955293},4.4432098703211134,4.5350020000000004,-9.1792129678887058E-2,{"$f":"MitigationAggressiveness(D373,0)","v":7.1263616943470414},null,7.0954100000000002,0.86223399999999994,0.48543500000000001,-0.869475,8.3086470000000006,null,9.1962689562107514E-2,{"$f":"R373-E373","v":0.33363596331860057},{"$f":"S373-F373","v":9.7758965820507915E-2},{"$f":"T373-H373","v":-0.51446386653020881},{"$f":"U373-J373","v":0.26404210793987026}]
["GCAM 4.2","EMF30_CH4-Only",904.93989899999997,{"$f":"CO2RFFromCO2PPM(C374)","v":6.8237948211452579},{"$f":"'Non-CO2 RF Calcs'!$S$17+('Non-CO2 RF Calcs'!$S$16-'Non-CO2 RF Calcs'!$S$17)*($O374-1)/9","v":0.52737814537398542},{"$f":"'Non-CO2 RF Calcs'!$S$19+('Non-CO2 RF Calcs'!$S$18-'Non-CO2 RF Calcs'!$S$19)*($O374-1)/9","v":0.38734924442286367},{"$f":"'Non-CO2 RF Calcs'!$S$21+('Non-CO2 RF Calcs'!$S$20-'Non-CO2 RF Calcs'!$S$21)*($O374-1)/9","v":0.23850936466373729},{"$f":"'Non-CO2 RF Calcs'!$S$23+('Non-CO2 RF Calcs'!$S$22-'Non-CO2 RF Calcs'!$S$23)*($O374-1)/9","v":-0.35412133282563829},{"$f":"'Non-CO2 RF Calcs'!$S$25+('Non-CO2 RF Calcs'!$S$24-'Non-CO2 RF Calcs'!$S$25)*($O374-1)/9","v":0.23850936466373729},7.8614196074439429,{"$f":"CFfromRFin2100(J374)","v":0.55281282617127525},4.3458935909093634,4.1653409999999997,0.18055259090936371,{"$f":"MitigationAggressiveness(D374,0)","v":7.1449292941554727},null,6.8807400000000003,0.56685700000000006,0.49145499999999998,-0.83609500000000003,7.72492,null,5.6945178854742373E-2,{"$f":"R374-E374","v":3.9478854626014637E-2},{"$f":"S374-F374","v":0.10410575557713631},{"$f":"T374-H374","v":-0.48197366717436174},{"$f":"U374-J374","v":-0.13649960744394285}]
["GCAM 4.2","EMF30_ClimPolicy",510.622387,{"$f":"CO2RFFromCO2PPM(C375)","v":3.4044283866486809},{"$f":"'Non-CO2 RF Calcs'!$S$17+('Non-CO2 RF Calcs'!$S$16-'Non-CO2 RF Calcs'!$S$17)*($O375-1)/9","v":0.43955323334685797},{"$f":"'Non-CO2 RF Calcs'!$S$19+('Non-CO2 RF Calcs'!$S$18-'Non-CO2 RF Calcs'!$S$19)*($O375-1)/9","v":0.36382232735014763},{"$f":"'Non-CO2 RF Calcs'!$S$21+('Non-CO2 RF Calcs'!$S$20-'Non-CO2 RF Calcs'!$S$21)*($O375-1)/9","v":0.13498498840311179},{"$f":"'Non-CO2 RF Calcs'!$S$23+('Non-CO2 RF Calcs'!$S$22-'Non-CO2 RF Calcs'!$S$23)*($O375-1)/9","v":-0.29006098349822401},{"$f":"'Non-CO2 RF Calcs'!$S$25+('Non-CO2 RF Calcs'!$S$24-'Non-CO2 RF Calcs'!$S$25)*($O375-1)/9","v":0.13498498840311179},4.1877129406536859,{"$f":"CFfromRFin2100(J375)","v":0.58166286068388418},2.4358370887835439,2.3038240000000001,0.13201308878354379,{"$f":"MitigationAggressiveness(D375,0)","v":8.4816859460143377},null,3.3918750000000002,0.41570099999999999,0.38443100000000002,-0.460455,4.026878,null,-1.2553386648680664E-2,{"$f":"R375-E375","v":-2.3852233346857987E-2},{"$f":"S375-F375","v":2.0608672649852389E-2},{"$f":"T375-H375","v":-0.17039401650177599},{"$f":"U375-J375","v":-0.16083494065368598}]
["GCAM 4.2","EMF30_ClimPolicy+SLCF",509.85086200000001,{"$f":"CO2RFFromCO2PPM(C376)","v":3.3955166416385363},{"$f":"'Non-CO2 RF Calcs'!$S$17+('Non-CO2 RF Calcs'!$S$16-'Non-CO2 RF Calcs'!$S$17)*($O376-1)/9","v":0.43916394632158423},{"$f":"'Non-CO2 RF Calcs'!$S$19+('Non-CO2 RF Calcs'!$S$18-'Non-CO2 RF Calcs'!$S$19)*($O376-1)/9","v":0.36371804345905456},{"$f":"'Non-CO2 RF Calcs'!$S$21+('Non-CO2 RF Calcs'!$S$20-'Non-CO2 RF Calcs'!$S$21)*($O376-1)/9","v":0.13452611294798611},{"$f":"'Non-CO2 RF Calcs'!$S$23+('Non-CO2 RF Calcs'!$S$22-'Non-CO2 RF Calcs'!$S$23)*($O376-1)/9","v":-0.28977703373668062},{"$f":"'Non-CO2 RF Calcs'!$S$25+('Non-CO2 RF Calcs'!$S$24-'Non-CO2 RF Calcs'!$S$25)*($O376-1)/9","v":0.13452611294798611},4.1776738235784672,{"$f":"CFfromRFin2100(J376)","v":0.58179129127275864},2.4305342483361194,2.3138570000000001,0.11667724833611937,{"$f":"MitigationAggressiveness(D376,0)","v":8.4876111670991747},null,3.3831760000000002,0.46422400000000003,0.38269300000000001,-0.47800100000000001,4.06562,null,-1.2340641638536098E-2,{"$f":"R376-E376","v":2.5060053678415795E-2},{"$f":"S376-F376","v":1.8974956540945442E-2},{"$f":"T376-H376","v":-0.18822396626331939},{"$f":"U376-J376","v":-0.11205382357846716}]
["GCAM 4.2","EMF30_D_CH4-ClimPolicy",920.36743799999999,{"$f":"CO2RFFromCO2PPM(C377)","v":6.9115094792390863},{"$f":"'Non-CO2 RF Calcs'!$S$17+('Non-CO2 RF Calcs'!$S$16-'Non-CO2 RF Calcs'!$S$17)*($O377-1)/9","v":0.52801608901766539},{"$f":"'Non-CO2 RF Calcs'!$S$19+('Non-CO2 RF Calcs'!$S$18-'Non-CO2 RF Calcs'!$S$19)*($O377-1)/9","v":0.38752013952375819},{"$f":"'Non-CO2 RF Calcs'!$S$21+('Non-CO2 RF Calcs'!$S$20-'Non-CO2 RF Calcs'!$S$21)*($O377-1)/9","v":0.23926134626300155},{"$f":"'Non-CO2 RF Calcs'!$S$23+('Non-CO2 RF Calcs'!$S$22-'Non-CO2 RF Calcs'!$S$23)*($O377-1)/9","v":-0.35458665515528337},{"$f":"'Non-CO2 RF Calcs'!$S$25+('Non-CO2 RF Calcs'!$S$24-'Non-CO2 RF Calcs'!$S$25)*($O377-1)/9","v":0.23926134626300155},7.9509817451512292,{"$f":"CFfromRFin2100(J377)","v":0.5525614637816012},4.3934061116015535,4.2136149999999999,0.17979111160155359,{"$f":"MitigationAggressiveness(D377,0)","v":7.1352193452410138},null,6.9789500000000002,0.52364500000000003,0.49474899999999999,-0.82790200000000003,7.7700820000000004,null,6.7440520760913891E-2,{"$f":"R377-E377","v":-4.3710890176653638E-3},{"$f":"S377-F377","v":0.10722886047624181},{"$f":"T377-H377","v":-0.47331534484471666},{"$f":"U377-J377","v":-0.18089974515122886}]
["GCAM 4.2","EMF30_D_CO2-Only",517.02874699999995,{"$f":"CO2RFFromCO2PPM(C378)","v":3.478091977078456},{"$f":"'Non-CO2 RF Calcs'!$S$17+('Non-CO2 RF Calcs'!$S$16-'Non-CO2 RF Calcs'!$S$17)*($O378-1)/9","v":0.44273910714900117},{"$f":"'Non-CO2 RF Calcs'!$S$19+('Non-CO2 RF Calcs'!$S$18-'Non-CO2 RF Calcs'!$S$19)*($O378-1)/9","v":0.36467577299577503},{"$f":"'Non-CO2 RF Calcs'!$S$21+('Non-CO2 RF Calcs'!$S$20-'Non-CO2 RF Calcs'!$S$21)*($O378-1)/9","v":0.13874036476044938},{"$f":"'Non-CO2 RF Calcs'!$S$23+('Non-CO2 RF Calcs'!$S$22-'Non-CO2 RF Calcs'!$S$23)*($O378-1)/9","v":-0.2923847909916526},{"$f":"'Non-CO2 RF Calcs'!$S$25+('Non-CO2 RF Calcs'!$S$24-'Non-CO2 RF Calcs'!$S$25)*($O378-1)/9","v":0.13874036476044938},4.2706027957524793,{"$f":"CFfromRFin2100(J378)","v":0.58061277895980534},2.4795665570753611,2.4166020000000001,6.2964557075360972E-2,{"$f":"MitigationAggressiveness(D378,0)","v":8.4331947161491456},null,3.4560230000000001,0.50793100000000002,0.39190199999999997,-0.48975000000000002,4.2182180000000002,null,-2.2068977078455898E-2,{"$f":"R378-E378","v":6.5191892850998856E-2},{"$f":"S378-F378","v":2.7226227004224945E-2},{"$f":"T378-H378","v":-0.19736520900834742},{"$f":"U378-J378","v":-5.2384795752479008E-2}]
["GCAM 4.2","EMF30_D_Frozen-CH4",943.54828199999997,{"$f":"CO2RFFromCO2PPM(C379)","v":7.0367841194060015},{"$f":"'Non-CO2 RF Calcs'!$S$17+('Non-CO2 RF Calcs'!$S$16-'Non-CO2 RF Calcs'!$S$17)*($O379-1)/9","v":0.52878712718257925},{"$f":"'Non-CO2 RF Calcs'!$S$19+('Non-CO2 RF Calcs'!$S$18-'Non-CO2 RF Calcs'!$S$19)*($O379-1)/9","v":0.38772668856032566},{"$f":"'Non-CO2 RF Calcs'!$S$21+('Non-CO2 RF Calcs'!$S$20-'Non-CO2 RF Calcs'!$S$21)*($O379-1)/9","v":0.24017021418274598},{"$f":"'Non-CO2 RF Calcs'!$S$23+('Non-CO2 RF Calcs'!$S$22-'Non-CO2 RF Calcs'!$S$23)*($O379-1)/9","v":-0.35514905792972501},{"$f":"'Non-CO2 RF Calcs'!$S$25+('Non-CO2 RF Calcs'!$S$24-'Non-CO2 RF Calcs'!$S$25)*($O379-1)/9","v":0.24017021418274598},8.0784893055846734,{"$f":"CFfromRFin2100(J379)","v":0.5522407211500644},4.461270759919163,4.6863929999999998,-0.22512224008083681,{"$f":"MitigationAggressiveness(D379,0)","v":7.1234836045269532},null,7.1555299999999997,0.96707399999999999,0.484074,-0.85246500000000003,8.5254180000000002,null,0.11874588059399827,{"$f":"R379-E379","v":0.43828687281742074},{"$f":"S379-F379","v":9.6347311439674344E-2},{"$f":"T379-H379","v":-0.49731594207027502},{"$f":"U379-J379","v":0.44692869441532679}]
["GCAM 4.2","EMF30_D_Frozen-EF",929.255495,{"$f":"CO2RFFromCO2PPM(C380)","v":6.9604683624330868},{"$f":"'Non-CO2 RF Calcs'!$S$17+('Non-CO2 RF Calcs'!$S$16-'Non-CO2 RF Calcs'!$S$17)*($O380-1)/9","v":0.52833703545294575},{"$f":"'Non-CO2 RF Calcs'!$S$19+('Non-CO2 RF Calcs'!$S$18-'Non-CO2 RF Calcs'!$S$19)*($O380-1)/9","v":0.38760611604218942},{"$f":"'Non-CO2 RF Calcs'!$S$21+('Non-CO2 RF Calcs'!$S$20-'Non-CO2 RF Calcs'!$S$21)*($O380-1)/9","v":0.23963966465534114},{"$f":"'Non-CO2 RF Calcs'!$S$23+('Non-CO2 RF Calcs'!$S$22-'Non-CO2 RF Calcs'!$S$23)*($O380-1)/9","v":-0.35482075662245138},{"$f":"'Non-CO2 RF Calcs'!$S$25+('Non-CO2 RF Calcs'!$S$24-'Non-CO2 RF Calcs'!$S$25)*($O380-1)/9","v":0.23963966465534114},8.0008700866164535,{"$f":"CFfromRFin2100(J380)","v":0.55243077794389994},4.4199268861776053,4.0761430000000001,0.34378388617760525,{"$f":"MitigationAggressiveness(D380,0)","v":7.1303343157846912},null,7.0606850000000003,0.77051400000000003,0.49153799999999997,-1.842665,7.6410600000000004,null,0.10021663756691357,{"$f":"R380-E380","v":0.24217696454705429},{"$f":"S380-F380","v":0.10393188395781056},{"$f":"T380-H380","v":-1.4878442433775487},{"$f":"U380-J380","v":-0.35981008661645308}]
["GCAM 4.2","EMF30_D_Frozen-EF-EndU",938.159176,{"$f":"CO2RFFromCO2PPM(C381)","v":7.0083588815550115},{"$f":"'Non-CO2 RF Calcs'!$S$17+('Non-CO2 RF Calcs'!$S$16-'Non-CO2 RF Calcs'!$S$17)*($O381-1)/9","v":0.52862662866358479},{"$f":"'Non-CO2 RF Calcs'!$S$19+('Non-CO2 RF Calcs'!$S$18-'Non-CO2 RF Calcs'!$S$19)*($O381-1)/9","v":0.38768369352327381},{"$f":"'Non-CO2 RF Calcs'!$S$21+('Non-CO2 RF Calcs'!$S$20-'Non-CO2 RF Calcs'!$S$21)*($O381-1)/9","v":0.23998102516238551},{"$f":"'Non-CO2 RF Calcs'!$S$23+('Non-CO2 RF Calcs'!$S$22-'Non-CO2 RF Calcs'!$S$23)*($O381-1)/9","v":-0.35503198874108588},{"$f":"'Non-CO2 RF Calcs'!$S$25+('Non-CO2 RF Calcs'!$S$24-'Non-CO2 RF Calcs'!$S$25)*($O381-1)/9","v":0.23998102516238551},8.0495992653255559,{"$f":"CFfromRFin2100(J381)","v":0.55230957285392224},4.4458707318772044,4.4538640000000003,-7.9932681227958824E-3,{"$f":"MitigationAggressiveness(D381,0)","v":7.1259265043594411},null,7.1071939999999998,0.74475499999999994,0.49157499999999998,-1.178669,8.1980280000000008,null,9.8835118444988268E-2,{"$f":"R381-E381","v":0.21612837133641516},{"$f":"S381-F381","v":0.10389130647672618},{"$f":"T381-H381","v":-0.82363701125891409},{"$f":"U381-J381","v":0.14842873467444484}]
["GCAM 4.2","EMF30_D_Frozen-EF-SLCF",946.78510500000004,{"$f":"CO2RFFromCO2PPM(C382)","v":7.0536535101084219},{"$f":"'Non-CO2 RF Calcs'!$S$17+('Non-CO2 RF Calcs'!$S$16-'Non-CO2 RF Calcs'!$S$17)*($O382-1)/9","v":0.52887836611033734},{"$f":"'Non-CO2 RF Calcs'!$S$19+('Non-CO2 RF Calcs'!$S$18-'Non-CO2 RF Calcs'!$S$19)*($O382-1)/9","v":0.38775113003869005},{"$f":"'Non-CO2 RF Calcs'!$S$21+('Non-CO2 RF Calcs'!$S$20-'Non-CO2 RF Calcs'!$S$21)*($O382-1)/9","v":0.24027776285963998},{"$f":"'Non-CO2 RF Calcs'!$S$23+('Non-CO2 RF Calcs'!$S$22-'Non-CO2 RF Calcs'!$S$23)*($O382-1)/9","v":-0.35521560849549882},{"$f":"'Non-CO2 RF Calcs'!$S$25+('Non-CO2 RF Calcs'!$S$24-'Non-CO2 RF Calcs'!$S$25)*($O382-1)/9","v":0.24027776285963998},8.0956229234812298,{"$f":"CFfromRFin2100(J382)","v":0.55220094519053231},4.4704106302524753,4.7842630000000002,-0.31385236974752484,{"$f":"MitigationAggressiveness(D382,0)","v":7.122094884165338},null,7.1806179999999999,0.96147899999999997,0.48396899999999998,-0.78381999999999996,8.7180250000000008,null,0.12696448989157805,{"$f":"R382-E382","v":0.43260063388966263},{"$f":"S382-F382","v":9.6217869961309932E-2},{"$f":"T382-H382","v":-0.42860439150450114},{"$f":"U382-J382","v":0.622402076518771}]
["GCAM 4.2","EMF30_SLCF",902.46867499999996,{"$f":"CO2RFFromCO2PPM(C383)","v":6.8094221155962611},{"$f":"'Non-CO2 RF Calcs'!$S$17+('Non-CO2 RF Calcs'!$S$16-'Non-CO2 RF Calcs'!$S$17)*($O383-1)/9","v":0.52726591057512628},{"$f":"'Non-CO2 RF Calcs'!$S$19+('Non-CO2 RF Calcs'!$S$18-'Non-CO2 RF Calcs'!$S$19)*($O383-1)/9","v":0.3873191784797903},{"$f":"'Non-CO2 RF Calcs'!$S$21+('Non-CO2 RF Calcs'!$S$20-'Non-CO2 RF Calcs'!$S$21)*($O383-1)/9","v":0.23837706692180455},{"$f":"'Non-CO2 RF Calcs'!$S$23+('Non-CO2 RF Calcs'!$S$22-'Non-CO2 RF Calcs'!$S$23)*($O383-1)/9","v":-0.35403946766624717},{"$f":"'Non-CO2 RF Calcs'!$S$25+('Non-CO2 RF Calcs'!$S$24-'Non-CO2 RF Calcs'!$S$25)*($O383-1)/9","v":0.23837706692180455},7.8467218708285404,{"$f":"CFfromRFin2100(J383)","v":0.55285613132196021},4.3381082970656806,4.1276029999999997,0.21050529706568089,{"$f":"MitigationAggressiveness(D383,0)","v":7.1466375863755518},null,6.8589200000000003,0.56609699999999996,0.489674,-0.85047799999999996,7.6670069999999999,null,4.9497884403739256E-2,{"$f":"R383-E383","v":3.8831089424873677E-2},{"$f":"S383-F383","v":0.10235482152020969},{"$f":"T383-H383","v":-0.49643853233375279},{"$f":"U383-J383","v":-0.17971487082854054}]
["GCAM 4.2","EMF33_Baseline",789.04235600000004,{"$f":"CO2RFFromCO2PPM(C384)","v":6.0539313314617527},{"$f":"'Non-CO2 RF Calcs'!$S$17+('Non-CO2 RF Calcs'!$S$16-'Non-CO2 RF Calcs'!$S$17)*($O384-1)/9","v":0.51831293322401106},{"$f":"'Non-CO2 RF Calcs'!$S$19+('Non-CO2 RF Calcs'!$S$18-'Non-CO2 RF Calcs'!$S$19)*($O384-1)/9","v":0.38492081620612778},{"$f":"'Non-CO2 RF Calcs'!$S$21+('Non-CO2 RF Calcs'!$S$20-'Non-CO2 RF Calcs'!$S$21)*($O384-1)/9","v":0.22782366727065068},{"$f":"'Non-CO2 RF Calcs'!$S$23+('Non-CO2 RF Calcs'!$S$22-'Non-CO2 RF Calcs'!$S$23)*($O384-1)/9","v":-0.34750907847034668},{"$f":"'Non-CO2 RF Calcs'!$S$25+('Non-CO2 RF Calcs'!$S$24-'Non-CO2 RF Calcs'!$S$25)*($O384-1)/9","v":0.22782366727065068},7.0653033369628471,{"$f":"CFfromRFin2100(J384)","v":0.55599272515344811},3.9282572563537239,4.0382369999999996,-0.10997974364627572,{"$f":"MitigationAggressiveness(D384,0)","v":7.282908170106376},null,6.0202150000000003,0.79649000000000003,0.52002999999999999,-0.85585699999999998,7.3489420000000001,null,-3.3716331461752347E-2,{"$f":"R384-E384","v":0.27817706677598897},{"$f":"S384-F384","v":0.13510918379387221},{"$f":"T384-H384","v":-0.50834792152965336},{"$f":"U384-J384","v":0.28363866303715302}]
["GCAM 4.2","EMF33_Med2C_cost100",446.27353099999999,{"$f":"CO2RFFromCO2PPM(C385)","v":2.6313323506785986},{"$f":"'Non-CO2 RF Calcs'!$S$17+('Non-CO2 RF Calcs'!$S$16-'Non-CO2 RF Calcs'!$S$17)*($O385-1)/9","v":0.40268094802426468},{"$f":"'Non-CO2 RF Calcs'!$S$19+('Non-CO2 RF Calcs'!$S$18-'Non-CO2 RF Calcs'!$S$19)*($O385-1)/9","v":0.35394482017088369},{"$f":"'Non-CO2 RF Calcs'!$S$21+('Non-CO2 RF Calcs'!$S$20-'Non-CO2 RF Calcs'!$S$21)*($O385-1)/9","v":9.1521462494355554E-2},{"$f":"'Non-CO2 RF Calcs'!$S$23+('Non-CO2 RF Calcs'!$S$22-'Non-CO2 RF Calcs'!$S$23)*($O385-1)/9","v":-0.26316597815468523},{"$f":"'Non-CO2 RF Calcs'!$S$25+('Non-CO2 RF Calcs'!$S$24-'Non-CO2 RF Calcs'!$S$25)*($O385-1)/9","v":9.1521462494355554E-2},3.3078350657077724,{"$f":"CFfromRFin2100(J385)","v":0.59394548959149329},1.9646737175897122,1.9262109999999999,3.8462717589712314E-2,{"$f":"MitigationAggressiveness(D385,0)","v":9.0429079448361538},null,2.6138059999999999,0.47245399999999999,0.35550700000000002,-0.53505899999999995,3.3341599999999998,null,-1.7526350678598757E-2,{"$f":"R385-E385","v":6.9773051975735301E-2},{"$f":"S385-F385","v":1.562179829116328E-3},{"$f":"T385-H385","v":-0.27189302184531472},{"$f":"U385-J385","v":2.6324934292227375E-2}]
["GCAM 4.2","EMF33_Med2C_full",415.92075299999999,{"$f":"CO2RFFromCO2PPM(C386)","v":2.2457222768845666},{"$f":"'Non-CO2 RF Calcs'!$S$17+('Non-CO2 RF Calcs'!$S$16-'Non-CO2 RF Calcs'!$S$17)*($O386-1)/9","v":0.38194386551276927},{"$f":"'Non-CO2 RF Calcs'!$S$19+('Non-CO2 RF Calcs'!$S$18-'Non-CO2 RF Calcs'!$S$19)*($O386-1)/9","v":0.34838968086795646},{"$f":"'Non-CO2 RF Calcs'!$S$21+('Non-CO2 RF Calcs'!$S$20-'Non-CO2 RF Calcs'!$S$21)*($O386-1)/9","v":6.7077446748520453E-2},{"$f":"'Non-CO2 RF Calcs'!$S$23+('Non-CO2 RF Calcs'!$S$22-'Non-CO2 RF Calcs'!$S$23)*($O386-1)/9","v":-0.2480401474643284},{"$f":"'Non-CO2 RF Calcs'!$S$25+('Non-CO2 RF Calcs'!$S$24-'Non-CO2 RF Calcs'!$S$25)*($O386-1)/9","v":6.7077446748520453E-2},2.8621705692980042,{"$f":"CFfromRFin2100(J386)","v":0.60095892177374599},1.7200469392578772,1.7523629999999999,-3.2316060742122676E-2,{"$f":"MitigationAggressiveness(D386,0)","v":9.3585408597752018},null,2.2175600000000002,0.52638399999999996,0.37945499999999999,-0.54714399999999996,3.038141,null,-2.8162276884566406E-2,{"$f":"R386-E386","v":0.1444401344872307},{"$f":"S386-F386","v":3.1065319132043523E-2},{"$f":"T386-H386","v":-0.29910385253567157},{"$f":"U386-J386","v":0.17597043070199581}]
["GCAM 4.2","EMF33_Med2C_limbio",416.71785899999998,{"$f":"CO2RFFromCO2PPM(C387)","v":2.2560206178715516},{"$f":"'Non-CO2 RF Calcs'!$S$17+('Non-CO2 RF Calcs'!$S$16-'Non-CO2 RF Calcs'!$S$17)*($O387-1)/9","v":0.38251797395125564},{"$f":"'Non-CO2 RF Calcs'!$S$19+('Non-CO2 RF Calcs'!$S$18-'Non-CO2 RF Calcs'!$S$19)*($O387-1)/9","v":0.34854347551814457},{"$f":"'Non-CO2 RF Calcs'!$S$21+('Non-CO2 RF Calcs'!$S$20-'Non-CO2 RF Calcs'!$S$21)*($O387-1)/9","v":6.7754182046381062E-2},{"$f":"'Non-CO2 RF Calcs'!$S$23+('Non-CO2 RF Calcs'!$S$22-'Non-CO2 RF Calcs'!$S$23)*($O387-1)/9","v":-0.24845890777131158},{"$f":"'Non-CO2 RF Calcs'!$S$25+('Non-CO2 RF Calcs'!$S$24-'Non-CO2 RF Calcs'!$S$25)*($O387-1)/9","v":6.7754182046381062E-2},2.8741315236624021,{"$f":"CFfromRFin2100(J387)","v":0.60076373551787265},1.7266739905250996,1.736515,-9.8410094749004084E-3,{"$f":"MitigationAggressiveness(D387,0)","v":9.3498025273781487},null,2.2295120000000002,0.52717199999999997,0.37392700000000001,-0.53987700000000005,3.0550670000000002,null,-2.6508617871551454E-2,{"$f":"R387-E387","v":0.14465402604874433},{"$f":"S387-F387","v":2.5383524481855435E-2},{"$f":"T387-H387","v":-0.29141809222868847},{"$f":"U387-J387","v":0.1809354763375981}]
["GCAM 4.2","EMF33_Med2C_nobeccs",417.712603,{"$f":"CO2RFFromCO2PPM(C388)","v":2.268859385763804},{"$f":"'Non-CO2 RF Calcs'!$S$17+('Non-CO2 RF Calcs'!$S$16-'Non-CO2 RF Calcs'!$S$17)*($O388-1)/9","v":0.38323214577634113},{"$f":"'Non-CO2 RF Calcs'!$S$19+('Non-CO2 RF Calcs'!$S$18-'Non-CO2 RF Calcs'!$S$19)*($O388-1)/9","v":0.34873479095378396},{"$f":"'Non-CO2 RF Calcs'!$S$21+('Non-CO2 RF Calcs'!$S$20-'Non-CO2 RF Calcs'!$S$21)*($O388-1)/9","v":6.8596018275172921E-2},{"$f":"'Non-CO2 RF Calcs'!$S$23+('Non-CO2 RF Calcs'!$S$22-'Non-CO2 RF Calcs'!$S$23)*($O388-1)/9","v":-0.24897983168160986},{"$f":"'Non-CO2 RF Calcs'!$S$25+('Non-CO2 RF Calcs'!$S$24-'Non-CO2 RF Calcs'!$S$25)*($O388-1)/9","v":6.8596018275172921E-2},2.8890385273626649,{"$f":"CFfromRFin2100(J388)","v":0.60052101090397259},1.7349283369923518,1.70709,2.7838336992351831E-2,{"$f":"MitigationAggressiveness(D388,0)","v":9.3389323321713675},null,2.2455989999999999,0.50927599999999995,0.369836,-0.56869899999999995,3.0124930000000001,null,-2.326038576380407E-2,{"$f":"R388-E388","v":0.12604385422365882},{"$f":"S388-F388","v":2.1101209046216041E-2},{"$f":"T388-H388","v":-0.31971916831839009},{"$f":"U388-J388","v":0.12345447263733522}]
["GCAM 4.2","EMF33_Med2C_nofuel",416.09785799999997,{"$f":"CO2RFFromCO2PPM(C389)","v":2.2480112140265143},{"$f":"'Non-CO2 RF Calcs'!$S$17+('Non-CO2 RF Calcs'!$S$16-'Non-CO2 RF Calcs'!$S$17)*($O389-1)/9","v":0.38207156465366021},{"$f":"'Non-CO2 RF Calcs'!$S$19+('Non-CO2 RF Calcs'!$S$18-'Non-CO2 RF Calcs'!$S$19)*($O389-1)/9","v":0.3484238894658207},{"$f":"'Non-CO2 RF Calcs'!$S$21+('Non-CO2 RF Calcs'!$S$20-'Non-CO2 RF Calcs'!$S$21)*($O389-1)/9","v":6.7227973217657944E-2},{"$f":"'Non-CO2 RF Calcs'!$S$23+('Non-CO2 RF Calcs'!$S$22-'Non-CO2 RF Calcs'!$S$23)*($O389-1)/9","v":-0.2481332924659625},{"$f":"'Non-CO2 RF Calcs'!$S$25+('Non-CO2 RF Calcs'!$S$24-'Non-CO2 RF Calcs'!$S$25)*($O389-1)/9","v":6.7227973217657944E-2},2.8648293221153485,{"$f":"CFfromRFin2100(J389)","v":0.60091550143383476},1.7215203486212975,1.7451909999999999,-2.367065137870239E-2,{"$f":"MitigationAggressiveness(D389,0)","v":9.3565971894420059},null,2.2178779999999998,0.53291200000000005,0.37719000000000003,-0.55941200000000002,3.0379269999999998,null,-3.0133214026514477E-2,{"$f":"R389-E389","v":0.15084043534633984},{"$f":"S389-F389","v":2.8766110534179323E-2},{"$f":"T389-H389","v":-0.31127870753403752},{"$f":"U389-J389","v":0.17309767788465136}]
["GCAM 4.2","EMF33_Med2C_none",417.79296799999997,{"$f":"CO2RFFromCO2PPM(C390)","v":2.2698959954270159},{"$f":"'Non-CO2 RF Calcs'!$S$17+('Non-CO2 RF Calcs'!$S$16-'Non-CO2 RF Calcs'!$S$17)*($O390-1)/9","v":0.38328973291883073},{"$f":"'Non-CO2 RF Calcs'!$S$19+('Non-CO2 RF Calcs'!$S$18-'Non-CO2 RF Calcs'!$S$19)*($O390-1)/9","v":0.34875021764644476},{"$f":"'Non-CO2 RF Calcs'!$S$21+('Non-CO2 RF Calcs'!$S$20-'Non-CO2 RF Calcs'!$S$21)*($O390-1)/9","v":6.8663899618510049E-2},{"$f":"'Non-CO2 RF Calcs'!$S$23+('Non-CO2 RF Calcs'!$S$22-'Non-CO2 RF Calcs'!$S$23)*($O390-1)/9","v":-0.24902183630626029},{"$f":"'Non-CO2 RF Calcs'!$S$25+('Non-CO2 RF Calcs'!$S$24-'Non-CO2 RF Calcs'!$S$25)*($O390-1)/9","v":6.8663899618510049E-2},2.8902419089230511,{"$f":"CFfromRFin2100(J390)","v":0.6005014427345482},1.7355944361601467,1.7188619999999999,1.6732436160146857E-2,{"$f":"MitigationAggressiveness(D390,0)","v":9.3380558155429103},null,2.2461410000000002,0.50883100000000003,0.36838599999999999,-0.54044800000000004,3.042516,null,-2.3754995427015757E-2,{"$f":"R390-E390","v":0.12554126708116931},{"$f":"S390-F390","v":1.9635782353555231E-2},{"$f":"T390-H390","v":-0.29142616369373975},{"$f":"U390-J390","v":0.15227409107694889}]
["GCAM 4.2","EMF33_tax_hi_full",459.97438799999998,{"$f":"CO2RFFromCO2PPM(C391)","v":2.8009932865881808},{"$f":"'Non-CO2 RF Calcs'!$S$17+('Non-CO2 RF Calcs'!$S$16-'Non-CO2 RF Calcs'!$S$17)*($O391-1)/9","v":0.41131028530863445},{"$f":"'Non-CO2 RF Calcs'!$S$19+('Non-CO2 RF Calcs'!$S$18-'Non-CO2 RF Calcs'!$S$19)*($O391-1)/9","v":0.35625648434447438},{"$f":"'Non-CO2 RF Calcs'!$S$21+('Non-CO2 RF Calcs'!$S$20-'Non-CO2 RF Calcs'!$S$21)*($O391-1)/9","v":0.10169336861173361},{"$f":"'Non-CO2 RF Calcs'!$S$23+('Non-CO2 RF Calcs'!$S$22-'Non-CO2 RF Calcs'!$S$23)*($O391-1)/9","v":-0.26946030112229663},{"$f":"'Non-CO2 RF Calcs'!$S$25+('Non-CO2 RF Calcs'!$S$24-'Non-CO2 RF Calcs'!$S$25)*($O391-1)/9","v":0.10169336861173361},3.5024864923424603,{"$f":"CFfromRFin2100(J391)","v":0.59104939582690963},2.0701425251909233,2.0317910000000001,3.8351525190923219E-2,{"$f":"MitigationAggressiveness(D391,0)","v":8.911563389518502},null,2.7849529999999998,0.47716599999999998,0.36749700000000002,-0.54408699999999999,3.5159669999999998,null,-1.6040286588181019E-2,{"$f":"R391-E391","v":6.585571469136553E-2},{"$f":"S391-F391","v":1.124051565552564E-2},{"$f":"T391-H391","v":-0.27462669887770336},{"$f":"U391-J391","v":1.3480507657539498E-2}]
["GCAM 4.2","EMF33_tax_hi_none",491.97549199999997,{"$f":"CO2RFFromCO2PPM(C392)","v":3.1866124219733845},{"$f":"'Non-CO2 RF Calcs'!$S$17+('Non-CO2 RF Calcs'!$S$16-'Non-CO2 RF Calcs'!$S$17)*($O392-1)/9","v":0.42979961245869835},{"$f":"'Non-CO2 RF Calcs'!$S$19+('Non-CO2 RF Calcs'!$S$18-'Non-CO2 RF Calcs'!$S$19)*($O392-1)/9","v":0.3612094852248568},{"$f":"'Non-CO2 RF Calcs'!$S$21+('Non-CO2 RF Calcs'!$S$20-'Non-CO2 RF Calcs'!$S$21)*($O392-1)/9","v":0.12348782324321439},{"$f":"'Non-CO2 RF Calcs'!$S$23+('Non-CO2 RF Calcs'!$S$22-'Non-CO2 RF Calcs'!$S$23)*($O392-1)/9","v":-0.28294659708005515},{"$f":"'Non-CO2 RF Calcs'!$S$25+('Non-CO2 RF Calcs'!$S$24-'Non-CO2 RF Calcs'!$S$25)*($O392-1)/9","v":0.12348782324321439},3.941650569063313,{"$f":"CFfromRFin2100(J392)","v":0.58488862113494955},2.3054265663352305,2.212046,9.3380566335230508E-2,{"$f":"MitigationAggressiveness(D392,0)","v":8.6301428849513186},null,3.1738580000000001,0.47609400000000002,0.36604700000000001,-0.54527300000000001,3.8841679999999998,null,-1.2754421973384389E-2,{"$f":"R392-E392","v":4.6294387541301663E-2},{"$f":"S392-F392","v":4.8375147751432146E-3},{"$f":"T392-H392","v":-0.26232640291994486},{"$f":"U392-J392","v":-5.7482569063313171E-2}]
["GCAM 4.2","EMF33_tax_lo_full",589.30014100000005,{"$f":"CO2RFFromCO2PPM(C393)","v":4.2676674524090545},{"$f":"'Non-CO2 RF Calcs'!$S$17+('Non-CO2 RF Calcs'!$S$16-'Non-CO2 RF Calcs'!$S$17)*($O393-1)/9","v":0.47330917560567465},{"$f":"'Non-CO2 RF Calcs'!$S$19+('Non-CO2 RF Calcs'!$S$18-'Non-CO2 RF Calcs'!$S$19)*($O393-1)/9","v":0.37286501507853687},{"$f":"'Non-CO2 RF Calcs'!$S$21+('Non-CO2 RF Calcs'!$S$20-'Non-CO2 RF Calcs'!$S$21)*($O393-1)/9","v":0.17477509791502654},{"$f":"'Non-CO2 RF Calcs'!$S$23+('Non-CO2 RF Calcs'!$S$22-'Non-CO2 RF Calcs'!$S$23)*($O393-1)/9","v":-0.31468289774856661},{"$f":"'Non-CO2 RF Calcs'!$S$25+('Non-CO2 RF Calcs'!$S$24-'Non-CO2 RF Calcs'!$S$25)*($O393-1)/9","v":0.17477509791502654},5.1487089411747524,{"$f":"CFfromRFin2100(J393)","v":0.57062019185686397},2.9379572838282884,2.777298,0.16065928382828831,{"$f":"MitigationAggressiveness(D393,0)","v":7.9678968705376771},null,4.2333920000000003,0.54069100000000003,0.39244000000000001,-0.63347200000000004,4.9696090000000002,null,-3.4275452409054274E-2,{"$f":"R393-E393","v":6.7381824394325385E-2},{"$f":"S393-F393","v":1.9574984921463146E-2},{"$f":"T393-H393","v":-0.31878910225143342},{"$f":"U393-J393","v":-0.17909994117475225}]
["GCAM 4.2","EMF33_tax_lo_none",602.36560999999995,{"$f":"CO2RFFromCO2PPM(C394)","v":4.402284282983846},{"$f":"'Non-CO2 RF Calcs'!$S$17+('Non-CO2 RF Calcs'!$S$16-'Non-CO2 RF Calcs'!$S$17)*($O394-1)/9","v":0.47786800593081358},{"$f":"'Non-CO2 RF Calcs'!$S$19+('Non-CO2 RF Calcs'!$S$18-'Non-CO2 RF Calcs'!$S$19)*($O394-1)/9","v":0.3740862542523945},{"$f":"'Non-CO2 RF Calcs'!$S$21+('Non-CO2 RF Calcs'!$S$20-'Non-CO2 RF Calcs'!$S$21)*($O394-1)/9","v":0.18014885867373076},{"$f":"'Non-CO2 RF Calcs'!$S$23+('Non-CO2 RF Calcs'!$S$22-'Non-CO2 RF Calcs'!$S$23)*($O394-1)/9","v":-0.31800815315061703},{"$f":"'Non-CO2 RF Calcs'!$S$25+('Non-CO2 RF Calcs'!$S$24-'Non-CO2 RF Calcs'!$S$25)*($O394-1)/9","v":0.18014885867373076},5.2965281073638995,{"$f":"CFfromRFin2100(J394)","v":0.56914141821348585},3.0144735186326796,2.8219850000000002,0.19248851863267946,{"$f":"MitigationAggressiveness(D394,0)","v":7.8985082811139495},null,4.362438,0.53786199999999995,0.39250099999999999,-0.65883700000000001,5.0746650000000004,null,-3.984628298384596E-2,{"$f":"R394-E394","v":5.9993994069186374E-2},{"$f":"S394-F394","v":1.8414745747605488E-2},{"$f":"T394-H394","v":-0.34082884684938297},{"$f":"U394-J394","v":-0.22186310736389903}]
["GCAM 4.2","EMF33_WB2C_full",374.31652600000001,{"$f":"CO2RFFromCO2PPM(C395)","v":1.6953539856284274},{"$f":"'Non-CO2 RF Calcs'!$S$17+('Non-CO2 RF Calcs'!$S$16-'Non-CO2 RF Calcs'!$S$17)*($O395-1)/9","v":0.34964216011200377},{"$f":"'Non-CO2 RF Calcs'!$S$19+('Non-CO2 RF Calcs'!$S$18-'Non-CO2 RF Calcs'!$S$19)*($O395-1)/9","v":0.33973656039530087},{"$f":"'Non-CO2 RF Calcs'!$S$21+('Non-CO2 RF Calcs'!$S$20-'Non-CO2 RF Calcs'!$S$21)*($O395-1)/9","v":2.9001531537403258E-2},{"$f":"'Non-CO2 RF Calcs'!$S$23+('Non-CO2 RF Calcs'!$S$22-'Non-CO2 RF Calcs'!$S$23)*($O395-1)/9","v":-0.22447896779351811},{"$f":"'Non-CO2 RF Calcs'!$S$25+('Non-CO2 RF Calcs'!$S$24-'Non-CO2 RF Calcs'!$S$25)*($O395-1)/9","v":2.9001531537403258E-2},2.2182568014170201,{"$f":"CFfromRFin2100(J395)","v":0.61203304534203695},1.3576464655219449,1.4245140000000001,-6.6867534478055157E-2,{"$f":"MitigationAggressiveness(D395,0)","v":9.8501954320851777},null,1.6267799999999999,0.50032900000000002,0.371141,-0.56469100000000005,2.4128189999999998,null,-6.8573985628427536E-2,{"$f":"R395-E395","v":0.15068683988799625},{"$f":"S395-F395","v":3.140443960469913E-2},{"$f":"T395-H395","v":-0.34021203220648194},{"$f":"U395-J395","v":0.19456219858297974}]
["GCAM 4.2","EMF33_WB2C_limbio",377.34041000000002,{"$f":"CO2RFFromCO2PPM(C396)","v":1.7362061053362401},{"$f":"'Non-CO2 RF Calcs'!$S$17+('Non-CO2 RF Calcs'!$S$16-'Non-CO2 RF Calcs'!$S$17)*($O396-1)/9","v":0.35214908929263955},{"$f":"'Non-CO2 RF Calcs'!$S$19+('Non-CO2 RF Calcs'!$S$18-'Non-CO2 RF Calcs'!$S$19)*($O396-1)/9","v":0.34040812742085935},{"$f":"'Non-CO2 RF Calcs'!$S$21+('Non-CO2 RF Calcs'!$S$20-'Non-CO2 RF Calcs'!$S$21)*($O396-1)/9","v":3.1956596037493235E-2},{"$f":"'Non-CO2 RF Calcs'!$S$23+('Non-CO2 RF Calcs'!$S$22-'Non-CO2 RF Calcs'!$S$23)*($O396-1)/9","v":-0.22630754644328677},{"$f":"'Non-CO2 RF Calcs'!$S$25+('Non-CO2 RF Calcs'!$S$24-'Non-CO2 RF Calcs'!$S$25)*($O396-1)/9","v":3.1956596037493235E-2},2.2663689676814385,{"$f":"CFfromRFin2100(J396)","v":0.61116716506417568},1.3851302969672872,1.406102,-2.0971703032712785E-2,{"$f":"MitigationAggressiveness(D396,0)","v":9.812038214723902},null,1.6784319999999999,0.49384699999999998,0.36165000000000003,-0.54222499999999996,2.4653130000000001,null,-5.7774105336240167E-2,{"$f":"R396-E396","v":0.14169791070736043},{"$f":"S396-F396","v":2.1241872579140675E-2},{"$f":"T396-H396","v":-0.31591745355671319},{"$f":"U396-J396","v":0.19894403231856161}]
["GCAM 4.2","EMF33_WB2C_nobeccs",377.85735799999998,{"$f":"CO2RFFromCO2PPM(C397)","v":1.7431766390259167},{"$f":"'Non-CO2 RF Calcs'!$S$17+('Non-CO2 RF Calcs'!$S$16-'Non-CO2 RF Calcs'!$S$17)*($O397-1)/9","v":0.35257509269112219},{"$f":"'Non-CO2 RF Calcs'!$S$19+('Non-CO2 RF Calcs'!$S$18-'Non-CO2 RF Calcs'!$S$19)*($O397-1)/9","v":0.34052224705272072},{"$f":"'Non-CO2 RF Calcs'!$S$21+('Non-CO2 RF Calcs'!$S$20-'Non-CO2 RF Calcs'!$S$21)*($O397-1)/9","v":3.2458751235772243E-2},{"$f":"'Non-CO2 RF Calcs'!$S$23+('Non-CO2 RF Calcs'!$S$22-'Non-CO2 RF Calcs'!$S$23)*($O397-1)/9","v":-0.22661827748635377},{"$f":"'Non-CO2 RF Calcs'!$S$25+('Non-CO2 RF Calcs'!$S$24-'Non-CO2 RF Calcs'!$S$25)*($O397-1)/9","v":3.2458751235772243E-2},2.2745732037549504,{"$f":"CFfromRFin2100(J397)","v":0.61102013205528083},1.3898100193277529,1.3774709999999999,1.2339019327753054E-2,{"$f":"MitigationAggressiveness(D397,0)","v":9.8055541447317776},null,1.6867220000000001,0.45905200000000002,0.35761799999999999,-0.55998899999999996,2.40083,null,-5.6454639025916631E-2,{"$f":"R397-E397","v":0.10647690730887782},{"$f":"S397-F397","v":1.7095752947279275E-2},{"$f":"T397-H397","v":-0.33337072251364619},{"$f":"U397-J397","v":0.1262567962450496}]
["GCAM 4.2","EMF33_WB2C_nofuel",374.66924999999998,{"$f":"CO2RFFromCO2PPM(C398)","v":1.7001260885008378},{"$f":"'Non-CO2 RF Calcs'!$S$17+('Non-CO2 RF Calcs'!$S$16-'Non-CO2 RF Calcs'!$S$17)*($O398-1)/9","v":0.34993590864815838},{"$f":"'Non-CO2 RF Calcs'!$S$19+('Non-CO2 RF Calcs'!$S$18-'Non-CO2 RF Calcs'!$S$19)*($O398-1)/9","v":0.33981525102294652},{"$f":"'Non-CO2 RF Calcs'!$S$21+('Non-CO2 RF Calcs'!$S$20-'Non-CO2 RF Calcs'!$S$21)*($O398-1)/9","v":2.9347790170414889E-2},{"$f":"'Non-CO2 RF Calcs'!$S$23+('Non-CO2 RF Calcs'!$S$22-'Non-CO2 RF Calcs'!$S$23)*($O398-1)/9","v":-0.22469323084720227},{"$f":"'Non-CO2 RF Calcs'!$S$25+('Non-CO2 RF Calcs'!$S$24-'Non-CO2 RF Calcs'!$S$25)*($O398-1)/9","v":2.9347790170414889E-2},2.2238795976655705,{"$f":"CFfromRFin2100(J398)","v":0.61193153084390051},1.36086204661201,1.4402969999999999,-7.9434953387989893E-2,{"$f":"MitigationAggressiveness(D398,0)","v":9.8457243736962194},null,1.6333260000000001,0.52571100000000004,0.36813499999999999,-0.55464199999999997,2.46658,null,-6.680008850083774E-2,{"$f":"R398-E398","v":0.17577509135184166},{"$f":"S398-F398","v":2.8319748977053472E-2},{"$f":"T398-H398","v":-0.32994876915279769},{"$f":"U398-J398","v":0.24270040233442947}]
["GCAM 4.2","EMF33_WB2C_none",377.61590000000001,{"$f":"CO2RFFromCO2PPM(C399)","v":1.7399213009099472},{"$f":"'Non-CO2 RF Calcs'!$S$17+('Non-CO2 RF Calcs'!$S$16-'Non-CO2 RF Calcs'!$S$17)*($O399-1)/9","v":0.35237620655352253},{"$f":"'Non-CO2 RF Calcs'!$S$19+('Non-CO2 RF Calcs'!$S$18-'Non-CO2 RF Calcs'!$S$19)*($O399-1)/9","v":0.34046896857445963},{"$f":"'Non-CO2 RF Calcs'!$S$21+('Non-CO2 RF Calcs'!$S$20-'Non-CO2 RF Calcs'!$S$21)*($O399-1)/9","v":3.2224312477262096E-2},{"$f":"'Non-CO2 RF Calcs'!$S$23+('Non-CO2 RF Calcs'!$S$22-'Non-CO2 RF Calcs'!$S$23)*($O399-1)/9","v":-0.22647320799346227},{"$f":"'Non-CO2 RF Calcs'!$S$25+('Non-CO2 RF Calcs'!$S$24-'Non-CO2 RF Calcs'!$S$25)*($O399-1)/9","v":3.2224312477262096E-2},2.2707418929989913,{"$f":"CFfromRFin2100(J399)","v":0.61108877279373752},1.387624876724082,1.372665,1.4959876724081944E-2,{"$f":"MitigationAggressiveness(D399,0)","v":9.8085813309966134},null,1.6833910000000001,0.46404099999999998,0.35613,-0.565334,2.3994200000000001,null,-5.6530300909947151E-2,{"$f":"R399-E399","v":0.11166479344647745},{"$f":"S399-F399","v":1.5661031425540373E-2},{"$f":"T399-H399","v":-0.33886079200653774},{"$f":"U399-J399","v":0.12867810700100879}]
["GCAM 4.2","SSP1-19",390.16604100000001,{"$f":"CO2RFFromCO2PPM(C400)","v":1.9079966308423872},{"$f":"'Non-CO2 RF Calcs'!$S$17+('Non-CO2 RF Calcs'!$S$16-'Non-CO2 RF Calcs'!$S$17)*($O400-1)/9","v":0.36249940166841155},{"$f":"'Non-CO2 RF Calcs'!$S$19+('Non-CO2 RF Calcs'!$S$18-'Non-CO2 RF Calcs'!$S$19)*($O400-1)/9","v":0.34318081384115745},{"$f":"'Non-CO2 RF Calcs'!$S$21+('Non-CO2 RF Calcs'!$S$20-'Non-CO2 RF Calcs'!$S$21)*($O400-1)/9","v":4.415711646014342E-2},{"$f":"'Non-CO2 RF Calcs'!$S$23+('Non-CO2 RF Calcs'!$S$22-'Non-CO2 RF Calcs'!$S$23)*($O400-1)/9","v":-0.23385716546522217},{"$f":"'Non-CO2 RF Calcs'!$S$25+('Non-CO2 RF Calcs'!$S$24-'Non-CO2 RF Calcs'!$S$25)*($O400-1)/9","v":4.415711646014342E-2},2.4681339138070215,{"$f":"CFfromRFin2100(J400)","v":0.60760358620268506},1.4996470172576151,1.418909,8.0738017257615091E-2,{"$f":"MitigationAggressiveness(D400,0)","v":9.6544992135706007},null,1.8425530000000001,0.241893,0.25915500000000002,-8.7834999999999996E-2,2.2696869999999998,null,-6.5443630842387135E-2,{"$f":"R400-E400","v":-0.12060640166841155},{"$f":"S400-F400","v":-8.4025813841157426E-2},{"$f":"T400-H400","v":0.14602216546522218},{"$f":"U400-J400","v":-0.19844691380702173}]
["GCAM 4.2","SSP1-26",443.63821000000002,{"$f":"CO2RFFromCO2PPM(C401)","v":2.5983848159760901},{"$f":"'Non-CO2 RF Calcs'!$S$17+('Non-CO2 RF Calcs'!$S$16-'Non-CO2 RF Calcs'!$S$17)*($O401-1)/9","v":0.40097011716733511},{"$f":"'Non-CO2 RF Calcs'!$S$19+('Non-CO2 RF Calcs'!$S$18-'Non-CO2 RF Calcs'!$S$19)*($O401-1)/9","v":0.35348651540555703},{"$f":"'Non-CO2 RF Calcs'!$S$21+('Non-CO2 RF Calcs'!$S$20-'Non-CO2 RF Calcs'!$S$21)*($O401-1)/9","v":8.9504805793391595E-2},{"$f":"'Non-CO2 RF Calcs'!$S$23+('Non-CO2 RF Calcs'!$S$22-'Non-CO2 RF Calcs'!$S$23)*($O401-1)/9","v":-0.26191808140414613},{"$f":"'Non-CO2 RF Calcs'!$S$25+('Non-CO2 RF Calcs'!$S$24-'Non-CO2 RF Calcs'!$S$25)*($O401-1)/9","v":8.9504805793391595E-2},3.2699329787316191,{"$f":"CFfromRFin2100(J401)","v":0.59452123036779192},1.9440445777357409,1.859348,8.4696577735740908E-2,{"$f":"MitigationAggressiveness(D401,0)","v":9.0689479883206232},null,2.5714299999999999,0.265486,0.27001900000000001,-0.103129,3.0540729999999998,null,-2.6954815976090174E-2,{"$f":"R401-E401","v":-0.13548411716733511},{"$f":"S401-F401","v":-8.3467515405557025E-2},{"$f":"T401-H401","v":0.15878908140414613},{"$f":"U401-J401","v":-0.21585997873161933}]
["GCAM 4.2","SSP1-34",513.34456499999999,{"$f":"CO2RFFromCO2PPM(C402)","v":3.4358024621955061},{"$f":"'Non-CO2 RF Calcs'!$S$17+('Non-CO2 RF Calcs'!$S$16-'Non-CO2 RF Calcs'!$S$17)*($O402-1)/9","v":0.4409170949975052},{"$f":"'Non-CO2 RF Calcs'!$S$19+('Non-CO2 RF Calcs'!$S$18-'Non-CO2 RF Calcs'!$S$19)*($O402-1)/9","v":0.36418768450465888},{"$f":"'Non-CO2 RF Calcs'!$S$21+('Non-CO2 RF Calcs'!$S$20-'Non-CO2 RF Calcs'!$S$21)*($O402-1)/9","v":0.13659265214486904},{"$f":"'Non-CO2 RF Calcs'!$S$23+('Non-CO2 RF Calcs'!$S$22-'Non-CO2 RF Calcs'!$S$23)*($O402-1)/9","v":-0.29105579751805172},{"$f":"'Non-CO2 RF Calcs'!$S$25+('Non-CO2 RF Calcs'!$S$24-'Non-CO2 RF Calcs'!$S$25)*($O402-1)/9","v":0.13659265214486904},{"$f":"SUM(D402:I402)","v":4.2230367484693563},{"$f":"CFfromRFin2100(J402)","v":0.5812131114396375},{"$f":"K402*J402","v":2.4544843283018043},2.2905220000000002,{"$f":"L402-M402","v":0.16396232830180413},{"$f":"MitigationAggressiveness(D402,0)","v":8.4609270167807438},null,3.4188710000000002,0.30396099999999998,0.28464499999999998,-0.13814699999999999,3.8467660000000001,null,{"$f":"Q402-D402","v":-1.6931462195505897E-2},{"$f":"R402-E402","v":-0.13695609499750522},{"$f":"S402-F402","v":-7.95426845046589E-2},{"$f":"T402-H402","v":0.15290879751805173},{"$f":"U402-J402","v":-0.37627074846935615}]
["GCAM 4.2","SSP1-45",577.71478200000001,{"$f":"CO2RFFromCO2PPM(C403)","v":4.1462193418015154},{"$f":"'Non-CO2 RF Calcs'!$S$17+('Non-CO2 RF Calcs'!$S$16-'Non-CO2 RF Calcs'!$S$17)*($O403-1)/9","v":0.46903304435716259},{"$f":"'Non-CO2 RF Calcs'!$S$19+('Non-CO2 RF Calcs'!$S$18-'Non-CO2 RF Calcs'!$S$19)*($O403-1)/9","v":0.37171950655534342},{"$f":"'Non-CO2 RF Calcs'!$S$21+('Non-CO2 RF Calcs'!$S$20-'Non-CO2 RF Calcs'!$S$21)*($O403-1)/9","v":0.16973457114314616},{"$f":"'Non-CO2 RF Calcs'!$S$23+('Non-CO2 RF Calcs'!$S$22-'Non-CO2 RF Calcs'!$S$23)*($O403-1)/9","v":-0.31156384581641167},{"$f":"'Non-CO2 RF Calcs'!$S$25+('Non-CO2 RF Calcs'!$S$24-'Non-CO2 RF Calcs'!$S$25)*($O403-1)/9","v":0.16973457114314616},5.0148771891839017,{"$f":"CFfromRFin2100(J403)","v":0.57200958372200794},2.8685578134020768,2.6821100000000002,0.18644781340207661,{"$f":"MitigationAggressiveness(D403,0)","v":8.0329825820827612},null,4.1133649999999999,0.36843199999999998,0.30432799999999999,-0.20465700000000001,4.6332190000000004,null,-3.2854341801515474E-2,{"$f":"R403-E403","v":-0.10060104435716261},{"$f":"S403-F403","v":-6.7391506555343428E-2},{"$f":"T403-H403","v":0.10690684581641166},{"$f":"U403-J403","v":-0.38165818918390126}]
["GCAM 4.2","SSP1-Baseline",683.80755599999998,{"$f":"CO2RFFromCO2PPM(C404)","v":5.185310320357325},{"$f":"'Non-CO2 RF Calcs'!$S$17+('Non-CO2 RF Calcs'!$S$16-'Non-CO2 RF Calcs'!$S$17)*($O404-1)/9","v":0.50061315416919694},{"$f":"'Non-CO2 RF Calcs'!$S$19+('Non-CO2 RF Calcs'!$S$18-'Non-CO2 RF Calcs'!$S$19)*($O404-1)/9","v":0.38017932288246375},{"$f":"'Non-CO2 RF Calcs'!$S$21+('Non-CO2 RF Calcs'!$S$20-'Non-CO2 RF Calcs'!$S$21)*($O404-1)/9","v":0.20695989929972991},{"$f":"'Non-CO2 RF Calcs'!$S$23+('Non-CO2 RF Calcs'!$S$22-'Non-CO2 RF Calcs'!$S$23)*($O404-1)/9","v":-0.33459868661115277},{"$f":"'Non-CO2 RF Calcs'!$S$25+('Non-CO2 RF Calcs'!$S$24-'Non-CO2 RF Calcs'!$S$25)*($O404-1)/9","v":0.20695989929972991},6.1454239093972935,{"$f":"CFfromRFin2100(J404)","v":0.5617837476815849},3.4523992749132284,3.6414800000000001,-0.18908072508677165,{"$f":"MitigationAggressiveness(D404,0)","v":7.5523111998600152},null,5.1316769999999998,0.58285900000000002,0.38120300000000001,-0.24393599999999999,6.4217360000000001,null,-5.3633320357325154E-2,{"$f":"R404-E404","v":8.2245845830803077E-2},{"$f":"S404-F404","v":1.0236771175362591E-3},{"$f":"T404-H404","v":9.0662686611152787E-2},{"$f":"U404-J404","v":0.27631209060270656}]
["GCAM 4.2","SSP2-19",362.544329,{"$f":"CO2RFFromCO2PPM(C405)","v":1.535044403444779},{"$f":"'Non-CO2 RF Calcs'!$S$17+('Non-CO2 RF Calcs'!$S$16-'Non-CO2 RF Calcs'!$S$17)*($O405-1)/9","v":0.33963531250923895},{"$f":"'Non-CO2 RF Calcs'!$S$19+('Non-CO2 RF Calcs'!$S$18-'Non-CO2 RF Calcs'!$S$19)*($O405-1)/9","v":0.3370558828030838},{"$f":"'Non-CO2 RF Calcs'!$S$21+('Non-CO2 RF Calcs'!$S$20-'Non-CO2 RF Calcs'!$S$21)*($O405-1)/9","v":1.7205873192862153E-2},{"$f":"'Non-CO2 RF Calcs'!$S$23+('Non-CO2 RF Calcs'!$S$22-'Non-CO2 RF Calcs'!$S$23)*($O405-1)/9","v":-0.2171798753344068},{"$f":"'Non-CO2 RF Calcs'!$S$25+('Non-CO2 RF Calcs'!$S$24-'Non-CO2 RF Calcs'!$S$25)*($O405-1)/9","v":1.7205873192862153E-2},2.028967469808419,{"$f":"CFfromRFin2100(J405)","v":0.61549996884276825},1.2488294144500722,1.532213,-0.28338358554992782,{"$f":"MitigationAggressiveness(D405,0)","v":10.002506658915694},null,1.4347510000000001,0.56115999999999999,0.40580100000000002,-0.13399900000000001,2.3857710000000001,null,-0.10029340344477888,{"$f":"R405-E405","v":0.22152468749076104},{"$f":"S405-F405","v":6.8745117196916228E-2},{"$f":"T405-H405","v":8.3180875334406795E-2},{"$f":"U405-J405","v":0.35680353019158106}]
["GCAM 4.2","SSP2-26",411.25355100000002,{"$f":"CO2RFFromCO2PPM(C406)","v":2.1852377460291934},{"$f":"'Non-CO2 RF Calcs'!$S$17+('Non-CO2 RF Calcs'!$S$16-'Non-CO2 RF Calcs'!$S$17)*($O406-1)/9","v":0.37854951831895456},{"$f":"'Non-CO2 RF Calcs'!$S$19+('Non-CO2 RF Calcs'!$S$18-'Non-CO2 RF Calcs'!$S$19)*($O406-1)/9","v":0.34748038846900459},{"$f":"'Non-CO2 RF Calcs'!$S$21+('Non-CO2 RF Calcs'!$S$20-'Non-CO2 RF Calcs'!$S$21)*($O406-1)/9","v":6.3076330573839545E-2},{"$f":"'Non-CO2 RF Calcs'!$S$23+('Non-CO2 RF Calcs'!$S$22-'Non-CO2 RF Calcs'!$S$23)*($O406-1)/9","v":-0.24556427744117221},{"$f":"'Non-CO2 RF Calcs'!$S$25+('Non-CO2 RF Calcs'!$S$24-'Non-CO2 RF Calcs'!$S$25)*($O406-1)/9","v":6.3076330573839545E-2},2.7918560365236593,{"$f":"CFfromRFin2100(J406)","v":0.60211411573958173},1.6810159287036566,1.928069,-0.24705307129634346,{"$f":"MitigationAggressiveness(D406,0)","v":9.4102052006247394},null,2.1368109999999998,0.57732499999999998,0.41588799999999998,-0.14047399999999999,3.1180560000000002,null,-4.8426746029193612E-2,{"$f":"R406-E406","v":0.19877548168104542},{"$f":"S406-F406","v":6.8407611530995394E-2},{"$f":"T406-H406","v":0.10509027744117222},{"$f":"U406-J406","v":0.32619996347634084}]
["GCAM 4.2","SSP2-34",492.74637799999999,{"$f":"CO2RFFromCO2PPM(C407)","v":3.1957176312418594},{"$f":"'Non-CO2 RF Calcs'!$S$17+('Non-CO2 RF Calcs'!$S$16-'Non-CO2 RF Calcs'!$S$17)*($O407-1)/9","v":0.43021731284881859},{"$f":"'Non-CO2 RF Calcs'!$S$19+('Non-CO2 RF Calcs'!$S$18-'Non-CO2 RF Calcs'!$S$19)*($O407-1)/9","v":0.36132138061094687},{"$f":"'Non-CO2 RF Calcs'!$S$21+('Non-CO2 RF Calcs'!$S$20-'Non-CO2 RF Calcs'!$S$21)*($O407-1)/9","v":0.12398019119842141},{"$f":"'Non-CO2 RF Calcs'!$S$23+('Non-CO2 RF Calcs'!$S$22-'Non-CO2 RF Calcs'!$S$23)*($O407-1)/9","v":-0.28325127182766019},{"$f":"'Non-CO2 RF Calcs'!$S$25+('Non-CO2 RF Calcs'!$S$24-'Non-CO2 RF Calcs'!$S$25)*($O407-1)/9","v":0.12398019119842141},3.9519654352708073,{"$f":"CFfromRFin2100(J407)","v":0.5847501372386249},2.3109123306369064,2.5343710000000002,-0.22345866936309378,{"$f":"MitigationAggressiveness(D407,0)","v":8.6237851925598381},null,3.1732130000000001,0.610425,0.42061100000000001,-0.15707699999999999,4.2593959999999997,null,-2.2504631241859308E-2,{"$f":"R407-E407","v":0.18020768715118141},{"$f":"S407-F407","v":5.9289619389053139E-2},{"$f":"T407-H407","v":0.12617427182766019},{"$f":"U407-J407","v":0.30743056472919239}]
["GCAM 4.2","SSP2-45",535.77473499999996,{"$f":"CO2RFFromCO2PPM(C408)","v":3.6902067984167606},{"$f":"'Non-CO2 RF Calcs'!$S$17+('Non-CO2 RF Calcs'!$S$16-'Non-CO2 RF Calcs'!$S$17)*($O408-1)/9","v":0.45159461898968173},{"$f":"'Non-CO2 RF Calcs'!$S$19+('Non-CO2 RF Calcs'!$S$18-'Non-CO2 RF Calcs'!$S$19)*($O408-1)/9","v":0.36704802578719026},{"$f":"'Non-CO2 RF Calcs'!$S$21+('Non-CO2 RF Calcs'!$S$20-'Non-CO2 RF Calcs'!$S$21)*($O408-1)/9","v":0.14917887609641156},{"$f":"'Non-CO2 RF Calcs'!$S$23+('Non-CO2 RF Calcs'!$S$22-'Non-CO2 RF Calcs'!$S$23)*($O408-1)/9","v":-0.29884408789150974},{"$f":"'Non-CO2 RF Calcs'!$S$25+('Non-CO2 RF Calcs'!$S$24-'Non-CO2 RF Calcs'!$S$25)*($O408-1)/9","v":0.14917887609641156},4.5083631074949455,{"$f":"CFfromRFin2100(J408)","v":0.57770297156193662},2.6044947640800369,2.7422610000000001,-0.13776623591996318,{"$f":"MitigationAggressiveness(D408,0)","v":8.2984076257278279},null,3.6624979999999998,0.64850600000000003,0.423987,-0.20032,4.7004489999999999,null,-2.7708798416760771E-2,{"$f":"R408-E408","v":0.1969113810103183},{"$f":"S408-F408","v":5.6938974212809745E-2},{"$f":"T408-H408","v":9.8524087891509737E-2},{"$f":"U408-J408","v":0.19208589250505437}]
["GCAM 4.2","SSP2-60",695.56766200000004,{"$f":"CO2RFFromCO2PPM(C409)","v":5.2903906318634384},{"$f":"'Non-CO2 RF Calcs'!$S$17+('Non-CO2 RF Calcs'!$S$16-'Non-CO2 RF Calcs'!$S$17)*($O409-1)/9","v":0.50317557312563443},{"$f":"'Non-CO2 RF Calcs'!$S$19+('Non-CO2 RF Calcs'!$S$18-'Non-CO2 RF Calcs'!$S$19)*($O409-1)/9","v":0.3808657547490284},{"$f":"'Non-CO2 RF Calcs'!$S$21+('Non-CO2 RF Calcs'!$S$20-'Non-CO2 RF Calcs'!$S$21)*($O409-1)/9","v":0.20998037285399496},{"$f":"'Non-CO2 RF Calcs'!$S$23+('Non-CO2 RF Calcs'!$S$22-'Non-CO2 RF Calcs'!$S$23)*($O409-1)/9","v":-0.33646774004580771},{"$f":"'Non-CO2 RF Calcs'!$S$25+('Non-CO2 RF Calcs'!$S$24-'Non-CO2 RF Calcs'!$S$25)*($O409-1)/9","v":0.20998037285399496},6.2579249654002833,{"$f":"CFfromRFin2100(J409)","v":0.56095370260990374},3.5104061799962425,3.637114,-0.12670782000375747,{"$f":"MitigationAggressiveness(D409,0)","v":7.5133093892597502},null,5.235112,0.71713700000000002,0.44673499999999999,-0.29961500000000002,6.3863279999999998,null,-5.5278631863438399E-2,{"$f":"R409-E409","v":0.21396142687436559},{"$f":"S409-F409","v":6.5869245250971598E-2},{"$f":"T409-H409","v":3.6852740045807686E-2},{"$f":"U409-J409","v":0.12840303459971647}]
["GCAM 4.2","SSP2-Baseline",844.63119600000005,{"$f":"CO2RFFromCO2PPM(C410)","v":6.4476182220243867},{"$f":"'Non-CO2 RF Calcs'!$S$17+('Non-CO2 RF Calcs'!$S$16-'Non-CO2 RF Calcs'!$S$17)*($O410-1)/9","v":0.5237261111675271},{"$f":"'Non-CO2 RF Calcs'!$S$19+('Non-CO2 RF Calcs'!$S$18-'Non-CO2 RF Calcs'!$S$19)*($O410-1)/9","v":0.38637092171306664},{"$f":"'Non-CO2 RF Calcs'!$S$21+('Non-CO2 RF Calcs'!$S$20-'Non-CO2 RF Calcs'!$S$21)*($O410-1)/9","v":0.23420449768944085},{"$f":"'Non-CO2 RF Calcs'!$S$23+('Non-CO2 RF Calcs'!$S$22-'Non-CO2 RF Calcs'!$S$23)*($O410-1)/9","v":-0.35145750337655068},{"$f":"'Non-CO2 RF Calcs'!$S$25+('Non-CO2 RF Calcs'!$S$24-'Non-CO2 RF Calcs'!$S$25)*($O410-1)/9","v":0.23420449768944085},7.4746667469073103,{"$f":"CFfromRFin2100(J410)","v":0.55414530897259717},4.1420515139321497,4.6226399999999996,-0.48058848606784998,{"$f":"MitigationAggressiveness(D410,0)","v":7.2005158117575787},null,6.4354740000000001,0.92964400000000003,0.53045299999999995,-0.43782799999999999,8.2174519999999998,null,-1.2144222024386586E-2,{"$f":"R410-E410","v":0.40591788883247293},{"$f":"S410-F410","v":0.14408207828693331},{"$f":"T410-H410","v":-8.6370496623449311E-2},{"$f":"U410-J410","v":0.7427852530926895}]
["GCAM 4.2","SSP3-Baseline",871.38651200000004,{"$f":"CO2RFFromCO2PPM(C411)","v":6.6210471957795569},{"$f":"'Non-CO2 RF Calcs'!$S$17+('Non-CO2 RF Calcs'!$S$16-'Non-CO2 RF Calcs'!$S$17)*($O411-1)/9","v":0.52559440769612564},{"$f":"'Non-CO2 RF Calcs'!$S$19+('Non-CO2 RF Calcs'!$S$18-'Non-CO2 RF Calcs'!$S$19)*($O411-1)/9","v":0.38687140906319351},{"$f":"'Non-CO2 RF Calcs'!$S$21+('Non-CO2 RF Calcs'!$S$20-'Non-CO2 RF Calcs'!$S$21)*($O411-1)/9","v":0.23640676841569364},{"$f":"'Non-CO2 RF Calcs'!$S$23+('Non-CO2 RF Calcs'!$S$22-'Non-CO2 RF Calcs'!$S$23)*($O411-1)/9","v":-0.35282025712724335},{"$f":"'Non-CO2 RF Calcs'!$S$25+('Non-CO2 RF Calcs'!$S$24-'Non-CO2 RF Calcs'!$S$25)*($O411-1)/9","v":0.23640676841569364},7.6535062922430193,{"$f":"CFfromRFin2100(J411)","v":0.55347928905315891},4.2360572213945442,4.6922579999999998,-0.4562007786054556,{"$f":"MitigationAggressiveness(D411,0)","v":7.1720790305003703},null,6.6465540000000001,1.088338,0.56926100000000002,-0.73596899999999998,8.4547910000000002,null,2.5506804220443158E-2,{"$f":"R411-E411","v":0.56274359230387438},{"$f":"S411-F411","v":0.18238959093680651},{"$f":"T411-H411","v":-0.38314874287275663},{"$f":"U411-J411","v":0.80128470775698091}]
["GCAM 4.2","SSP4-26",396.07116300000001,{"$f":"CO2RFFromCO2PPM(C412)","v":1.9862856362800134},{"$f":"'Non-CO2 RF Calcs'!$S$17+('Non-CO2 RF Calcs'!$S$16-'Non-CO2 RF Calcs'!$S$17)*($O412-1)/9","v":0.36711349993374853},{"$f":"'Non-CO2 RF Calcs'!$S$19+('Non-CO2 RF Calcs'!$S$18-'Non-CO2 RF Calcs'!$S$19)*($O412-1)/9","v":0.3444168584297409},{"$f":"'Non-CO2 RF Calcs'!$S$21+('Non-CO2 RF Calcs'!$S$20-'Non-CO2 RF Calcs'!$S$21)*($O412-1)/9","v":4.9596024782382231E-2},{"$f":"'Non-CO2 RF Calcs'!$S$23+('Non-CO2 RF Calcs'!$S$22-'Non-CO2 RF Calcs'!$S$23)*($O412-1)/9","v":-0.23722273384310116},{"$f":"'Non-CO2 RF Calcs'!$S$25+('Non-CO2 RF Calcs'!$S$24-'Non-CO2 RF Calcs'!$S$25)*($O412-1)/9","v":4.9596024782382231E-2},2.5597853103651662,{"$f":"CFfromRFin2100(J412)","v":0.6060208985327733},1.551283393838492,1.8771850000000001,-0.3259016061615081,{"$f":"MitigationAggressiveness(D412,0)","v":9.5842694074010879},null,1.9641519999999999,0.64492300000000002,0.43586900000000001,-0.124072,3.0924429999999998,null,-2.2133636280013524E-2,{"$f":"R412-E412","v":0.27780950006625149},{"$f":"S412-F412","v":9.1452141570259105E-2},{"$f":"T412-H412","v":0.11315073384310116},{"$f":"U412-J412","v":0.53265768963483362}]
["GCAM 4.2","SSP4-34",461.720823,{"$f":"CO2RFFromCO2PPM(C413)","v":2.8224232021862679},{"$f":"'Non-CO2 RF Calcs'!$S$17+('Non-CO2 RF Calcs'!$S$16-'Non-CO2 RF Calcs'!$S$17)*($O413-1)/9","v":0.41237876066285062},{"$f":"'Non-CO2 RF Calcs'!$S$19+('Non-CO2 RF Calcs'!$S$18-'Non-CO2 RF Calcs'!$S$19)*($O413-1)/9","v":0.35654271214103761},{"$f":"'Non-CO2 RF Calcs'!$S$21+('Non-CO2 RF Calcs'!$S$20-'Non-CO2 RF Calcs'!$S$21)*($O413-1)/9","v":0.10295284319635867},{"$f":"'Non-CO2 RF Calcs'!$S$23+('Non-CO2 RF Calcs'!$S$22-'Non-CO2 RF Calcs'!$S$23)*($O413-1)/9","v":-0.27023965749008538},{"$f":"'Non-CO2 RF Calcs'!$S$25+('Non-CO2 RF Calcs'!$S$24-'Non-CO2 RF Calcs'!$S$25)*($O413-1)/9","v":0.10295284319635867},3.5270107038927887,{"$f":"CFfromRFin2100(J413)","v":0.59069172383053714},2.0833760326511874,2.2889110000000001,-0.20553496734881271,{"$f":"MitigationAggressiveness(D413,0)","v":8.8953004465319534},null,2.8089059999999999,0.67080700000000004,0.43890000000000001,-0.22173200000000001,3.8713860000000002,null,-1.3517202186267951E-2,{"$f":"R413-E413","v":0.25842823933714942},{"$f":"S413-F413","v":8.2357287858962402E-2},{"$f":"T413-H413","v":4.8507657490085371E-2},{"$f":"U413-J413","v":0.34437529610721151}]
["GCAM 4.2","SSP4-45",528.69100400000002,{"$f":"CO2RFFromCO2PPM(C414)","v":3.6106549201315952},{"$f":"'Non-CO2 RF Calcs'!$S$17+('Non-CO2 RF Calcs'!$S$16-'Non-CO2 RF Calcs'!$S$17)*($O414-1)/9","v":0.44832879669070946},{"$f":"'Non-CO2 RF Calcs'!$S$19+('Non-CO2 RF Calcs'!$S$18-'Non-CO2 RF Calcs'!$S$19)*($O414-1)/9","v":0.36617316319264059},{"$f":"'Non-CO2 RF Calcs'!$S$21+('Non-CO2 RF Calcs'!$S$20-'Non-CO2 RF Calcs'!$S$21)*($O414-1)/9","v":0.14532925975549538},{"$f":"'Non-CO2 RF Calcs'!$S$23+('Non-CO2 RF Calcs'!$S$22-'Non-CO2 RF Calcs'!$S$23)*($O414-1)/9","v":-0.29646196518299167},{"$f":"'Non-CO2 RF Calcs'!$S$25+('Non-CO2 RF Calcs'!$S$24-'Non-CO2 RF Calcs'!$S$25)*($O414-1)/9","v":0.14532925975549538},4.4193534343429439,{"$f":"CFfromRFin2100(J414)","v":0.57877455297480518},2.5578093083995075,2.6908629999999998,-0.1330536916004923,{"$f":"MitigationAggressiveness(D414,0)","v":8.3481157276908764},null,3.5866400000000001,0.72208000000000006,0.44000400000000001,-0.29080699999999998,4.651586,null,-2.4014920131595119E-2,{"$f":"R414-E414","v":0.27375120330929059},{"$f":"S414-F414","v":7.3830836807359412E-2},{"$f":"T414-H414","v":5.6549651829916892E-3},{"$f":"U414-J414","v":0.23223256565705608}]
["GCAM 4.2","SSP4-60",660.91458599999999,{"$f":"CO2RFFromCO2PPM(C415)","v":4.9749730454386807},{"$f":"'Non-CO2 RF Calcs'!$S$17+('Non-CO2 RF Calcs'!$S$16-'Non-CO2 RF Calcs'!$S$17)*($O415-1)/9","v":0.49513571275577201},{"$f":"'Non-CO2 RF Calcs'!$S$19+('Non-CO2 RF Calcs'!$S$18-'Non-CO2 RF Calcs'!$S$19)*($O415-1)/9","v":0.37871200219941537},{"$f":"'Non-CO2 RF Calcs'!$S$21+('Non-CO2 RF Calcs'!$S$20-'Non-CO2 RF Calcs'!$S$21)*($O415-1)/9","v":0.20050331775879093},{"$f":"'Non-CO2 RF Calcs'!$S$23+('Non-CO2 RF Calcs'!$S$22-'Non-CO2 RF Calcs'!$S$23)*($O415-1)/9","v":-0.3306033873018171},{"$f":"'Non-CO2 RF Calcs'!$S$25+('Non-CO2 RF Calcs'!$S$24-'Non-CO2 RF Calcs'!$S$25)*($O415-1)/9","v":0.20050331775879093},5.9192240086096328,{"$f":"CFfromRFin2100(J415)","v":0.56355541478003313},3.3358107413479319,3.624911,-0.28910025865206812,{"$f":"MitigationAggressiveness(D415,0)","v":7.6356816932150382},null,4.919778,0.75450799999999996,0.46494099999999999,-0.35591800000000001,6.3771959999999996,null,-5.5195045438680701E-2,{"$f":"R415-E415","v":0.25937228724422795},{"$f":"S415-F415","v":8.6228997800584628E-2},{"$f":"T415-H415","v":-2.5314612698182914E-2},{"$f":"U415-J415","v":0.45797199139036682}]
["GCAM 4.2","SSP4-Baseline",739.595958,{"$f":"CO2RFFromCO2PPM(C416)","v":5.6658974949633638},{"$f":"'Non-CO2 RF Calcs'!$S$17+('Non-CO2 RF Calcs'!$S$16-'Non-CO2 RF Calcs'!$S$17)*($O416-1)/9","v":0.51138502906869365},{"$f":"'Non-CO2 RF Calcs'!$S$19+('Non-CO2 RF Calcs'!$S$18-'Non-CO2 RF Calcs'!$S$19)*($O416-1)/9","v":0.38306493929389662},{"$f":"'Non-CO2 RF Calcs'!$S$21+('Non-CO2 RF Calcs'!$S$20-'Non-CO2 RF Calcs'!$S$21)*($O416-1)/9","v":0.21965734020104777},{"$f":"'Non-CO2 RF Calcs'!$S$23+('Non-CO2 RF Calcs'!$S$22-'Non-CO2 RF Calcs'!$S$23)*($O416-1)/9","v":-0.34245579745869709},{"$f":"'Non-CO2 RF Calcs'!$S$25+('Non-CO2 RF Calcs'!$S$24-'Non-CO2 RF Calcs'!$S$25)*($O416-1)/9","v":0.21965734020104777},6.6572063462693523,{"$f":"CFfromRFin2100(J416)","v":0.55828178790738736},3.7165970614636596,3.9750049999999999,-0.25840793853634025,{"$f":"MitigationAggressiveness(D416,0)","v":7.3883557219376907},null,5.607081,0.89827800000000002,0.51142100000000001,-0.41601700000000003,7.007714,null,-5.881649496336383E-2,{"$f":"R416-E416","v":0.38689297093130637},{"$f":"S416-F416","v":0.12835606070610339},{"$f":"T416-H416","v":-7.3561202541302939E-2},{"$f":"U416-J416","v":0.35050765373064774}]
["GCAM 4.2","SSP5-19",373.266254,{"$f":"CO2RFFromCO2PPM(C417)","v":1.6811338200171024},{"$f":"'Non-CO2 RF Calcs'!$S$17+('Non-CO2 RF Calcs'!$S$16-'Non-CO2 RF Calcs'!$S$17)*($O417-1)/9","v":0.34876541478028766},{"$f":"'Non-CO2 RF Calcs'!$S$19+('Non-CO2 RF Calcs'!$S$18-'Non-CO2 RF Calcs'!$S$19)*($O417-1)/9","v":0.33950169406595226},{"$f":"'Non-CO2 RF Calcs'!$S$21+('Non-CO2 RF Calcs'!$S$20-'Non-CO2 RF Calcs'!$S$21)*($O417-1)/9","v":2.7968060378590232E-2},{"$f":"'Non-CO2 RF Calcs'!$S$23+('Non-CO2 RF Calcs'!$S$22-'Non-CO2 RF Calcs'!$S$23)*($O417-1)/9","v":-0.22383946117831571},{"$f":"'Non-CO2 RF Calcs'!$S$25+('Non-CO2 RF Calcs'!$S$24-'Non-CO2 RF Calcs'!$S$25)*($O417-1)/9","v":2.7968060378590232E-2},2.2014975884422063,{"$f":"CFfromRFin2100(J417)","v":0.6123361207823147},1.3480564932183214,1.477263,-0.12920650678167855,{"$f":"MitigationAggressiveness(D417,0)","v":9.863540109889076},null,1.596652,0.42200199999999999,0.30769200000000002,-8.2374000000000003E-2,2.304084,null,-8.4481820017102471E-2,{"$f":"R417-E417","v":7.3236585219712325E-2},{"$f":"S417-F417","v":-3.1809694065952243E-2},{"$f":"T417-H417","v":0.14146546117831571},{"$f":"U417-J417","v":0.10258641155779369}]
["GCAM 4.2","SSP5-26",420.47407800000002,{"$f":"CO2RFFromCO2PPM(C418)","v":2.304425061742065},{"$f":"'Non-CO2 RF Calcs'!$S$17+('Non-CO2 RF Calcs'!$S$16-'Non-CO2 RF Calcs'!$S$17)*($O418-1)/9","v":0.38520149126292247},{"$f":"'Non-CO2 RF Calcs'!$S$19+('Non-CO2 RF Calcs'!$S$18-'Non-CO2 RF Calcs'!$S$19)*($O418-1)/9","v":0.34926234773557741},{"$f":"'Non-CO2 RF Calcs'!$S$21+('Non-CO2 RF Calcs'!$S$20-'Non-CO2 RF Calcs'!$S$21)*($O418-1)/9","v":7.0917401336473729E-2},{"$f":"'Non-CO2 RF Calcs'!$S$23+('Non-CO2 RF Calcs'!$S$22-'Non-CO2 RF Calcs'!$S$23)*($O418-1)/9","v":-0.25041629153001604},{"$f":"'Non-CO2 RF Calcs'!$S$25+('Non-CO2 RF Calcs'!$S$24-'Non-CO2 RF Calcs'!$S$25)*($O418-1)/9","v":7.0917401336473729E-2},2.9303074118834962,{"$f":"CFfromRFin2100(J418)","v":0.59985215548250026},1.7577512172446619,1.9170259999999999,-0.15927478275533802,{"$f":"MitigationAggressiveness(D418,0)","v":9.3089575150240105},null,2.2769789999999999,0.44711099999999998,0.32087100000000002,-8.7465000000000001E-2,3.1043159999999999,null,-2.7446061742065098E-2,{"$f":"R418-E418","v":6.1909508737077512E-2},{"$f":"S418-F418","v":-2.8391347735577388E-2},{"$f":"T418-H418","v":0.16295129153001603},{"$f":"U418-J418","v":0.17400858811650366}]
["GCAM 4.2","SSP5-34",486.72689000000003,{"$f":"CO2RFFromCO2PPM(C419)","v":3.1243890727720172},{"$f":"'Non-CO2 RF Calcs'!$S$17+('Non-CO2 RF Calcs'!$S$16-'Non-CO2 RF Calcs'!$S$17)*($O419-1)/9","v":0.42692182335478412},{"$f":"'Non-CO2 RF Calcs'!$S$19+('Non-CO2 RF Calcs'!$S$18-'Non-CO2 RF Calcs'!$S$19)*($O419-1)/9","v":0.36043857063994217},{"$f":"'Non-CO2 RF Calcs'!$S$21+('Non-CO2 RF Calcs'!$S$20-'Non-CO2 RF Calcs'!$S$21)*($O419-1)/9","v":0.12009560439418987},{"$f":"'Non-CO2 RF Calcs'!$S$23+('Non-CO2 RF Calcs'!$S$22-'Non-CO2 RF Calcs'!$S$23)*($O419-1)/9","v":-0.28084750957706472},{"$f":"'Non-CO2 RF Calcs'!$S$25+('Non-CO2 RF Calcs'!$S$24-'Non-CO2 RF Calcs'!$S$25)*($O419-1)/9","v":0.12009560439418987},3.871093165978059,{"$f":"CFfromRFin2100(J419)","v":0.58584355283557443},2.2678549737140981,2.3640300000000001,-9.6175026285902021E-2,{"$f":"MitigationAggressiveness(D419,0)","v":8.6739448500032861},null,3.102824,0.47749999999999998,0.32658799999999999,-0.10356600000000001,3.9471630000000002,null,-2.1565072772017135E-2,{"$f":"R419-E419","v":5.0578176645215855E-2},{"$f":"S419-F419","v":-3.3850570639942179E-2},{"$f":"T419-H419","v":0.17728150957706473},{"$f":"U419-J419","v":7.6069834021941229E-2}]
["GCAM 4.2","SSP5-45",554.07854899999995,{"$f":"CO2RFFromCO2PPM(C420)","v":3.8923762896814051},{"$f":"'Non-CO2 RF Calcs'!$S$17+('Non-CO2 RF Calcs'!$S$16-'Non-CO2 RF Calcs'!$S$17)*($O420-1)/9","v":0.45959522276176845},{"$f":"'Non-CO2 RF Calcs'!$S$19+('Non-CO2 RF Calcs'!$S$18-'Non-CO2 RF Calcs'!$S$19)*($O420-1)/9","v":0.36919126210969749},{"$f":"'Non-CO2 RF Calcs'!$S$21+('Non-CO2 RF Calcs'!$S$20-'Non-CO2 RF Calcs'!$S$21)*($O420-1)/9","v":0.15860965713673691},{"$f":"'Non-CO2 RF Calcs'!$S$23+('Non-CO2 RF Calcs'!$S$22-'Non-CO2 RF Calcs'!$S$23)*($O420-1)/9","v":-0.30467980648934667},{"$f":"'Non-CO2 RF Calcs'!$S$25+('Non-CO2 RF Calcs'!$S$24-'Non-CO2 RF Calcs'!$S$25)*($O420-1)/9","v":0.15860965713673691},4.7337022823369992,{"$f":"CFfromRFin2100(J420)","v":0.57508511841515941},2.7222817375798836,2.6999409999999999,2.2340737579883641E-2,{"$f":"MitigationAggressiveness(D420,0)","v":8.1766328346762798},null,3.864636,0.51775400000000005,0.33390199999999998,-0.16108800000000001,4.6482849999999996,null,-2.7740289681405184E-2,{"$f":"R420-E420","v":5.8158777238231596E-2},{"$f":"S420-F420","v":-3.5289262109697517E-2},{"$f":"T420-H420","v":0.14359180648934666},{"$f":"U420-J420","v":-8.5417282336999634E-2}]
["GCAM 4.2","SSP5-60",698.29275600000005,{"$f":"CO2RFFromCO2PPM(C421)","v":5.3144525556912265},{"$f":"'Non-CO2 RF Calcs'!$S$17+('Non-CO2 RF Calcs'!$S$16-'Non-CO2 RF Calcs'!$S$17)*($O421-1)/9","v":0.50374601787227691},{"$f":"'Non-CO2 RF Calcs'!$S$19+('Non-CO2 RF Calcs'!$S$18-'Non-CO2 RF Calcs'!$S$19)*($O421-1)/9","v":0.38101856795360844},{"$f":"'Non-CO2 RF Calcs'!$S$21+('Non-CO2 RF Calcs'!$S$20-'Non-CO2 RF Calcs'!$S$21)*($O421-1)/9","v":0.2106527895433401},{"$f":"'Non-CO2 RF Calcs'!$S$23+('Non-CO2 RF Calcs'!$S$22-'Non-CO2 RF Calcs'!$S$23)*($O421-1)/9","v":-0.3368838280201471},{"$f":"'Non-CO2 RF Calcs'!$S$25+('Non-CO2 RF Calcs'!$S$24-'Non-CO2 RF Calcs'!$S$25)*($O421-1)/9","v":0.2106527895433401},6.2836388925836459,{"$f":"CFfromRFin2100(J421)","v":0.56076874842930879},3.5236683173758592,3.481611,4.205731737585916E-2,{"$f":"MitigationAggressiveness(D421,0)","v":7.5046268208177036},null,5.2685870000000001,0.53501600000000005,0.35289100000000001,-0.198265,6.058408,null,-4.5865555691226412E-2,{"$f":"R421-E421","v":3.1269982127723139E-2},{"$f":"S421-F421","v":-2.8127567953608434E-2},{"$f":"T421-H421","v":0.13861882802014711},{"$f":"U421-J421","v":-0.22523089258364593}]
["GCAM 4.2","SSP5-Baseline",1024.8158040000001,{"$f":"CO2RFFromCO2PPM(C422)","v":7.4141144026846542},{"$f":"'Non-CO2 RF Calcs'!$S$17+('Non-CO2 RF Calcs'!$S$16-'Non-CO2 RF Calcs'!$S$17)*($O422-1)/9","v":0.53011389104466589},{"$f":"'Non-CO2 RF Calcs'!$S$19+('Non-CO2 RF Calcs'!$S$18-'Non-CO2 RF Calcs'!$S$19)*($O422-1)/9","v":0.38808210779887553},{"$f":"'Non-CO2 RF Calcs'!$S$21+('Non-CO2 RF Calcs'!$S$20-'Non-CO2 RF Calcs'!$S$21)*($O422-1)/9","v":0.24173414858469833},{"$f":"'Non-CO2 RF Calcs'!$S$23+('Non-CO2 RF Calcs'!$S$22-'Non-CO2 RF Calcs'!$S$23)*($O422-1)/9","v":-0.35611681245994314},{"$f":"'Non-CO2 RF Calcs'!$S$25+('Non-CO2 RF Calcs'!$S$24-'Non-CO2 RF Calcs'!$S$25)*($O422-1)/9","v":0.24173414858469833},8.4596618862376474,{"$f":"CFfromRFin2100(J422)","v":0.55154190249625623},4.6658580112105792,5.2203799999999996,-0.55452198878942038,{"$f":"MitigationAggressiveness(D422,0)","v":7.1032893296093471},null,7.6753200000000001,0.90253499999999998,0.48843799999999998,-0.418159,9.2673000000000005,null,0.26120559731534598,{"$f":"R422-E422","v":0.37242110895533409},{"$f":"S422-F422","v":0.10035589220112445},{"$f":"T422-H422","v":-6.2042187540056859E-2},{"$f":"U422-J422","v":0.80763811376235317}]
["GCAM 5.2","NGFS1_Current policies (Hot house world, Rep)",737.96008700000004,{"$f":"CO2RFFromCO2PPM(C423)","v":5.6524509178221942},{"$f":"'Non-CO2 RF Calcs'!$S$17+('Non-CO2 RF Calcs'!$S$16-'Non-CO2 RF Calcs'!$S$17)*($O423-1)/9","v":0.51111661422352594},{"$f":"'Non-CO2 RF Calcs'!$S$19+('Non-CO2 RF Calcs'!$S$18-'Non-CO2 RF Calcs'!$S$19)*($O423-1)/9","v":0.38299303516490191},{"$f":"'Non-CO2 RF Calcs'!$S$21+('Non-CO2 RF Calcs'!$S$20-'Non-CO2 RF Calcs'!$S$21)*($O423-1)/9","v":0.21934094387586267},{"$f":"'Non-CO2 RF Calcs'!$S$23+('Non-CO2 RF Calcs'!$S$22-'Non-CO2 RF Calcs'!$S$23)*($O423-1)/9","v":-0.34226001304685733},{"$f":"'Non-CO2 RF Calcs'!$S$25+('Non-CO2 RF Calcs'!$S$24-'Non-CO2 RF Calcs'!$S$25)*($O423-1)/9","v":0.21934094387586267},6.6429824419154899,{"$f":"CFfromRFin2100(J423)","v":0.55836962687251135},3.7092396274129964,3.6720120000000001,3.7227627412996345E-2,{"$f":"MitigationAggressiveness(D423,0)","v":7.39244118381239},null,5.5801879999999997,0.69744099999999998,0.49087399999999998,-0.71704100000000004,6.6143559999999999,null,-7.2262917822194517E-2,{"$f":"R423-E423","v":0.18632438577647403},{"$f":"S423-F423","v":0.10788096483509807},{"$f":"T423-H423","v":-0.37478098695314271},{"$f":"U423-J423","v":-2.862644191549002E-2}]
["GCAM 5.2","NGFS1_Immediate 2C with CDR (Orderly, Rep)",413.25116600000001,{"$f":"CO2RFFromCO2PPM(C424)","v":2.2111646690097015},{"$f":"'Non-CO2 RF Calcs'!$S$17+('Non-CO2 RF Calcs'!$S$16-'Non-CO2 RF Calcs'!$S$17)*($O424-1)/9","v":0.38000922179729035},{"$f":"'Non-CO2 RF Calcs'!$S$19+('Non-CO2 RF Calcs'!$S$18-'Non-CO2 RF Calcs'!$S$19)*($O424-1)/9","v":0.34787142014661054},{"$f":"'Non-CO2 RF Calcs'!$S$21+('Non-CO2 RF Calcs'!$S$20-'Non-CO2 RF Calcs'!$S$21)*($O424-1)/9","v":6.4796968700678637E-2},{"$f":"'Non-CO2 RF Calcs'!$S$23+('Non-CO2 RF Calcs'!$S$22-'Non-CO2 RF Calcs'!$S$23)*($O424-1)/9","v":-0.24662899942697669},{"$f":"'Non-CO2 RF Calcs'!$S$25+('Non-CO2 RF Calcs'!$S$24-'Non-CO2 RF Calcs'!$S$25)*($O424-1)/9","v":6.4796968700678637E-2},2.8220102489279832,{"$f":"CFfromRFin2100(J424)","v":0.6016170897272084},1.6977695931404082,2.0147539999999999,-0.31698440685959173,{"$f":"MitigationAggressiveness(D424,0)","v":9.3879874916698576},null,2.1768990000000001,0.51465499999999997,0.40471600000000002,-0.16093399999999999,3.3811909999999998,null,-3.4265669009701405E-2,{"$f":"R424-E424","v":0.13464577820270962},{"$f":"S424-F424","v":5.6844579853389476E-2},{"$f":"T424-H424","v":8.5694999426976698E-2},{"$f":"U424-J424","v":0.55918075107201659}]
["GCAM 5.3","NGFS2_Below 2Â°C",428.65240399999999,{"$f":"CO2RFFromCO2PPM(C425)","v":2.4091036088627065},{"$f":"'Non-CO2 RF Calcs'!$S$17+('Non-CO2 RF Calcs'!$S$16-'Non-CO2 RF Calcs'!$S$17)*($O425-1)/9","v":0.39092068964022053},{"$f":"'Non-CO2 RF Calcs'!$S$19+('Non-CO2 RF Calcs'!$S$18-'Non-CO2 RF Calcs'!$S$19)*($O425-1)/9","v":0.35079443131914584},{"$f":"'Non-CO2 RF Calcs'!$S$21+('Non-CO2 RF Calcs'!$S$20-'Non-CO2 RF Calcs'!$S$21)*($O425-1)/9","v":7.7658955993968548E-2},{"$f":"'Non-CO2 RF Calcs'!$S$23+('Non-CO2 RF Calcs'!$S$22-'Non-CO2 RF Calcs'!$S$23)*($O425-1)/9","v":-0.25458793073199237},{"$f":"'Non-CO2 RF Calcs'!$S$25+('Non-CO2 RF Calcs'!$S$24-'Non-CO2 RF Calcs'!$S$25)*($O425-1)/9","v":7.7658955993968548E-2},3.0515487110780173,{"$f":"CFfromRFin2100(J425)","v":0.59791358822619156},1.8245624394876672,1.835826,-1.1263560512332793E-2,{"$f":"MitigationAggressiveness(D425,0)","v":9.2219073114121688},null,2.3859059999999999,0.41184100000000001,0.34670899999999999,-0.15356700000000001,3.0758580000000002,null,-2.3197608862706609E-2,{"$f":"R425-E425","v":2.0920310359779482E-2},{"$f":"S425-F425","v":-4.0854313191458491E-3},{"$f":"T425-H425","v":0.10102093073199236},{"$f":"U425-J425","v":2.4309288921982919E-2}]
["GCAM 5.3","NGFS2_Current Policies",690.219247,{"$f":"CO2RFFromCO2PPM(C426)","v":5.2428507375678111},{"$f":"'Non-CO2 RF Calcs'!$S$17+('Non-CO2 RF Calcs'!$S$16-'Non-CO2 RF Calcs'!$S$17)*($O426-1)/9","v":0.50203065747071518},{"$f":"'Non-CO2 RF Calcs'!$S$19+('Non-CO2 RF Calcs'!$S$18-'Non-CO2 RF Calcs'!$S$19)*($O426-1)/9","v":0.38055904979428595},{"$f":"'Non-CO2 RF Calcs'!$S$21+('Non-CO2 RF Calcs'!$S$20-'Non-CO2 RF Calcs'!$S$21)*($O426-1)/9","v":0.20863079360238201},{"$f":"'Non-CO2 RF Calcs'!$S$23+('Non-CO2 RF Calcs'!$S$22-'Non-CO2 RF Calcs'!$S$23)*($O426-1)/9","v":-0.33563262737547683},{"$f":"'Non-CO2 RF Calcs'!$S$25+('Non-CO2 RF Calcs'!$S$24-'Non-CO2 RF Calcs'!$S$25)*($O426-1)/9","v":0.20863079360238201},6.2070694046620991,{"$f":"CFfromRFin2100(J426)","v":0.56132471643160431},3.4841814734432397,3.281218,0.20296347344323973,{"$f":"MitigationAggressiveness(D426,0)","v":7.5307358071428432},null,5.1844640000000002,0.68520800000000004,0.49023600000000001,-0.76609400000000005,5.9493070000000001,null,-5.8386737567810876E-2,{"$f":"R426-E426","v":0.18317734252928486},{"$f":"S426-F426","v":0.10967695020571405},{"$f":"T426-H426","v":-0.43046137262452322},{"$f":"U426-J426","v":-0.25776240466209899}]
["GCAM 5.3","NGFS2_Delayed Transition",406.550341,{"$f":"CO2RFFromCO2PPM(C427)","v":2.1239654025397083},{"$f":"'Non-CO2 RF Calcs'!$S$17+('Non-CO2 RF Calcs'!$S$16-'Non-CO2 RF Calcs'!$S$17)*($O427-1)/9","v":0.37507179412805203},{"$f":"'Non-CO2 RF Calcs'!$S$19+('Non-CO2 RF Calcs'!$S$18-'Non-CO2 RF Calcs'!$S$19)*($O427-1)/9","v":0.34654876067966078},{"$f":"'Non-CO2 RF Calcs'!$S$21+('Non-CO2 RF Calcs'!$S$20-'Non-CO2 RF Calcs'!$S$21)*($O427-1)/9","v":5.8976933041184121E-2},{"$f":"'Non-CO2 RF Calcs'!$S$23+('Non-CO2 RF Calcs'!$S$22-'Non-CO2 RF Calcs'!$S$23)*($O427-1)/9","v":-0.24302759142132391},{"$f":"'Non-CO2 RF Calcs'!$S$25+('Non-CO2 RF Calcs'!$S$24-'Non-CO2 RF Calcs'!$S$25)*($O427-1)/9","v":5.8976933041184121E-2},2.7205122320084656,{"$f":"CFfromRFin2100(J427)","v":0.60329977230208953},1.6412844101157567,1.7966219999999999,-0.15533758988424329,{"$f":"MitigationAggressiveness(D427,0)","v":9.4631385977465445},null,2.0666329999999999,0.47967100000000001,0.384349,-0.115577,2.9190339999999999,null,-5.7332402539708394E-2,{"$f":"R427-E427","v":0.10459920587194799},{"$f":"S427-F427","v":3.7800239320339213E-2},{"$f":"T427-H427","v":0.12745059142132392},{"$f":"U427-J427","v":0.19852176799153431}]
["GCAM 5.3","NGFS2_Divergent Net Zero Policies",381.23639200000002,{"$f":"CO2RFFromCO2PPM(C428)","v":1.7886436408791819},{"$f":"'Non-CO2 RF Calcs'!$S$17+('Non-CO2 RF Calcs'!$S$16-'Non-CO2 RF Calcs'!$S$17)*($O428-1)/9","v":0.35534128694954403},{"$f":"'Non-CO2 RF Calcs'!$S$19+('Non-CO2 RF Calcs'!$S$18-'Non-CO2 RF Calcs'!$S$19)*($O428-1)/9","v":0.34126326712803617},{"$f":"'Non-CO2 RF Calcs'!$S$21+('Non-CO2 RF Calcs'!$S$20-'Non-CO2 RF Calcs'!$S$21)*($O428-1)/9","v":3.5719426693441858E-2},{"$f":"'Non-CO2 RF Calcs'!$S$23+('Non-CO2 RF Calcs'!$S$22-'Non-CO2 RF Calcs'!$S$23)*($O428-1)/9","v":-0.22863596661819441},{"$f":"'Non-CO2 RF Calcs'!$S$25+('Non-CO2 RF Calcs'!$S$24-'Non-CO2 RF Calcs'!$S$25)*($O428-1)/9","v":3.5719426693441858E-2},2.3280510817254512,{"$f":"CFfromRFin2100(J428)","v":0.61006614656295421},1.4202651524299632,1.4175519999999999,2.7131524299632837E-3,{"$f":"MitigationAggressiveness(D428,0)","v":9.7634507313615817},null,1.7212529999999999,0.36152899999999999,0.32134499999999999,-0.13203200000000001,2.3466330000000002,null,-6.7390640879182007E-2,{"$f":"R428-E428","v":6.1877130504559563E-3},{"$f":"S428-F428","v":-1.9918267128036182E-2},{"$f":"T428-H428","v":9.6603966618194398E-2},{"$f":"U428-J428","v":1.8581918274549025E-2}]
["GCAM 5.3","NGFS2_Nationally Determined Contributions (NDCs)",545.19857999999999,{"$f":"CO2RFFromCO2PPM(C429)","v":3.7949049998429651},{"$f":"'Non-CO2 RF Calcs'!$S$17+('Non-CO2 RF Calcs'!$S$16-'Non-CO2 RF Calcs'!$S$17)*($O429-1)/9","v":0.45579149383010131},{"$f":"'Non-CO2 RF Calcs'!$S$19+('Non-CO2 RF Calcs'!$S$18-'Non-CO2 RF Calcs'!$S$19)*($O429-1)/9","v":0.3681723027611839},{"$f":"'Non-CO2 RF Calcs'!$S$21+('Non-CO2 RF Calcs'!$S$20-'Non-CO2 RF Calcs'!$S$21)*($O429-1)/9","v":0.15412597869031053},{"$f":"'Non-CO2 RF Calcs'!$S$23+('Non-CO2 RF Calcs'!$S$22-'Non-CO2 RF Calcs'!$S$23)*($O429-1)/9","v":-0.30190532942486503},{"$f":"'Non-CO2 RF Calcs'!$S$25+('Non-CO2 RF Calcs'!$S$24-'Non-CO2 RF Calcs'!$S$25)*($O429-1)/9","v":0.15412597869031053},4.6252154243900065,{"$f":"CFfromRFin2100(J429)","v":0.57632845281019396},2.6656432494525371,2.576613,8.9030249452537014E-2,{"$f":"MitigationAggressiveness(D429,0)","v":8.2345282522054593},null,3.765892,0.56791100000000005,0.41339900000000002,-0.44678600000000002,4.5247419999999998,null,-2.9012999842965126E-2,{"$f":"R429-E429","v":0.11211950616989874},{"$f":"S429-F429","v":4.5226697238816116E-2},{"$f":"T429-H429","v":-0.14488067057513498},{"$f":"U429-J429","v":-0.10047342439000673}]
["GCAM 5.3","NGFS2_Net-Zero 2050",394.70934099999999,{"$f":"CO2RFFromCO2PPM(C430)","v":1.9682759433243286},{"$f":"'Non-CO2 RF Calcs'!$S$17+('Non-CO2 RF Calcs'!$S$16-'Non-CO2 RF Calcs'!$S$17)*($O430-1)/9","v":0.36605776674481239},{"$f":"'Non-CO2 RF Calcs'!$S$19+('Non-CO2 RF Calcs'!$S$18-'Non-CO2 RF Calcs'!$S$19)*($O430-1)/9","v":0.34413404405949316},{"$f":"'Non-CO2 RF Calcs'!$S$21+('Non-CO2 RF Calcs'!$S$20-'Non-CO2 RF Calcs'!$S$21)*($O430-1)/9","v":4.8351570135522048E-2},{"$f":"'Non-CO2 RF Calcs'!$S$23+('Non-CO2 RF Calcs'!$S$22-'Non-CO2 RF Calcs'!$S$23)*($O430-1)/9","v":-0.23645267173522339},{"$f":"'Non-CO2 RF Calcs'!$S$25+('Non-CO2 RF Calcs'!$S$24-'Non-CO2 RF Calcs'!$S$25)*($O430-1)/9","v":4.8351570135522048E-2},2.5387182226644556,{"$f":"CFfromRFin2100(J430)","v":0.60638270273269645},1.5394348173360199,1.4729719999999999,6.6462817336019997E-2,{"$f":"MitigationAggressiveness(D430,0)","v":9.6003384057106178},null,1.911262,0.29303800000000002,0.30701499999999998,-0.105596,2.4346450000000002,null,-5.7013943324328631E-2,{"$f":"R430-E430","v":-7.3019766744812364E-2},{"$f":"S430-F430","v":-3.7119044059493178E-2},{"$f":"T430-H430","v":0.13085667173522339},{"$f":"U430-J430","v":-0.1040732226644554}]
["GCAM 5.3","R_BAU",795.90836400000001,{"$f":"CO2RFFromCO2PPM(C431)","v":6.1049951280791097},{"$f":"'Non-CO2 RF Calcs'!$S$17+('Non-CO2 RF Calcs'!$S$16-'Non-CO2 RF Calcs'!$S$17)*($O431-1)/9","v":0.51910690753841782},{"$f":"'Non-CO2 RF Calcs'!$S$19+('Non-CO2 RF Calcs'!$S$18-'Non-CO2 RF Calcs'!$S$19)*($O431-1)/9","v":0.38513350947756703},{"$f":"'Non-CO2 RF Calcs'!$S$21+('Non-CO2 RF Calcs'!$S$20-'Non-CO2 RF Calcs'!$S$21)*($O431-1)/9","v":0.22875957137540542},{"$f":"'Non-CO2 RF Calcs'!$S$23+('Non-CO2 RF Calcs'!$S$22-'Non-CO2 RF Calcs'!$S$23)*($O431-1)/9","v":-0.3480882110964309},{"$f":"'Non-CO2 RF Calcs'!$S$25+('Non-CO2 RF Calcs'!$S$24-'Non-CO2 RF Calcs'!$S$25)*($O431-1)/9","v":0.22875957137540542},7.1186664767494756,{"$f":"CFfromRFin2100(J431)","v":0.55572642726481924},3.9560310880138245,3.9769600000000001,-2.0928911986175525E-2,{"$f":"MitigationAggressiveness(D431,0)","v":7.2708233251382373},null,6.0589599999999999,0.77632299999999999,0.49891099999999999,-0.81355200000000005,7.2216639999999996,null,-4.6035128079109811E-2,{"$f":"R431-E431","v":0.25721609246158217},{"$f":"S431-F431","v":0.11377749052243297},{"$f":"T431-H431","v":-0.46546378890356915},{"$f":"U431-J431","v":0.10299752325052403}]
["GCAM 5.3","R_MAC_30_n0",402.89773400000001,{"$f":"CO2RFFromCO2PPM(C432)","v":2.0761576562322133},{"$f":"'Non-CO2 RF Calcs'!$S$17+('Non-CO2 RF Calcs'!$S$16-'Non-CO2 RF Calcs'!$S$17)*($O432-1)/9","v":0.37233092256067069},{"$f":"'Non-CO2 RF Calcs'!$S$19+('Non-CO2 RF Calcs'!$S$18-'Non-CO2 RF Calcs'!$S$19)*($O432-1)/9","v":0.34581452415628317},{"$f":"'Non-CO2 RF Calcs'!$S$21+('Non-CO2 RF Calcs'!$S$20-'Non-CO2 RF Calcs'!$S$21)*($O432-1)/9","v":5.5746106925058991E-2},{"$f":"'Non-CO2 RF Calcs'!$S$23+('Non-CO2 RF Calcs'!$S$22-'Non-CO2 RF Calcs'!$S$23)*($O432-1)/9","v":-0.24102837290785939},{"$f":"'Non-CO2 RF Calcs'!$S$25+('Non-CO2 RF Calcs'!$S$24-'Non-CO2 RF Calcs'!$S$25)*($O432-1)/9","v":5.5746106925058991E-2},2.6647669438914261,{"$f":"CFfromRFin2100(J432)","v":0.60423569893253182},1.6101473168345426,1.6136490000000001,-3.5016831654575142E-3,{"$f":"MitigationAggressiveness(D432,0)","v":9.5048565820293653},null,2.0369769999999998,0.50856400000000002,0.39445000000000002,-0.35155700000000001,2.8044630000000002,null,-3.9180656232213451E-2,{"$f":"R432-E432","v":0.13623307743932933},{"$f":"S432-F432","v":4.8635475843716858E-2},{"$f":"T432-H432","v":-0.11052862709214062},{"$f":"U432-J432","v":0.13969605610857405}]
["GCAM 5.3","R_MAC_30_n8",359.26849099999998,{"$f":"CO2RFFromCO2PPM(C433)","v":1.4900759725691197},{"$f":"'Non-CO2 RF Calcs'!$S$17+('Non-CO2 RF Calcs'!$S$16-'Non-CO2 RF Calcs'!$S$17)*($O433-1)/9","v":0.33677983088223884},{"$f":"'Non-CO2 RF Calcs'!$S$19+('Non-CO2 RF Calcs'!$S$18-'Non-CO2 RF Calcs'!$S$19)*($O433-1)/9","v":0.336290944041513},{"$f":"'Non-CO2 RF Calcs'!$S$21+('Non-CO2 RF Calcs'!$S$20-'Non-CO2 RF Calcs'!$S$21)*($O433-1)/9","v":1.3839949475596747E-2},{"$f":"'Non-CO2 RF Calcs'!$S$23+('Non-CO2 RF Calcs'!$S$22-'Non-CO2 RF Calcs'!$S$23)*($O433-1)/9","v":-0.21509705912313476},{"$f":"'Non-CO2 RF Calcs'!$S$25+('Non-CO2 RF Calcs'!$S$24-'Non-CO2 RF Calcs'!$S$25)*($O433-1)/9","v":1.3839949475596747E-2},1.9757295873209302,{"$f":"CFfromRFin2100(J433)","v":0.61649236030520793},1.2180221966123146,1.2601910000000001,-4.2168803387685472E-2,{"$f":"MitigationAggressiveness(D433,0)","v":10.045969088550398},null,1.4092119999999999,0.47348000000000001,0.38670500000000002,-0.31598399999999999,2.1662360000000001,null,-8.0863972569119813E-2,{"$f":"R433-E433","v":0.13670016911776117},{"$f":"S433-F433","v":5.0414055958487025E-2},{"$f":"T433-H433","v":-0.10088694087686523},{"$f":"U433-J433","v":0.19050641267906987}]
["GCAM 5.3","R_MAC_35_n0",408.97189600000002,{"$f":"CO2RFFromCO2PPM(C434)","v":2.155553131428511},{"$f":"'Non-CO2 RF Calcs'!$S$17+('Non-CO2 RF Calcs'!$S$16-'Non-CO2 RF Calcs'!$S$17)*($O434-1)/9","v":0.37686958776197177},{"$f":"'Non-CO2 RF Calcs'!$S$19+('Non-CO2 RF Calcs'!$S$18-'Non-CO2 RF Calcs'!$S$19)*($O434-1)/9","v":0.34703036140959975},{"$f":"'Non-CO2 RF Calcs'!$S$21+('Non-CO2 RF Calcs'!$S$20-'Non-CO2 RF Calcs'!$S$21)*($O434-1)/9","v":6.1096097869261401E-2},{"$f":"'Non-CO2 RF Calcs'!$S$23+('Non-CO2 RF Calcs'!$S$22-'Non-CO2 RF Calcs'!$S$23)*($O434-1)/9","v":-0.24433891967146698},{"$f":"'Non-CO2 RF Calcs'!$S$25+('Non-CO2 RF Calcs'!$S$24-'Non-CO2 RF Calcs'!$S$25)*($O434-1)/9","v":6.1096097869261401E-2},2.7573063566671383,{"$f":"CFfromRFin2100(J434)","v":0.60268658919006257},1.6617915634517957,1.6620299999999999,-2.3843654820421278E-4,{"$f":"MitigationAggressiveness(D434,0)","v":9.4357749199091057},null,2.1204010000000002,0.50667499999999999,0.39425500000000002,-0.35026400000000002,2.8769610000000001,null,-3.5152131428510813E-2,{"$f":"R434-E434","v":0.12980541223802822},{"$f":"S434-F434","v":4.722463859040027E-2},{"$f":"T434-H434","v":-0.10592508032853304},{"$f":"U434-J434","v":0.1196546433328618}]
["GCAM 5.3","R_MAC_35_n8",366.43807099999998,{"$f":"CO2RFFromCO2PPM(C435)","v":1.5882915501973165},{"$f":"'Non-CO2 RF Calcs'!$S$17+('Non-CO2 RF Calcs'!$S$16-'Non-CO2 RF Calcs'!$S$17)*($O435-1)/9","v":0.34298903498143574},{"$f":"'Non-CO2 RF Calcs'!$S$19+('Non-CO2 RF Calcs'!$S$18-'Non-CO2 RF Calcs'!$S$19)*($O435-1)/9","v":0.33795429247600106},{"$f":"'Non-CO2 RF Calcs'!$S$21+('Non-CO2 RF Calcs'!$S$20-'Non-CO2 RF Calcs'!$S$21)*($O435-1)/9","v":2.1159102624827786E-2},{"$f":"'Non-CO2 RF Calcs'!$S$23+('Non-CO2 RF Calcs'!$S$22-'Non-CO2 RF Calcs'!$S$23)*($O435-1)/9","v":-0.2196261132885054},{"$f":"'Non-CO2 RF Calcs'!$S$25+('Non-CO2 RF Calcs'!$S$24-'Non-CO2 RF Calcs'!$S$25)*($O435-1)/9","v":2.1159102624827786E-2},2.0919269696159031,{"$f":"CFfromRFin2100(J435)","v":0.61433617000891527},1.2851464024521904,1.3236559999999999,-3.8509597547809582E-2,{"$f":"MitigationAggressiveness(D435,0)","v":9.9514606547726672},null,1.5132239999999999,0.47169100000000003,0.38656800000000002,-0.31148199999999998,2.2598690000000001,null,-7.506755019731659E-2,{"$f":"R435-E435","v":0.12870196501856429},{"$f":"S435-F435","v":4.8613707523998961E-2},{"$f":"T435-H435","v":-9.1855886711494583E-2},{"$f":"U435-J435","v":0.16794203038409705}]
["GCAM 5.3","R_MAC_40_n0",415.08387800000003,{"$f":"CO2RFFromCO2PPM(C436)","v":2.2349001686118322},{"$f":"'Non-CO2 RF Calcs'!$S$17+('Non-CO2 RF Calcs'!$S$16-'Non-CO2 RF Calcs'!$S$17)*($O436-1)/9","v":0.38133935832803867},{"$f":"'Non-CO2 RF Calcs'!$S$19+('Non-CO2 RF Calcs'!$S$18-'Non-CO2 RF Calcs'!$S$19)*($O436-1)/9","v":0.3482277428702204},{"$f":"'Non-CO2 RF Calcs'!$S$21+('Non-CO2 RF Calcs'!$S$20-'Non-CO2 RF Calcs'!$S$21)*($O436-1)/9","v":6.6364878665048033E-2},{"$f":"'Non-CO2 RF Calcs'!$S$23+('Non-CO2 RF Calcs'!$S$22-'Non-CO2 RF Calcs'!$S$23)*($O436-1)/9","v":-0.24759921401468477},{"$f":"'Non-CO2 RF Calcs'!$S$25+('Non-CO2 RF Calcs'!$S$24-'Non-CO2 RF Calcs'!$S$25)*($O436-1)/9","v":6.6364878665048033E-2},2.8495978131255022,{"$f":"CFfromRFin2100(J436)","v":0.60116450543014344},1.7130770600024108,1.7115229999999999,1.5540600024108731E-3,{"$f":"MitigationAggressiveness(D436,0)","v":9.3677418823738403},null,2.2010529999999999,0.50491699999999995,0.39436599999999999,-0.349273,2.9500999999999999,null,-3.3847168611832235E-2,{"$f":"R436-E436","v":0.12357764167196128},{"$f":"S436-F436","v":4.6138257129779592E-2},{"$f":"T436-H436","v":-0.10167378598531523},{"$f":"U436-J436","v":0.10050218687449775}]
["GCAM 5.3","R_MAC_40_n8",373.59486099999998,{"$f":"CO2RFFromCO2PPM(C437)","v":1.6855847251432587},{"$f":"'Non-CO2 RF Calcs'!$S$17+('Non-CO2 RF Calcs'!$S$16-'Non-CO2 RF Calcs'!$S$17)*($O437-1)/9","v":0.34904006392921283},{"$f":"'Non-CO2 RF Calcs'!$S$19+('Non-CO2 RF Calcs'!$S$18-'Non-CO2 RF Calcs'!$S$19)*($O437-1)/9","v":0.33957526826718643},{"$f":"'Non-CO2 RF Calcs'!$S$21+('Non-CO2 RF Calcs'!$S$20-'Non-CO2 RF Calcs'!$S$21)*($O437-1)/9","v":2.8291805443364293E-2},{"$f":"'Non-CO2 RF Calcs'!$S$23+('Non-CO2 RF Calcs'!$S$22-'Non-CO2 RF Calcs'!$S$23)*($O437-1)/9","v":-0.22403979295225684},{"$f":"'Non-CO2 RF Calcs'!$S$25+('Non-CO2 RF Calcs'!$S$24-'Non-CO2 RF Calcs'!$S$25)*($O437-1)/9","v":2.8291805443364293E-2},2.2067438752741295,{"$f":"CFfromRFin2100(J437)","v":0.6122411653609442},1.3510594418509592,1.386099,-3.5039558149040806E-2,{"$f":"MitigationAggressiveness(D437,0)","v":9.859359757546228},null,1.614144,0.469414,0.38655699999999998,-0.30634699999999998,2.3530820000000001,null,-7.1440725143258721E-2,{"$f":"R437-E437","v":0.12037393607078717},{"$f":"S437-F437","v":4.6981731732813559E-2},{"$f":"T437-H437","v":-8.2307207047743136E-2},{"$f":"U437-J437","v":0.1463381247258706}]
["GCAM 5.3","R_MAC_45_n0",421.62403399999999,{"$f":"CO2RFFromCO2PPM(C438)","v":2.3192028323701961},{"$f":"'Non-CO2 RF Calcs'!$S$17+('Non-CO2 RF Calcs'!$S$16-'Non-CO2 RF Calcs'!$S$17)*($O438-1)/9","v":0.38601586148176981},{"$f":"'Non-CO2 RF Calcs'!$S$19+('Non-CO2 RF Calcs'!$S$18-'Non-CO2 RF Calcs'!$S$19)*($O438-1)/9","v":0.34948050475006315},{"$f":"'Non-CO2 RF Calcs'!$S$21+('Non-CO2 RF Calcs'!$S$20-'Non-CO2 RF Calcs'!$S$21)*($O438-1)/9","v":7.1877347290366211E-2},{"$f":"'Non-CO2 RF Calcs'!$S$23+('Non-CO2 RF Calcs'!$S$22-'Non-CO2 RF Calcs'!$S$23)*($O438-1)/9","v":-0.25101030112817069},{"$f":"'Non-CO2 RF Calcs'!$S$25+('Non-CO2 RF Calcs'!$S$24-'Non-CO2 RF Calcs'!$S$25)*($O438-1)/9","v":7.1877347290366211E-2},2.9474435920545909,{"$f":"CFfromRFin2100(J438)","v":0.59957576713088601},1.7672157527811456,1.7607029999999999,6.5127527811457142E-3,{"$f":"MitigationAggressiveness(D438,0)","v":9.2965622301100481},null,2.2857560000000001,0.50300199999999995,0.39469399999999999,-0.34802,3.0296189999999998,null,-3.3446832370195967E-2,{"$f":"R438-E438","v":0.11698613851823014},{"$f":"S438-F438","v":4.5213495249936841E-2},{"$f":"T438-H438","v":-9.7009698871829309E-2},{"$f":"U438-J438","v":8.2175407945408896E-2}]
["GCAM 5.3","R_MAC_45_n8",380.85621700000002,{"$f":"CO2RFFromCO2PPM(C439)","v":1.7835364584674105},{"$f":"'Non-CO2 RF Calcs'!$S$17+('Non-CO2 RF Calcs'!$S$16-'Non-CO2 RF Calcs'!$S$17)*($O439-1)/9","v":0.35503165013165794},{"$f":"'Non-CO2 RF Calcs'!$S$19+('Non-CO2 RF Calcs'!$S$18-'Non-CO2 RF Calcs'!$S$19)*($O439-1)/9","v":0.3411803202788003},{"$f":"'Non-CO2 RF Calcs'!$S$21+('Non-CO2 RF Calcs'!$S$20-'Non-CO2 RF Calcs'!$S$21)*($O439-1)/9","v":3.5354439610630006E-2},{"$f":"'Non-CO2 RF Calcs'!$S$23+('Non-CO2 RF Calcs'!$S$22-'Non-CO2 RF Calcs'!$S$23)*($O439-1)/9","v":-0.22841011449650611},{"$f":"'Non-CO2 RF Calcs'!$S$25+('Non-CO2 RF Calcs'!$S$24-'Non-CO2 RF Calcs'!$S$25)*($O439-1)/9","v":3.5354439610630006E-2},2.3220471936026228,{"$f":"CFfromRFin2100(J439)","v":0.6101728669844626},1.4168501933937379,1.4533069999999999,-3.6456806606262049E-2,{"$f":"MitigationAggressiveness(D439,0)","v":9.76816362052271},null,1.7183360000000001,0.46638299999999999,0.38700899999999999,-0.30497800000000003,2.4488059999999998,null,-6.5200458467410405E-2,{"$f":"R439-E439","v":0.11135134986834205},{"$f":"S439-F439","v":4.5828679721199694E-2},{"$f":"T439-H439","v":-7.6567885503493915E-2},{"$f":"U439-J439","v":0.12675880639737702}]
["GCAM 5.3","R_MAC_50_n0",427.950447,{"$f":"CO2RFFromCO2PPM(C440)","v":2.4001571502449437},{"$f":"'Non-CO2 RF Calcs'!$S$17+('Non-CO2 RF Calcs'!$S$16-'Non-CO2 RF Calcs'!$S$17)*($O440-1)/9","v":0.39043638882200427},{"$f":"'Non-CO2 RF Calcs'!$S$19+('Non-CO2 RF Calcs'!$S$18-'Non-CO2 RF Calcs'!$S$19)*($O440-1)/9","v":0.35066469472248518},{"$f":"'Non-CO2 RF Calcs'!$S$21+('Non-CO2 RF Calcs'!$S$20-'Non-CO2 RF Calcs'!$S$21)*($O440-1)/9","v":7.7088082206894892E-2},{"$f":"'Non-CO2 RF Calcs'!$S$23+('Non-CO2 RF Calcs'!$S$22-'Non-CO2 RF Calcs'!$S$23)*($O440-1)/9","v":-0.25423467698111019},{"$f":"'Non-CO2 RF Calcs'!$S$25+('Non-CO2 RF Calcs'!$S$24-'Non-CO2 RF Calcs'!$S$25)*($O440-1)/9","v":7.7088082206894892E-2},3.0411997212221125,{"$f":"CFfromRFin2100(J440)","v":0.59807752268692449},1.8188731952646864,1.8134239999999999,5.4491952646864572E-3,{"$f":"MitigationAggressiveness(D440,0)","v":9.2292787089497068},null,2.3707440000000002,0.50098699999999996,0.395318,-0.34673599999999999,3.1125639999999999,null,-2.9413150244943509E-2,{"$f":"R440-E440","v":0.11055061117799569},{"$f":"S440-F440","v":4.4653305277514821E-2},{"$f":"T440-H440","v":-9.2501323018889803E-2},{"$f":"U440-J440","v":7.1364278777887424E-2}]
["GCAM 5.3","R_MAC_50_n8",388.48075799999998,{"$f":"CO2RFFromCO2PPM(C441)","v":1.8855602417849304},{"$f":"'Non-CO2 RF Calcs'!$S$17+('Non-CO2 RF Calcs'!$S$16-'Non-CO2 RF Calcs'!$S$17)*($O441-1)/9","v":0.36116520999356005},{"$f":"'Non-CO2 RF Calcs'!$S$19+('Non-CO2 RF Calcs'!$S$18-'Non-CO2 RF Calcs'!$S$19)*($O441-1)/9","v":0.3428234048080161},{"$f":"'Non-CO2 RF Calcs'!$S$21+('Non-CO2 RF Calcs'!$S$20-'Non-CO2 RF Calcs'!$S$21)*($O441-1)/9","v":4.2584426459515101E-2},{"$f":"'Non-CO2 RF Calcs'!$S$23+('Non-CO2 RF Calcs'!$S$22-'Non-CO2 RF Calcs'!$S$23)*($O441-1)/9","v":-0.23288399301576601},{"$f":"'Non-CO2 RF Calcs'!$S$25+('Non-CO2 RF Calcs'!$S$24-'Non-CO2 RF Calcs'!$S$25)*($O441-1)/9","v":4.2584426459515101E-2},2.441833716489771,{"$f":"CFfromRFin2100(J441)","v":0.60806191272990462},1.4847860802171418,1.520594,-3.5807919782858244E-2,{"$f":"MitigationAggressiveness(D441,0)","v":9.6748065449990861},null,1.822735,0.46354600000000001,0.38760800000000001,-0.30379899999999999,2.5458859999999999,null,-6.282524178493043E-2,{"$f":"R441-E441","v":0.10238079000643996},{"$f":"S441-F441","v":4.4784595191983911E-2},{"$f":"T441-H441","v":-7.0915006984233975E-2},{"$f":"U441-J441","v":0.10405228351022888}]
["GCAM 5.3","R_MAC_55_n0",434.382653,{"$f":"CO2RFFromCO2PPM(C442)","v":2.4818671645985177},{"$f":"'Non-CO2 RF Calcs'!$S$17+('Non-CO2 RF Calcs'!$S$16-'Non-CO2 RF Calcs'!$S$17)*($O442-1)/9","v":0.39482840390073348},{"$f":"'Non-CO2 RF Calcs'!$S$19+('Non-CO2 RF Calcs'!$S$18-'Non-CO2 RF Calcs'!$S$19)*($O442-1)/9","v":0.35184124670704586},{"$f":"'Non-CO2 RF Calcs'!$S$21+('Non-CO2 RF Calcs'!$S$20-'Non-CO2 RF Calcs'!$S$21)*($O442-1)/9","v":8.2265208048048821E-2},{"$f":"'Non-CO2 RF Calcs'!$S$23+('Non-CO2 RF Calcs'!$S$22-'Non-CO2 RF Calcs'!$S$23)*($O442-1)/9","v":-0.2574382557117984},{"$f":"'Non-CO2 RF Calcs'!$S$25+('Non-CO2 RF Calcs'!$S$24-'Non-CO2 RF Calcs'!$S$25)*($O442-1)/9","v":8.2265208048048821E-2},3.1356289755905964,{"$f":"CFfromRFin2100(J442)","v":0.59659235139340161},1.8706922636448771,1.8686039999999999,2.0882636448771308E-3,{"$f":"MitigationAggressiveness(D442,0)","v":9.1624291643723961},null,2.4536069999999999,0.49918800000000002,0.39598100000000003,-0.34568599999999999,3.189559,null,-2.8260164598517878E-2,{"$f":"R442-E442","v":0.10435959609926654},{"$f":"S442-F442","v":4.4139753292954165E-2},{"$f":"T442-H442","v":-8.8247744288201591E-2},{"$f":"U442-J442","v":5.3930024409403643E-2}]
["GCAM 5.3","R_MAC_55_n8",396.22694000000001,{"$f":"CO2RFFromCO2PPM(C443)","v":1.9883440181908778},{"$f":"'Non-CO2 RF Calcs'!$S$17+('Non-CO2 RF Calcs'!$S$16-'Non-CO2 RF Calcs'!$S$17)*($O443-1)/9","v":0.36723394599229819},{"$f":"'Non-CO2 RF Calcs'!$S$19+('Non-CO2 RF Calcs'!$S$18-'Non-CO2 RF Calcs'!$S$19)*($O443-1)/9","v":0.34444912404055478},{"$f":"'Non-CO2 RF Calcs'!$S$21+('Non-CO2 RF Calcs'!$S$20-'Non-CO2 RF Calcs'!$S$21)*($O443-1)/9","v":4.973800161784514E-2},{"$f":"'Non-CO2 RF Calcs'!$S$23+('Non-CO2 RF Calcs'!$S$22-'Non-CO2 RF Calcs'!$S$23)*($O443-1)/9","v":-0.23731058837557628},{"$f":"'Non-CO2 RF Calcs'!$S$25+('Non-CO2 RF Calcs'!$S$24-'Non-CO2 RF Calcs'!$S$25)*($O443-1)/9","v":4.973800161784514E-2},2.5621925030838448,{"$f":"CFfromRFin2100(J443)","v":0.60597963340550776},1.5526364737330887,1.58195,-2.9313526266911305E-2,{"$f":"MitigationAggressiveness(D443,0)","v":9.5824361340593871},null,1.928361,0.46124700000000002,0.38852599999999998,-0.30287599999999998,2.6437729999999999,null,-5.9983018190877813E-2,{"$f":"R443-E443","v":9.4013054007701824E-2},{"$f":"S443-F443","v":4.4076875959445205E-2},{"$f":"T443-H443","v":-6.5565411624423697E-2},{"$f":"U443-J443","v":8.1580496916155099E-2}]
["GCAM 5.3","R_MAC_60_n0",441.00257299999998,{"$f":"CO2RFFromCO2PPM(C444)","v":2.5653320901825198},{"$f":"'Non-CO2 RF Calcs'!$S$17+('Non-CO2 RF Calcs'!$S$16-'Non-CO2 RF Calcs'!$S$17)*($O444-1)/9","v":0.39924237170112042},{"$f":"'Non-CO2 RF Calcs'!$S$19+('Non-CO2 RF Calcs'!$S$18-'Non-CO2 RF Calcs'!$S$19)*($O444-1)/9","v":0.3530236794815787},{"$f":"'Non-CO2 RF Calcs'!$S$21+('Non-CO2 RF Calcs'!$S$20-'Non-CO2 RF Calcs'!$S$21)*($O444-1)/9","v":8.7468210850128347E-2},{"$f":"'Non-CO2 RF Calcs'!$S$23+('Non-CO2 RF Calcs'!$S$22-'Non-CO2 RF Calcs'!$S$23)*($O444-1)/9","v":-0.26065784697225303},{"$f":"'Non-CO2 RF Calcs'!$S$25+('Non-CO2 RF Calcs'!$S$24-'Non-CO2 RF Calcs'!$S$25)*($O444-1)/9","v":8.7468210850128347E-2},3.2318767160932231,{"$f":"CFfromRFin2100(J444)","v":0.59510318952174779},1.9233001418881492,1.919754,3.546141888149279E-3,{"$f":"MitigationAggressiveness(D444,0)","v":9.0952454840012109},null,2.5360559999999999,0.49825599999999998,0.39701399999999998,-0.34512100000000001,3.2725870000000001,null,-2.9276090182519976E-2,{"$f":"R444-E444","v":9.9013628298879552E-2},{"$f":"S444-F444","v":4.3990320518421278E-2},{"$f":"T444-H444","v":-8.4463153027746984E-2},{"$f":"U444-J444","v":4.0710283906777001E-2}]
["GCAM 5.3","R_MAC_60_n8",403.81381299999998,{"$f":"CO2RFFromCO2PPM(C445)","v":2.0881661754588681},{"$f":"'Non-CO2 RF Calcs'!$S$17+('Non-CO2 RF Calcs'!$S$16-'Non-CO2 RF Calcs'!$S$17)*($O445-1)/9","v":0.37302164128280546},{"$f":"'Non-CO2 RF Calcs'!$S$19+('Non-CO2 RF Calcs'!$S$18-'Non-CO2 RF Calcs'!$S$19)*($O445-1)/9","v":0.34599955687332384},{"$f":"'Non-CO2 RF Calcs'!$S$21+('Non-CO2 RF Calcs'!$S$20-'Non-CO2 RF Calcs'!$S$21)*($O445-1)/9","v":5.6560297605471543E-2},{"$f":"'Non-CO2 RF Calcs'!$S$23+('Non-CO2 RF Calcs'!$S$22-'Non-CO2 RF Calcs'!$S$23)*($O445-1)/9","v":-0.24153218989560959},{"$f":"'Non-CO2 RF Calcs'!$S$25+('Non-CO2 RF Calcs'!$S$24-'Non-CO2 RF Calcs'!$S$25)*($O445-1)/9","v":5.6560297605471543E-2},2.6787757789303308,{"$f":"CFfromRFin2100(J445)","v":0.60399971577464784},1.6179798090979307,1.6423049999999999,-2.4325190902069194E-2,{"$f":"MitigationAggressiveness(D445,0)","v":9.4943433594702373},null,2.0362070000000001,0.45966499999999999,0.38953399999999999,-0.30273800000000001,2.7455980000000002,null,-5.1959175458867968E-2,{"$f":"R445-E445","v":8.664335871719453E-2},{"$f":"S445-F445","v":4.3534443126676148E-2},{"$f":"T445-H445","v":-6.1205810104390412E-2},{"$f":"U445-J445","v":6.6822221069669396E-2}]
["GCAM 5.3","R_MAC_65_n0",447.77909199999999,{"$f":"CO2RFFromCO2PPM(C446)","v":2.6501098708388535},{"$f":"'Non-CO2 RF Calcs'!$S$17+('Non-CO2 RF Calcs'!$S$16-'Non-CO2 RF Calcs'!$S$17)*($O446-1)/9","v":0.40365088892021117},{"$f":"'Non-CO2 RF Calcs'!$S$19+('Non-CO2 RF Calcs'!$S$18-'Non-CO2 RF Calcs'!$S$19)*($O446-1)/9","v":0.35420465213083285},{"$f":"'Non-CO2 RF Calcs'!$S$21+('Non-CO2 RF Calcs'!$S$20-'Non-CO2 RF Calcs'!$S$21)*($O446-1)/9","v":9.2664788732263026E-2},{"$f":"'Non-CO2 RF Calcs'!$S$23+('Non-CO2 RF Calcs'!$S$22-'Non-CO2 RF Calcs'!$S$23)*($O446-1)/9","v":-0.26387346252543054},{"$f":"'Non-CO2 RF Calcs'!$S$25+('Non-CO2 RF Calcs'!$S$24-'Non-CO2 RF Calcs'!$S$25)*($O446-1)/9","v":9.2664788732263026E-2},3.3294215268289928,{"$f":"CFfromRFin2100(J446)","v":0.59361930868945079},1.9764089050920024,1.971565,4.8439050920023874E-3,{"$f":"MitigationAggressiveness(D446,0)","v":9.0281447652935896},null,2.620711,0.49737799999999999,0.39812199999999998,-0.345194,3.3549259999999999,null,-2.9398870838853508E-2,{"$f":"R446-E446","v":9.3727111079788816E-2},{"$f":"S446-F446","v":4.3917347869167123E-2},{"$f":"T446-H446","v":-8.1320537474569465E-2},{"$f":"U446-J446","v":2.5504473171007014E-2}]
["GCAM 5.3","R_MAC_65_n8",411.89189499999998,{"$f":"CO2RFFromCO2PPM(C447)","v":2.1935290970224535},{"$f":"'Non-CO2 RF Calcs'!$S$17+('Non-CO2 RF Calcs'!$S$16-'Non-CO2 RF Calcs'!$S$17)*($O447-1)/9","v":0.37901709469080402},{"$f":"'Non-CO2 RF Calcs'!$S$19+('Non-CO2 RF Calcs'!$S$18-'Non-CO2 RF Calcs'!$S$19)*($O447-1)/9","v":0.34760564484867812},{"$f":"'Non-CO2 RF Calcs'!$S$21+('Non-CO2 RF Calcs'!$S$20-'Non-CO2 RF Calcs'!$S$21)*($O447-1)/9","v":6.3627490274801968E-2},{"$f":"'Non-CO2 RF Calcs'!$S$23+('Non-CO2 RF Calcs'!$S$22-'Non-CO2 RF Calcs'!$S$23)*($O447-1)/9","v":-0.24590533221739186},{"$f":"'Non-CO2 RF Calcs'!$S$25+('Non-CO2 RF Calcs'!$S$24-'Non-CO2 RF Calcs'!$S$25)*($O447-1)/9","v":6.3627490274801968E-2},2.801501484894148,{"$f":"CFfromRFin2100(J447)","v":0.60195486642039442},1.6863774521159935,1.706356,-1.9978547884006437E-2,{"$f":"MitigationAggressiveness(D447,0)","v":9.4030883608705622},null,2.14541,0.45883099999999999,0.390818,-0.30342200000000003,2.8480970000000001,null,-4.8119097022453428E-2,{"$f":"R447-E447","v":7.9813905309195965E-2},{"$f":"S447-F447","v":4.321235515132188E-2},{"$f":"T447-H447","v":-5.7516667782608166E-2},{"$f":"U447-J447","v":4.6595515105852137E-2}]
["GCAM 5.3","R_MAC_70_n0",454.53924599999999,{"$f":"CO2RFFromCO2PPM(C448)","v":2.7340160377430958},{"$f":"'Non-CO2 RF Calcs'!$S$17+('Non-CO2 RF Calcs'!$S$16-'Non-CO2 RF Calcs'!$S$17)*($O448-1)/9","v":0.4079397772184723},{"$f":"'Non-CO2 RF Calcs'!$S$19+('Non-CO2 RF Calcs'!$S$18-'Non-CO2 RF Calcs'!$S$19)*($O448-1)/9","v":0.35535357806765777},{"$f":"'Non-CO2 RF Calcs'!$S$21+('Non-CO2 RF Calcs'!$S$20-'Non-CO2 RF Calcs'!$S$21)*($O448-1)/9","v":9.7720352987104908E-2},{"$f":"'Non-CO2 RF Calcs'!$S$23+('Non-CO2 RF Calcs'!$S$22-'Non-CO2 RF Calcs'!$S$23)*($O448-1)/9","v":-0.26700181957437358},{"$f":"'Non-CO2 RF Calcs'!$S$25+('Non-CO2 RF Calcs'!$S$24-'Non-CO2 RF Calcs'!$S$25)*($O448-1)/9","v":9.7720352987104908E-2},3.4257482794290617,{"$f":"CFfromRFin2100(J448)","v":0.59217900052107775},2.0286561921491035,2.0212150000000002,7.4411921491033262E-3,{"$f":"MitigationAggressiveness(D448,0)","v":8.9628648825194475},null,2.7070099999999999,0.49667699999999998,0.39943899999999999,-0.34562599999999999,3.4436209999999998,null,-2.7006037743095845E-2,{"$f":"R448-E448","v":8.873722278152768E-2},{"$f":"S448-F448","v":4.4085421932342217E-2},{"$f":"T448-H448","v":-7.8624180425626411E-2},{"$f":"U448-J448","v":1.7872720570938139E-2}]
["GCAM 5.3","R_MAC_70_n8",419.80920900000001,{"$f":"CO2RFFromCO2PPM(C449)","v":2.2958722184767666},{"$f":"'Non-CO2 RF Calcs'!$S$17+('Non-CO2 RF Calcs'!$S$16-'Non-CO2 RF Calcs'!$S$17)*($O449-1)/9","v":0.38472911543873467},{"$f":"'Non-CO2 RF Calcs'!$S$19+('Non-CO2 RF Calcs'!$S$18-'Non-CO2 RF Calcs'!$S$19)*($O449-1)/9","v":0.34913580565786501},{"$f":"'Non-CO2 RF Calcs'!$S$21+('Non-CO2 RF Calcs'!$S$20-'Non-CO2 RF Calcs'!$S$21)*($O449-1)/9","v":7.0360584239468893E-2},{"$f":"'Non-CO2 RF Calcs'!$S$23+('Non-CO2 RF Calcs'!$S$22-'Non-CO2 RF Calcs'!$S$23)*($O449-1)/9","v":-0.2500717359863458},{"$f":"'Non-CO2 RF Calcs'!$S$25+('Non-CO2 RF Calcs'!$S$24-'Non-CO2 RF Calcs'!$S$25)*($O449-1)/9","v":7.0360584239468893E-2},2.9203865720659579,{"$f":"CFfromRFin2100(J449)","v":0.60001252803446081},1.7522685299431884,1.773155,-2.0886470056811657E-2,{"$f":"MitigationAggressiveness(D449,0)","v":9.3161474058031253},null,2.2564350000000002,0.45846999999999999,0.39224700000000001,-0.30485000000000001,2.9568310000000002,null,-3.94372184767664E-2,{"$f":"R449-E449","v":7.3740884561265319E-2},{"$f":"S449-F449","v":4.3111194342135006E-2},{"$f":"T449-H449","v":-5.477826401365421E-2},{"$f":"U449-J449","v":3.6444427934042345E-2}]
["GCAM 5.3","R_MAC_75_n0",461.47087900000002,{"$f":"CO2RFFromCO2PPM(C450)","v":2.8193589493647675},{"$f":"'Non-CO2 RF Calcs'!$S$17+('Non-CO2 RF Calcs'!$S$16-'Non-CO2 RF Calcs'!$S$17)*($O450-1)/9","v":0.41222627535634715},{"$f":"'Non-CO2 RF Calcs'!$S$19+('Non-CO2 RF Calcs'!$S$18-'Non-CO2 RF Calcs'!$S$19)*($O450-1)/9","v":0.35650186371798648},{"$f":"'Non-CO2 RF Calcs'!$S$21+('Non-CO2 RF Calcs'!$S$20-'Non-CO2 RF Calcs'!$S$21)*($O450-1)/9","v":0.1027730998196752},{"$f":"'Non-CO2 RF Calcs'!$S$23+('Non-CO2 RF Calcs'!$S$22-'Non-CO2 RF Calcs'!$S$23)*($O450-1)/9","v":-0.27012843321696695},{"$f":"'Non-CO2 RF Calcs'!$S$25+('Non-CO2 RF Calcs'!$S$24-'Non-CO2 RF Calcs'!$S$25)*($O450-1)/9","v":0.1027730998196752},3.5235048548614847,{"$f":"CFfromRFin2100(J450)","v":0.59074275587577463},2.0814849683025449,2.0738669999999999,7.6179683025450196E-3,{"$f":"MitigationAggressiveness(D450,0)","v":8.89762137965986},null,2.7978529999999999,0.496612,0.40076000000000001,-0.346057,3.5296029999999998,null,-2.1505949364767574E-2,{"$f":"R450-E450","v":8.4385724643652849E-2},{"$f":"S450-F450","v":4.4258136282013527E-2},{"$f":"T450-H450","v":-7.5928566783033058E-2},{"$f":"U450-J450","v":6.0981451385151431E-3}]
["GCAM 5.3","R_MAC_75_n8",428.05521499999998,{"$f":"CO2RFFromCO2PPM(C451)","v":2.4014928768422807},{"$f":"'Non-CO2 RF Calcs'!$S$17+('Non-CO2 RF Calcs'!$S$16-'Non-CO2 RF Calcs'!$S$17)*($O451-1)/9","v":0.39050874940358438},{"$f":"'Non-CO2 RF Calcs'!$S$19+('Non-CO2 RF Calcs'!$S$18-'Non-CO2 RF Calcs'!$S$19)*($O451-1)/9","v":0.35068407898787041},{"$f":"'Non-CO2 RF Calcs'!$S$21+('Non-CO2 RF Calcs'!$S$20-'Non-CO2 RF Calcs'!$S$21)*($O451-1)/9","v":7.717337786960643E-2},{"$f":"'Non-CO2 RF Calcs'!$S$23+('Non-CO2 RF Calcs'!$S$22-'Non-CO2 RF Calcs'!$S$23)*($O451-1)/9","v":-0.25428745749664455},{"$f":"'Non-CO2 RF Calcs'!$S$25+('Non-CO2 RF Calcs'!$S$24-'Non-CO2 RF Calcs'!$S$25)*($O451-1)/9","v":7.717337786960643E-2},3.0427450034763033,{"$f":"CFfromRFin2100(J451)","v":0.59805302620796785},1.8197228573081767,1.8394299999999999,-1.9707142691823165E-2,{"$f":"MitigationAggressiveness(D451,0)","v":9.2281773302346366},null,2.3668990000000001,0.45852100000000001,0.39385100000000001,-0.30598199999999998,3.0637319999999999,null,-3.4593876842280658E-2,{"$f":"R451-E451","v":6.8012250596415635E-2},{"$f":"S451-F451","v":4.31669210121296E-2},{"$f":"T451-H451","v":-5.1694542503355423E-2},{"$f":"U451-J451","v":2.0986996523696622E-2}]
["GCAM 5.3","R_MAC_80_n0",468.76748300000003,{"$f":"CO2RFFromCO2PPM(C452)","v":2.9084388456611543},{"$f":"'Non-CO2 RF Calcs'!$S$17+('Non-CO2 RF Calcs'!$S$16-'Non-CO2 RF Calcs'!$S$17)*($O452-1)/9","v":0.41661890040115057},{"$f":"'Non-CO2 RF Calcs'!$S$19+('Non-CO2 RF Calcs'!$S$18-'Non-CO2 RF Calcs'!$S$19)*($O452-1)/9","v":0.3576785791028958},{"$f":"'Non-CO2 RF Calcs'!$S$21+('Non-CO2 RF Calcs'!$S$20-'Non-CO2 RF Calcs'!$S$21)*($O452-1)/9","v":0.10795094466362576},{"$f":"'Non-CO2 RF Calcs'!$S$23+('Non-CO2 RF Calcs'!$S$22-'Non-CO2 RF Calcs'!$S$23)*($O452-1)/9","v":-0.27333245686287211},{"$f":"'Non-CO2 RF Calcs'!$S$25+('Non-CO2 RF Calcs'!$S$24-'Non-CO2 RF Calcs'!$S$25)*($O452-1)/9","v":0.10795094466362576},3.62530575762958,{"$f":"CFfromRFin2100(J452)","v":0.58927433435603738},2.1362996371642806,2.1253030000000002,1.0996637164280454E-2,{"$f":"MitigationAggressiveness(D452,0)","v":8.8307625509718317},null,2.8884979999999998,0.49701800000000002,0.40220600000000001,-0.34642299999999998,3.6169259999999999,null,-1.9940845661154505E-2,{"$f":"R452-E452","v":8.0399099598849444E-2},{"$f":"S452-F452","v":4.4527420897104208E-2},{"$f":"T452-H452","v":-7.3090543137127872E-2},{"$f":"U452-J452","v":-8.379757629580098E-3}]
["GCAM 5.3","R_MAC_80_n8",436.23679499999997,{"$f":"CO2RFFromCO2PPM(C453)","v":2.5053088552777472},{"$f":"'Non-CO2 RF Calcs'!$S$17+('Non-CO2 RF Calcs'!$S$16-'Non-CO2 RF Calcs'!$S$17)*($O453-1)/9","v":0.39607548347424948},{"$f":"'Non-CO2 RF Calcs'!$S$19+('Non-CO2 RF Calcs'!$S$18-'Non-CO2 RF Calcs'!$S$19)*($O453-1)/9","v":0.3521753197739238},{"$f":"'Non-CO2 RF Calcs'!$S$21+('Non-CO2 RF Calcs'!$S$20-'Non-CO2 RF Calcs'!$S$21)*($O453-1)/9","v":8.3735213904197359E-2},{"$f":"'Non-CO2 RF Calcs'!$S$23+('Non-CO2 RF Calcs'!$S$22-'Non-CO2 RF Calcs'!$S$23)*($O453-1)/9","v":-0.25834788774301343},{"$f":"'Non-CO2 RF Calcs'!$S$25+('Non-CO2 RF Calcs'!$S$24-'Non-CO2 RF Calcs'!$S$25)*($O453-1)/9","v":8.3735213904197359E-2},3.1626821985913014,{"$f":"CFfromRFin2100(J453)","v":0.59617126893195715},1.8855002595626882,1.9084920000000001,-2.2991740437311892E-2,{"$f":"MitigationAggressiveness(D453,0)","v":9.143447740117967},null,2.47593,0.45942100000000002,0.39558700000000002,-0.307755,3.1773410000000002,null,-2.9378855277747196E-2,{"$f":"R453-E453","v":6.3345516525750545E-2},{"$f":"S453-F453","v":4.3411680226076221E-2},{"$f":"T453-H453","v":-4.9407112256986574E-2},{"$f":"U453-J453","v":1.4658801408698796E-2}]
["GCAM 5.3","R_MAC_85_n0",476.32051100000001,{"$f":"CO2RFFromCO2PPM(C454)","v":2.9998319062712802},{"$f":"'Non-CO2 RF Calcs'!$S$17+('Non-CO2 RF Calcs'!$S$16-'Non-CO2 RF Calcs'!$S$17)*($O454-1)/9","v":0.42103899931952815},{"$f":"'Non-CO2 RF Calcs'!$S$19+('Non-CO2 RF Calcs'!$S$18-'Non-CO2 RF Calcs'!$S$19)*($O454-1)/9","v":0.35886265430781883},{"$f":"'Non-CO2 RF Calcs'!$S$21+('Non-CO2 RF Calcs'!$S$20-'Non-CO2 RF Calcs'!$S$21)*($O454-1)/9","v":0.1131611745741774},{"$f":"'Non-CO2 RF Calcs'!$S$23+('Non-CO2 RF Calcs'!$S$22-'Non-CO2 RF Calcs'!$S$23)*($O454-1)/9","v":-0.27655652022072125},{"$f":"'Non-CO2 RF Calcs'!$S$25+('Non-CO2 RF Calcs'!$S$24-'Non-CO2 RF Calcs'!$S$25)*($O454-1)/9","v":0.1131611745741774},3.7294993888262606,{"$f":"CFfromRFin2100(J454)","v":0.58780018136686618},2.1922004171596927,2.1780560000000002,1.4144417159692502E-2,{"$f":"MitigationAggressiveness(D454,0)","v":8.7634855506921134},null,2.9756930000000001,0.49812800000000002,0.40359499999999998,-0.347136,3.707192,null,-2.4138906271280014E-2,{"$f":"R454-E454","v":7.7089000680471864E-2},{"$f":"S454-F454","v":4.4732345692181152E-2},{"$f":"T454-H454","v":-7.0579479779278753E-2},{"$f":"U454-J454","v":-2.2307388826260599E-2}]
["GCAM 5.3","R_MAC_85_n8",444.95873999999998,{"$f":"CO2RFFromCO2PPM(C455)","v":2.6149071113449298},{"$f":"'Non-CO2 RF Calcs'!$S$17+('Non-CO2 RF Calcs'!$S$16-'Non-CO2 RF Calcs'!$S$17)*($O455-1)/9","v":0.40182947717300344},{"$f":"'Non-CO2 RF Calcs'!$S$19+('Non-CO2 RF Calcs'!$S$18-'Non-CO2 RF Calcs'!$S$19)*($O455-1)/9","v":0.3537167244786128},{"$f":"'Non-CO2 RF Calcs'!$S$21+('Non-CO2 RF Calcs'!$S$20-'Non-CO2 RF Calcs'!$S$21)*($O455-1)/9","v":9.0517783848441336E-2},{"$f":"'Non-CO2 RF Calcs'!$S$23+('Non-CO2 RF Calcs'!$S$22-'Non-CO2 RF Calcs'!$S$23)*($O455-1)/9","v":-0.26254490699258648},{"$f":"'Non-CO2 RF Calcs'!$S$25+('Non-CO2 RF Calcs'!$S$24-'Non-CO2 RF Calcs'!$S$25)*($O455-1)/9","v":9.0517783848441336E-2},3.2889439737008428,{"$f":"CFfromRFin2100(J455)","v":0.59423196769920295},1.9543956491446874,1.973068,-1.8672350855312603E-2,{"$f":"MitigationAggressiveness(D455,0)","v":9.0558679273515459},null,2.5864600000000002,0.46181299999999997,0.39727699999999999,-0.309392,3.2902429999999998,null,-2.844711134492961E-2,{"$f":"R455-E455","v":5.9983522826996538E-2},{"$f":"S455-F455","v":4.3560275521387193E-2},{"$f":"T455-H455","v":-4.6847093007413521E-2},{"$f":"U455-J455","v":1.2990262991570134E-3}]
["GCAM 5.3","R_MAC_90_n0",484.250407,{"$f":"CO2RFFromCO2PPM(C456)","v":3.0948903961163552},{"$f":"'Non-CO2 RF Calcs'!$S$17+('Non-CO2 RF Calcs'!$S$16-'Non-CO2 RF Calcs'!$S$17)*($O456-1)/9","v":0.42554332452153132},{"$f":"'Non-CO2 RF Calcs'!$S$19+('Non-CO2 RF Calcs'!$S$18-'Non-CO2 RF Calcs'!$S$19)*($O456-1)/9","v":0.36006929241368268},{"$f":"'Non-CO2 RF Calcs'!$S$21+('Non-CO2 RF Calcs'!$S$20-'Non-CO2 RF Calcs'!$S$21)*($O456-1)/9","v":0.1184706869465707},{"$f":"'Non-CO2 RF Calcs'!$S$23+('Non-CO2 RF Calcs'!$S$22-'Non-CO2 RF Calcs'!$S$23)*($O456-1)/9","v":-0.27984201905316497},{"$f":"'Non-CO2 RF Calcs'!$S$25+('Non-CO2 RF Calcs'!$S$24-'Non-CO2 RF Calcs'!$S$25)*($O456-1)/9","v":0.1184706869465707},3.8376023678915456,{"$f":"CFfromRFin2100(J456)","v":0.58630149392811282},2.2499920013968766,2.2312419999999999,1.8750001396876659E-2,{"$f":"MitigationAggressiveness(D456,0)","v":8.6949265674043943},null,3.0665559999999998,0.50050099999999997,0.40513700000000002,-0.34870400000000001,3.7971599999999999,null,-2.8334396116355354E-2,{"$f":"R456-E456","v":7.4957675478468655E-2},{"$f":"S456-F456","v":4.506770758631734E-2},{"$f":"T456-H456","v":-6.8861980946835044E-2},{"$f":"U456-J456","v":-4.0442367891545761E-2}]
["GCAM 5.3","R_MAC_90_n8",453.95288799999997,{"$f":"CO2RFFromCO2PPM(C457)","v":2.7267646183837937},{"$f":"'Non-CO2 RF Calcs'!$S$17+('Non-CO2 RF Calcs'!$S$16-'Non-CO2 RF Calcs'!$S$17)*($O457-1)/9","v":0.4075720369475222},{"$f":"'Non-CO2 RF Calcs'!$S$19+('Non-CO2 RF Calcs'!$S$18-'Non-CO2 RF Calcs'!$S$19)*($O457-1)/9","v":0.35525506621425251},{"$f":"'Non-CO2 RF Calcs'!$S$21+('Non-CO2 RF Calcs'!$S$20-'Non-CO2 RF Calcs'!$S$21)*($O457-1)/9","v":9.7286875955391539E-2},{"$f":"'Non-CO2 RF Calcs'!$S$23+('Non-CO2 RF Calcs'!$S$22-'Non-CO2 RF Calcs'!$S$23)*($O457-1)/9","v":-0.26673358622605509},{"$f":"'Non-CO2 RF Calcs'!$S$25+('Non-CO2 RF Calcs'!$S$24-'Non-CO2 RF Calcs'!$S$25)*($O457-1)/9","v":9.7286875955391539E-2},3.417431887230296,{"$f":"CFfromRFin2100(J457)","v":0.59230236833958749},2.0241530004457302,2.037617,-1.3463999554269801E-2,{"$f":"MitigationAggressiveness(D457,0)","v":8.968462146917469},null,2.6976460000000002,0.46590900000000002,0.3992,-0.31066899999999997,3.4071500000000001,null,-2.9118618383793482E-2,{"$f":"R457-E457","v":5.8336963052477819E-2},{"$f":"S457-F457","v":4.3944933785747486E-2},{"$f":"T457-H457","v":-4.3935413773944887E-2},{"$f":"U457-J457","v":-1.0281887230295883E-2}]
["GCAM 5.3","R_MAC_95_n0",492.31845900000002,{"$f":"CO2RFFromCO2PPM(C458)","v":3.1906643969631214},{"$f":"'Non-CO2 RF Calcs'!$S$17+('Non-CO2 RF Calcs'!$S$16-'Non-CO2 RF Calcs'!$S$17)*($O458-1)/9","v":0.42998560382199114},{"$f":"'Non-CO2 RF Calcs'!$S$19+('Non-CO2 RF Calcs'!$S$18-'Non-CO2 RF Calcs'!$S$19)*($O458-1)/9","v":0.36125930939523659},{"$f":"'Non-CO2 RF Calcs'!$S$21+('Non-CO2 RF Calcs'!$S$20-'Non-CO2 RF Calcs'!$S$21)*($O458-1)/9","v":0.12370706217474681},{"$f":"'Non-CO2 RF Calcs'!$S$23+('Non-CO2 RF Calcs'!$S$22-'Non-CO2 RF Calcs'!$S$23)*($O458-1)/9","v":-0.2830822609985198},{"$f":"'Non-CO2 RF Calcs'!$S$25+('Non-CO2 RF Calcs'!$S$24-'Non-CO2 RF Calcs'!$S$25)*($O458-1)/9","v":0.12370706217474681},3.9462411735313232,{"$f":"CFfromRFin2100(J458)","v":0.584826953997302},2.3078682052550623,2.2831600000000001,2.4708205255062232E-2,{"$f":"MitigationAggressiveness(D458,0)","v":8.6273119661797395},null,3.1604570000000001,0.504695,0.40670400000000001,-0.35192499999999999,3.8945979999999998,null,-3.0207396963121358E-2,{"$f":"R458-E458","v":7.4709396178008869E-2},{"$f":"S458-F458","v":4.5444690604763416E-2},{"$f":"T458-H458","v":-6.8842739001480191E-2},{"$f":"U458-J458","v":-5.1643173531323416E-2}]
["GCAM 5.3","R_MAC_95_n8",463.17673400000001,{"$f":"CO2RFFromCO2PPM(C459)","v":2.8402542189079449},{"$f":"'Non-CO2 RF Calcs'!$S$17+('Non-CO2 RF Calcs'!$S$16-'Non-CO2 RF Calcs'!$S$17)*($O459-1)/9","v":0.41326412310243443},{"$f":"'Non-CO2 RF Calcs'!$S$19+('Non-CO2 RF Calcs'!$S$18-'Non-CO2 RF Calcs'!$S$19)*($O459-1)/9","v":0.35677988685849082},{"$f":"'Non-CO2 RF Calcs'!$S$21+('Non-CO2 RF Calcs'!$S$20-'Non-CO2 RF Calcs'!$S$21)*($O459-1)/9","v":0.103996471845758},{"$f":"'Non-CO2 RF Calcs'!$S$23+('Non-CO2 RF Calcs'!$S$22-'Non-CO2 RF Calcs'!$S$23)*($O459-1)/9","v":-0.2708854495079992},{"$f":"'Non-CO2 RF Calcs'!$S$25+('Non-CO2 RF Calcs'!$S$24-'Non-CO2 RF Calcs'!$S$25)*($O459-1)/9","v":0.103996471845758},3.5474057230523868,{"$f":"CFfromRFin2100(J459)","v":0.59039550233883908},2.0943723838611867,2.104752,-1.0379616138813219E-2,{"$f":"MitigationAggressiveness(D459,0)","v":8.8818246103130232},null,2.813774,0.47260999999999997,0.40109899999999998,-0.31270100000000001,3.527908,null,-2.6480218907944941E-2,{"$f":"R459-E459","v":5.9345876897565542E-2},{"$f":"S459-F459","v":4.4319113141509159E-2},{"$f":"T459-H459","v":-4.1815550492000808E-2},{"$f":"U459-J459","v":-1.9497723052386728E-2}]
["GCAM 5.3","R_MAC_99_n0",500.48034999999999,{"$f":"CO2RFFromCO2PPM(C460)","v":3.2865869856764567},{"$f":"'Non-CO2 RF Calcs'!$S$17+('Non-CO2 RF Calcs'!$S$16-'Non-CO2 RF Calcs'!$S$17)*($O460-1)/9","v":0.43433824083147238},{"$f":"'Non-CO2 RF Calcs'!$S$19+('Non-CO2 RF Calcs'!$S$18-'Non-CO2 RF Calcs'!$S$19)*($O460-1)/9","v":0.36242531261238831},{"$f":"'Non-CO2 RF Calcs'!$S$21+('Non-CO2 RF Calcs'!$S$20-'Non-CO2 RF Calcs'!$S$21)*($O460-1)/9","v":0.12883777077547132},{"$f":"'Non-CO2 RF Calcs'!$S$23+('Non-CO2 RF Calcs'!$S$22-'Non-CO2 RF Calcs'!$S$23)*($O460-1)/9","v":-0.28625711698057504},{"$f":"'Non-CO2 RF Calcs'!$S$25+('Non-CO2 RF Calcs'!$S$24-'Non-CO2 RF Calcs'!$S$25)*($O460-1)/9","v":0.12883777077547132},4.0547689636906847,{"$f":"CFfromRFin2100(J460)","v":0.58338552637171026},2.3654935261983643,2.3356020000000002,2.9891526198364105E-2,{"$f":"MitigationAggressiveness(D460,0)","v":8.5610617833870268},null,3.2600419999999999,0.51150099999999998,0.40823599999999999,-0.35669800000000002,3.9974370000000001,null,-2.65449856764568E-2,{"$f":"R460-E460","v":7.7162759168527606E-2},{"$f":"S460-F460","v":4.5810687387611682E-2},{"$f":"T460-H460","v":-7.0440883019424971E-2},{"$f":"U460-J460","v":-5.7331963690684606E-2}]
["GCAM 5.3","R_MAC_99_n8",473.062656,{"$f":"CO2RFFromCO2PPM(C461)","v":2.9605132218584713},{"$f":"'Non-CO2 RF Calcs'!$S$17+('Non-CO2 RF Calcs'!$S$16-'Non-CO2 RF Calcs'!$S$17)*($O461-1)/9","v":0.41914815457834964},{"$f":"'Non-CO2 RF Calcs'!$S$19+('Non-CO2 RF Calcs'!$S$18-'Non-CO2 RF Calcs'!$S$19)*($O461-1)/9","v":0.35835612664503735},{"$f":"'Non-CO2 RF Calcs'!$S$21+('Non-CO2 RF Calcs'!$S$20-'Non-CO2 RF Calcs'!$S$21)*($O461-1)/9","v":0.11093232494691296},{"$f":"'Non-CO2 RF Calcs'!$S$23+('Non-CO2 RF Calcs'!$S$22-'Non-CO2 RF Calcs'!$S$23)*($O461-1)/9","v":-0.27517731958336239},{"$f":"'Non-CO2 RF Calcs'!$S$25+('Non-CO2 RF Calcs'!$S$24-'Non-CO2 RF Calcs'!$S$25)*($O461-1)/9","v":0.11093232494691296},3.6847048333923218,{"$f":"CFfromRFin2100(J461)","v":0.5884303759054873},2.16819225021381,2.1738209999999998,-5.6287497861897684E-3,{"$f":"MitigationAggressiveness(D461,0)","v":8.7922655315319691},null,2.9343499999999998,0.48337000000000002,0.402978,-0.31470599999999999,3.660828,null,-2.616322185847153E-2,{"$f":"R461-E461","v":6.4221845421650381E-2},{"$f":"S461-F461","v":4.4621873354962649E-2},{"$f":"T461-H461","v":-3.9528680416637596E-2},{"$f":"U461-J461","v":-2.3876833392321828E-2}]
["GCAM 5.3","SSP_SSP1",402.81696099999999,{"$f":"CO2RFFromCO2PPM(C462)","v":2.0750982479709914},{"$f":"'Non-CO2 RF Calcs'!$S$17+('Non-CO2 RF Calcs'!$S$16-'Non-CO2 RF Calcs'!$S$17)*($O462-1)/9","v":0.37226991371451601},{"$f":"'Non-CO2 RF Calcs'!$S$19+('Non-CO2 RF Calcs'!$S$18-'Non-CO2 RF Calcs'!$S$19)*($O462-1)/9","v":0.34579818084285363},{"$f":"'Non-CO2 RF Calcs'!$S$21+('Non-CO2 RF Calcs'!$S$20-'Non-CO2 RF Calcs'!$S$21)*($O462-1)/9","v":5.5674192218869489E-2},{"$f":"'Non-CO2 RF Calcs'!$S$23+('Non-CO2 RF Calcs'!$S$22-'Non-CO2 RF Calcs'!$S$23)*($O462-1)/9","v":-0.24098387245910829},{"$f":"'Non-CO2 RF Calcs'!$S$25+('Non-CO2 RF Calcs'!$S$24-'Non-CO2 RF Calcs'!$S$25)*($O462-1)/9","v":5.5674192218869489E-2},2.663530854506992,{"$f":"CFfromRFin2100(J462)","v":0.60425654651034588},1.6094559556681456,1.5437609999999999,6.5694955668145649E-2,{"$f":"MitigationAggressiveness(D462,0)","v":9.5057851793833184},null,2.0242819999999999,0.253749,0.37209199999999998,-0.18795999999999999,2.5294469999999998,null,-5.081624797099149E-2,{"$f":"R462-E462","v":-0.11852091371451601},{"$f":"S462-F462","v":2.6293819157146348E-2},{"$f":"T462-H462","v":5.3023872459108307E-2},{"$f":"U462-J462","v":-0.13408385450699223}]
["GCAM 5.3","SSP_SSP2",403.821844,{"$f":"CO2RFFromCO2PPM(C463)","v":2.0882713965941018},{"$f":"'Non-CO2 RF Calcs'!$S$17+('Non-CO2 RF Calcs'!$S$16-'Non-CO2 RF Calcs'!$S$17)*($O463-1)/9","v":0.37302768681189891},{"$f":"'Non-CO2 RF Calcs'!$S$19+('Non-CO2 RF Calcs'!$S$18-'Non-CO2 RF Calcs'!$S$19)*($O463-1)/9","v":0.34600117637579031},{"$f":"'Non-CO2 RF Calcs'!$S$21+('Non-CO2 RF Calcs'!$S$20-'Non-CO2 RF Calcs'!$S$21)*($O463-1)/9","v":5.6567423825289231E-2},{"$f":"'Non-CO2 RF Calcs'!$S$23+('Non-CO2 RF Calcs'!$S$22-'Non-CO2 RF Calcs'!$S$23)*($O463-1)/9","v":-0.24153659956362594},{"$f":"'Non-CO2 RF Calcs'!$S$25+('Non-CO2 RF Calcs'!$S$24-'Non-CO2 RF Calcs'!$S$25)*($O463-1)/9","v":5.6567423825289231E-2},2.6788985078687437,{"$f":"CFfromRFin2100(J463)","v":0.60399765069349731},1.6180484051990367,1.666075,-4.8026594800963274E-2,{"$f":"MitigationAggressiveness(D463,0)","v":9.4942513422846435},null,2.0368499999999998,0.46083200000000002,0.39239099999999999,-0.281086,2.776033,null,-5.1421396594101942E-2,{"$f":"R463-E463","v":8.7804313188101113E-2},{"$f":"S463-F463","v":4.6389823624209681E-2},{"$f":"T463-H463","v":-3.954940043637406E-2},{"$f":"U463-J463","v":9.7134492131256245E-2}]
["GCAM 5.3","SSP_SSP3",400.73272900000001,{"$f":"CO2RFFromCO2PPM(C464)","v":2.047728845674992},{"$f":"'Non-CO2 RF Calcs'!$S$17+('Non-CO2 RF Calcs'!$S$16-'Non-CO2 RF Calcs'!$S$17)*($O464-1)/9","v":0.37068968899950394},{"$f":"'Non-CO2 RF Calcs'!$S$19+('Non-CO2 RF Calcs'!$S$18-'Non-CO2 RF Calcs'!$S$19)*($O464-1)/9","v":0.34537486341539225},{"$f":"'Non-CO2 RF Calcs'!$S$21+('Non-CO2 RF Calcs'!$S$20-'Non-CO2 RF Calcs'!$S$21)*($O464-1)/9","v":5.3811488639699312E-2},{"$f":"'Non-CO2 RF Calcs'!$S$23+('Non-CO2 RF Calcs'!$S$22-'Non-CO2 RF Calcs'!$S$23)*($O464-1)/9","v":-0.2398312411051684},{"$f":"'Non-CO2 RF Calcs'!$S$25+('Non-CO2 RF Calcs'!$S$24-'Non-CO2 RF Calcs'!$S$25)*($O464-1)/9","v":5.3811488639699312E-2},2.6315851342641183,{"$f":"CFfromRFin2100(J464)","v":0.60479675660880217},1.591574153942878,1.454833,0.136741153942878,{"$f":"MitigationAggressiveness(D464,0)","v":9.529837305943623},null,1.9914259999999999,0.42200100000000001,0.38070100000000001,-0.53294699999999995,2.4451230000000002,null,-5.6302845674992108E-2,{"$f":"R464-E464","v":5.1311311000496074E-2},{"$f":"S464-F464","v":3.5326136584607759E-2},{"$f":"T464-H464","v":-0.29311575889483155},{"$f":"U464-J464","v":-0.18646213426411817}]
["GCAM 5.3","SSP_SSP4",401.88896299999999,{"$f":"CO2RFFromCO2PPM(C465)","v":2.0629199236642637},{"$f":"'Non-CO2 RF Calcs'!$S$17+('Non-CO2 RF Calcs'!$S$16-'Non-CO2 RF Calcs'!$S$17)*($O465-1)/9","v":0.37156774613125076},{"$f":"'Non-CO2 RF Calcs'!$S$19+('Non-CO2 RF Calcs'!$S$18-'Non-CO2 RF Calcs'!$S$19)*($O465-1)/9","v":0.34561008115540359},{"$f":"'Non-CO2 RF Calcs'!$S$21+('Non-CO2 RF Calcs'!$S$20-'Non-CO2 RF Calcs'!$S$21)*($O465-1)/9","v":5.4846506094168301E-2},{"$f":"'Non-CO2 RF Calcs'!$S$23+('Non-CO2 RF Calcs'!$S$22-'Non-CO2 RF Calcs'!$S$23)*($O465-1)/9","v":-0.24047170456013606},{"$f":"'Non-CO2 RF Calcs'!$S$25+('Non-CO2 RF Calcs'!$S$24-'Non-CO2 RF Calcs'!$S$25)*($O465-1)/9","v":5.4846506094168301E-2},2.6493190585791186,{"$f":"CFfromRFin2100(J465)","v":0.60449653355129263},1.6015041871824511,1.48028,0.12122418718245109,{"$f":"MitigationAggressiveness(D465,0)","v":9.5164726616247979},null,2.0079910000000001,0.37417899999999998,0.38249,-0.44478499999999999,2.473954,null,-5.4928923664263607E-2,{"$f":"R465-E465","v":2.6112538687492193E-3},{"$f":"S465-F465","v":3.6879918844596404E-2},{"$f":"T465-H465","v":-0.20431329543986393},{"$f":"U465-J465","v":-0.17536505857911866}]
["GCAM 5.3","SSP_SSP5",406.47867300000001,{"$f":"CO2RFFromCO2PPM(C466)","v":2.1230292344119501},{"$f":"'Non-CO2 RF Calcs'!$S$17+('Non-CO2 RF Calcs'!$S$16-'Non-CO2 RF Calcs'!$S$17)*($O466-1)/9","v":0.37501835292349894},{"$f":"'Non-CO2 RF Calcs'!$S$19+('Non-CO2 RF Calcs'!$S$18-'Non-CO2 RF Calcs'!$S$19)*($O466-1)/9","v":0.34653444461877597},{"$f":"'Non-CO2 RF Calcs'!$S$21+('Non-CO2 RF Calcs'!$S$20-'Non-CO2 RF Calcs'!$S$21)*($O466-1)/9","v":5.8913938758123896E-2},{"$f":"'Non-CO2 RF Calcs'!$S$23+('Non-CO2 RF Calcs'!$S$22-'Non-CO2 RF Calcs'!$S$23)*($O466-1)/9","v":-0.24298861088433127},{"$f":"'Non-CO2 RF Calcs'!$S$25+('Non-CO2 RF Calcs'!$S$24-'Non-CO2 RF Calcs'!$S$25)*($O466-1)/9","v":5.8913938758123896E-2},{"$f":"SUM(D466:I466)","v":2.7194212985861421},{"$f":"CFfromRFin2100(J466)","v":0.60331800839878058},{"$f":"K466*J466","v":1.640675841860217},1.768467,{"$f":"L466-M466","v":-0.12779115813978303},{"$f":"MitigationAggressiveness(D466,0)","v":9.4639520102968202},null,2.07653,0.47666799999999998,0.40941499999999997,-0.23199,2.9133070000000001,null,{"$f":"Q466-D466","v":-4.6499234411950141E-2},{"$f":"R466-E466","v":0.10164964707650104},{"$f":"S466-F466","v":6.2880555381224001E-2},{"$f":"T466-H466","v":1.0998610884331267E-2},{"$f":"U466-J466","v":0.19388570141385797}]
["GCAM 5.3","SSP1-DACCS-1p9-3pctHR",385.32749000000001,{"$f":"CO2RFFromCO2PPM(C467)","v":1.8434691926613904},{"$f":"'Non-CO2 RF Calcs'!$S$17+('Non-CO2 RF Calcs'!$S$16-'Non-CO2 RF Calcs'!$S$17)*($O467-1)/9","v":0.35864798491100081},{"$f":"'Non-CO2 RF Calcs'!$S$19+('Non-CO2 RF Calcs'!$S$18-'Non-CO2 RF Calcs'!$S$19)*($O467-1)/9","v":0.34214907967174452},{"$f":"'Non-CO2 RF Calcs'!$S$21+('Non-CO2 RF Calcs'!$S$20-'Non-CO2 RF Calcs'!$S$21)*($O467-1)/9","v":3.9617225575794723E-2},{"$f":"'Non-CO2 RF Calcs'!$S$23+('Non-CO2 RF Calcs'!$S$22-'Non-CO2 RF Calcs'!$S$23)*($O467-1)/9","v":-0.23104790443449119},{"$f":"'Non-CO2 RF Calcs'!$S$25+('Non-CO2 RF Calcs'!$S$24-'Non-CO2 RF Calcs'!$S$25)*($O467-1)/9","v":3.9617225575794723E-2},2.3924528039612341,{"$f":"CFfromRFin2100(J467)","v":0.60892747231620981},1.4568302385519429,1.47671,-1.9879761448057032E-2,{"$f":"MitigationAggressiveness(D467,0)","v":9.7131204731963354},null,1.7825219999999999,0.314251,0.37856200000000001,-0.137706,2.421754,null,-6.0947192661390481E-2,{"$f":"R467-E467","v":-4.4396984911000803E-2},{"$f":"S467-F467","v":3.6412920328255494E-2},{"$f":"T467-H467","v":9.3341904434491196E-2},{"$f":"U467-J467","v":2.9301196038765909E-2}]
["GCAM 5.3","SSP1-DACCS-2p6-3pctHR",438.14176700000002,{"$f":"CO2RFFromCO2PPM(C468)","v":2.5293409975962717},{"$f":"'Non-CO2 RF Calcs'!$S$17+('Non-CO2 RF Calcs'!$S$16-'Non-CO2 RF Calcs'!$S$17)*($O468-1)/9","v":0.39734798508072755},{"$f":"'Non-CO2 RF Calcs'!$S$19+('Non-CO2 RF Calcs'!$S$18-'Non-CO2 RF Calcs'!$S$19)*($O468-1)/9","v":0.35251620300488284},{"$f":"'Non-CO2 RF Calcs'!$S$21+('Non-CO2 RF Calcs'!$S$20-'Non-CO2 RF Calcs'!$S$21)*($O468-1)/9","v":8.5235186202041291E-2},{"$f":"'Non-CO2 RF Calcs'!$S$23+('Non-CO2 RF Calcs'!$S$22-'Non-CO2 RF Calcs'!$S$23)*($O468-1)/9","v":-0.25927606285357307},{"$f":"'Non-CO2 RF Calcs'!$S$25+('Non-CO2 RF Calcs'!$S$24-'Non-CO2 RF Calcs'!$S$25)*($O468-1)/9","v":8.5235186202041291E-2},3.1903994952323913,{"$f":"CFfromRFin2100(J468)","v":0.59574188594741417},1.9006546122154231,1.9098729999999999,-9.2183877845768425E-3,{"$f":"MitigationAggressiveness(D468,0)","v":9.1240793747225641},null,2.507736,0.323689,0.392793,-0.15200900000000001,3.154423,null,-2.1604997596271769E-2,{"$f":"R468-E468","v":-7.3658985080727546E-2},{"$f":"S468-F468","v":4.0276796995117159E-2},{"$f":"T468-H468","v":0.10726706285357307},{"$f":"U468-J468","v":-3.5976495232391326E-2}]
["GCAM 5.3","SSP1-highcostDACCS-2p6-3pctHR",438.11540600000001,{"$f":"CO2RFFromCO2PPM(C469)","v":2.5290088017349062},{"$f":"'Non-CO2 RF Calcs'!$S$17+('Non-CO2 RF Calcs'!$S$16-'Non-CO2 RF Calcs'!$S$17)*($O469-1)/9","v":0.39733043664653722},{"$f":"'Non-CO2 RF Calcs'!$S$19+('Non-CO2 RF Calcs'!$S$18-'Non-CO2 RF Calcs'!$S$19)*($O469-1)/9","v":0.35251150205447573},{"$f":"'Non-CO2 RF Calcs'!$S$21+('Non-CO2 RF Calcs'!$S$20-'Non-CO2 RF Calcs'!$S$21)*($O469-1)/9","v":8.5214500833141194E-2},{"$f":"'Non-CO2 RF Calcs'!$S$23+('Non-CO2 RF Calcs'!$S$22-'Non-CO2 RF Calcs'!$S$23)*($O469-1)/9","v":-0.25926326285413748},{"$f":"'Non-CO2 RF Calcs'!$S$25+('Non-CO2 RF Calcs'!$S$24-'Non-CO2 RF Calcs'!$S$25)*($O469-1)/9","v":8.5214500833141194E-2},3.1900164792480643,{"$f":"CFfromRFin2100(J469)","v":0.59574780540666405},1.9004453167231274,1.898055,2.3903167231273947E-3,{"$f":"MitigationAggressiveness(D469,0)","v":9.124346474177516},null,2.5104829999999998,0.31882199999999999,0.394117,-0.15527199999999999,3.1483370000000002,null,-1.8525801734906366E-2,{"$f":"R469-E469","v":-7.8508436646537227E-2},{"$f":"S469-F469","v":4.1605497945524261E-2},{"$f":"T469-H469","v":0.10399126285413748},{"$f":"U469-J469","v":-4.1679479248064144E-2}]
["GCAM 5.3","SSP1-lowcostDACCS-2p6-3pctHR",437.83273100000002,{"$f":"CO2RFFromCO2PPM(C470)","v":2.5254459533282096},{"$f":"'Non-CO2 RF Calcs'!$S$17+('Non-CO2 RF Calcs'!$S$16-'Non-CO2 RF Calcs'!$S$17)*($O470-1)/9","v":0.3971421543107202},{"$f":"'Non-CO2 RF Calcs'!$S$19+('Non-CO2 RF Calcs'!$S$18-'Non-CO2 RF Calcs'!$S$19)*($O470-1)/9","v":0.352461064168473},{"$f":"'Non-CO2 RF Calcs'!$S$21+('Non-CO2 RF Calcs'!$S$20-'Non-CO2 RF Calcs'!$S$21)*($O470-1)/9","v":8.4992561397889244E-2},{"$f":"'Non-CO2 RF Calcs'!$S$23+('Non-CO2 RF Calcs'!$S$22-'Non-CO2 RF Calcs'!$S$23)*($O470-1)/9","v":-0.25912592787791922},{"$f":"'Non-CO2 RF Calcs'!$S$25+('Non-CO2 RF Calcs'!$S$24-'Non-CO2 RF Calcs'!$S$25)*($O470-1)/9","v":8.4992561397889244E-2},3.1859083667252626,{"$f":"CFfromRFin2100(J470)","v":0.59581132046104868},1.8982002708464816,1.9243410000000001,-2.6140729153518505E-2,{"$f":"MitigationAggressiveness(D470,0)","v":9.1272122631549433},null,2.5012470000000002,0.332872,0.39212399999999997,-0.15340799999999999,3.1633209999999998,null,-2.4198953328209427E-2,{"$f":"R470-E470","v":-6.4270154310720196E-2},{"$f":"S470-F470","v":3.9662935831526969E-2},{"$f":"T470-H470","v":0.10571792787791923},{"$f":"U470-J470","v":-2.2587366725262736E-2}]
["GCAM 5.3","SSP1-noDACCS-1p9-3pctHR",387.15979700000003,{"$f":"CO2RFFromCO2PPM(C471)","v":1.8679451786937198},{"$f":"'Non-CO2 RF Calcs'!$S$17+('Non-CO2 RF Calcs'!$S$16-'Non-CO2 RF Calcs'!$S$17)*($O471-1)/9","v":0.3601140171942423},{"$f":"'Non-CO2 RF Calcs'!$S$19+('Non-CO2 RF Calcs'!$S$18-'Non-CO2 RF Calcs'!$S$19)*($O471-1)/9","v":0.34254180673696599},{"$f":"'Non-CO2 RF Calcs'!$S$21+('Non-CO2 RF Calcs'!$S$20-'Non-CO2 RF Calcs'!$S$21)*($O471-1)/9","v":4.1345323836270542E-2},{"$f":"'Non-CO2 RF Calcs'!$S$23+('Non-CO2 RF Calcs'!$S$22-'Non-CO2 RF Calcs'!$S$23)*($O471-1)/9","v":-0.23211724271245843},{"$f":"'Non-CO2 RF Calcs'!$S$25+('Non-CO2 RF Calcs'!$S$24-'Non-CO2 RF Calcs'!$S$25)*($O471-1)/9","v":4.1345323836270542E-2},2.4211744075850103,{"$f":"CFfromRFin2100(J471)","v":0.60842323797099407},1.4730987727553753,1.5067729999999999,-3.3674227244624655E-2,{"$f":"MitigationAggressiveness(D471,0)","v":9.6908064353996615},null,1.8063640000000001,0.30801699999999999,0.38935799999999998,-0.142267,2.451924,null,-6.1581178693719707E-2,{"$f":"R471-E471","v":-5.2097017194242312E-2},{"$f":"S471-F471","v":4.6816193263033989E-2},{"$f":"T471-H471","v":8.9850242712458422E-2},{"$f":"U471-J471","v":3.0749592414989646E-2}]
["GCAM 5.3","SSP1-noDACCS-2p6-3pctHR",438.432255,{"$f":"CO2RFFromCO2PPM(C472)","v":2.533000996450629},{"$f":"'Non-CO2 RF Calcs'!$S$17+('Non-CO2 RF Calcs'!$S$16-'Non-CO2 RF Calcs'!$S$17)*($O472-1)/9","v":0.3975412498818035},{"$f":"'Non-CO2 RF Calcs'!$S$19+('Non-CO2 RF Calcs'!$S$18-'Non-CO2 RF Calcs'!$S$19)*($O472-1)/9","v":0.3525679756152168},{"$f":"'Non-CO2 RF Calcs'!$S$21+('Non-CO2 RF Calcs'!$S$20-'Non-CO2 RF Calcs'!$S$21)*($O472-1)/9","v":8.5462998761401954E-2},{"$f":"'Non-CO2 RF Calcs'!$S$23+('Non-CO2 RF Calcs'!$S$22-'Non-CO2 RF Calcs'!$S$23)*($O472-1)/9","v":-0.25941703208865524},{"$f":"'Non-CO2 RF Calcs'!$S$25+('Non-CO2 RF Calcs'!$S$24-'Non-CO2 RF Calcs'!$S$25)*($O472-1)/9","v":8.5462998761401954E-2},3.1946191873817984,{"$f":"CFfromRFin2100(J472)","v":0.59567669723172789},1.902960206452696,1.9012880000000001,1.6722064526959457E-3,{"$f":"MitigationAggressiveness(D472,0)","v":9.1211377491354106},null,2.514856,0.31894499999999998,0.39572099999999999,-0.163629,3.1477930000000001,null,-1.8144996450629058E-2,{"$f":"R472-E472","v":-7.8596249881803526E-2},{"$f":"S472-F472","v":4.315302438478319E-2},{"$f":"T472-H472","v":9.5788032088655245E-2},{"$f":"U472-J472","v":-4.6826187381798334E-2}]
["GCAM 5.3","SSP2-DACCS-2p6-3pctHR",423.64907599999998,{"$f":"CO2RFFromCO2PPM(C473)","v":2.3451792392809647},{"$f":"'Non-CO2 RF Calcs'!$S$17+('Non-CO2 RF Calcs'!$S$16-'Non-CO2 RF Calcs'!$S$17)*($O473-1)/9","v":0.3874418060225675},{"$f":"'Non-CO2 RF Calcs'!$S$19+('Non-CO2 RF Calcs'!$S$18-'Non-CO2 RF Calcs'!$S$19)*($O473-1)/9","v":0.34986249293755234},{"$f":"'Non-CO2 RF Calcs'!$S$21+('Non-CO2 RF Calcs'!$S$20-'Non-CO2 RF Calcs'!$S$21)*($O473-1)/9","v":7.3558191776981974E-2},{"$f":"'Non-CO2 RF Calcs'!$S$23+('Non-CO2 RF Calcs'!$S$22-'Non-CO2 RF Calcs'!$S$23)*($O473-1)/9","v":-0.25205039901493886},{"$f":"'Non-CO2 RF Calcs'!$S$25+('Non-CO2 RF Calcs'!$S$24-'Non-CO2 RF Calcs'!$S$25)*($O473-1)/9","v":7.3558191776981974E-2},2.9775495227801101,{"$f":"CFfromRFin2100(J473)","v":0.59909209776490213},1.7838263898012194,2.0645259999999999,-0.28069961019878042,{"$f":"MitigationAggressiveness(D473,0)","v":9.274858355820891},null,2.2962760000000002,0.62231400000000003,0.49781199999999998,-0.24618899999999999,3.390765,null,-4.8903239280964517E-2,{"$f":"R473-E473","v":0.23487219397743253},{"$f":"S473-F473","v":0.14794950706244764},{"$f":"T473-H473","v":5.8613990149388728E-3},{"$f":"U473-J473","v":0.41321547721988994}]
["GCAM 5.3","SSP2-noDACCS-2p6-3pctHR",424.07013899999998,{"$f":"CO2RFFromCO2PPM(C474)","v":2.3505729566119569},{"$f":"'Non-CO2 RF Calcs'!$S$17+('Non-CO2 RF Calcs'!$S$16-'Non-CO2 RF Calcs'!$S$17)*($O474-1)/9","v":0.38773699955930452},{"$f":"'Non-CO2 RF Calcs'!$S$19+('Non-CO2 RF Calcs'!$S$18-'Non-CO2 RF Calcs'!$S$19)*($O474-1)/9","v":0.34994157065820031},{"$f":"'Non-CO2 RF Calcs'!$S$21+('Non-CO2 RF Calcs'!$S$20-'Non-CO2 RF Calcs'!$S$21)*($O474-1)/9","v":7.3906153716954415E-2},{"$f":"'Non-CO2 RF Calcs'!$S$23+('Non-CO2 RF Calcs'!$S$22-'Non-CO2 RF Calcs'!$S$23)*($O474-1)/9","v":-0.25226571606617287},{"$f":"'Non-CO2 RF Calcs'!$S$25+('Non-CO2 RF Calcs'!$S$24-'Non-CO2 RF Calcs'!$S$25)*($O474-1)/9","v":7.3906153716954415E-2},2.9837981181971971,{"$f":"CFfromRFin2100(J474)","v":0.59899201505678779},1.7872712473415906,2.0398779999999999,-0.25260675265840926,{"$f":"MitigationAggressiveness(D474,0)","v":9.2703653035113476},null,2.3073760000000001,0.60566600000000004,0.50176299999999996,-0.243862,3.3828999999999998,null,-4.3196956611956772E-2,{"$f":"R474-E474","v":0.21792900044069552},{"$f":"S474-F474","v":0.15182142934179965},{"$f":"T474-H474","v":8.4037160661728783E-3},{"$f":"U474-J474","v":0.3991018818028027}]
["GCAM 5.3","SSP4-DACCS-1p9-3pctHR",381.287104,{"$f":"CO2RFFromCO2PPM(C475)","v":1.7893247348367669},{"$f":"'Non-CO2 RF Calcs'!$S$17+('Non-CO2 RF Calcs'!$S$16-'Non-CO2 RF Calcs'!$S$17)*($O475-1)/9","v":0.35538255942555652},{"$f":"'Non-CO2 RF Calcs'!$S$19+('Non-CO2 RF Calcs'!$S$18-'Non-CO2 RF Calcs'!$S$19)*($O475-1)/9","v":0.34127432337731806},{"$f":"'Non-CO2 RF Calcs'!$S$21+('Non-CO2 RF Calcs'!$S$20-'Non-CO2 RF Calcs'!$S$21)*($O475-1)/9","v":3.5768076982264252E-2},{"$f":"'Non-CO2 RF Calcs'!$S$23+('Non-CO2 RF Calcs'!$S$22-'Non-CO2 RF Calcs'!$S$23)*($O475-1)/9","v":-0.22866607116563931},{"$f":"'Non-CO2 RF Calcs'!$S$25+('Non-CO2 RF Calcs'!$S$24-'Non-CO2 RF Calcs'!$S$25)*($O475-1)/9","v":3.5768076982264252E-2},2.3288517004385305,{"$f":"CFfromRFin2100(J475)","v":0.6100519226961445},1.4207204575267112,1.594209,-0.17348854247328882,{"$f":"MitigationAggressiveness(D475,0)","v":9.7628225353796569},null,1.708996,0.57431699999999997,0.46790700000000002,-0.36671900000000002,2.6048279999999999,null,-8.0328734836766946E-2,{"$f":"R475-E475","v":0.21893444057444345},{"$f":"S475-F475","v":0.12663267662268196},{"$f":"T475-H475","v":-0.13805292883436071},{"$f":"U475-J475","v":0.27597629956146941}]
["GCAM 5.3","SSP4-DACCS-2p6-3pctHR",431.492795,{"$f":"CO2RFFromCO2PPM(C476)","v":2.4452311352422682},{"$f":"'Non-CO2 RF Calcs'!$S$17+('Non-CO2 RF Calcs'!$S$16-'Non-CO2 RF Calcs'!$S$17)*($O476-1)/9","v":0.39286784090388072},{"$f":"'Non-CO2 RF Calcs'!$S$19+('Non-CO2 RF Calcs'!$S$18-'Non-CO2 RF Calcs'!$S$19)*($O476-1)/9","v":0.35131604261656468},{"$f":"'Non-CO2 RF Calcs'!$S$21+('Non-CO2 RF Calcs'!$S$20-'Non-CO2 RF Calcs'!$S$21)*($O476-1)/9","v":7.9954177422636219E-2},{"$f":"'Non-CO2 RF Calcs'!$S$23+('Non-CO2 RF Calcs'!$S$22-'Non-CO2 RF Calcs'!$S$23)*($O476-1)/9","v":-0.25600820189724971},{"$f":"'Non-CO2 RF Calcs'!$S$25+('Non-CO2 RF Calcs'!$S$24-'Non-CO2 RF Calcs'!$S$25)*($O476-1)/9","v":7.9954177422636219E-2},3.0933151717107368,{"$f":"CFfromRFin2100(J476)","v":0.59725490033786299},1.8474976445936957,1.9838629999999999,-0.13636535540630423,{"$f":"MitigationAggressiveness(D476,0)","v":9.1922703058770061},null,2.3964599999999998,0.57176099999999996,0.47379100000000002,-0.38452199999999997,3.2803309999999999,null,-4.8771135242268393E-2,{"$f":"R476-E476","v":0.17889315909611925},{"$f":"S476-F476","v":0.12247495738343533},{"$f":"T476-H476","v":-0.12851379810275027},{"$f":"U476-J476","v":0.18701582828926311}]
["GCAM 5.3","SSP4-highcostDACCS-2p6-3pctHR",434.01608499999998,{"$f":"CO2RFFromCO2PPM(C477)","v":2.4772267578537197},{"$f":"'Non-CO2 RF Calcs'!$S$17+('Non-CO2 RF Calcs'!$S$16-'Non-CO2 RF Calcs'!$S$17)*($O477-1)/9","v":0.39458085377945706},{"$f":"'Non-CO2 RF Calcs'!$S$19+('Non-CO2 RF Calcs'!$S$18-'Non-CO2 RF Calcs'!$S$19)*($O477-1)/9","v":0.35177493191047859},{"$f":"'Non-CO2 RF Calcs'!$S$21+('Non-CO2 RF Calcs'!$S$20-'Non-CO2 RF Calcs'!$S$21)*($O477-1)/9","v":8.1973406196992227E-2},{"$f":"'Non-CO2 RF Calcs'!$S$23+('Non-CO2 RF Calcs'!$S$22-'Non-CO2 RF Calcs'!$S$23)*($O477-1)/9","v":-0.25725769023351902},{"$f":"'Non-CO2 RF Calcs'!$S$25+('Non-CO2 RF Calcs'!$S$24-'Non-CO2 RF Calcs'!$S$25)*($O477-1)/9","v":8.1973406196992227E-2},3.1302716657041203,{"$f":"CFfromRFin2100(J477)","v":0.59667597057496691},1.8677578842973244,1.943244,-7.5486115702675605E-2,{"$f":"MitigationAggressiveness(D477,0)","v":9.1661970505409887},null,2.4361660000000001,0.53459900000000005,0.47923300000000002,-0.37314599999999998,3.2729119999999998,null,-4.1060757853719654E-2,{"$f":"R477-E477","v":0.14001814622054298},{"$f":"S477-F477","v":0.12745806808952143},{"$f":"T477-H477","v":-0.11588830976648096},{"$f":"U477-J477","v":0.14264033429587952}]
["GCAM 5.3","SSP4-medcostDACCS-2p6-3pctHR",433.151702,{"$f":"CO2RFFromCO2PPM(C478)","v":2.4662767265636258},{"$f":"'Non-CO2 RF Calcs'!$S$17+('Non-CO2 RF Calcs'!$S$16-'Non-CO2 RF Calcs'!$S$17)*($O478-1)/9","v":0.39399581014050944},{"$f":"'Non-CO2 RF Calcs'!$S$19+('Non-CO2 RF Calcs'!$S$18-'Non-CO2 RF Calcs'!$S$19)*($O478-1)/9","v":0.35161820789152154},{"$f":"'Non-CO2 RF Calcs'!$S$21+('Non-CO2 RF Calcs'!$S$20-'Non-CO2 RF Calcs'!$S$21)*($O478-1)/9","v":8.1283780936808769E-2},{"$f":"'Non-CO2 RF Calcs'!$S$23+('Non-CO2 RF Calcs'!$S$22-'Non-CO2 RF Calcs'!$S$23)*($O478-1)/9","v":-0.25683095368442699},{"$f":"'Non-CO2 RF Calcs'!$S$25+('Non-CO2 RF Calcs'!$S$24-'Non-CO2 RF Calcs'!$S$25)*($O478-1)/9","v":8.1283780936808769E-2},3.1176273527848481,{"$f":"CFfromRFin2100(J478)","v":0.59687363364910906},1.8608295664205452,1.9637340000000001,-0.10290443357945489,{"$f":"MitigationAggressiveness(D478,0)","v":9.1751018243453668},null,2.420763,0.548315,0.47559200000000001,-0.37260100000000002,3.2778119999999999,null,-4.5513726563625845E-2,{"$f":"R478-E478","v":0.15431918985949056},{"$f":"S478-F478","v":0.12397379210847848},{"$f":"T478-H478","v":-0.11577004631557303},{"$f":"U478-J478","v":0.1601846472151518}]
["GCAM 5.3","SSP4-noDACCS-1p9-3pctHR",381.63477999999998,{"$f":"CO2RFFromCO2PPM(C479)","v":1.7939932321263468},{"$f":"'Non-CO2 RF Calcs'!$S$17+('Non-CO2 RF Calcs'!$S$16-'Non-CO2 RF Calcs'!$S$17)*($O479-1)/9","v":0.35566532678883644},{"$f":"'Non-CO2 RF Calcs'!$S$19+('Non-CO2 RF Calcs'!$S$18-'Non-CO2 RF Calcs'!$S$19)*($O479-1)/9","v":0.34135007232090597},{"$f":"'Non-CO2 RF Calcs'!$S$21+('Non-CO2 RF Calcs'!$S$20-'Non-CO2 RF Calcs'!$S$21)*($O479-1)/9","v":3.6101391462572185E-2},{"$f":"'Non-CO2 RF Calcs'!$S$23+('Non-CO2 RF Calcs'!$S$22-'Non-CO2 RF Calcs'!$S$23)*($O479-1)/9","v":-0.22887232444448696},{"$f":"'Non-CO2 RF Calcs'!$S$25+('Non-CO2 RF Calcs'!$S$24-'Non-CO2 RF Calcs'!$S$25)*($O479-1)/9","v":3.6101391462572185E-2},2.3343390897167464,{"$f":"CFfromRFin2100(J479)","v":0.60995447949674164},1.4238405844370758,1.5397400000000001,-0.11589941556292427,{"$f":"MitigationAggressiveness(D479,0)","v":9.7585186181303438},null,1.731303,0.54255299999999995,0.47434799999999999,-0.36039300000000002,2.583799,null,-6.2690232126346723E-2,{"$f":"R479-E479","v":0.18688767321116351},{"$f":"S479-F479","v":0.13299792767909402},{"$f":"T479-H479","v":-0.13152067555551306},{"$f":"U479-J479","v":0.24945991028325354}]
["GCAM 5.3","SSP4-noDACCS-2p6-3pctHR",433.93316800000002,{"$f":"CO2RFFromCO2PPM(C480)","v":2.476176834871719},{"$f":"'Non-CO2 RF Calcs'!$S$17+('Non-CO2 RF Calcs'!$S$16-'Non-CO2 RF Calcs'!$S$17)*($O480-1)/9","v":0.39452481254843419},{"$f":"'Non-CO2 RF Calcs'!$S$19+('Non-CO2 RF Calcs'!$S$18-'Non-CO2 RF Calcs'!$S$19)*($O480-1)/9","v":0.35175991934326395},{"$f":"'Non-CO2 RF Calcs'!$S$21+('Non-CO2 RF Calcs'!$S$20-'Non-CO2 RF Calcs'!$S$21)*($O480-1)/9","v":8.1907347110195428E-2},{"$f":"'Non-CO2 RF Calcs'!$S$23+('Non-CO2 RF Calcs'!$S$22-'Non-CO2 RF Calcs'!$S$23)*($O480-1)/9","v":-0.2572168132118039},{"$f":"'Non-CO2 RF Calcs'!$S$25+('Non-CO2 RF Calcs'!$S$24-'Non-CO2 RF Calcs'!$S$25)*($O480-1)/9","v":8.1907347110195428E-2},3.1290594477720046,{"$f":"CFfromRFin2100(J480)","v":0.59669490206968034},1.8670938207585244,1.9417949999999999,-7.4701179241475568E-2,{"$f":"MitigationAggressiveness(D480,0)","v":9.1670500373145494},null,2.4346830000000002,0.535053,0.47922700000000001,-0.37514500000000001,3.270651,null,-4.1493834871718871E-2,{"$f":"R480-E480","v":0.14052818745156581},{"$f":"S480-F480","v":0.12746708065673606},{"$f":"T480-H480","v":-0.11792818678819611},{"$f":"U480-J480","v":0.14159155222799535}]
["GCAM 5.3","SSP5-DACCS-1p9-3pctHR",370.33040899999997,{"$f":"CO2RFFromCO2PPM(C481)","v":1.6412986417925457},{"$f":"'Non-CO2 RF Calcs'!$S$17+('Non-CO2 RF Calcs'!$S$16-'Non-CO2 RF Calcs'!$S$17)*($O481-1)/9","v":0.34629806950396302},{"$f":"'Non-CO2 RF Calcs'!$S$19+('Non-CO2 RF Calcs'!$S$18-'Non-CO2 RF Calcs'!$S$19)*($O481-1)/9","v":0.33884073094778921},{"$f":"'Non-CO2 RF Calcs'!$S$21+('Non-CO2 RF Calcs'!$S$20-'Non-CO2 RF Calcs'!$S$21)*($O481-1)/9","v":2.5059655748794429E-2},{"$f":"'Non-CO2 RF Calcs'!$S$23+('Non-CO2 RF Calcs'!$S$22-'Non-CO2 RF Calcs'!$S$23)*($O481-1)/9","v":-0.22203975541528709},{"$f":"'Non-CO2 RF Calcs'!$S$25+('Non-CO2 RF Calcs'!$S$24-'Non-CO2 RF Calcs'!$S$25)*($O481-1)/9","v":2.5059655748794429E-2},2.1545169983266002,{"$f":"CFfromRFin2100(J481)","v":0.6131897385814209},1.3211277149731155,1.757414,-0.43628628502688449,{"$f":"MitigationAggressiveness(D481,0)","v":9.9010948325119781},null,1.548179,0.61273500000000003,0.50496799999999997,-0.20538000000000001,2.7287650000000001,null,-9.3119641792545726E-2,{"$f":"R481-E481","v":0.26643693049603701},{"$f":"S481-F481","v":0.16612726905221076},{"$f":"T481-H481","v":1.6659755415287081E-2},{"$f":"U481-J481","v":0.57424800167339995}]
["GCAM 5.3","SSP5-DACCS-2p6-3pctHR",417.95412800000003,{"$f":"CO2RFFromCO2PPM(C482)","v":2.2719744775647244},{"$f":"'Non-CO2 RF Calcs'!$S$17+('Non-CO2 RF Calcs'!$S$16-'Non-CO2 RF Calcs'!$S$17)*($O482-1)/9","v":0.38340516557967963},{"$f":"'Non-CO2 RF Calcs'!$S$19+('Non-CO2 RF Calcs'!$S$18-'Non-CO2 RF Calcs'!$S$19)*($O482-1)/9","v":0.34878114024661133},{"$f":"'Non-CO2 RF Calcs'!$S$21+('Non-CO2 RF Calcs'!$S$20-'Non-CO2 RF Calcs'!$S$21)*($O482-1)/9","v":6.8799966867980178E-2},{"$f":"'Non-CO2 RF Calcs'!$S$23+('Non-CO2 RF Calcs'!$S$22-'Non-CO2 RF Calcs'!$S$23)*($O482-1)/9","v":-0.24910603401744608},{"$f":"'Non-CO2 RF Calcs'!$S$25+('Non-CO2 RF Calcs'!$S$24-'Non-CO2 RF Calcs'!$S$25)*($O482-1)/9","v":6.8799966867980178E-2},2.8926546831095297,{"$f":"CFfromRFin2100(J482)","v":0.60046222035003149},1.7369298537258648,2.1405859999999999,-0.40365614627413504,{"$f":"MitigationAggressiveness(D482,0)","v":9.3362988496243577},null,2.2127089999999998,0.60923899999999998,0.50770300000000002,-0.216642,3.3726400000000001,null,-5.9265477564724556E-2,{"$f":"R482-E482","v":0.22583383442032035},{"$f":"S482-F482","v":0.15892185975338868},{"$f":"T482-H482","v":3.2464034017446075E-2},{"$f":"U482-J482","v":0.47998531689047041}]
["GCAM 5.3","SSP5-noDACCS-2p6-3pctHR",422.69351,{"$f":"CO2RFFromCO2PPM(C483)","v":2.3329290786654444},{"$f":"'Non-CO2 RF Calcs'!$S$17+('Non-CO2 RF Calcs'!$S$16-'Non-CO2 RF Calcs'!$S$17)*($O483-1)/9","v":0.38677023050639836},{"$f":"'Non-CO2 RF Calcs'!$S$19+('Non-CO2 RF Calcs'!$S$18-'Non-CO2 RF Calcs'!$S$19)*($O483-1)/9","v":0.34968258838527566},{"$f":"'Non-CO2 RF Calcs'!$S$21+('Non-CO2 RF Calcs'!$S$20-'Non-CO2 RF Calcs'!$S$21)*($O483-1)/9","v":7.276656631652223E-2},{"$f":"'Non-CO2 RF Calcs'!$S$23+('Non-CO2 RF Calcs'!$S$22-'Non-CO2 RF Calcs'!$S$23)*($O483-1)/9","v":-0.25156054526874622},{"$f":"'Non-CO2 RF Calcs'!$S$25+('Non-CO2 RF Calcs'!$S$24-'Non-CO2 RF Calcs'!$S$25)*($O483-1)/9","v":7.276656631652223E-2},2.9633544849214166,{"$f":"CFfromRFin2100(J483)","v":0.59931984646878234},1.775997154935681,2.0719289999999999,-0.29593184506431891,{"$f":"MitigationAggressiveness(D483,0)","v":9.285080205382064},null,2.2852410000000001,0.55366700000000002,0.512131,-0.195134,3.3755540000000002,null,-4.7688078665444333E-2,{"$f":"R483-E483","v":0.16689676949360166},{"$f":"S483-F483","v":0.16244841161472434},{"$f":"T483-H483","v":5.6426545268746214E-2},{"$f":"U483-J483","v":0.41219951507858354}]
["GCAM-PR 5.3","PR_CP_Intensity",598.70039899999995,{"$f":"CO2RFFromCO2PPM(C484)","v":4.3647717703481748},{"$f":"'Non-CO2 RF Calcs'!$S$17+('Non-CO2 RF Calcs'!$S$16-'Non-CO2 RF Calcs'!$S$17)*($O484-1)/9","v":0.47661675916102891},{"$f":"'Non-CO2 RF Calcs'!$S$19+('Non-CO2 RF Calcs'!$S$18-'Non-CO2 RF Calcs'!$S$19)*($O484-1)/9","v":0.37375106485896664},{"$f":"'Non-CO2 RF Calcs'!$S$21+('Non-CO2 RF Calcs'!$S$20-'Non-CO2 RF Calcs'!$S$21)*($O484-1)/9","v":0.17867394069886211},{"$f":"'Non-CO2 RF Calcs'!$S$23+('Non-CO2 RF Calcs'!$S$22-'Non-CO2 RF Calcs'!$S$23)*($O484-1)/9","v":-0.31709548152570904},{"$f":"'Non-CO2 RF Calcs'!$S$25+('Non-CO2 RF Calcs'!$S$24-'Non-CO2 RF Calcs'!$S$25)*($O484-1)/9","v":0.17867394069886211},5.2553919942401848,{"$f":"CFfromRFin2100(J484)","v":0.5695470562888979},2.9931930399637379,3.0367739999999999,-4.3580960036261995E-2,{"$f":"MitigationAggressiveness(D484,0)","v":7.917553133013258},null,4.3162779999999996,0.58016500000000004,0.45460499999999998,-0.37166500000000002,5.3551010000000003,null,-4.8493770348175147E-2,{"$f":"R484-E484","v":0.10354824083897113},{"$f":"S484-F484","v":8.085393514103334E-2},{"$f":"T484-H484","v":-5.4569518474290979E-2},{"$f":"U484-J484","v":9.9709005759815561E-2}]
["GCAM-PR 5.3","PR_CP_Price",662.56657299999995,{"$f":"CO2RFFromCO2PPM(C485)","v":4.9904069785691121},{"$f":"'Non-CO2 RF Calcs'!$S$17+('Non-CO2 RF Calcs'!$S$16-'Non-CO2 RF Calcs'!$S$17)*($O485-1)/9","v":0.49555342353841408},{"$f":"'Non-CO2 RF Calcs'!$S$19+('Non-CO2 RF Calcs'!$S$18-'Non-CO2 RF Calcs'!$S$19)*($O485-1)/9","v":0.37882390036949909},{"$f":"'Non-CO2 RF Calcs'!$S$21+('Non-CO2 RF Calcs'!$S$20-'Non-CO2 RF Calcs'!$S$21)*($O485-1)/9","v":0.20099569796427297},{"$f":"'Non-CO2 RF Calcs'!$S$23+('Non-CO2 RF Calcs'!$S$22-'Non-CO2 RF Calcs'!$S$23)*($O485-1)/9","v":-0.3309080696298291},{"$f":"'Non-CO2 RF Calcs'!$S$25+('Non-CO2 RF Calcs'!$S$24-'Non-CO2 RF Calcs'!$S$25)*($O485-1)/9","v":0.20099569796427297},5.9358676287757417,{"$f":"CFfromRFin2100(J485)","v":0.56342037972847792},3.3443887934228083,3.441986,-9.7597206577191731E-2,{"$f":"MitigationAggressiveness(D485,0)","v":7.6293238426420995},null,4.9251529999999999,0.64550099999999999,0.47098400000000001,-0.48672500000000002,6.2097860000000003,null,-6.5253978569112192E-2,{"$f":"R485-E485","v":0.14994757646158591},{"$f":"S485-F485","v":9.2160099630500925E-2},{"$f":"T485-H485","v":-0.15581693037017091},{"$f":"U485-J485","v":0.27391837122425855}]
[null,null,null,null,null,null,null,null,null,null,null,null,null,{"$f":"AVERAGE(N16:N485)","v":1.0549065942172201E-2}]

{"sheet":"Validation (2)","index":14,"n_rows":470,"n_cols":1,"rows_kept":470,"cut":false,"hidden":false,"merged":[]}
[-0.65515291342075965]
[-0.55452198878942038]
[-0.52109270783566197]
[-0.50381001445505902]
[-0.48058848606784998]
[-0.46461676818575159]
[-0.4562007786054556]
[-0.45243057684287713]
[-0.44651929636123722]
[-0.43628628502688449]
[-0.43569863142827137]
[-0.41603062717110584]
[-0.41509942156339807]
[-0.40975937187248057]
[-0.40431332947417298]
[-0.40422524757538092]
[-0.40365614627413504]
[-0.40237312477752862]
[-0.40119746544959867]
[-0.40083613421307929]
[-0.39936032403755206]
[-0.39932792530653227]
[-0.39932792530653227]
[-0.39901011095735317]
[-0.39131358119354331]
[-0.37263862384848334]
[-0.36777436640321337]
[-0.35506077127363511]
[-0.3468851077968309]
[-0.34462348122403874]
[-0.34353709920300535]
[-0.3259016061615081]
[-0.31709716170793012]
[-0.31698440685959173]
[-0.31385236974752484]
[-0.29593184506431891]
[-0.29126675896645526]
[-0.28910025865206812]
[-0.28691841998003698]
[-0.28641706835860292]
[-0.28338358554992782]
[-0.28069961019878042]
[-0.27989795733265588]
[-0.27524739444057733]
[-0.26781522590963291]
[-0.25840793853634025]
[-0.25816608387430318]
[-0.25804905743361228]
[-0.25260675265840926]
[-0.25080206877332234]
[-0.24946229861936198]
[-0.24705307129634346]
[-0.24236200788180007]
[-0.22977999129186877]
[-0.22784934883230479]
[-0.22512224008083681]
[-0.22345866936309378]
[-0.22218098787392027]
[-0.21909715164119037]
[-0.2164808798455522]
[-0.20840396764633762]
[-0.20732529832043589]
[-0.20553496734881271]
[-0.18908072508677165]
[-0.18785880142908518]
[-0.17725431606344855]
[-0.17476848611635187]
[-0.17348854247328882]
[-0.16477429333601723]
[-0.16473628023404885]
[-0.16344044485361842]
[-0.15927478275533802]
[-0.15588710677871731]
[-0.15533758988424329]
[-0.15445594584173383]
[-0.15220543937488396]
[-0.13818805823257652]
[-0.13776623591996318]
[-0.13636535540630423]
[-0.1347246585287678]
[-0.1330536916004923]
[-0.13295014200245969]
[-0.13049804128762643]
[-0.12920650678167855]
[-0.12853433078570209]
[-0.12779115813978303]
[-0.12670782000375747]
[-0.12349878746956566]
[-0.11846824930484789]
[-0.11589941556292427]
[-0.10997974364627572]
[-0.10290443357945489]
[-0.10230350207353922]
[-9.9002197010598536E-2]
[-9.7597206577191731E-2]
[-9.6491611430513435E-2]
[-9.6175026285902021E-2]
[-9.5382477885263661E-2]
[-9.2366362832654092E-2]
[-9.1792129678887058E-2]
[-9.151376848143622E-2]
[-8.8619402460030194E-2]
[-8.7003785095110198E-2]
[-8.5839397274578122E-2]
[-8.5544562415946324E-2]
[-8.4666583800976802E-2]
[-8.4257239179617915E-2]
[-7.9434953387989893E-2]
[-7.7679081324944832E-2]
[-7.5486115702675605E-2]
[-7.4701179241475568E-2]
[-7.2369487010149003E-2]
[-6.6967954634469029E-2]
[-6.6867534478055157E-2]
[-6.5968684378174824E-2]
[-6.5346659014929198E-2]
[-6.4947197568708592E-2]
[-6.4620230166982928E-2]
[-6.3136474874307069E-2]
[-6.2051908495023955E-2]
[-6.1545083088483388E-2]
[-5.9348066746589989E-2]
[-5.673498830174073E-2]
[-5.4510850789497578E-2]
[-5.3845469436559323E-2]
[-5.3467984884342457E-2]
[-5.3338725466959502E-2]
[-4.9874427795943754E-2]
[-4.8026594800963274E-2]
[-4.7790496645000458E-2]
[-4.5665631858625932E-2]
[-4.4898276293339645E-2]
[-4.3580960036261995E-2]
[-4.3073077107814051E-2]
[-4.2168803387685472E-2]
[-4.187369055145318E-2]
[-4.0087644212457807E-2]
[-3.8509597547809582E-2]
[-3.6456806606262049E-2]
[-3.5807919782858244E-2]
[-3.5039558149040806E-2]
[-3.3737842515453309E-2]
[-3.3674227244624655E-2]
[-3.3616664409179764E-2]
[-3.3006455630157916E-2]
[-3.2316060742122676E-2]
[-3.0398443266746789E-2]
[-2.9313526266911305E-2]
[-2.8463378034298881E-2]
[-2.7493408278528086E-2]
[-2.7337482998221585E-2]
[-2.7036860225771342E-2]
[-2.6140729153518505E-2]
[-2.4677229033376324E-2]
[-2.4325190902069194E-2]
[-2.367065137870239E-2]
[-2.2991740437311892E-2]
[-2.1994612223676491E-2]
[-2.0971703032712785E-2]
[-2.0958631267314232E-2]
[-2.0928911986175525E-2]
[-2.0886470056811657E-2]
[-2.0613668980506761E-2]
[-1.9978547884006437E-2]
[-1.9879761448057032E-2]
[-1.9707142691823165E-2]
[-1.9574990712107443E-2]
[-1.9239957448767164E-2]
[-1.8672350855312603E-2]
[-1.7195180426653911E-2]
[-1.7006762420595178E-2]
[-1.3463999554269801E-2]
[-1.1263560512332793E-2]
[-1.0379616138813219E-2]
[-9.8410094749004084E-3]
[-9.2183877845768425E-3]
[-9.1433518571961692E-3]
[-7.9932681227958824E-3]
[-7.2587238262871168E-3]
[-6.6541191982527614E-3]
[-5.6287497861897684E-3]
[-3.9394582342904272E-3]
[-3.5016831654575142E-3]
[-2.7857288863186724E-3]
[-2.3317227549273234E-3]
[-1.9160520561571914E-3]
[-7.7121089737941517E-4]
[-2.3843654820421278E-4]
[-4.7559258308016439E-5]
[5.9051488934103169E-4]
[7.6777123483884324E-4]
[1.3432988896737719E-3]
[1.5470977621319104E-3]
[1.5540600024108731E-3]
[1.6722064526959457E-3]
[2.0882636448771308E-3]
[2.3903167231273947E-3]
[2.7131524299632837E-3]
[3.546141888149279E-3]
[4.7887475123578049E-3]
[4.8439050920023874E-3]
[5.4491952646864572E-3]
[6.5127527811457142E-3]
[7.4411921491033262E-3]
[7.6179683025450196E-3]
[7.7526831506748994E-3]
[8.3333736226784971E-3]
[1.0310107314491113E-2]
[1.0996637164280454E-2]
[1.146644776811101E-2]
[1.1906186991368806E-2]
[1.2296986937942345E-2]
[1.2339019327753054E-2]
[1.3296243387882489E-2]
[1.340205016129703E-2]
[1.3568818547016193E-2]
[1.4144417159692502E-2]
[1.4959876724081944E-2]
[1.6732436160146857E-2]
[1.7418456618834677E-2]
[1.8750001396876659E-2]
[2.0401812304964295E-2]
[2.0689824858833639E-2]
[2.1206107218628478E-2]
[2.2338953198604905E-2]
[2.2340737579883641E-2]
[2.2807854121350335E-2]
[2.2864593963558777E-2]
[2.2937390837774574E-2]
[2.2999991192476754E-2]
[2.3562288621033822E-2]
[2.4708205255062232E-2]
[2.5304901581402195E-2]
[2.7838336992351831E-2]
[2.8939724824627033E-2]
[2.9698287269104506E-2]
[2.9891526198364105E-2]
[3.1600323743203429E-2]
[3.2006354339563003E-2]
[3.4883977712360625E-2]
[3.6575584895441882E-2]
[3.6730664827623105E-2]
[3.7227627412996345E-2]
[3.8351525190923219E-2]
[3.8462717589712314E-2]
[3.9756092830071754E-2]
[4.0203552669002107E-2]
[4.205731737585916E-2]
[4.2473443075094597E-2]
[4.3683470183932815E-2]
[4.4048586555266445E-2]
[4.413501692374E-2]
[4.5859505737868789E-2]
[4.6577870796554954E-2]
[4.6848576380599027E-2]
[4.7707781620585754E-2]
[4.8231225613139861E-2]
[4.8439126964229473E-2]
[4.9313093014406117E-2]
[4.9698930775168515E-2]
[4.9905424324968584E-2]
[4.9948548767975387E-2]
[5.2023657808051738E-2]
[5.2772094405673986E-2]
[5.2798140613028899E-2]
[5.2959856068397482E-2]
[5.4978517002774563E-2]
[5.6126316409673249E-2]
[5.621286452407448E-2]
[5.9678832793702785E-2]
[6.0048932778848707E-2]
[6.0549439736294008E-2]
[6.2045020764896819E-2]
[6.2184590378244309E-2]
[6.2964557075360972E-2]
[6.3006605761940948E-2]
[6.518007819738969E-2]
[6.5277173208711625E-2]
[6.5694955668145649E-2]
[6.6462817336019997E-2]
[6.6763170018119711E-2]
[6.7003546747819165E-2]
[6.8333745634381549E-2]
[7.1776979852325562E-2]
[7.1834361979013384E-2]
[7.2777616622181629E-2]
[7.3298743901263785E-2]
[7.3417161721038404E-2]
[7.4265971397271979E-2]
[7.5020473788104836E-2]
[7.7233689444184961E-2]
[7.8351518396160724E-2]
[7.9620234420904268E-2]
[7.9666882044991283E-2]
[7.9716545446830933E-2]
[7.9851944140896691E-2]
[8.0738017257615091E-2]
[8.0987169112368251E-2]
[8.1945827996139142E-2]
[8.4137358541461538E-2]
[8.4696577735740908E-2]
[8.7043357338433491E-2]
[8.8828120343386274E-2]
[8.9030249452537014E-2]
[9.112489482805386E-2]
[9.1140510766493987E-2]
[9.1470373117295889E-2]
[9.1682858320358607E-2]
[9.1716687460621227E-2]
[9.3380566335230508E-2]
[9.3607327951566344E-2]
[9.3774085157352749E-2]
[9.4253024558509368E-2]
[9.42828680722827E-2]
[9.4877630197010898E-2]
[0.10077788609654892]
[0.10121137041073469]
[0.1079389693030226]
[0.10793992176176848]
[0.10862461026429027]
[0.11004464915704992]
[0.11089129764717676]
[0.11134170463351456]
[0.1117098161459138]
[0.11197614646049514]
[0.1120673485183421]
[0.11214464581885419]
[0.1137528016678655]
[0.1138630808432004]
[0.11401332673694342]
[0.11561098748311194]
[0.11591573167954183]
[0.11635821171790672]
[0.11667724833611937]
[0.1174821403842774]
[0.11804564729303113]
[0.11809693013967082]
[0.11831329883642439]
[0.11885726019408716]
[0.11893530005832154]
[0.11912665805627887]
[0.1204849219479569]
[0.12122418718245109]
[0.12506387918714523]
[0.12809576960001401]
[0.12970484094525991]
[0.12971302847491994]
[0.13152463264230096]
[0.13159823367975587]
[0.13169234554733755]
[0.13201308878354379]
[0.1320948286077237]
[0.13253191892752669]
[0.13292227590146144]
[0.1333635541978575]
[0.13642025522907097]
[0.136741153942878]
[0.1379225597478122]
[0.13901584906719489]
[0.13930433317114366]
[0.13943805312328728]
[0.13943805312328728]
[0.13990424445180416]
[0.14015368433366548]
[0.14017357349313508]
[0.1404929454801338]
[0.14167432723035445]
[0.14187395315960716]
[0.14217865222057124]
[0.14365484565611841]
[0.14444231667107088]
[0.1448362337688609]
[0.14492010644958464]
[0.14499907296887282]
[0.14502544929088113]
[0.14519927862614423]
[0.14556926890291244]
[0.14561679335975652]
[0.14568209088826789]
[0.14724745365094671]
[0.1482994186271136]
[0.1482994186271136]
[0.15018555524436894]
[0.15202658755612997]
[0.15335170483677851]
[0.1545517520031896]
[0.1558285501987966]
[0.16023991859484354]
[0.16065928382828831]
[0.16118921301660549]
[0.16265423944274993]
[0.16304858900974883]
[0.16345908651418917]
[0.16396232830180413]
[0.16835671630026461]
[0.17198235235295312]
[0.17225278363187257]
[0.17456930003522264]
[0.1746898645615389]
[0.17597789744111747]
[0.17979111160155359]
[0.18028746888301561]
[0.18055259090936371]
[0.18083724667644629]
[0.18201133964699445]
[0.18481406055934402]
[0.18487669164740739]
[0.18644781340207661]
[0.18803075635680866]
[0.19248851863267946]
[0.19541100612975271]
[0.19556504332574054]
[0.19640006167411928]
[0.19660272938067491]
[0.19669654846279738]
[0.19737945297040183]
[0.19738214046611935]
[0.19773643264539187]
[0.19942852434666358]
[0.20236478542187242]
[0.20296347344323973]
[0.20483814109633336]
[0.20606161592531747]
[0.20863705349987027]
[0.20941332834211268]
[0.21050529706568089]
[0.21199611837270194]
[0.21378299564970926]
[0.21471025409950473]
[0.21546358374996766]
[0.21705445040502314]
[0.21786406487036469]
[0.21818202638843531]
[0.2187162899438535]
[0.22512168750599848]
[0.24028077026730355]
[0.24281469329269156]
[0.24331802820027004]
[0.2455370434387607]
[0.24591741543130952]
[0.24708007332054782]
[0.24733864377508108]
[0.24776295424147277]
[0.24838438944534857]
[0.25275010030503875]
[0.2537823751250543]
[0.25399648832568467]
[0.25545978623199184]
[0.25549009200459327]
[0.25632114382103666]
[0.25745775167492102]
[0.25918559659798523]
[0.2604468715539463]
[0.26482077461153275]
[0.26670274344686495]
[0.27238078086669404]
[0.28265301457510406]
[0.28470615115211917]
[0.28975160132581079]
[0.29475683896306792]
[0.31234376940341746]
[0.31865268849130524]
[0.33180438643578669]
[0.34378388617760525]
[0.3439814367429439]
[0.374800294358824]
[0.43879120844066666]
[0.45914376014005764]
[0.50036594824502245]
[0.64020449299828375]